{"text_format":"1","workbook":"xlsx","n_sheets":2,"sheets":["Retirement Worksheet","Retirement Calculations"],"not_rendered":{"charts":1,"images":0,"macros":1,"external_links":0,"defined_names":27,"comments":0,"pivot_tables":1},"unopened":[],"bounds":{"document_bytes":16777216,"sheet_cells":100000,"rows_first":2000,"rows_last":500,"rows_between":2000,"halvings":0,"cell_chars":16384,"cell_head_chars":4096},"cells_cut":0,"cells_raw":0,"read":"whole","date_system":"1900"}

{"sheet":"Retirement Worksheet","index":0,"n_rows":155,"n_cols":16,"rows_kept":155,"cut":false,"hidden":false,"merged":[[3,0,3,1],[17,2,17,15],[0,3,0,9]]}
["RETIREMENT WORKSHEET",null,null,"Retirement Savings Requirement Graph"]
["DIRECTIONS: 1) Enter assumptions, 2) click 'Enter'->"]
[]
["Assumptions"]
["Life expectancy (# years old)",90]
["Retirement age (# years old)",65]
["Total Savings at Retirement Age ($)",2000000]
["Annual retirement savings withdrawal rate (%)",0.06]
["Federal Tax rate in retirement (%)",0.38]
["State Tax rate in retirement (%)",0.06]
["Annual investment fees (%)",2.5000000000000001E-3]
["Annual Social security amount at Retirement ($)",0]
["Annual Military Pension at Retirement Age ($)",30000]
["Annual expenses ($)",150000]
["Annual inflation rate and income increases (%)",0.02]
["Annual return on investments (%)",0.05]
[]
[null,null,"Chart Detail"]
[]
[null,null,{"$f":"'Retirement Calculations'!A2","v":"Age"},"Savings Balance",{"$f":"'Retirement Calculations'!C2","v":"Investment Fees"},{"$f":"'Retirement Calculations'!D2","v":"Return on Investments"},{"$f":"'Retirement Calculations'!E2","v":"Net Investments"},{"$f":"'Retirement Calculations'!G2","v":"Annual Withdrawal"},{"$f":"'Retirement Calculations'!H2","v":"Pension"},{"$f":"'Retirement Calculations'!I2","v":"SSA"},"Annual Income",{"$f":"'Retirement Calculations'!L2","v":"Federal Income Taxes"},{"$f":"'Retirement Calculations'!M2","v":"State Income Taxes"},{"$f":"'Retirement Calculations'!O2","v":"Income-Taxes"},{"$f":"'Retirement Calculations'!P2","v":"Annual Expenses"},{"$f":"'Retirement Calculations'!Q2","v":"Net Income"}]
[null,null,{"$f":"IFERROR('Retirement Calculations'!A3,\"\")","v":65},{"$f":"IFERROR('Retirement Calculations'!B3,\"\")","v":2000000},{"$f":"IFERROR('Retirement Calculations'!C3,\"\")","v":5000},{"$f":"IFERROR('Retirement Calculations'!D3,\"\")","v":100000},{"$f":"IFERROR('Retirement Calculations'!E3,\"\")","v":2095000},{"$f":"IFERROR('Retirement Calculations'!G3,\"\")","v":120000},{"$f":"IFERROR('Retirement Calculations'!H3,\"\")","v":30000},{"$f":"IFERROR('Retirement Calculations'!I3,\"\")","v":0},{"$f":"IFERROR('Retirement Calculations'!J3,\"\")","v":150000},{"$f":"IFERROR('Retirement Calculations'!L3,\"\")","v":57000},{"$f":"IFERROR('Retirement Calculations'!M3,\"\")","v":9000},{"$f":"IFERROR('Retirement Calculations'!O3,\"\")","v":84000},{"$f":"IFERROR('Retirement Calculations'!P3,\"\")","v":150000},{"$f":"IFERROR('Retirement Calculations'!Q3,\"\")","v":-66000}]
[null,null,{"$f":"IFERROR('Retirement Calculations'!A4,\"\")","v":66},{"$f":"IFERROR('Retirement Calculations'!B4,\"\")","v":2029000},{"$f":"IFERROR('Retirement Calculations'!C4,\"\")","v":5072.5},{"$f":"IFERROR('Retirement Calculations'!D4,\"\")","v":101450},{"$f":"IFERROR('Retirement Calculations'!E4,\"\")","v":2125377.5},{"$f":"IFERROR('Retirement Calculations'!G4,\"\")","v":121740},{"$f":"IFERROR('Retirement Calculations'!H4,\"\")","v":30600},{"$f":"IFERROR('Retirement Calculations'!I4,\"\")","v":0},{"$f":"IFERROR('Retirement Calculations'!J4,\"\")","v":152340},{"$f":"IFERROR('Retirement Calculations'!L4,\"\")","v":57889.2},{"$f":"IFERROR('Retirement Calculations'!M4,\"\")","v":9140.4},{"$f":"IFERROR('Retirement Calculations'!O4,\"\")","v":85310.400000000009},{"$f":"IFERROR('Retirement Calculations'!P4,\"\")","v":153000},{"$f":"IFERROR('Retirement Calculations'!Q4,\"\")","v":-67689.599999999991}]
[null,null,{"$f":"IFERROR('Retirement Calculations'!A5,\"\")","v":67},{"$f":"IFERROR('Retirement Calculations'!B5,\"\")","v":2057687.9},{"$f":"IFERROR('Retirement Calculations'!C5,\"\")","v":5144.2197500000002},{"$f":"IFERROR('Retirement Calculations'!D5,\"\")","v":102884.395},{"$f":"IFERROR('Retirement Calculations'!E5,\"\")","v":2155428.0752499998},{"$f":"IFERROR('Retirement Calculations'!G5,\"\")","v":123461.27399999999},{"$f":"IFERROR('Retirement Calculations'!H5,\"\")","v":31212},{"$f":"IFERROR('Retirement Calculations'!I5,\"\")","v":0},{"$f":"IFERROR('Retirement Calculations'!J5,\"\")","v":154673.27399999998},{"$f":"IFERROR('Retirement Calculations'!L5,\"\")","v":58775.844119999994},{"$f":"IFERROR('Retirement Calculations'!M5,\"\")","v":9280.3964399999986},{"$f":"IFERROR('Retirement Calculations'!O5,\"\")","v":86617.033439999985},{"$f":"IFERROR('Retirement Calculations'!P5,\"\")","v":156060},{"$f":"IFERROR('Retirement Calculations'!Q5,\"\")","v":-69442.966560000015}]
[null,null,{"$f":"IFERROR('Retirement Calculations'!A6,\"\")","v":68},{"$f":"IFERROR('Retirement Calculations'!B6,\"\")","v":2085985.1086899997},{"$f":"IFERROR('Retirement Calculations'!C6,\"\")","v":5214.9627717249996},{"$f":"IFERROR('Retirement Calculations'!D6,\"\")","v":104299.2554345},{"$f":"IFERROR('Retirement Calculations'!E6,\"\")","v":2185069.4013527748},{"$f":"IFERROR('Retirement Calculations'!G6,\"\")","v":125159.10652139998},{"$f":"IFERROR('Retirement Calculations'!H6,\"\")","v":31836.240000000002},{"$f":"IFERROR('Retirement Calculations'!I6,\"\")","v":0},{"$f":"IFERROR('Retirement Calculations'!J6,\"\")","v":156995.34652139997},{"$f":"IFERROR('Retirement Calculations'!L6,\"\")","v":59658.23167813199},{"$f":"IFERROR('Retirement Calculations'!M6,\"\")","v":9419.7207912839986},{"$f":"IFERROR('Retirement Calculations'!O6,\"\")","v":87917.394051983982},{"$f":"IFERROR('Retirement Calculations'!P6,\"\")","v":159181.20000000001},{"$f":"IFERROR('Retirement Calculations'!Q6,\"\")","v":-71263.80594801603}]
[null,null,{"$f":"IFERROR('Retirement Calculations'!A7,\"\")","v":69},{"$f":"IFERROR('Retirement Calculations'!B7,\"\")","v":2113805.5954047586},{"$f":"IFERROR('Retirement Calculations'!C7,\"\")","v":5284.513988511897},{"$f":"IFERROR('Retirement Calculations'!D7,\"\")","v":105690.27977023793},{"$f":"IFERROR('Retirement Calculations'!E7,\"\")","v":2214211.3611864843},{"$f":"IFERROR('Retirement Calculations'!G7,\"\")","v":126828.33572428551},{"$f":"IFERROR('Retirement Calculations'!H7,\"\")","v":32472.964800000002},{"$f":"IFERROR('Retirement Calculations'!I7,\"\")","v":0},{"$f":"IFERROR('Retirement Calculations'!J7,\"\")","v":159301.30052428553},{"$f":"IFERROR('Retirement Calculations'!L7,\"\")","v":60534.494199228502},{"$f":"IFERROR('Retirement Calculations'!M7,\"\")","v":9558.0780314571311},{"$f":"IFERROR('Retirement Calculations'!O7,\"\")","v":89208.728293599896},{"$f":"IFERROR('Retirement Calculations'!P7,\"\")","v":162364.82400000002},{"$f":"IFERROR('Retirement Calculations'!Q7,\"\")","v":-73156.095706400127}]
[null,null,{"$f":"IFERROR('Retirement Calculations'!A8,\"\")","v":70},{"$f":"IFERROR('Retirement Calculations'!B8,\"\")","v":2141055.2654800843},{"$f":"IFERROR('Retirement Calculations'!C8,\"\")","v":5352.6381637002114},{"$f":"IFERROR('Retirement Calculations'!D8,\"\")","v":107052.76327400422},{"$f":"IFERROR('Retirement Calculations'!E8,\"\")","v":2242755.3905903883},{"$f":"IFERROR('Retirement Calculations'!G8,\"\")","v":128463.31592880505},{"$f":"IFERROR('Retirement Calculations'!H8,\"\")","v":33122.424096000002},{"$f":"IFERROR('Retirement Calculations'!I8,\"\")","v":0},{"$f":"IFERROR('Retirement Calculations'!J8,\"\")","v":161585.74002480507},{"$f":"IFERROR('Retirement Calculations'!L8,\"\")","v":61402.581209425924},{"$f":"IFERROR('Retirement Calculations'!M8,\"\")","v":9695.1444014883036},{"$f":"IFERROR('Retirement Calculations'!O8,\"\")","v":90488.014413890836},{"$f":"IFERROR('Retirement Calculations'!P8,\"\")","v":165612.12048000001},{"$f":"IFERROR('Retirement Calculations'!Q8,\"\")","v":-75124.106066109176}]
[null,null,{"$f":"IFERROR('Retirement Calculations'!A9,\"\")","v":71},{"$f":"IFERROR('Retirement Calculations'!B9,\"\")","v":2167631.2845242792},{"$f":"IFERROR('Retirement Calculations'!C9,\"\")","v":5419.078211310698},{"$f":"IFERROR('Retirement Calculations'!D9,\"\")","v":108381.56422621396},{"$f":"IFERROR('Retirement Calculations'!E9,\"\")","v":2270593.7705391822},{"$f":"IFERROR('Retirement Calculations'!G9,\"\")","v":130057.87707145675},{"$f":"IFERROR('Retirement Calculations'!H9,\"\")","v":33784.872577920003},{"$f":"IFERROR('Retirement Calculations'!I9,\"\")","v":0},{"$f":"IFERROR('Retirement Calculations'!J9,\"\")","v":163842.74964937675},{"$f":"IFERROR('Retirement Calculations'!L9,\"\")","v":62260.244866763169},{"$f":"IFERROR('Retirement Calculations'!M9,\"\")","v":9830.5649789626041},{"$f":"IFERROR('Retirement Calculations'!O9,\"\")","v":91751.939803650981},{"$f":"IFERROR('Retirement Calculations'!P9,\"\")","v":168924.36288960002},{"$f":"IFERROR('Retirement Calculations'!Q9,\"\")","v":-77172.423085949034}]
[null,null,{"$f":"IFERROR('Retirement Calculations'!A10,\"\")","v":72},{"$f":"IFERROR('Retirement Calculations'!B10,\"\")","v":2193421.3474532333},{"$f":"IFERROR('Retirement Calculations'!C10,\"\")","v":5483.5533686330837},{"$f":"IFERROR('Retirement Calculations'!D10,\"\")","v":109671.06737266167},{"$f":"IFERROR('Retirement Calculations'!E10,\"\")","v":2297608.8614572617},{"$f":"IFERROR('Retirement Calculations'!G10,\"\")","v":131605.28084719399},{"$f":"IFERROR('Retirement Calculations'!H10,\"\")","v":34460.570029478404},{"$f":"IFERROR('Retirement Calculations'!I10,\"\")","v":0},{"$f":"IFERROR('Retirement Calculations'!J10,\"\")","v":166065.8508766724},{"$f":"IFERROR('Retirement Calculations'!L10,\"\")","v":63105.023333135512},{"$f":"IFERROR('Retirement Calculations'!M10,\"\")","v":9963.9510526003432},{"$f":"IFERROR('Retirement Calculations'!O10,\"\")","v":92996.876490936542},{"$f":"IFERROR('Retirement Calculations'!P10,\"\")","v":172302.85014739202},{"$f":"IFERROR('Retirement Calculations'!Q10,\"\")","v":-79305.973656455477}]
[null,null,{"$f":"IFERROR('Retirement Calculations'!A11,\"\")","v":73},{"$f":"IFERROR('Retirement Calculations'!B11,\"\")","v":2218302.8878008062},{"$f":"IFERROR('Retirement Calculations'!C11,\"\")","v":5545.7572195020157},{"$f":"IFERROR('Retirement Calculations'!D11,\"\")","v":110915.14439004031},{"$f":"IFERROR('Retirement Calculations'!E11,\"\")","v":2323672.2749713445},{"$f":"IFERROR('Retirement Calculations'!G11,\"\")","v":133098.17326804835},{"$f":"IFERROR('Retirement Calculations'!H11,\"\")","v":35149.781430067975},{"$f":"IFERROR('Retirement Calculations'!I11,\"\")","v":0},{"$f":"IFERROR('Retirement Calculations'!J11,\"\")","v":168247.95469811634},{"$f":"IFERROR('Retirement Calculations'!L11,\"\")","v":63934.222785284212},{"$f":"IFERROR('Retirement Calculations'!M11,\"\")","v":10094.87728188698},{"$f":"IFERROR('Retirement Calculations'!O11,\"\")","v":94218.854630945149},{"$f":"IFERROR('Retirement Calculations'!P11,\"\")","v":175748.90715033986},{"$f":"IFERROR('Retirement Calculations'!Q11,\"\")","v":-81530.052519394711}]
[null,null,{"$f":"IFERROR('Retirement Calculations'!A12,\"\")","v":74},{"$f":"IFERROR('Retirement Calculations'!B12,\"\")","v":2242142.22245195},{"$f":"IFERROR('Retirement Calculations'!C12,\"\")","v":5605.3555561298754},{"$f":"IFERROR('Retirement Calculations'!D12,\"\")","v":112107.1111225975},{"$f":"IFERROR('Retirement Calculations'!E12,\"\")","v":2348643.9780184175},{"$f":"IFERROR('Retirement Calculations'!G12,\"\")","v":134528.53334711699},{"$f":"IFERROR('Retirement Calculations'!H12,\"\")","v":35852.777058669337},{"$f":"IFERROR('Retirement Calculations'!I12,\"\")","v":0},{"$f":"IFERROR('Retirement Calculations'!J12,\"\")","v":170381.31040578632},{"$f":"IFERROR('Retirement Calculations'!L12,\"\")","v":64744.897954198801},{"$f":"IFERROR('Retirement Calculations'!M12,\"\")","v":10222.878624347179},{"$f":"IFERROR('Retirement Calculations'!O12,\"\")","v":95413.533827240346},{"$f":"IFERROR('Retirement Calculations'!P12,\"\")","v":179263.88529334666},{"$f":"IFERROR('Retirement Calculations'!Q12,\"\")","v":-83850.351466106309}]
[null,null,{"$f":"IFERROR('Retirement Calculations'!A13,\"\")","v":75},{"$f":"IFERROR('Retirement Calculations'!B13,\"\")","v":2264793.6265523112},{"$f":"IFERROR('Retirement Calculations'!C13,\"\")","v":5661.9840663807781},{"$f":"IFERROR('Retirement Calculations'!D13,\"\")","v":113239.68132761557},{"$f":"IFERROR('Retirement Calculations'!E13,\"\")","v":2372371.323813546},{"$f":"IFERROR('Retirement Calculations'!G13,\"\")","v":135887.61759313868},{"$f":"IFERROR('Retirement Calculations'!H13,\"\")","v":36569.832599842724},{"$f":"IFERROR('Retirement Calculations'!I13,\"\")","v":0},{"$f":"IFERROR('Retirement Calculations'!J13,\"\")","v":172457.4501929814},{"$f":"IFERROR('Retirement Calculations'!L13,\"\")","v":65533.831073332934},{"$f":"IFERROR('Retirement Calculations'!M13,\"\")","v":10347.447011578884},{"$f":"IFERROR('Retirement Calculations'!O13,\"\")","v":96576.172108069586},{"$f":"IFERROR('Retirement Calculations'!P13,\"\")","v":182849.16299921359},{"$f":"IFERROR('Retirement Calculations'!Q13,\"\")","v":-86272.990891144}]
[null,null,{"$f":"IFERROR('Retirement Calculations'!A14,\"\")","v":76},{"$f":"IFERROR('Retirement Calculations'!B14,\"\")","v":2286098.3329224018},{"$f":"IFERROR('Retirement Calculations'!C14,\"\")","v":5715.2458323060046},{"$f":"IFERROR('Retirement Calculations'!D14,\"\")","v":114304.91664612009},{"$f":"IFERROR('Retirement Calculations'!E14,\"\")","v":2394688.0037362161},{"$f":"IFERROR('Retirement Calculations'!G14,\"\")","v":137165.8999753441},{"$f":"IFERROR('Retirement Calculations'!H14,\"\")","v":37301.229251839577},{"$f":"IFERROR('Retirement Calculations'!I14,\"\")","v":0},{"$f":"IFERROR('Retirement Calculations'!J14,\"\")","v":174467.12922718367},{"$f":"IFERROR('Retirement Calculations'!L14,\"\")","v":66297.509106329802},{"$f":"IFERROR('Retirement Calculations'!M14,\"\")","v":10468.02775363102},{"$f":"IFERROR('Retirement Calculations'!O14,\"\")","v":97701.592367222853},{"$f":"IFERROR('Retirement Calculations'!P14,\"\")","v":186506.14625919785},{"$f":"IFERROR('Retirement Calculations'!Q14,\"\")","v":-88804.553891974996}]
[null,null,{"$f":"IFERROR('Retirement Calculations'!A15,\"\")","v":77},{"$f":"IFERROR('Retirement Calculations'!B15,\"\")","v":2305883.4498442411},{"$f":"IFERROR('Retirement Calculations'!C15,\"\")","v":5764.7086246106028},{"$f":"IFERROR('Retirement Calculations'!D15,\"\")","v":115294.17249221206},{"$f":"IFERROR('Retirement Calculations'!E15,\"\")","v":2415412.9137118426},{"$f":"IFERROR('Retirement Calculations'!G15,\"\")","v":138353.00699065445},{"$f":"IFERROR('Retirement Calculations'!H15,\"\")","v":38047.253836876371},{"$f":"IFERROR('Retirement Calculations'!I15,\"\")","v":0},{"$f":"IFERROR('Retirement Calculations'!J15,\"\")","v":176400.26082753082},{"$f":"IFERROR('Retirement Calculations'!L15,\"\")","v":67032.099114461715},{"$f":"IFERROR('Retirement Calculations'!M15,\"\")","v":10584.015649651848},{"$f":"IFERROR('Retirement Calculations'!O15,\"\")","v":98784.146063417254},{"$f":"IFERROR('Retirement Calculations'!P15,\"\")","v":190236.26918438182},{"$f":"IFERROR('Retirement Calculations'!Q15,\"\")","v":-91452.123120964563}]
[null,null,{"$f":"IFERROR('Retirement Calculations'!A16,\"\")","v":78},{"$f":"IFERROR('Retirement Calculations'!B16,\"\")","v":2323960.7905908781},{"$f":"IFERROR('Retirement Calculations'!C16,\"\")","v":5809.9019764771956},{"$f":"IFERROR('Retirement Calculations'!D16,\"\")","v":116198.03952954391},{"$f":"IFERROR('Retirement Calculations'!E16,\"\")","v":2434348.9281439446},{"$f":"IFERROR('Retirement Calculations'!G16,\"\")","v":139437.64743545267},{"$f":"IFERROR('Retirement Calculations'!H16,\"\")","v":38808.198913613902},{"$f":"IFERROR('Retirement Calculations'!I16,\"\")","v":0},{"$f":"IFERROR('Retirement Calculations'!J16,\"\")","v":178245.84634906659},{"$f":"IFERROR('Retirement Calculations'!L16,\"\")","v":67733.42161264531},{"$f":"IFERROR('Retirement Calculations'!M16,\"\")","v":10694.750780943996},{"$f":"IFERROR('Retirement Calculations'!O16,\"\")","v":99817.673955477279},{"$f":"IFERROR('Retirement Calculations'!P16,\"\")","v":194040.99456806947},{"$f":"IFERROR('Retirement Calculations'!Q16,\"\")","v":-94223.320612592186}]
[null,null,{"$f":"IFERROR('Retirement Calculations'!A17,\"\")","v":79},{"$f":"IFERROR('Retirement Calculations'!B17,\"\")","v":2340125.6075313524},{"$f":"IFERROR('Retirement Calculations'!C17,\"\")","v":5850.3140188283814},{"$f":"IFERROR('Retirement Calculations'!D17,\"\")","v":117006.28037656762},{"$f":"IFERROR('Retirement Calculations'!E17,\"\")","v":2451281.5738890916},{"$f":"IFERROR('Retirement Calculations'!G17,\"\")","v":140407.53645188114},{"$f":"IFERROR('Retirement Calculations'!H17,\"\")","v":39584.36289188618},{"$f":"IFERROR('Retirement Calculations'!I17,\"\")","v":0},{"$f":"IFERROR('Retirement Calculations'!J17,\"\")","v":179991.89934376732},{"$f":"IFERROR('Retirement Calculations'!L17,\"\")","v":68396.921750631576},{"$f":"IFERROR('Retirement Calculations'!M17,\"\")","v":10799.513960626038},{"$f":"IFERROR('Retirement Calculations'!O17,\"\")","v":100795.46363250971},{"$f":"IFERROR('Retirement Calculations'!P17,\"\")","v":197921.81445943087},{"$f":"IFERROR('Retirement Calculations'!Q17,\"\")","v":-97126.35082692116}]
[null,null,{"$f":"IFERROR('Retirement Calculations'!A18,\"\")","v":80},{"$f":"IFERROR('Retirement Calculations'!B18,\"\")","v":2354155.2230621707},{"$f":"IFERROR('Retirement Calculations'!C18,\"\")","v":5885.3880576554266},{"$f":"IFERROR('Retirement Calculations'!D18,\"\")","v":117707.76115310854},{"$f":"IFERROR('Retirement Calculations'!E18,\"\")","v":2465977.5961576235},{"$f":"IFERROR('Retirement Calculations'!G18,\"\")","v":141249.31338373024},{"$f":"IFERROR('Retirement Calculations'!H18,\"\")","v":40376.050149723902},{"$f":"IFERROR('Retirement Calculations'!I18,\"\")","v":0},{"$f":"IFERROR('Retirement Calculations'!J18,\"\")","v":181625.36353345413},{"$f":"IFERROR('Retirement Calculations'!L18,\"\")","v":69017.638142712574},{"$f":"IFERROR('Retirement Calculations'!M18,\"\")","v":10897.521812007248},{"$f":"IFERROR('Retirement Calculations'!O18,\"\")","v":101710.2035787343},{"$f":"IFERROR('Retirement Calculations'!P18,\"\")","v":201880.2507486195},{"$f":"IFERROR('Retirement Calculations'!Q18,\"\")","v":-100170.04716988519}]
[null,null,{"$f":"IFERROR('Retirement Calculations'!A19,\"\")","v":81},{"$f":"IFERROR('Retirement Calculations'!B19,\"\")","v":2365807.5489877383},{"$f":"IFERROR('Retirement Calculations'!C19,\"\")","v":5914.5188724693462},{"$f":"IFERROR('Retirement Calculations'!D19,\"\")","v":118290.37744938693},{"$f":"IFERROR('Retirement Calculations'!E19,\"\")","v":2478183.4075646559},{"$f":"IFERROR('Retirement Calculations'!G19,\"\")","v":141948.4529392643},{"$f":"IFERROR('Retirement Calculations'!H19,\"\")","v":41183.571152718381},{"$f":"IFERROR('Retirement Calculations'!I19,\"\")","v":0},{"$f":"IFERROR('Retirement Calculations'!J19,\"\")","v":183132.02409198269},{"$f":"IFERROR('Retirement Calculations'!L19,\"\")","v":69590.16915495343},{"$f":"IFERROR('Retirement Calculations'!M19,\"\")","v":10987.921445518961},{"$f":"IFERROR('Retirement Calculations'!O19,\"\")","v":102553.9334915103},{"$f":"IFERROR('Retirement Calculations'!P19,\"\")","v":205917.85576359188},{"$f":"IFERROR('Retirement Calculations'!Q19,\"\")","v":-103363.92227208159}]
[null,null,{"$f":"IFERROR('Retirement Calculations'!A20,\"\")","v":82},{"$f":"IFERROR('Retirement Calculations'!B20,\"\")","v":2374819.4852925744},{"$f":"IFERROR('Retirement Calculations'!C20,\"\")","v":5937.0487132314365},{"$f":"IFERROR('Retirement Calculations'!D20,\"\")","v":118740.97426462872},{"$f":"IFERROR('Retirement Calculations'!E20,\"\")","v":2487623.4108439717},{"$f":"IFERROR('Retirement Calculations'!G20,\"\")","v":142489.16911755447},{"$f":"IFERROR('Retirement Calculations'!H20,\"\")","v":42007.242575772747},{"$f":"IFERROR('Retirement Calculations'!I20,\"\")","v":0},{"$f":"IFERROR('Retirement Calculations'!J20,\"\")","v":184496.41169332722},{"$f":"IFERROR('Retirement Calculations'!L20,\"\")","v":70108.636443464347},{"$f":"IFERROR('Retirement Calculations'!M20,\"\")","v":11069.784701599632},{"$f":"IFERROR('Retirement Calculations'!O20,\"\")","v":103317.99054826323},{"$f":"IFERROR('Retirement Calculations'!P20,\"\")","v":210036.21287886373},{"$f":"IFERROR('Retirement Calculations'!Q20,\"\")","v":-106718.2223306005}]
[null,null,{"$f":"IFERROR('Retirement Calculations'!A21,\"\")","v":83},{"$f":"IFERROR('Retirement Calculations'!B21,\"\")","v":2380905.1885133712},{"$f":"IFERROR('Retirement Calculations'!C21,\"\")","v":5952.2629712834278},{"$f":"IFERROR('Retirement Calculations'!D21,\"\")","v":119045.25942566857},{"$f":"IFERROR('Retirement Calculations'!E21,\"\")","v":2493998.1849677563},{"$f":"IFERROR('Retirement Calculations'!G21,\"\")","v":142854.31131080227},{"$f":"IFERROR('Retirement Calculations'!H21,\"\")","v":42847.387427288202},{"$f":"IFERROR('Retirement Calculations'!I21,\"\")","v":0},{"$f":"IFERROR('Retirement Calculations'!J21,\"\")","v":185701.69873809046},{"$f":"IFERROR('Retirement Calculations'!L21,\"\")","v":70566.645520474369},{"$f":"IFERROR('Retirement Calculations'!M21,\"\")","v":11142.101924285427},{"$f":"IFERROR('Retirement Calculations'!O21,\"\")","v":103992.95129333067},{"$f":"IFERROR('Retirement Calculations'!P21,\"\")","v":214236.937136441},{"$f":"IFERROR('Retirement Calculations'!Q21,\"\")","v":-110243.98584311033}]
[null,null,{"$f":"IFERROR('Retirement Calculations'!A22,\"\")","v":84},{"$f":"IFERROR('Retirement Calculations'!B22,\"\")","v":2383754.1991246459},{"$f":"IFERROR('Retirement Calculations'!C22,\"\")","v":5959.3854978116151},{"$f":"IFERROR('Retirement Calculations'!D22,\"\")","v":119187.7099562323},{"$f":"IFERROR('Retirement Calculations'!E22,\"\")","v":2496982.5235830666},{"$f":"IFERROR('Retirement Calculations'!G22,\"\")","v":143025.25194747874},{"$f":"IFERROR('Retirement Calculations'!H22,\"\")","v":43704.33517583397},{"$f":"IFERROR('Retirement Calculations'!I22,\"\")","v":0},{"$f":"IFERROR('Retirement Calculations'!J22,\"\")","v":186729.5871233127},{"$f":"IFERROR('Retirement Calculations'!L22,\"\")","v":70957.243106858819},{"$f":"IFERROR('Retirement Calculations'!M22,\"\")","v":11203.775227398761},{"$f":"IFERROR('Retirement Calculations'!O22,\"\")","v":104568.56878905512},{"$f":"IFERROR('Retirement Calculations'!P22,\"\")","v":218521.67587916984},{"$f":"IFERROR('Retirement Calculations'!Q22,\"\")","v":-113953.10709011472}]
[null,null,{"$f":"IFERROR('Retirement Calculations'!A23,\"\")","v":85},{"$f":"IFERROR('Retirement Calculations'!B23,\"\")","v":2383029.416492952},{"$f":"IFERROR('Retirement Calculations'!C23,\"\")","v":5957.5735412323802},{"$f":"IFERROR('Retirement Calculations'!D23,\"\")","v":119151.47082464761},{"$f":"IFERROR('Retirement Calculations'!E23,\"\")","v":2496223.3137763673},{"$f":"IFERROR('Retirement Calculations'!G23,\"\")","v":142981.76498957712},{"$f":"IFERROR('Retirement Calculations'!H23,\"\")","v":44578.421879350652},{"$f":"IFERROR('Retirement Calculations'!I23,\"\")","v":0},{"$f":"IFERROR('Retirement Calculations'!J23,\"\")","v":187560.18686892776},{"$f":"IFERROR('Retirement Calculations'!L23,\"\")","v":71272.871010192554},{"$f":"IFERROR('Retirement Calculations'!M23,\"\")","v":11253.611212135665},{"$f":"IFERROR('Retirement Calculations'!O23,\"\")","v":105033.70464659954},{"$f":"IFERROR('Retirement Calculations'!P23,\"\")","v":222892.10939675325},{"$f":"IFERROR('Retirement Calculations'!Q23,\"\")","v":-117858.40475015371}]
[null,null,{"$f":"IFERROR('Retirement Calculations'!A24,\"\")","v":86},{"$f":"IFERROR('Retirement Calculations'!B24,\"\")","v":2378364.9090262135},{"$f":"IFERROR('Retirement Calculations'!C24,\"\")","v":5945.9122725655334},{"$f":"IFERROR('Retirement Calculations'!D24,\"\")","v":118918.24545131068},{"$f":"IFERROR('Retirement Calculations'!E24,\"\")","v":2491337.2422049586},{"$f":"IFERROR('Retirement Calculations'!G24,\"\")","v":142701.89454157281},{"$f":"IFERROR('Retirement Calculations'!H24,\"\")","v":45469.990316937663},{"$f":"IFERROR('Retirement Calculations'!I24,\"\")","v":0},{"$f":"IFERROR('Retirement Calculations'!J24,\"\")","v":188171.88485851046},{"$f":"IFERROR('Retirement Calculations'!L24,\"\")","v":71505.316246233968},{"$f":"IFERROR('Retirement Calculations'!M24,\"\")","v":11290.313091510627},{"$f":"IFERROR('Retirement Calculations'!O24,\"\")","v":105376.25552076586},{"$f":"IFERROR('Retirement Calculations'!P24,\"\")","v":227349.95158468833},{"$f":"IFERROR('Retirement Calculations'!Q24,\"\")","v":-121973.69606392247}]
[null,null,{"$f":"IFERROR('Retirement Calculations'!A25,\"\")","v":87},{"$f":"IFERROR('Retirement Calculations'!B25,\"\")","v":2369363.5461410363},{"$f":"IFERROR('Retirement Calculations'!C25,\"\")","v":5923.4088653525905},{"$f":"IFERROR('Retirement Calculations'!D25,\"\")","v":118468.17730705182},{"$f":"IFERROR('Retirement Calculations'!E25,\"\")","v":2481908.3145827353},{"$f":"IFERROR('Retirement Calculations'!G25,\"\")","v":142161.81276846217},{"$f":"IFERROR('Retirement Calculations'!H25,\"\")","v":46379.390123276418},{"$f":"IFERROR('Retirement Calculations'!I25,\"\")","v":0},{"$f":"IFERROR('Retirement Calculations'!J25,\"\")","v":188541.20289173859},{"$f":"IFERROR('Retirement Calculations'!L25,\"\")","v":71645.657098860669},{"$f":"IFERROR('Retirement Calculations'!M25,\"\")","v":11312.472173504315},{"$f":"IFERROR('Retirement Calculations'!O25,\"\")","v":105583.07361937361},{"$f":"IFERROR('Retirement Calculations'!P25,\"\")","v":231896.95061638209},{"$f":"IFERROR('Retirement Calculations'!Q25,\"\")","v":-126313.87699700848}]
[null,null,{"$f":"IFERROR('Retirement Calculations'!A26,\"\")","v":88},{"$f":"IFERROR('Retirement Calculations'!B26,\"\")","v":2355594.4375857268},{"$f":"IFERROR('Retirement Calculations'!C26,\"\")","v":5888.9860939643177},{"$f":"IFERROR('Retirement Calculations'!D26,\"\")","v":117779.72187928634},{"$f":"IFERROR('Retirement Calculations'!E26,\"\")","v":2467485.1733710486},{"$f":"IFERROR('Retirement Calculations'!G26,\"\")","v":141335.66625514362},{"$f":"IFERROR('Retirement Calculations'!H26,\"\")","v":47306.97792574195},{"$f":"IFERROR('Retirement Calculations'!I26,\"\")","v":0},{"$f":"IFERROR('Retirement Calculations'!J26,\"\")","v":188642.64418088557},{"$f":"IFERROR('Retirement Calculations'!L26,\"\")","v":71684.204788736519},{"$f":"IFERROR('Retirement Calculations'!M26,\"\")","v":11318.558650853134},{"$f":"IFERROR('Retirement Calculations'!O26,\"\")","v":105639.88074129593},{"$f":"IFERROR('Retirement Calculations'!P26,\"\")","v":236534.88962870973},{"$f":"IFERROR('Retirement Calculations'!Q26,\"\")","v":-130895.0088874138}]
[null,null,{"$f":"IFERROR('Retirement Calculations'!A27,\"\")","v":89},{"$f":"IFERROR('Retirement Calculations'!B27,\"\")","v":2336590.1644836348},{"$f":"IFERROR('Retirement Calculations'!C27,\"\")","v":5841.4754112090868},{"$f":"IFERROR('Retirement Calculations'!D27,\"\")","v":116829.50822418174},{"$f":"IFERROR('Retirement Calculations'!E27,\"\")","v":2447578.1972966073},{"$f":"IFERROR('Retirement Calculations'!G27,\"\")","v":140195.40986901807},{"$f":"IFERROR('Retirement Calculations'!H27,\"\")","v":48253.117484256793},{"$f":"IFERROR('Retirement Calculations'!I27,\"\")","v":0},{"$f":"IFERROR('Retirement Calculations'!J27,\"\")","v":188448.52735327487},{"$f":"IFERROR('Retirement Calculations'!L27,\"\")","v":71610.440394244448},{"$f":"IFERROR('Retirement Calculations'!M27,\"\")","v":11306.911641196491},{"$f":"IFERROR('Retirement Calculations'!O27,\"\")","v":105531.17531783393},{"$f":"IFERROR('Retirement Calculations'!P27,\"\")","v":241265.58742128394},{"$f":"IFERROR('Retirement Calculations'!Q27,\"\")","v":-135734.41210345001}]
[null,null,{"$f":"IFERROR('Retirement Calculations'!A28,\"\")","v":90},{"$f":"IFERROR('Retirement Calculations'!B28,\"\")","v":2311843.7851931574},{"$f":"IFERROR('Retirement Calculations'!C28,\"\")","v":5779.609462982894},{"$f":"IFERROR('Retirement Calculations'!D28,\"\")","v":115592.18925965787},{"$f":"IFERROR('Retirement Calculations'!E28,\"\")","v":2421656.364989832},{"$f":"IFERROR('Retirement Calculations'!G28,\"\")","v":138710.62711158945},{"$f":"IFERROR('Retirement Calculations'!H28,\"\")","v":49218.179833941926},{"$f":"IFERROR('Retirement Calculations'!I28,\"\")","v":0},{"$f":"IFERROR('Retirement Calculations'!J28,\"\")","v":187928.80694553137},{"$f":"IFERROR('Retirement Calculations'!L28,\"\")","v":71412.946639301925},{"$f":"IFERROR('Retirement Calculations'!M28,\"\")","v":11275.728416731881},{"$f":"IFERROR('Retirement Calculations'!O28,\"\")","v":105240.13188949756},{"$f":"IFERROR('Retirement Calculations'!P28,\"\")","v":246090.89916970962},{"$f":"IFERROR('Retirement Calculations'!Q28,\"\")","v":-140850.76728021208}]
[null,null,{"$f":"IFERROR('Retirement Calculations'!A29,\"\")","v":""},{"$f":"IFERROR('Retirement Calculations'!B29,\"\")","v":""},{"$f":"IFERROR('Retirement Calculations'!C29,\"\")","v":""},{"$f":"IFERROR('Retirement Calculations'!D29,\"\")","v":""},{"$f":"IFERROR('Retirement Calculations'!E29,\"\")","v":""},{"$f":"IFERROR('Retirement Calculations'!G29,\"\")","v":""},{"$f":"IFERROR('Retirement Calculations'!H29,\"\")","v":""},{"$f":"IFERROR('Retirement Calculations'!I29,\"\")","v":""},{"$f":"IFERROR('Retirement Calculations'!J29,\"\")","v":""},{"$f":"IFERROR('Retirement Calculations'!L29,\"\")","v":""},{"$f":"IFERROR('Retirement Calculations'!M29,\"\")","v":""},{"$f":"IFERROR('Retirement Calculations'!O29,\"\")","v":""},{"$f":"IFERROR('Retirement Calculations'!P29,\"\")","v":""},{"$f":"IFERROR('Retirement Calculations'!Q29,\"\")","v":""}]
[null,null,{"$f":"IFERROR('Retirement Calculations'!A30,\"\")","v":""},{"$f":"IFERROR('Retirement Calculations'!B30,\"\")","v":""},{"$f":"IFERROR('Retirement Calculations'!C30,\"\")","v":""},{"$f":"IFERROR('Retirement Calculations'!D30,\"\")","v":""},{"$f":"IFERROR('Retirement Calculations'!E30,\"\")","v":""},{"$f":"IFERROR('Retirement Calculations'!G30,\"\")","v":""},{"$f":"IFERROR('Retirement Calculations'!H30,\"\")","v":""},{"$f":"IFERROR('Retirement Calculations'!I30,\"\")","v":""},{"$f":"IFERROR('Retirement Calculations'!J30,\"\")","v":""},{"$f":"IFERROR('Retirement Calculations'!L30,\"\")","v":""},{"$f":"IFERROR('Retirement Calculations'!M30,\"\")","v":""},{"$f":"IFERROR('Retirement Calculations'!O30,\"\")","v":""},{"$f":"IFERROR('Retirement Calculations'!P30,\"\")","v":""},{"$f":"IFERROR('Retirement Calculations'!Q30,\"\")","v":""}]
[null,null,{"$f":"IFERROR('Retirement Calculations'!A31,\"\")","v":""},{"$f":"IFERROR('Retirement Calculations'!B31,\"\")","v":""},{"$f":"IFERROR('Retirement Calculations'!C31,\"\")","v":""},{"$f":"IFERROR('Retirement Calculations'!D31,\"\")","v":""},{"$f":"IFERROR('Retirement Calculations'!E31,\"\")","v":""},{"$f":"IFERROR('Retirement Calculations'!G31,\"\")","v":""},{"$f":"IFERROR('Retirement Calculations'!H31,\"\")","v":""},{"$f":"IFERROR('Retirement Calculations'!I31,\"\")","v":""},{"$f":"IFERROR('Retirement Calculations'!J31,\"\")","v":""},{"$f":"IFERROR('Retirement Calculations'!L31,\"\")","v":""},{"$f":"IFERROR('Retirement Calculations'!M31,\"\")","v":""},{"$f":"IFERROR('Retirement Calculations'!O31,\"\")","v":""},{"$f":"IFERROR('Retirement Calculations'!P31,\"\")","v":""},{"$f":"IFERROR('Retirement Calculations'!Q31,\"\")","v":""}]
[null,null,{"$f":"IFERROR('Retirement Calculations'!A32,\"\")","v":""},{"$f":"IFERROR('Retirement Calculations'!B32,\"\")","v":""},{"$f":"IFERROR('Retirement Calculations'!C32,\"\")","v":""},{"$f":"IFERROR('Retirement Calculations'!D32,\"\")","v":""},{"$f":"IFERROR('Retirement Calculations'!E32,\"\")","v":""},{"$f":"IFERROR('Retirement Calculations'!G32,\"\")","v":""},{"$f":"IFERROR('Retirement Calculations'!H32,\"\")","v":""},{"$f":"IFERROR('Retirement Calculations'!I32,\"\")","v":""},{"$f":"IFERROR('Retirement Calculations'!J32,\"\")","v":""},{"$f":"IFERROR('Retirement Calculations'!L32,\"\")","v":""},{"$f":"IFERROR('Retirement Calculations'!M32,\"\")","v":""},{"$f":"IFERROR('Retirement Calculations'!O32,\"\")","v":""},{"$f":"IFERROR('Retirement Calculations'!P32,\"\")","v":""},{"$f":"IFERROR('Retirement Calculations'!Q32,\"\")","v":""}]
[null,null,{"$f":"IFERROR('Retirement Calculations'!A33,\"\")","v":""},{"$f":"IFERROR('Retirement Calculations'!B33,\"\")","v":""},{"$f":"IFERROR('Retirement Calculations'!C33,\"\")","v":""},{"$f":"IFERROR('Retirement Calculations'!D33,\"\")","v":""},{"$f":"IFERROR('Retirement Calculations'!E33,\"\")","v":""},{"$f":"IFERROR('Retirement Calculations'!G33,\"\")","v":""},{"$f":"IFERROR('Retirement Calculations'!H33,\"\")","v":""},{"$f":"IFERROR('Retirement Calculations'!I33,\"\")","v":""},{"$f":"IFERROR('Retirement Calculations'!J33,\"\")","v":""},{"$f":"IFERROR('Retirement Calculations'!L33,\"\")","v":""},{"$f":"IFERROR('Retirement Calculations'!M33,\"\")","v":""},{"$f":"IFERROR('Retirement Calculations'!O33,\"\")","v":""},{"$f":"IFERROR('Retirement Calculations'!P33,\"\")","v":""},{"$f":"IFERROR('Retirement Calculations'!Q33,\"\")","v":""}]
[null,null,{"$f":"IFERROR('Retirement Calculations'!A34,\"\")","v":""},{"$f":"IFERROR('Retirement Calculations'!B34,\"\")","v":""},{"$f":"IFERROR('Retirement Calculations'!C34,\"\")","v":""},{"$f":"IFERROR('Retirement Calculations'!D34,\"\")","v":""},{"$f":"IFERROR('Retirement Calculations'!E34,\"\")","v":""},{"$f":"IFERROR('Retirement Calculations'!G34,\"\")","v":""},{"$f":"IFERROR('Retirement Calculations'!H34,\"\")","v":""},{"$f":"IFERROR('Retirement Calculations'!I34,\"\")","v":""},{"$f":"IFERROR('Retirement Calculations'!J34,\"\")","v":""},{"$f":"IFERROR('Retirement Calculations'!L34,\"\")","v":""},{"$f":"IFERROR('Retirement Calculations'!M34,\"\")","v":""},{"$f":"IFERROR('Retirement Calculations'!O34,\"\")","v":""},{"$f":"IFERROR('Retirement Calculations'!P34,\"\")","v":""},{"$f":"IFERROR('Retirement Calculations'!Q34,\"\")","v":""}]
[null,null,{"$f":"IFERROR('Retirement Calculations'!A35,\"\")","v":""},{"$f":"IFERROR('Retirement Calculations'!B35,\"\")","v":""},{"$f":"IFERROR('Retirement Calculations'!C35,\"\")","v":""},{"$f":"IFERROR('Retirement Calculations'!D35,\"\")","v":""},{"$f":"IFERROR('Retirement Calculations'!E35,\"\")","v":""},{"$f":"IFERROR('Retirement Calculations'!G35,\"\")","v":""},{"$f":"IFERROR('Retirement Calculations'!H35,\"\")","v":""},{"$f":"IFERROR('Retirement Calculations'!I35,\"\")","v":""},{"$f":"IFERROR('Retirement Calculations'!J35,\"\")","v":""},{"$f":"IFERROR('Retirement Calculations'!L35,\"\")","v":""},{"$f":"IFERROR('Retirement Calculations'!M35,\"\")","v":""},{"$f":"IFERROR('Retirement Calculations'!O35,\"\")","v":""},{"$f":"IFERROR('Retirement Calculations'!P35,\"\")","v":""},{"$f":"IFERROR('Retirement Calculations'!Q35,\"\")","v":""}]
[null,null,{"$f":"IFERROR('Retirement Calculations'!A36,\"\")","v":""},{"$f":"IFERROR('Retirement Calculations'!B36,\"\")","v":""},{"$f":"IFERROR('Retirement Calculations'!C36,\"\")","v":""},{"$f":"IFERROR('Retirement Calculations'!D36,\"\")","v":""},{"$f":"IFERROR('Retirement Calculations'!E36,\"\")","v":""},{"$f":"IFERROR('Retirement Calculations'!G36,\"\")","v":""},{"$f":"IFERROR('Retirement Calculations'!H36,\"\")","v":""},{"$f":"IFERROR('Retirement Calculations'!I36,\"\")","v":""},{"$f":"IFERROR('Retirement Calculations'!J36,\"\")","v":""},{"$f":"IFERROR('Retirement Calculations'!L36,\"\")","v":""},{"$f":"IFERROR('Retirement Calculations'!M36,\"\")","v":""},{"$f":"IFERROR('Retirement Calculations'!O36,\"\")","v":""},{"$f":"IFERROR('Retirement Calculations'!P36,\"\")","v":""},{"$f":"IFERROR('Retirement Calculations'!Q36,\"\")","v":""}]
[null,null,{"$f":"IFERROR('Retirement Calculations'!A37,\"\")","v":""},{"$f":"IFERROR('Retirement Calculations'!B37,\"\")","v":""},{"$f":"IFERROR('Retirement Calculations'!C37,\"\")","v":""},{"$f":"IFERROR('Retirement Calculations'!D37,\"\")","v":""},{"$f":"IFERROR('Retirement Calculations'!E37,\"\")","v":""},{"$f":"IFERROR('Retirement Calculations'!G37,\"\")","v":""},{"$f":"IFERROR('Retirement Calculations'!H37,\"\")","v":""},{"$f":"IFERROR('Retirement Calculations'!I37,\"\")","v":""},{"$f":"IFERROR('Retirement Calculations'!J37,\"\")","v":""},{"$f":"IFERROR('Retirement Calculations'!L37,\"\")","v":""},{"$f":"IFERROR('Retirement Calculations'!M37,\"\")","v":""},{"$f":"IFERROR('Retirement Calculations'!O37,\"\")","v":""},{"$f":"IFERROR('Retirement Calculations'!P37,\"\")","v":""},{"$f":"IFERROR('Retirement Calculations'!Q37,\"\")","v":""}]
[null,null,{"$f":"IFERROR('Retirement Calculations'!A38,\"\")","v":""},{"$f":"IFERROR('Retirement Calculations'!B38,\"\")","v":""},{"$f":"IFERROR('Retirement Calculations'!C38,\"\")","v":""},{"$f":"IFERROR('Retirement Calculations'!D38,\"\")","v":""},{"$f":"IFERROR('Retirement Calculations'!E38,\"\")","v":""},{"$f":"IFERROR('Retirement Calculations'!G38,\"\")","v":""},{"$f":"IFERROR('Retirement Calculations'!H38,\"\")","v":""},{"$f":"IFERROR('Retirement Calculations'!I38,\"\")","v":""},{"$f":"IFERROR('Retirement Calculations'!J38,\"\")","v":""},{"$f":"IFERROR('Retirement Calculations'!L38,\"\")","v":""},{"$f":"IFERROR('Retirement Calculations'!M38,\"\")","v":""},{"$f":"IFERROR('Retirement Calculations'!O38,\"\")","v":""},{"$f":"IFERROR('Retirement Calculations'!P38,\"\")","v":""},{"$f":"IFERROR('Retirement Calculations'!Q38,\"\")","v":""}]
[null,null,{"$f":"IFERROR('Retirement Calculations'!A39,\"\")","v":""},{"$f":"IFERROR('Retirement Calculations'!B39,\"\")","v":""},{"$f":"IFERROR('Retirement Calculations'!C39,\"\")","v":""},{"$f":"IFERROR('Retirement Calculations'!D39,\"\")","v":""},{"$f":"IFERROR('Retirement Calculations'!E39,\"\")","v":""},{"$f":"IFERROR('Retirement Calculations'!G39,\"\")","v":""},{"$f":"IFERROR('Retirement Calculations'!H39,\"\")","v":""},{"$f":"IFERROR('Retirement Calculations'!I39,\"\")","v":""},{"$f":"IFERROR('Retirement Calculations'!J39,\"\")","v":""},{"$f":"IFERROR('Retirement Calculations'!L39,\"\")","v":""},{"$f":"IFERROR('Retirement Calculations'!M39,\"\")","v":""},{"$f":"IFERROR('Retirement Calculations'!O39,\"\")","v":""},{"$f":"IFERROR('Retirement Calculations'!P39,\"\")","v":""},{"$f":"IFERROR('Retirement Calculations'!Q39,\"\")","v":""}]
[null,null,{"$f":"IFERROR('Retirement Calculations'!A40,\"\")","v":""},{"$f":"IFERROR('Retirement Calculations'!B40,\"\")","v":""},{"$f":"IFERROR('Retirement Calculations'!C40,\"\")","v":""},{"$f":"IFERROR('Retirement Calculations'!D40,\"\")","v":""},{"$f":"IFERROR('Retirement Calculations'!E40,\"\")","v":""},{"$f":"IFERROR('Retirement Calculations'!G40,\"\")","v":""},{"$f":"IFERROR('Retirement Calculations'!H40,\"\")","v":""},{"$f":"IFERROR('Retirement Calculations'!I40,\"\")","v":""},{"$f":"IFERROR('Retirement Calculations'!J40,\"\")","v":""},{"$f":"IFERROR('Retirement Calculations'!L40,\"\")","v":""},{"$f":"IFERROR('Retirement Calculations'!M40,\"\")","v":""},{"$f":"IFERROR('Retirement Calculations'!O40,\"\")","v":""},{"$f":"IFERROR('Retirement Calculations'!P40,\"\")","v":""},{"$f":"IFERROR('Retirement Calculations'!Q40,\"\")","v":""}]
[null,null,{"$f":"IFERROR('Retirement Calculations'!A41,\"\")","v":""},{"$f":"IFERROR('Retirement Calculations'!B41,\"\")","v":""},{"$f":"IFERROR('Retirement Calculations'!C41,\"\")","v":""},{"$f":"IFERROR('Retirement Calculations'!D41,\"\")","v":""},{"$f":"IFERROR('Retirement Calculations'!E41,\"\")","v":""},{"$f":"IFERROR('Retirement Calculations'!G41,\"\")","v":""},{"$f":"IFERROR('Retirement Calculations'!H41,\"\")","v":""},{"$f":"IFERROR('Retirement Calculations'!I41,\"\")","v":""},{"$f":"IFERROR('Retirement Calculations'!J41,\"\")","v":""},{"$f":"IFERROR('Retirement Calculations'!L41,\"\")","v":""},{"$f":"IFERROR('Retirement Calculations'!M41,\"\")","v":""},{"$f":"IFERROR('Retirement Calculations'!O41,\"\")","v":""},{"$f":"IFERROR('Retirement Calculations'!P41,\"\")","v":""},{"$f":"IFERROR('Retirement Calculations'!Q41,\"\")","v":""}]
[null,null,{"$f":"IFERROR('Retirement Calculations'!A42,\"\")","v":""},{"$f":"IFERROR('Retirement Calculations'!B42,\"\")","v":""},{"$f":"IFERROR('Retirement Calculations'!C42,\"\")","v":""},{"$f":"IFERROR('Retirement Calculations'!D42,\"\")","v":""},{"$f":"IFERROR('Retirement Calculations'!E42,\"\")","v":""},{"$f":"IFERROR('Retirement Calculations'!G42,\"\")","v":""},{"$f":"IFERROR('Retirement Calculations'!H42,\"\")","v":""},{"$f":"IFERROR('Retirement Calculations'!I42,\"\")","v":""},{"$f":"IFERROR('Retirement Calculations'!J42,\"\")","v":""},{"$f":"IFERROR('Retirement Calculations'!L42,\"\")","v":""},{"$f":"IFERROR('Retirement Calculations'!M42,\"\")","v":""},{"$f":"IFERROR('Retirement Calculations'!O42,\"\")","v":""},{"$f":"IFERROR('Retirement Calculations'!P42,\"\")","v":""},{"$f":"IFERROR('Retirement Calculations'!Q42,\"\")","v":""}]
[null,null,{"$f":"IFERROR('Retirement Calculations'!A43,\"\")","v":""},{"$f":"IFERROR('Retirement Calculations'!B43,\"\")","v":""},{"$f":"IFERROR('Retirement Calculations'!C43,\"\")","v":""},{"$f":"IFERROR('Retirement Calculations'!D43,\"\")","v":""},{"$f":"IFERROR('Retirement Calculations'!E43,\"\")","v":""},{"$f":"IFERROR('Retirement Calculations'!G43,\"\")","v":""},{"$f":"IFERROR('Retirement Calculations'!H43,\"\")","v":""},{"$f":"IFERROR('Retirement Calculations'!I43,\"\")","v":""},{"$f":"IFERROR('Retirement Calculations'!J43,\"\")","v":""},{"$f":"IFERROR('Retirement Calculations'!L43,\"\")","v":""},{"$f":"IFERROR('Retirement Calculations'!M43,\"\")","v":""},{"$f":"IFERROR('Retirement Calculations'!O43,\"\")","v":""},{"$f":"IFERROR('Retirement Calculations'!P43,\"\")","v":""},{"$f":"IFERROR('Retirement Calculations'!Q43,\"\")","v":""}]
[null,null,{"$f":"IFERROR('Retirement Calculations'!A44,\"\")","v":""},{"$f":"IFERROR('Retirement Calculations'!B44,\"\")","v":""},{"$f":"IFERROR('Retirement Calculations'!C44,\"\")","v":""},{"$f":"IFERROR('Retirement Calculations'!D44,\"\")","v":""},{"$f":"IFERROR('Retirement Calculations'!E44,\"\")","v":""},{"$f":"IFERROR('Retirement Calculations'!G44,\"\")","v":""},{"$f":"IFERROR('Retirement Calculations'!H44,\"\")","v":""},{"$f":"IFERROR('Retirement Calculations'!I44,\"\")","v":""},{"$f":"IFERROR('Retirement Calculations'!J44,\"\")","v":""},{"$f":"IFERROR('Retirement Calculations'!L44,\"\")","v":""},{"$f":"IFERROR('Retirement Calculations'!M44,\"\")","v":""},{"$f":"IFERROR('Retirement Calculations'!O44,\"\")","v":""},{"$f":"IFERROR('Retirement Calculations'!P44,\"\")","v":""},{"$f":"IFERROR('Retirement Calculations'!Q44,\"\")","v":""}]
[null,null,{"$f":"IFERROR('Retirement Calculations'!A45,\"\")","v":""},{"$f":"IFERROR('Retirement Calculations'!B45,\"\")","v":""},{"$f":"IFERROR('Retirement Calculations'!C45,\"\")","v":""},{"$f":"IFERROR('Retirement Calculations'!D45,\"\")","v":""},{"$f":"IFERROR('Retirement Calculations'!E45,\"\")","v":""},{"$f":"IFERROR('Retirement Calculations'!G45,\"\")","v":""},{"$f":"IFERROR('Retirement Calculations'!H45,\"\")","v":""},{"$f":"IFERROR('Retirement Calculations'!I45,\"\")","v":""},{"$f":"IFERROR('Retirement Calculations'!J45,\"\")","v":""},{"$f":"IFERROR('Retirement Calculations'!L45,\"\")","v":""},{"$f":"IFERROR('Retirement Calculations'!M45,\"\")","v":""},{"$f":"IFERROR('Retirement Calculations'!O45,\"\")","v":""},{"$f":"IFERROR('Retirement Calculations'!P45,\"\")","v":""},{"$f":"IFERROR('Retirement Calculations'!Q45,\"\")","v":""}]
[null,null,{"$f":"IFERROR('Retirement Calculations'!A46,\"\")","v":""},{"$f":"IFERROR('Retirement Calculations'!B46,\"\")","v":""},{"$f":"IFERROR('Retirement Calculations'!C46,\"\")","v":""},{"$f":"IFERROR('Retirement Calculations'!D46,\"\")","v":""},{"$f":"IFERROR('Retirement Calculations'!E46,\"\")","v":""},{"$f":"IFERROR('Retirement Calculations'!G46,\"\")","v":""},{"$f":"IFERROR('Retirement Calculations'!H46,\"\")","v":""},{"$f":"IFERROR('Retirement Calculations'!I46,\"\")","v":""},{"$f":"IFERROR('Retirement Calculations'!J46,\"\")","v":""},{"$f":"IFERROR('Retirement Calculations'!L46,\"\")","v":""},{"$f":"IFERROR('Retirement Calculations'!M46,\"\")","v":""},{"$f":"IFERROR('Retirement Calculations'!O46,\"\")","v":""},{"$f":"IFERROR('Retirement Calculations'!P46,\"\")","v":""},{"$f":"IFERROR('Retirement Calculations'!Q46,\"\")","v":""}]
[null,null,{"$f":"IFERROR('Retirement Calculations'!A47,\"\")","v":""},{"$f":"IFERROR('Retirement Calculations'!B47,\"\")","v":""},{"$f":"IFERROR('Retirement Calculations'!C47,\"\")","v":""},{"$f":"IFERROR('Retirement Calculations'!D47,\"\")","v":""},{"$f":"IFERROR('Retirement Calculations'!E47,\"\")","v":""},{"$f":"IFERROR('Retirement Calculations'!G47,\"\")","v":""},{"$f":"IFERROR('Retirement Calculations'!H47,\"\")","v":""},{"$f":"IFERROR('Retirement Calculations'!I47,\"\")","v":""},{"$f":"IFERROR('Retirement Calculations'!J47,\"\")","v":""},{"$f":"IFERROR('Retirement Calculations'!L47,\"\")","v":""},{"$f":"IFERROR('Retirement Calculations'!M47,\"\")","v":""},{"$f":"IFERROR('Retirement Calculations'!O47,\"\")","v":""},{"$f":"IFERROR('Retirement Calculations'!P47,\"\")","v":""},{"$f":"IFERROR('Retirement Calculations'!Q47,\"\")","v":""}]
[null,null,{"$f":"IFERROR('Retirement Calculations'!A48,\"\")","v":""},{"$f":"IFERROR('Retirement Calculations'!B48,\"\")","v":""},{"$f":"IFERROR('Retirement Calculations'!C48,\"\")","v":""},{"$f":"IFERROR('Retirement Calculations'!D48,\"\")","v":""},{"$f":"IFERROR('Retirement Calculations'!E48,\"\")","v":""},{"$f":"IFERROR('Retirement Calculations'!G48,\"\")","v":""},{"$f":"IFERROR('Retirement Calculations'!H48,\"\")","v":""},{"$f":"IFERROR('Retirement Calculations'!I48,\"\")","v":""},{"$f":"IFERROR('Retirement Calculations'!J48,\"\")","v":""},{"$f":"IFERROR('Retirement Calculations'!L48,\"\")","v":""},{"$f":"IFERROR('Retirement Calculations'!M48,\"\")","v":""},{"$f":"IFERROR('Retirement Calculations'!O48,\"\")","v":""},{"$f":"IFERROR('Retirement Calculations'!P48,\"\")","v":""},{"$f":"IFERROR('Retirement Calculations'!Q48,\"\")","v":""}]
[null,null,{"$f":"IFERROR('Retirement Calculations'!A49,\"\")","v":""},{"$f":"IFERROR('Retirement Calculations'!B49,\"\")","v":""},{"$f":"IFERROR('Retirement Calculations'!C49,\"\")","v":""},{"$f":"IFERROR('Retirement Calculations'!D49,\"\")","v":""},{"$f":"IFERROR('Retirement Calculations'!E49,\"\")","v":""},{"$f":"IFERROR('Retirement Calculations'!G49,\"\")","v":""},{"$f":"IFERROR('Retirement Calculations'!H49,\"\")","v":""},{"$f":"IFERROR('Retirement Calculations'!I49,\"\")","v":""},{"$f":"IFERROR('Retirement Calculations'!J49,\"\")","v":""},{"$f":"IFERROR('Retirement Calculations'!L49,\"\")","v":""},{"$f":"IFERROR('Retirement Calculations'!M49,\"\")","v":""},{"$f":"IFERROR('Retirement Calculations'!O49,\"\")","v":""},{"$f":"IFERROR('Retirement Calculations'!P49,\"\")","v":""},{"$f":"IFERROR('Retirement Calculations'!Q49,\"\")","v":""}]
[null,null,{"$f":"IFERROR('Retirement Calculations'!A50,\"\")","v":""},{"$f":"IFERROR('Retirement Calculations'!B50,\"\")","v":""},{"$f":"IFERROR('Retirement Calculations'!C50,\"\")","v":""},{"$f":"IFERROR('Retirement Calculations'!D50,\"\")","v":""},{"$f":"IFERROR('Retirement Calculations'!E50,\"\")","v":""},{"$f":"IFERROR('Retirement Calculations'!G50,\"\")","v":""},{"$f":"IFERROR('Retirement Calculations'!H50,\"\")","v":""},{"$f":"IFERROR('Retirement Calculations'!I50,\"\")","v":""},{"$f":"IFERROR('Retirement Calculations'!J50,\"\")","v":""},{"$f":"IFERROR('Retirement Calculations'!L50,\"\")","v":""},{"$f":"IFERROR('Retirement Calculations'!M50,\"\")","v":""},{"$f":"IFERROR('Retirement Calculations'!O50,\"\")","v":""},{"$f":"IFERROR('Retirement Calculations'!P50,\"\")","v":""},{"$f":"IFERROR('Retirement Calculations'!Q50,\"\")","v":""}]
[null,null,{"$f":"IFERROR('Retirement Calculations'!A51,\"\")","v":""},{"$f":"IFERROR('Retirement Calculations'!B51,\"\")","v":""},{"$f":"IFERROR('Retirement Calculations'!C51,\"\")","v":""},{"$f":"IFERROR('Retirement Calculations'!D51,\"\")","v":""},{"$f":"IFERROR('Retirement Calculations'!E51,\"\")","v":""},{"$f":"IFERROR('Retirement Calculations'!G51,\"\")","v":""},{"$f":"IFERROR('Retirement Calculations'!H51,\"\")","v":""},{"$f":"IFERROR('Retirement Calculations'!I51,\"\")","v":""},{"$f":"IFERROR('Retirement Calculations'!J51,\"\")","v":""},{"$f":"IFERROR('Retirement Calculations'!L51,\"\")","v":""},{"$f":"IFERROR('Retirement Calculations'!M51,\"\")","v":""},{"$f":"IFERROR('Retirement Calculations'!O51,\"\")","v":""},{"$f":"IFERROR('Retirement Calculations'!P51,\"\")","v":""},{"$f":"IFERROR('Retirement Calculations'!Q51,\"\")","v":""}]
[null,null,{"$f":"IFERROR('Retirement Calculations'!A52,\"\")","v":""},{"$f":"IFERROR('Retirement Calculations'!B52,\"\")","v":""},{"$f":"IFERROR('Retirement Calculations'!C52,\"\")","v":""},{"$f":"IFERROR('Retirement Calculations'!D52,\"\")","v":""},{"$f":"IFERROR('Retirement Calculations'!E52,\"\")","v":""},{"$f":"IFERROR('Retirement Calculations'!G52,\"\")","v":""},{"$f":"IFERROR('Retirement Calculations'!H52,\"\")","v":""},{"$f":"IFERROR('Retirement Calculations'!I52,\"\")","v":""},{"$f":"IFERROR('Retirement Calculations'!J52,\"\")","v":""},{"$f":"IFERROR('Retirement Calculations'!L52,\"\")","v":""},{"$f":"IFERROR('Retirement Calculations'!M52,\"\")","v":""},{"$f":"IFERROR('Retirement Calculations'!O52,\"\")","v":""},{"$f":"IFERROR('Retirement Calculations'!P52,\"\")","v":""},{"$f":"IFERROR('Retirement Calculations'!Q52,\"\")","v":""}]
[null,null,{"$f":"IFERROR('Retirement Calculations'!A53,\"\")","v":""},{"$f":"IFERROR('Retirement Calculations'!B53,\"\")","v":""},{"$f":"IFERROR('Retirement Calculations'!C53,\"\")","v":""},{"$f":"IFERROR('Retirement Calculations'!D53,\"\")","v":""},{"$f":"IFERROR('Retirement Calculations'!E53,\"\")","v":""},{"$f":"IFERROR('Retirement Calculations'!G53,\"\")","v":""},{"$f":"IFERROR('Retirement Calculations'!H53,\"\")","v":""},{"$f":"IFERROR('Retirement Calculations'!I53,\"\")","v":""},{"$f":"IFERROR('Retirement Calculations'!J53,\"\")","v":""},{"$f":"IFERROR('Retirement Calculations'!L53,\"\")","v":""},{"$f":"IFERROR('Retirement Calculations'!M53,\"\")","v":""},{"$f":"IFERROR('Retirement Calculations'!O53,\"\")","v":""},{"$f":"IFERROR('Retirement Calculations'!P53,\"\")","v":""},{"$f":"IFERROR('Retirement Calculations'!Q53,\"\")","v":""}]
[null,null,{"$f":"IFERROR('Retirement Calculations'!A54,\"\")","v":""},{"$f":"IFERROR('Retirement Calculations'!B54,\"\")","v":""},{"$f":"IFERROR('Retirement Calculations'!C54,\"\")","v":""},{"$f":"IFERROR('Retirement Calculations'!D54,\"\")","v":""},{"$f":"IFERROR('Retirement Calculations'!E54,\"\")","v":""},{"$f":"IFERROR('Retirement Calculations'!G54,\"\")","v":""},{"$f":"IFERROR('Retirement Calculations'!H54,\"\")","v":""},{"$f":"IFERROR('Retirement Calculations'!I54,\"\")","v":""},{"$f":"IFERROR('Retirement Calculations'!J54,\"\")","v":""},{"$f":"IFERROR('Retirement Calculations'!L54,\"\")","v":""},{"$f":"IFERROR('Retirement Calculations'!M54,\"\")","v":""},{"$f":"IFERROR('Retirement Calculations'!O54,\"\")","v":""},{"$f":"IFERROR('Retirement Calculations'!P54,\"\")","v":""},{"$f":"IFERROR('Retirement Calculations'!Q54,\"\")","v":""}]
[null,null,{"$f":"IFERROR('Retirement Calculations'!A55,\"\")","v":""},{"$f":"IFERROR('Retirement Calculations'!B55,\"\")","v":""},{"$f":"IFERROR('Retirement Calculations'!C55,\"\")","v":""},{"$f":"IFERROR('Retirement Calculations'!D55,\"\")","v":""},{"$f":"IFERROR('Retirement Calculations'!E55,\"\")","v":""},{"$f":"IFERROR('Retirement Calculations'!G55,\"\")","v":""},{"$f":"IFERROR('Retirement Calculations'!H55,\"\")","v":""},{"$f":"IFERROR('Retirement Calculations'!I55,\"\")","v":""},{"$f":"IFERROR('Retirement Calculations'!J55,\"\")","v":""},{"$f":"IFERROR('Retirement Calculations'!L55,\"\")","v":""},{"$f":"IFERROR('Retirement Calculations'!M55,\"\")","v":""},{"$f":"IFERROR('Retirement Calculations'!O55,\"\")","v":""},{"$f":"IFERROR('Retirement Calculations'!P55,\"\")","v":""},{"$f":"IFERROR('Retirement Calculations'!Q55,\"\")","v":""}]
[null,null,{"$f":"IFERROR('Retirement Calculations'!A56,\"\")","v":""},{"$f":"IFERROR('Retirement Calculations'!B56,\"\")","v":""},{"$f":"IFERROR('Retirement Calculations'!C56,\"\")","v":""},{"$f":"IFERROR('Retirement Calculations'!D56,\"\")","v":""},{"$f":"IFERROR('Retirement Calculations'!E56,\"\")","v":""},{"$f":"IFERROR('Retirement Calculations'!G56,\"\")","v":""},{"$f":"IFERROR('Retirement Calculations'!H56,\"\")","v":""},{"$f":"IFERROR('Retirement Calculations'!I56,\"\")","v":""},{"$f":"IFERROR('Retirement Calculations'!J56,\"\")","v":""},{"$f":"IFERROR('Retirement Calculations'!L56,\"\")","v":""},{"$f":"IFERROR('Retirement Calculations'!M56,\"\")","v":""},{"$f":"IFERROR('Retirement Calculations'!O56,\"\")","v":""},{"$f":"IFERROR('Retirement Calculations'!P56,\"\")","v":""},{"$f":"IFERROR('Retirement Calculations'!Q56,\"\")","v":""}]
[null,null,{"$f":"IFERROR('Retirement Calculations'!A57,\"\")","v":""},{"$f":"IFERROR('Retirement Calculations'!B57,\"\")","v":""},{"$f":"IFERROR('Retirement Calculations'!C57,\"\")","v":""},{"$f":"IFERROR('Retirement Calculations'!D57,\"\")","v":""},{"$f":"IFERROR('Retirement Calculations'!E57,\"\")","v":""},{"$f":"IFERROR('Retirement Calculations'!G57,\"\")","v":""},{"$f":"IFERROR('Retirement Calculations'!H57,\"\")","v":""},{"$f":"IFERROR('Retirement Calculations'!I57,\"\")","v":""},{"$f":"IFERROR('Retirement Calculations'!J57,\"\")","v":""},{"$f":"IFERROR('Retirement Calculations'!L57,\"\")","v":""},{"$f":"IFERROR('Retirement Calculations'!M57,\"\")","v":""},{"$f":"IFERROR('Retirement Calculations'!O57,\"\")","v":""},{"$f":"IFERROR('Retirement Calculations'!P57,\"\")","v":""},{"$f":"IFERROR('Retirement Calculations'!Q57,\"\")","v":""}]
[null,null,{"$f":"IFERROR('Retirement Calculations'!A58,\"\")","v":""},{"$f":"IFERROR('Retirement Calculations'!B58,\"\")","v":""},{"$f":"IFERROR('Retirement Calculations'!C58,\"\")","v":""},{"$f":"IFERROR('Retirement Calculations'!D58,\"\")","v":""},{"$f":"IFERROR('Retirement Calculations'!E58,\"\")","v":""},{"$f":"IFERROR('Retirement Calculations'!G58,\"\")","v":""},{"$f":"IFERROR('Retirement Calculations'!H58,\"\")","v":""},{"$f":"IFERROR('Retirement Calculations'!I58,\"\")","v":""},{"$f":"IFERROR('Retirement Calculations'!J58,\"\")","v":""},{"$f":"IFERROR('Retirement Calculations'!L58,\"\")","v":""},{"$f":"IFERROR('Retirement Calculations'!M58,\"\")","v":""},{"$f":"IFERROR('Retirement Calculations'!O58,\"\")","v":""},{"$f":"IFERROR('Retirement Calculations'!P58,\"\")","v":""},{"$f":"IFERROR('Retirement Calculations'!Q58,\"\")","v":""}]
[null,null,{"$f":"IFERROR('Retirement Calculations'!A59,\"\")","v":""},{"$f":"IFERROR('Retirement Calculations'!B59,\"\")","v":""},{"$f":"IFERROR('Retirement Calculations'!C59,\"\")","v":""},{"$f":"IFERROR('Retirement Calculations'!D59,\"\")","v":""},{"$f":"IFERROR('Retirement Calculations'!E59,\"\")","v":""},{"$f":"IFERROR('Retirement Calculations'!G59,\"\")","v":""},{"$f":"IFERROR('Retirement Calculations'!H59,\"\")","v":""},{"$f":"IFERROR('Retirement Calculations'!I59,\"\")","v":""},{"$f":"IFERROR('Retirement Calculations'!J59,\"\")","v":""},{"$f":"IFERROR('Retirement Calculations'!L59,\"\")","v":""},{"$f":"IFERROR('Retirement Calculations'!M59,\"\")","v":""},{"$f":"IFERROR('Retirement Calculations'!O59,\"\")","v":""},{"$f":"IFERROR('Retirement Calculations'!P59,\"\")","v":""},{"$f":"IFERROR('Retirement Calculations'!Q59,\"\")","v":""}]
[null,null,{"$f":"IFERROR('Retirement Calculations'!A60,\"\")","v":""},{"$f":"IFERROR('Retirement Calculations'!B60,\"\")","v":""},{"$f":"IFERROR('Retirement Calculations'!C60,\"\")","v":""},{"$f":"IFERROR('Retirement Calculations'!D60,\"\")","v":""},{"$f":"IFERROR('Retirement Calculations'!E60,\"\")","v":""},{"$f":"IFERROR('Retirement Calculations'!G60,\"\")","v":""},{"$f":"IFERROR('Retirement Calculations'!H60,\"\")","v":""},{"$f":"IFERROR('Retirement Calculations'!I60,\"\")","v":""},{"$f":"IFERROR('Retirement Calculations'!J60,\"\")","v":""},{"$f":"IFERROR('Retirement Calculations'!L60,\"\")","v":""},{"$f":"IFERROR('Retirement Calculations'!M60,\"\")","v":""},{"$f":"IFERROR('Retirement Calculations'!O60,\"\")","v":""},{"$f":"IFERROR('Retirement Calculations'!P60,\"\")","v":""},{"$f":"IFERROR('Retirement Calculations'!Q60,\"\")","v":""}]
[null,null,{"$f":"IFERROR('Retirement Calculations'!A61,\"\")","v":""},{"$f":"IFERROR('Retirement Calculations'!B61,\"\")","v":""},{"$f":"IFERROR('Retirement Calculations'!C61,\"\")","v":""},{"$f":"IFERROR('Retirement Calculations'!D61,\"\")","v":""},{"$f":"IFERROR('Retirement Calculations'!E61,\"\")","v":""},{"$f":"IFERROR('Retirement Calculations'!G61,\"\")","v":""},{"$f":"IFERROR('Retirement Calculations'!H61,\"\")","v":""},{"$f":"IFERROR('Retirement Calculations'!I61,\"\")","v":""},{"$f":"IFERROR('Retirement Calculations'!J61,\"\")","v":""},{"$f":"IFERROR('Retirement Calculations'!L61,\"\")","v":""},{"$f":"IFERROR('Retirement Calculations'!M61,\"\")","v":""},{"$f":"IFERROR('Retirement Calculations'!O61,\"\")","v":""},{"$f":"IFERROR('Retirement Calculations'!P61,\"\")","v":""},{"$f":"IFERROR('Retirement Calculations'!Q61,\"\")","v":""}]
[null,null,{"$f":"IFERROR('Retirement Calculations'!A62,\"\")","v":""},{"$f":"IFERROR('Retirement Calculations'!B62,\"\")","v":""},{"$f":"IFERROR('Retirement Calculations'!C62,\"\")","v":""},{"$f":"IFERROR('Retirement Calculations'!D62,\"\")","v":""},{"$f":"IFERROR('Retirement Calculations'!E62,\"\")","v":""},{"$f":"IFERROR('Retirement Calculations'!G62,\"\")","v":""},{"$f":"IFERROR('Retirement Calculations'!H62,\"\")","v":""},{"$f":"IFERROR('Retirement Calculations'!I62,\"\")","v":""},{"$f":"IFERROR('Retirement Calculations'!J62,\"\")","v":""},{"$f":"IFERROR('Retirement Calculations'!L62,\"\")","v":""},{"$f":"IFERROR('Retirement Calculations'!M62,\"\")","v":""},{"$f":"IFERROR('Retirement Calculations'!O62,\"\")","v":""},{"$f":"IFERROR('Retirement Calculations'!P62,\"\")","v":""},{"$f":"IFERROR('Retirement Calculations'!Q62,\"\")","v":""}]
[null,null,{"$f":"IFERROR('Retirement Calculations'!A63,\"\")","v":""},{"$f":"IFERROR('Retirement Calculations'!B63,\"\")","v":""},{"$f":"IFERROR('Retirement Calculations'!C63,\"\")","v":""},{"$f":"IFERROR('Retirement Calculations'!D63,\"\")","v":""},{"$f":"IFERROR('Retirement Calculations'!E63,\"\")","v":""},{"$f":"IFERROR('Retirement Calculations'!G63,\"\")","v":""},{"$f":"IFERROR('Retirement Calculations'!H63,\"\")","v":""},{"$f":"IFERROR('Retirement Calculations'!I63,\"\")","v":""},{"$f":"IFERROR('Retirement Calculations'!J63,\"\")","v":""},{"$f":"IFERROR('Retirement Calculations'!L63,\"\")","v":""},{"$f":"IFERROR('Retirement Calculations'!M63,\"\")","v":""},{"$f":"IFERROR('Retirement Calculations'!O63,\"\")","v":""},{"$f":"IFERROR('Retirement Calculations'!P63,\"\")","v":""},{"$f":"IFERROR('Retirement Calculations'!Q63,\"\")","v":""}]
[null,null,{"$f":"IFERROR('Retirement Calculations'!A64,\"\")","v":""},{"$f":"IFERROR('Retirement Calculations'!B64,\"\")","v":""},{"$f":"IFERROR('Retirement Calculations'!C64,\"\")","v":""},{"$f":"IFERROR('Retirement Calculations'!D64,\"\")","v":""},{"$f":"IFERROR('Retirement Calculations'!E64,\"\")","v":""},{"$f":"IFERROR('Retirement Calculations'!G64,\"\")","v":""},{"$f":"IFERROR('Retirement Calculations'!H64,\"\")","v":""},{"$f":"IFERROR('Retirement Calculations'!I64,\"\")","v":""},{"$f":"IFERROR('Retirement Calculations'!J64,\"\")","v":""},{"$f":"IFERROR('Retirement Calculations'!L64,\"\")","v":""},{"$f":"IFERROR('Retirement Calculations'!M64,\"\")","v":""},{"$f":"IFERROR('Retirement Calculations'!O64,\"\")","v":""},{"$f":"IFERROR('Retirement Calculations'!P64,\"\")","v":""},{"$f":"IFERROR('Retirement Calculations'!Q64,\"\")","v":""}]
[null,null,{"$f":"IFERROR('Retirement Calculations'!A65,\"\")","v":""},{"$f":"IFERROR('Retirement Calculations'!B65,\"\")","v":""},{"$f":"IFERROR('Retirement Calculations'!C65,\"\")","v":""},{"$f":"IFERROR('Retirement Calculations'!D65,\"\")","v":""},{"$f":"IFERROR('Retirement Calculations'!E65,\"\")","v":""},{"$f":"IFERROR('Retirement Calculations'!G65,\"\")","v":""},{"$f":"IFERROR('Retirement Calculations'!H65,\"\")","v":""},{"$f":"IFERROR('Retirement Calculations'!I65,\"\")","v":""},{"$f":"IFERROR('Retirement Calculations'!J65,\"\")","v":""},{"$f":"IFERROR('Retirement Calculations'!L65,\"\")","v":""},{"$f":"IFERROR('Retirement Calculations'!M65,\"\")","v":""},{"$f":"IFERROR('Retirement Calculations'!O65,\"\")","v":""},{"$f":"IFERROR('Retirement Calculations'!P65,\"\")","v":""},{"$f":"IFERROR('Retirement Calculations'!Q65,\"\")","v":""}]
[null,null,{"$f":"IFERROR('Retirement Calculations'!A66,\"\")","v":""},{"$f":"IFERROR('Retirement Calculations'!B66,\"\")","v":""},{"$f":"IFERROR('Retirement Calculations'!C66,\"\")","v":""},{"$f":"IFERROR('Retirement Calculations'!D66,\"\")","v":""},{"$f":"IFERROR('Retirement Calculations'!E66,\"\")","v":""},{"$f":"IFERROR('Retirement Calculations'!G66,\"\")","v":""},{"$f":"IFERROR('Retirement Calculations'!H66,\"\")","v":""},{"$f":"IFERROR('Retirement Calculations'!I66,\"\")","v":""},{"$f":"IFERROR('Retirement Calculations'!J66,\"\")","v":""},{"$f":"IFERROR('Retirement Calculations'!L66,\"\")","v":""},{"$f":"IFERROR('Retirement Calculations'!M66,\"\")","v":""},{"$f":"IFERROR('Retirement Calculations'!O66,\"\")","v":""},{"$f":"IFERROR('Retirement Calculations'!P66,\"\")","v":""},{"$f":"IFERROR('Retirement Calculations'!Q66,\"\")","v":""}]
[null,null,{"$f":"IFERROR('Retirement Calculations'!A67,\"\")","v":""},{"$f":"IFERROR('Retirement Calculations'!B67,\"\")","v":""},{"$f":"IFERROR('Retirement Calculations'!C67,\"\")","v":""},{"$f":"IFERROR('Retirement Calculations'!D67,\"\")","v":""},{"$f":"IFERROR('Retirement Calculations'!E67,\"\")","v":""},{"$f":"IFERROR('Retirement Calculations'!G67,\"\")","v":""},{"$f":"IFERROR('Retirement Calculations'!H67,\"\")","v":""},{"$f":"IFERROR('Retirement Calculations'!I67,\"\")","v":""},{"$f":"IFERROR('Retirement Calculations'!J67,\"\")","v":""},{"$f":"IFERROR('Retirement Calculations'!L67,\"\")","v":""},{"$f":"IFERROR('Retirement Calculations'!M67,\"\")","v":""},{"$f":"IFERROR('Retirement Calculations'!O67,\"\")","v":""},{"$f":"IFERROR('Retirement Calculations'!P67,\"\")","v":""},{"$f":"IFERROR('Retirement Calculations'!Q67,\"\")","v":""}]
[null,null,{"$f":"IFERROR('Retirement Calculations'!A68,\"\")","v":""},{"$f":"IFERROR('Retirement Calculations'!B68,\"\")","v":""},{"$f":"IFERROR('Retirement Calculations'!C68,\"\")","v":""},{"$f":"IFERROR('Retirement Calculations'!D68,\"\")","v":""},{"$f":"IFERROR('Retirement Calculations'!E68,\"\")","v":""},{"$f":"IFERROR('Retirement Calculations'!G68,\"\")","v":""},{"$f":"IFERROR('Retirement Calculations'!H68,\"\")","v":""},{"$f":"IFERROR('Retirement Calculations'!I68,\"\")","v":""},{"$f":"IFERROR('Retirement Calculations'!J68,\"\")","v":""},{"$f":"IFERROR('Retirement Calculations'!L68,\"\")","v":""},{"$f":"IFERROR('Retirement Calculations'!M68,\"\")","v":""},{"$f":"IFERROR('Retirement Calculations'!O68,\"\")","v":""},{"$f":"IFERROR('Retirement Calculations'!P68,\"\")","v":""},{"$f":"IFERROR('Retirement Calculations'!Q68,\"\")","v":""}]
[null,null,{"$f":"IFERROR('Retirement Calculations'!A69,\"\")","v":""},{"$f":"IFERROR('Retirement Calculations'!B69,\"\")","v":""},{"$f":"IFERROR('Retirement Calculations'!C69,\"\")","v":""},{"$f":"IFERROR('Retirement Calculations'!D69,\"\")","v":""},{"$f":"IFERROR('Retirement Calculations'!E69,\"\")","v":""},{"$f":"IFERROR('Retirement Calculations'!G69,\"\")","v":""},{"$f":"IFERROR('Retirement Calculations'!H69,\"\")","v":""},{"$f":"IFERROR('Retirement Calculations'!I69,\"\")","v":""},{"$f":"IFERROR('Retirement Calculations'!J69,\"\")","v":""},{"$f":"IFERROR('Retirement Calculations'!L69,\"\")","v":""},{"$f":"IFERROR('Retirement Calculations'!M69,\"\")","v":""},{"$f":"IFERROR('Retirement Calculations'!O69,\"\")","v":""},{"$f":"IFERROR('Retirement Calculations'!P69,\"\")","v":""},{"$f":"IFERROR('Retirement Calculations'!Q69,\"\")","v":""}]
[null,null,{"$f":"IFERROR('Retirement Calculations'!A70,\"\")","v":""},{"$f":"IFERROR('Retirement Calculations'!B70,\"\")","v":""},{"$f":"IFERROR('Retirement Calculations'!C70,\"\")","v":""},{"$f":"IFERROR('Retirement Calculations'!D70,\"\")","v":""},{"$f":"IFERROR('Retirement Calculations'!E70,\"\")","v":""},{"$f":"IFERROR('Retirement Calculations'!G70,\"\")","v":""},{"$f":"IFERROR('Retirement Calculations'!H70,\"\")","v":""},{"$f":"IFERROR('Retirement Calculations'!I70,\"\")","v":""},{"$f":"IFERROR('Retirement Calculations'!J70,\"\")","v":""},{"$f":"IFERROR('Retirement Calculations'!L70,\"\")","v":""},{"$f":"IFERROR('Retirement Calculations'!M70,\"\")","v":""},{"$f":"IFERROR('Retirement Calculations'!O70,\"\")","v":""},{"$f":"IFERROR('Retirement Calculations'!P70,\"\")","v":""},{"$f":"IFERROR('Retirement Calculations'!Q70,\"\")","v":""}]
[null,null,{"$f":"IFERROR('Retirement Calculations'!A71,\"\")","v":""},{"$f":"IFERROR('Retirement Calculations'!B71,\"\")","v":""},{"$f":"IFERROR('Retirement Calculations'!C71,\"\")","v":""},{"$f":"IFERROR('Retirement Calculations'!D71,\"\")","v":""},{"$f":"IFERROR('Retirement Calculations'!E71,\"\")","v":""},{"$f":"IFERROR('Retirement Calculations'!G71,\"\")","v":""},{"$f":"IFERROR('Retirement Calculations'!H71,\"\")","v":""},{"$f":"IFERROR('Retirement Calculations'!I71,\"\")","v":""},{"$f":"IFERROR('Retirement Calculations'!J71,\"\")","v":""},{"$f":"IFERROR('Retirement Calculations'!L71,\"\")","v":""},{"$f":"IFERROR('Retirement Calculations'!M71,\"\")","v":""},{"$f":"IFERROR('Retirement Calculations'!O71,\"\")","v":""},{"$f":"IFERROR('Retirement Calculations'!P71,\"\")","v":""},{"$f":"IFERROR('Retirement Calculations'!Q71,\"\")","v":""}]
[null,null,{"$f":"IFERROR('Retirement Calculations'!A72,\"\")","v":""},{"$f":"IFERROR('Retirement Calculations'!B72,\"\")","v":""},{"$f":"IFERROR('Retirement Calculations'!C72,\"\")","v":""},{"$f":"IFERROR('Retirement Calculations'!D72,\"\")","v":""},{"$f":"IFERROR('Retirement Calculations'!E72,\"\")","v":""},{"$f":"IFERROR('Retirement Calculations'!G72,\"\")","v":""},{"$f":"IFERROR('Retirement Calculations'!H72,\"\")","v":""},{"$f":"IFERROR('Retirement Calculations'!I72,\"\")","v":""},{"$f":"IFERROR('Retirement Calculations'!J72,\"\")","v":""},{"$f":"IFERROR('Retirement Calculations'!L72,\"\")","v":""},{"$f":"IFERROR('Retirement Calculations'!M72,\"\")","v":""},{"$f":"IFERROR('Retirement Calculations'!O72,\"\")","v":""},{"$f":"IFERROR('Retirement Calculations'!P72,\"\")","v":""},{"$f":"IFERROR('Retirement Calculations'!Q72,\"\")","v":""}]
[null,null,{"$f":"IFERROR('Retirement Calculations'!A73,\"\")","v":""},{"$f":"IFERROR('Retirement Calculations'!B73,\"\")","v":""},{"$f":"IFERROR('Retirement Calculations'!C73,\"\")","v":""},{"$f":"IFERROR('Retirement Calculations'!D73,\"\")","v":""},{"$f":"IFERROR('Retirement Calculations'!E73,\"\")","v":""},{"$f":"IFERROR('Retirement Calculations'!G73,\"\")","v":""},{"$f":"IFERROR('Retirement Calculations'!H73,\"\")","v":""},{"$f":"IFERROR('Retirement Calculations'!I73,\"\")","v":""},{"$f":"IFERROR('Retirement Calculations'!J73,\"\")","v":""},{"$f":"IFERROR('Retirement Calculations'!L73,\"\")","v":""},{"$f":"IFERROR('Retirement Calculations'!M73,\"\")","v":""},{"$f":"IFERROR('Retirement Calculations'!O73,\"\")","v":""},{"$f":"IFERROR('Retirement Calculations'!P73,\"\")","v":""},{"$f":"IFERROR('Retirement Calculations'!Q73,\"\")","v":""}]
[null,null,{"$f":"IFERROR('Retirement Calculations'!A74,\"\")","v":""},{"$f":"IFERROR('Retirement Calculations'!B74,\"\")","v":""},{"$f":"IFERROR('Retirement Calculations'!C74,\"\")","v":""},{"$f":"IFERROR('Retirement Calculations'!D74,\"\")","v":""},{"$f":"IFERROR('Retirement Calculations'!E74,\"\")","v":""},{"$f":"IFERROR('Retirement Calculations'!G74,\"\")","v":""},{"$f":"IFERROR('Retirement Calculations'!H74,\"\")","v":""},{"$f":"IFERROR('Retirement Calculations'!I74,\"\")","v":""},{"$f":"IFERROR('Retirement Calculations'!J74,\"\")","v":""},{"$f":"IFERROR('Retirement Calculations'!L74,\"\")","v":""},{"$f":"IFERROR('Retirement Calculations'!M74,\"\")","v":""},{"$f":"IFERROR('Retirement Calculations'!O74,\"\")","v":""},{"$f":"IFERROR('Retirement Calculations'!P74,\"\")","v":""},{"$f":"IFERROR('Retirement Calculations'!Q74,\"\")","v":""}]
[null,null,{"$f":"IFERROR('Retirement Calculations'!A75,\"\")","v":""},{"$f":"IFERROR('Retirement Calculations'!B75,\"\")","v":""},{"$f":"IFERROR('Retirement Calculations'!C75,\"\")","v":""},{"$f":"IFERROR('Retirement Calculations'!D75,\"\")","v":""},{"$f":"IFERROR('Retirement Calculations'!E75,\"\")","v":""},{"$f":"IFERROR('Retirement Calculations'!G75,\"\")","v":""},{"$f":"IFERROR('Retirement Calculations'!H75,\"\")","v":""},{"$f":"IFERROR('Retirement Calculations'!I75,\"\")","v":""},{"$f":"IFERROR('Retirement Calculations'!J75,\"\")","v":""},{"$f":"IFERROR('Retirement Calculations'!L75,\"\")","v":""},{"$f":"IFERROR('Retirement Calculations'!M75,\"\")","v":""},{"$f":"IFERROR('Retirement Calculations'!O75,\"\")","v":""},{"$f":"IFERROR('Retirement Calculations'!P75,\"\")","v":""},{"$f":"IFERROR('Retirement Calculations'!Q75,\"\")","v":""}]
[null,null,{"$f":"IFERROR('Retirement Calculations'!A76,\"\")","v":""},{"$f":"IFERROR('Retirement Calculations'!B76,\"\")","v":""},{"$f":"IFERROR('Retirement Calculations'!C76,\"\")","v":""},{"$f":"IFERROR('Retirement Calculations'!D76,\"\")","v":""},{"$f":"IFERROR('Retirement Calculations'!E76,\"\")","v":""},{"$f":"IFERROR('Retirement Calculations'!G76,\"\")","v":""},{"$f":"IFERROR('Retirement Calculations'!H76,\"\")","v":""},{"$f":"IFERROR('Retirement Calculations'!I76,\"\")","v":""},{"$f":"IFERROR('Retirement Calculations'!J76,\"\")","v":""},{"$f":"IFERROR('Retirement Calculations'!L76,\"\")","v":""},{"$f":"IFERROR('Retirement Calculations'!M76,\"\")","v":""},{"$f":"IFERROR('Retirement Calculations'!O76,\"\")","v":""},{"$f":"IFERROR('Retirement Calculations'!P76,\"\")","v":""},{"$f":"IFERROR('Retirement Calculations'!Q76,\"\")","v":""}]
[null,null,{"$f":"IFERROR('Retirement Calculations'!A77,\"\")","v":""},{"$f":"IFERROR('Retirement Calculations'!B77,\"\")","v":""},{"$f":"IFERROR('Retirement Calculations'!C77,\"\")","v":""},{"$f":"IFERROR('Retirement Calculations'!D77,\"\")","v":""},{"$f":"IFERROR('Retirement Calculations'!E77,\"\")","v":""},{"$f":"IFERROR('Retirement Calculations'!G77,\"\")","v":""},{"$f":"IFERROR('Retirement Calculations'!H77,\"\")","v":""},{"$f":"IFERROR('Retirement Calculations'!I77,\"\")","v":""},{"$f":"IFERROR('Retirement Calculations'!J77,\"\")","v":""},{"$f":"IFERROR('Retirement Calculations'!L77,\"\")","v":""},{"$f":"IFERROR('Retirement Calculations'!M77,\"\")","v":""},{"$f":"IFERROR('Retirement Calculations'!O77,\"\")","v":""},{"$f":"IFERROR('Retirement Calculations'!P77,\"\")","v":""},{"$f":"IFERROR('Retirement Calculations'!Q77,\"\")","v":""}]
[null,null,{"$f":"IFERROR('Retirement Calculations'!A78,\"\")","v":""},{"$f":"IFERROR('Retirement Calculations'!B78,\"\")","v":""},{"$f":"IFERROR('Retirement Calculations'!C78,\"\")","v":""},{"$f":"IFERROR('Retirement Calculations'!D78,\"\")","v":""},{"$f":"IFERROR('Retirement Calculations'!E78,\"\")","v":""},{"$f":"IFERROR('Retirement Calculations'!G78,\"\")","v":""},{"$f":"IFERROR('Retirement Calculations'!H78,\"\")","v":""},{"$f":"IFERROR('Retirement Calculations'!I78,\"\")","v":""},{"$f":"IFERROR('Retirement Calculations'!J78,\"\")","v":""},{"$f":"IFERROR('Retirement Calculations'!L78,\"\")","v":""},{"$f":"IFERROR('Retirement Calculations'!M78,\"\")","v":""},{"$f":"IFERROR('Retirement Calculations'!O78,\"\")","v":""},{"$f":"IFERROR('Retirement Calculations'!P78,\"\")","v":""},{"$f":"IFERROR('Retirement Calculations'!Q78,\"\")","v":""}]
[null,null,{"$f":"IFERROR('Retirement Calculations'!A79,\"\")","v":""},{"$f":"IFERROR('Retirement Calculations'!B79,\"\")","v":""},{"$f":"IFERROR('Retirement Calculations'!C79,\"\")","v":""},{"$f":"IFERROR('Retirement Calculations'!D79,\"\")","v":""},{"$f":"IFERROR('Retirement Calculations'!E79,\"\")","v":""},{"$f":"IFERROR('Retirement Calculations'!G79,\"\")","v":""},{"$f":"IFERROR('Retirement Calculations'!H79,\"\")","v":""},{"$f":"IFERROR('Retirement Calculations'!I79,\"\")","v":""},{"$f":"IFERROR('Retirement Calculations'!J79,\"\")","v":""},{"$f":"IFERROR('Retirement Calculations'!L79,\"\")","v":""},{"$f":"IFERROR('Retirement Calculations'!M79,\"\")","v":""},{"$f":"IFERROR('Retirement Calculations'!O79,\"\")","v":""},{"$f":"IFERROR('Retirement Calculations'!P79,\"\")","v":""},{"$f":"IFERROR('Retirement Calculations'!Q79,\"\")","v":""}]
[null,null,{"$f":"IFERROR('Retirement Calculations'!A80,\"\")","v":""},{"$f":"IFERROR('Retirement Calculations'!B80,\"\")","v":""},{"$f":"IFERROR('Retirement Calculations'!C80,\"\")","v":""},{"$f":"IFERROR('Retirement Calculations'!D80,\"\")","v":""},{"$f":"IFERROR('Retirement Calculations'!E80,\"\")","v":""},{"$f":"IFERROR('Retirement Calculations'!G80,\"\")","v":""},{"$f":"IFERROR('Retirement Calculations'!H80,\"\")","v":""},{"$f":"IFERROR('Retirement Calculations'!I80,\"\")","v":""},{"$f":"IFERROR('Retirement Calculations'!J80,\"\")","v":""},{"$f":"IFERROR('Retirement Calculations'!L80,\"\")","v":""},{"$f":"IFERROR('Retirement Calculations'!M80,\"\")","v":""},{"$f":"IFERROR('Retirement Calculations'!O80,\"\")","v":""},{"$f":"IFERROR('Retirement Calculations'!P80,\"\")","v":""},{"$f":"IFERROR('Retirement Calculations'!Q80,\"\")","v":""}]
[null,null,{"$f":"IFERROR('Retirement Calculations'!A81,\"\")","v":""},{"$f":"IFERROR('Retirement Calculations'!B81,\"\")","v":""},{"$f":"IFERROR('Retirement Calculations'!C81,\"\")","v":""},{"$f":"IFERROR('Retirement Calculations'!D81,\"\")","v":""},{"$f":"IFERROR('Retirement Calculations'!E81,\"\")","v":""},{"$f":"IFERROR('Retirement Calculations'!G81,\"\")","v":""},{"$f":"IFERROR('Retirement Calculations'!H81,\"\")","v":""},{"$f":"IFERROR('Retirement Calculations'!I81,\"\")","v":""},{"$f":"IFERROR('Retirement Calculations'!J81,\"\")","v":""},{"$f":"IFERROR('Retirement Calculations'!L81,\"\")","v":""},{"$f":"IFERROR('Retirement Calculations'!M81,\"\")","v":""},{"$f":"IFERROR('Retirement Calculations'!O81,\"\")","v":""},{"$f":"IFERROR('Retirement Calculations'!P81,\"\")","v":""},{"$f":"IFERROR('Retirement Calculations'!Q81,\"\")","v":""}]
[null,null,{"$f":"IFERROR('Retirement Calculations'!A82,\"\")","v":""},{"$f":"IFERROR('Retirement Calculations'!B82,\"\")","v":""},{"$f":"IFERROR('Retirement Calculations'!C82,\"\")","v":""},{"$f":"IFERROR('Retirement Calculations'!D82,\"\")","v":""},{"$f":"IFERROR('Retirement Calculations'!E82,\"\")","v":""},{"$f":"IFERROR('Retirement Calculations'!G82,\"\")","v":""},{"$f":"IFERROR('Retirement Calculations'!H82,\"\")","v":""},{"$f":"IFERROR('Retirement Calculations'!I82,\"\")","v":""},{"$f":"IFERROR('Retirement Calculations'!J82,\"\")","v":""},{"$f":"IFERROR('Retirement Calculations'!L82,\"\")","v":""},{"$f":"IFERROR('Retirement Calculations'!M82,\"\")","v":""},{"$f":"IFERROR('Retirement Calculations'!O82,\"\")","v":""},{"$f":"IFERROR('Retirement Calculations'!P82,\"\")","v":""},{"$f":"IFERROR('Retirement Calculations'!Q82,\"\")","v":""}]
[null,null,{"$f":"IFERROR('Retirement Calculations'!A83,\"\")","v":""},{"$f":"IFERROR('Retirement Calculations'!B83,\"\")","v":""},{"$f":"IFERROR('Retirement Calculations'!C83,\"\")","v":""},{"$f":"IFERROR('Retirement Calculations'!D83,\"\")","v":""},{"$f":"IFERROR('Retirement Calculations'!E83,\"\")","v":""},{"$f":"IFERROR('Retirement Calculations'!G83,\"\")","v":""},{"$f":"IFERROR('Retirement Calculations'!H83,\"\")","v":""},{"$f":"IFERROR('Retirement Calculations'!I83,\"\")","v":""},{"$f":"IFERROR('Retirement Calculations'!J83,\"\")","v":""},{"$f":"IFERROR('Retirement Calculations'!L83,\"\")","v":""},{"$f":"IFERROR('Retirement Calculations'!M83,\"\")","v":""},{"$f":"IFERROR('Retirement Calculations'!O83,\"\")","v":""},{"$f":"IFERROR('Retirement Calculations'!P83,\"\")","v":""},{"$f":"IFERROR('Retirement Calculations'!Q83,\"\")","v":""}]
[null,null,{"$f":"IFERROR('Retirement Calculations'!A84,\"\")","v":""},{"$f":"IFERROR('Retirement Calculations'!B84,\"\")","v":""},{"$f":"IFERROR('Retirement Calculations'!C84,\"\")","v":""},{"$f":"IFERROR('Retirement Calculations'!D84,\"\")","v":""},{"$f":"IFERROR('Retirement Calculations'!E84,\"\")","v":""},{"$f":"IFERROR('Retirement Calculations'!G84,\"\")","v":""},{"$f":"IFERROR('Retirement Calculations'!H84,\"\")","v":""},{"$f":"IFERROR('Retirement Calculations'!I84,\"\")","v":""},{"$f":"IFERROR('Retirement Calculations'!J84,\"\")","v":""},{"$f":"IFERROR('Retirement Calculations'!L84,\"\")","v":""},{"$f":"IFERROR('Retirement Calculations'!M84,\"\")","v":""},{"$f":"IFERROR('Retirement Calculations'!O84,\"\")","v":""},{"$f":"IFERROR('Retirement Calculations'!P84,\"\")","v":""},{"$f":"IFERROR('Retirement Calculations'!Q84,\"\")","v":""}]
[null,null,{"$f":"IFERROR('Retirement Calculations'!A85,\"\")","v":""},{"$f":"IFERROR('Retirement Calculations'!B85,\"\")","v":""},{"$f":"IFERROR('Retirement Calculations'!C85,\"\")","v":""},{"$f":"IFERROR('Retirement Calculations'!D85,\"\")","v":""},{"$f":"IFERROR('Retirement Calculations'!E85,\"\")","v":""},{"$f":"IFERROR('Retirement Calculations'!G85,\"\")","v":""},{"$f":"IFERROR('Retirement Calculations'!H85,\"\")","v":""},{"$f":"IFERROR('Retirement Calculations'!I85,\"\")","v":""},{"$f":"IFERROR('Retirement Calculations'!J85,\"\")","v":""},{"$f":"IFERROR('Retirement Calculations'!L85,\"\")","v":""},{"$f":"IFERROR('Retirement Calculations'!M85,\"\")","v":""},{"$f":"IFERROR('Retirement Calculations'!O85,\"\")","v":""},{"$f":"IFERROR('Retirement Calculations'!P85,\"\")","v":""},{"$f":"IFERROR('Retirement Calculations'!Q85,\"\")","v":""}]
[null,null,{"$f":"IFERROR('Retirement Calculations'!A86,\"\")","v":""},{"$f":"IFERROR('Retirement Calculations'!B86,\"\")","v":""},{"$f":"IFERROR('Retirement Calculations'!C86,\"\")","v":""},{"$f":"IFERROR('Retirement Calculations'!D86,\"\")","v":""},{"$f":"IFERROR('Retirement Calculations'!E86,\"\")","v":""},{"$f":"IFERROR('Retirement Calculations'!G86,\"\")","v":""},{"$f":"IFERROR('Retirement Calculations'!H86,\"\")","v":""},{"$f":"IFERROR('Retirement Calculations'!I86,\"\")","v":""},{"$f":"IFERROR('Retirement Calculations'!J86,\"\")","v":""},{"$f":"IFERROR('Retirement Calculations'!L86,\"\")","v":""},{"$f":"IFERROR('Retirement Calculations'!M86,\"\")","v":""},{"$f":"IFERROR('Retirement Calculations'!O86,\"\")","v":""},{"$f":"IFERROR('Retirement Calculations'!P86,\"\")","v":""},{"$f":"IFERROR('Retirement Calculations'!Q86,\"\")","v":""}]
[null,null,{"$f":"IFERROR('Retirement Calculations'!A87,\"\")","v":""},{"$f":"IFERROR('Retirement Calculations'!B87,\"\")","v":""},{"$f":"IFERROR('Retirement Calculations'!C87,\"\")","v":""},{"$f":"IFERROR('Retirement Calculations'!D87,\"\")","v":""},{"$f":"IFERROR('Retirement Calculations'!E87,\"\")","v":""},{"$f":"IFERROR('Retirement Calculations'!G87,\"\")","v":""},{"$f":"IFERROR('Retirement Calculations'!H87,\"\")","v":""},{"$f":"IFERROR('Retirement Calculations'!I87,\"\")","v":""},{"$f":"IFERROR('Retirement Calculations'!J87,\"\")","v":""},{"$f":"IFERROR('Retirement Calculations'!L87,\"\")","v":""},{"$f":"IFERROR('Retirement Calculations'!M87,\"\")","v":""},{"$f":"IFERROR('Retirement Calculations'!O87,\"\")","v":""},{"$f":"IFERROR('Retirement Calculations'!P87,\"\")","v":""},{"$f":"IFERROR('Retirement Calculations'!Q87,\"\")","v":""}]
[null,null,{"$f":"IFERROR('Retirement Calculations'!A88,\"\")","v":""},{"$f":"IFERROR('Retirement Calculations'!B88,\"\")","v":""},{"$f":"IFERROR('Retirement Calculations'!C88,\"\")","v":""},{"$f":"IFERROR('Retirement Calculations'!D88,\"\")","v":""},{"$f":"IFERROR('Retirement Calculations'!E88,\"\")","v":""},{"$f":"IFERROR('Retirement Calculations'!G88,\"\")","v":""},{"$f":"IFERROR('Retirement Calculations'!H88,\"\")","v":""},{"$f":"IFERROR('Retirement Calculations'!I88,\"\")","v":""},{"$f":"IFERROR('Retirement Calculations'!J88,\"\")","v":""},{"$f":"IFERROR('Retirement Calculations'!L88,\"\")","v":""},{"$f":"IFERROR('Retirement Calculations'!M88,\"\")","v":""},{"$f":"IFERROR('Retirement Calculations'!O88,\"\")","v":""},{"$f":"IFERROR('Retirement Calculations'!P88,\"\")","v":""},{"$f":"IFERROR('Retirement Calculations'!Q88,\"\")","v":""}]
[null,null,{"$f":"IFERROR('Retirement Calculations'!A89,\"\")","v":""},{"$f":"IFERROR('Retirement Calculations'!B89,\"\")","v":""},{"$f":"IFERROR('Retirement Calculations'!C89,\"\")","v":""},{"$f":"IFERROR('Retirement Calculations'!D89,\"\")","v":""},{"$f":"IFERROR('Retirement Calculations'!E89,\"\")","v":""},{"$f":"IFERROR('Retirement Calculations'!G89,\"\")","v":""},{"$f":"IFERROR('Retirement Calculations'!H89,\"\")","v":""},{"$f":"IFERROR('Retirement Calculations'!I89,\"\")","v":""},{"$f":"IFERROR('Retirement Calculations'!J89,\"\")","v":""},{"$f":"IFERROR('Retirement Calculations'!L89,\"\")","v":""},{"$f":"IFERROR('Retirement Calculations'!M89,\"\")","v":""},{"$f":"IFERROR('Retirement Calculations'!O89,\"\")","v":""},{"$f":"IFERROR('Retirement Calculations'!P89,\"\")","v":""},{"$f":"IFERROR('Retirement Calculations'!Q89,\"\")","v":""}]
[null,null,{"$f":"IFERROR('Retirement Calculations'!A90,\"\")","v":""},{"$f":"IFERROR('Retirement Calculations'!B90,\"\")","v":""},{"$f":"IFERROR('Retirement Calculations'!C90,\"\")","v":""},{"$f":"IFERROR('Retirement Calculations'!D90,\"\")","v":""},{"$f":"IFERROR('Retirement Calculations'!E90,\"\")","v":""},{"$f":"IFERROR('Retirement Calculations'!G90,\"\")","v":""},{"$f":"IFERROR('Retirement Calculations'!H90,\"\")","v":""},{"$f":"IFERROR('Retirement Calculations'!I90,\"\")","v":""},{"$f":"IFERROR('Retirement Calculations'!J90,\"\")","v":""},{"$f":"IFERROR('Retirement Calculations'!L90,\"\")","v":""},{"$f":"IFERROR('Retirement Calculations'!M90,\"\")","v":""},{"$f":"IFERROR('Retirement Calculations'!O90,\"\")","v":""},{"$f":"IFERROR('Retirement Calculations'!P90,\"\")","v":""},{"$f":"IFERROR('Retirement Calculations'!Q90,\"\")","v":""}]
[null,null,{"$f":"IFERROR('Retirement Calculations'!A91,\"\")","v":""},{"$f":"IFERROR('Retirement Calculations'!B91,\"\")","v":""},{"$f":"IFERROR('Retirement Calculations'!C91,\"\")","v":""},{"$f":"IFERROR('Retirement Calculations'!D91,\"\")","v":""},{"$f":"IFERROR('Retirement Calculations'!E91,\"\")","v":""},{"$f":"IFERROR('Retirement Calculations'!G91,\"\")","v":""},{"$f":"IFERROR('Retirement Calculations'!H91,\"\")","v":""},{"$f":"IFERROR('Retirement Calculations'!I91,\"\")","v":""},{"$f":"IFERROR('Retirement Calculations'!J91,\"\")","v":""},{"$f":"IFERROR('Retirement Calculations'!L91,\"\")","v":""},{"$f":"IFERROR('Retirement Calculations'!M91,\"\")","v":""},{"$f":"IFERROR('Retirement Calculations'!O91,\"\")","v":""},{"$f":"IFERROR('Retirement Calculations'!P91,\"\")","v":""},{"$f":"IFERROR('Retirement Calculations'!Q91,\"\")","v":""}]
[null,null,{"$f":"IFERROR('Retirement Calculations'!A92,\"\")","v":""},{"$f":"IFERROR('Retirement Calculations'!B92,\"\")","v":""},{"$f":"IFERROR('Retirement Calculations'!C92,\"\")","v":""},{"$f":"IFERROR('Retirement Calculations'!D92,\"\")","v":""},{"$f":"IFERROR('Retirement Calculations'!E92,\"\")","v":""},{"$f":"IFERROR('Retirement Calculations'!G92,\"\")","v":""},{"$f":"IFERROR('Retirement Calculations'!H92,\"\")","v":""},{"$f":"IFERROR('Retirement Calculations'!I92,\"\")","v":""},{"$f":"IFERROR('Retirement Calculations'!J92,\"\")","v":""},{"$f":"IFERROR('Retirement Calculations'!L92,\"\")","v":""},{"$f":"IFERROR('Retirement Calculations'!M92,\"\")","v":""},{"$f":"IFERROR('Retirement Calculations'!O92,\"\")","v":""},{"$f":"IFERROR('Retirement Calculations'!P92,\"\")","v":""},{"$f":"IFERROR('Retirement Calculations'!Q92,\"\")","v":""}]
[null,null,{"$f":"IFERROR('Retirement Calculations'!A93,\"\")","v":""},{"$f":"IFERROR('Retirement Calculations'!B93,\"\")","v":""},{"$f":"IFERROR('Retirement Calculations'!C93,\"\")","v":""},{"$f":"IFERROR('Retirement Calculations'!D93,\"\")","v":""},{"$f":"IFERROR('Retirement Calculations'!E93,\"\")","v":""},{"$f":"IFERROR('Retirement Calculations'!G93,\"\")","v":""},{"$f":"IFERROR('Retirement Calculations'!H93,\"\")","v":""},{"$f":"IFERROR('Retirement Calculations'!I93,\"\")","v":""},{"$f":"IFERROR('Retirement Calculations'!J93,\"\")","v":""},{"$f":"IFERROR('Retirement Calculations'!L93,\"\")","v":""},{"$f":"IFERROR('Retirement Calculations'!M93,\"\")","v":""},{"$f":"IFERROR('Retirement Calculations'!O93,\"\")","v":""},{"$f":"IFERROR('Retirement Calculations'!P93,\"\")","v":""},{"$f":"IFERROR('Retirement Calculations'!Q93,\"\")","v":""}]
[null,null,{"$f":"IFERROR('Retirement Calculations'!A94,\"\")","v":""},{"$f":"IFERROR('Retirement Calculations'!B94,\"\")","v":""},{"$f":"IFERROR('Retirement Calculations'!C94,\"\")","v":""},{"$f":"IFERROR('Retirement Calculations'!D94,\"\")","v":""},{"$f":"IFERROR('Retirement Calculations'!E94,\"\")","v":""},{"$f":"IFERROR('Retirement Calculations'!G94,\"\")","v":""},{"$f":"IFERROR('Retirement Calculations'!H94,\"\")","v":""},{"$f":"IFERROR('Retirement Calculations'!I94,\"\")","v":""},{"$f":"IFERROR('Retirement Calculations'!J94,\"\")","v":""},{"$f":"IFERROR('Retirement Calculations'!L94,\"\")","v":""},{"$f":"IFERROR('Retirement Calculations'!M94,\"\")","v":""},{"$f":"IFERROR('Retirement Calculations'!O94,\"\")","v":""},{"$f":"IFERROR('Retirement Calculations'!P94,\"\")","v":""},{"$f":"IFERROR('Retirement Calculations'!Q94,\"\")","v":""}]
[null,null,{"$f":"IFERROR('Retirement Calculations'!A95,\"\")","v":""},{"$f":"IFERROR('Retirement Calculations'!B95,\"\")","v":""},{"$f":"IFERROR('Retirement Calculations'!C95,\"\")","v":""},{"$f":"IFERROR('Retirement Calculations'!D95,\"\")","v":""},{"$f":"IFERROR('Retirement Calculations'!E95,\"\")","v":""},{"$f":"IFERROR('Retirement Calculations'!G95,\"\")","v":""},{"$f":"IFERROR('Retirement Calculations'!H95,\"\")","v":""},{"$f":"IFERROR('Retirement Calculations'!I95,\"\")","v":""},{"$f":"IFERROR('Retirement Calculations'!J95,\"\")","v":""},{"$f":"IFERROR('Retirement Calculations'!L95,\"\")","v":""},{"$f":"IFERROR('Retirement Calculations'!M95,\"\")","v":""},{"$f":"IFERROR('Retirement Calculations'!O95,\"\")","v":""},{"$f":"IFERROR('Retirement Calculations'!P95,\"\")","v":""},{"$f":"IFERROR('Retirement Calculations'!Q95,\"\")","v":""}]
[null,null,{"$f":"IFERROR('Retirement Calculations'!A96,\"\")","v":""},{"$f":"IFERROR('Retirement Calculations'!B96,\"\")","v":""},{"$f":"IFERROR('Retirement Calculations'!C96,\"\")","v":""},{"$f":"IFERROR('Retirement Calculations'!D96,\"\")","v":""},{"$f":"IFERROR('Retirement Calculations'!E96,\"\")","v":""},{"$f":"IFERROR('Retirement Calculations'!G96,\"\")","v":""},{"$f":"IFERROR('Retirement Calculations'!H96,\"\")","v":""},{"$f":"IFERROR('Retirement Calculations'!I96,\"\")","v":""},{"$f":"IFERROR('Retirement Calculations'!J96,\"\")","v":""},{"$f":"IFERROR('Retirement Calculations'!L96,\"\")","v":""},{"$f":"IFERROR('Retirement Calculations'!M96,\"\")","v":""},{"$f":"IFERROR('Retirement Calculations'!O96,\"\")","v":""},{"$f":"IFERROR('Retirement Calculations'!P96,\"\")","v":""},{"$f":"IFERROR('Retirement Calculations'!Q96,\"\")","v":""}]
[null,null,{"$f":"IFERROR('Retirement Calculations'!A97,\"\")","v":""},{"$f":"IFERROR('Retirement Calculations'!B97,\"\")","v":""},{"$f":"IFERROR('Retirement Calculations'!C97,\"\")","v":""},{"$f":"IFERROR('Retirement Calculations'!D97,\"\")","v":""},{"$f":"IFERROR('Retirement Calculations'!E97,\"\")","v":""},{"$f":"IFERROR('Retirement Calculations'!G97,\"\")","v":""},{"$f":"IFERROR('Retirement Calculations'!H97,\"\")","v":""},{"$f":"IFERROR('Retirement Calculations'!I97,\"\")","v":""},{"$f":"IFERROR('Retirement Calculations'!J97,\"\")","v":""},{"$f":"IFERROR('Retirement Calculations'!L97,\"\")","v":""},{"$f":"IFERROR('Retirement Calculations'!M97,\"\")","v":""},{"$f":"IFERROR('Retirement Calculations'!O97,\"\")","v":""},{"$f":"IFERROR('Retirement Calculations'!P97,\"\")","v":""},{"$f":"IFERROR('Retirement Calculations'!Q97,\"\")","v":""}]
[null,null,{"$f":"IFERROR('Retirement Calculations'!A98,\"\")","v":""},{"$f":"IFERROR('Retirement Calculations'!B98,\"\")","v":""},{"$f":"IFERROR('Retirement Calculations'!C98,\"\")","v":""},{"$f":"IFERROR('Retirement Calculations'!D98,\"\")","v":""},{"$f":"IFERROR('Retirement Calculations'!E98,\"\")","v":""},{"$f":"IFERROR('Retirement Calculations'!G98,\"\")","v":""},{"$f":"IFERROR('Retirement Calculations'!H98,\"\")","v":""},{"$f":"IFERROR('Retirement Calculations'!I98,\"\")","v":""},{"$f":"IFERROR('Retirement Calculations'!J98,\"\")","v":""},{"$f":"IFERROR('Retirement Calculations'!L98,\"\")","v":""},{"$f":"IFERROR('Retirement Calculations'!M98,\"\")","v":""},{"$f":"IFERROR('Retirement Calculations'!O98,\"\")","v":""},{"$f":"IFERROR('Retirement Calculations'!P98,\"\")","v":""},{"$f":"IFERROR('Retirement Calculations'!Q98,\"\")","v":""}]
[null,null,{"$f":"IFERROR('Retirement Calculations'!A99,\"\")","v":""},{"$f":"IFERROR('Retirement Calculations'!B99,\"\")","v":""},{"$f":"IFERROR('Retirement Calculations'!C99,\"\")","v":""},{"$f":"IFERROR('Retirement Calculations'!D99,\"\")","v":""},{"$f":"IFERROR('Retirement Calculations'!E99,\"\")","v":""},{"$f":"IFERROR('Retirement Calculations'!G99,\"\")","v":""},{"$f":"IFERROR('Retirement Calculations'!H99,\"\")","v":""},{"$f":"IFERROR('Retirement Calculations'!I99,\"\")","v":""},{"$f":"IFERROR('Retirement Calculations'!J99,\"\")","v":""},{"$f":"IFERROR('Retirement Calculations'!L99,\"\")","v":""},{"$f":"IFERROR('Retirement Calculations'!M99,\"\")","v":""},{"$f":"IFERROR('Retirement Calculations'!O99,\"\")","v":""},{"$f":"IFERROR('Retirement Calculations'!P99,\"\")","v":""},{"$f":"IFERROR('Retirement Calculations'!Q99,\"\")","v":""}]
[null,null,{"$f":"IFERROR('Retirement Calculations'!A100,\"\")","v":""},{"$f":"IFERROR('Retirement Calculations'!B100,\"\")","v":""},{"$f":"IFERROR('Retirement Calculations'!C100,\"\")","v":""},{"$f":"IFERROR('Retirement Calculations'!D100,\"\")","v":""},{"$f":"IFERROR('Retirement Calculations'!E100,\"\")","v":""},{"$f":"IFERROR('Retirement Calculations'!G100,\"\")","v":""},{"$f":"IFERROR('Retirement Calculations'!H100,\"\")","v":""},{"$f":"IFERROR('Retirement Calculations'!I100,\"\")","v":""},{"$f":"IFERROR('Retirement Calculations'!J100,\"\")","v":""},{"$f":"IFERROR('Retirement Calculations'!L100,\"\")","v":""},{"$f":"IFERROR('Retirement Calculations'!M100,\"\")","v":""},{"$f":"IFERROR('Retirement Calculations'!O100,\"\")","v":""},{"$f":"IFERROR('Retirement Calculations'!P100,\"\")","v":""},{"$f":"IFERROR('Retirement Calculations'!Q100,\"\")","v":""}]
[null,null,{"$f":"IFERROR('Retirement Calculations'!A101,\"\")","v":""},{"$f":"IFERROR('Retirement Calculations'!B101,\"\")","v":""},{"$f":"IFERROR('Retirement Calculations'!C101,\"\")","v":""},{"$f":"IFERROR('Retirement Calculations'!D101,\"\")","v":""},{"$f":"IFERROR('Retirement Calculations'!E101,\"\")","v":""},{"$f":"IFERROR('Retirement Calculations'!G101,\"\")","v":""},{"$f":"IFERROR('Retirement Calculations'!H101,\"\")","v":""},{"$f":"IFERROR('Retirement Calculations'!I101,\"\")","v":""},{"$f":"IFERROR('Retirement Calculations'!J101,\"\")","v":""},{"$f":"IFERROR('Retirement Calculations'!L101,\"\")","v":""},{"$f":"IFERROR('Retirement Calculations'!M101,\"\")","v":""},{"$f":"IFERROR('Retirement Calculations'!O101,\"\")","v":""},{"$f":"IFERROR('Retirement Calculations'!P101,\"\")","v":""},{"$f":"IFERROR('Retirement Calculations'!Q101,\"\")","v":""}]
[null,null,{"$f":"IFERROR('Retirement Calculations'!A102,\"\")","v":""},{"$f":"IFERROR('Retirement Calculations'!B102,\"\")","v":""},{"$f":"IFERROR('Retirement Calculations'!C102,\"\")","v":""},{"$f":"IFERROR('Retirement Calculations'!D102,\"\")","v":""},{"$f":"IFERROR('Retirement Calculations'!E102,\"\")","v":""},{"$f":"IFERROR('Retirement Calculations'!G102,\"\")","v":""},{"$f":"IFERROR('Retirement Calculations'!H102,\"\")","v":""},{"$f":"IFERROR('Retirement Calculations'!I102,\"\")","v":""},{"$f":"IFERROR('Retirement Calculations'!J102,\"\")","v":""},{"$f":"IFERROR('Retirement Calculations'!L102,\"\")","v":""},{"$f":"IFERROR('Retirement Calculations'!M102,\"\")","v":""},{"$f":"IFERROR('Retirement Calculations'!O102,\"\")","v":""},{"$f":"IFERROR('Retirement Calculations'!P102,\"\")","v":""},{"$f":"IFERROR('Retirement Calculations'!Q102,\"\")","v":""}]
[null,null,{"$f":"IFERROR('Retirement Calculations'!A103,\"\")","v":""},{"$f":"IFERROR('Retirement Calculations'!B103,\"\")","v":""},{"$f":"IFERROR('Retirement Calculations'!C103,\"\")","v":""},{"$f":"IFERROR('Retirement Calculations'!D103,\"\")","v":""},{"$f":"IFERROR('Retirement Calculations'!E103,\"\")","v":""},{"$f":"IFERROR('Retirement Calculations'!G103,\"\")","v":""},{"$f":"IFERROR('Retirement Calculations'!H103,\"\")","v":""},{"$f":"IFERROR('Retirement Calculations'!I103,\"\")","v":""},{"$f":"IFERROR('Retirement Calculations'!J103,\"\")","v":""},{"$f":"IFERROR('Retirement Calculations'!L103,\"\")","v":""},{"$f":"IFERROR('Retirement Calculations'!M103,\"\")","v":""},{"$f":"IFERROR('Retirement Calculations'!O103,\"\")","v":""},{"$f":"IFERROR('Retirement Calculations'!P103,\"\")","v":""},{"$f":"IFERROR('Retirement Calculations'!Q103,\"\")","v":""}]
[null,null,{"$f":"IFERROR('Retirement Calculations'!A104,\"\")","v":""},{"$f":"IFERROR('Retirement Calculations'!B104,\"\")","v":""},{"$f":"IFERROR('Retirement Calculations'!C104,\"\")","v":""},{"$f":"IFERROR('Retirement Calculations'!D104,\"\")","v":""},{"$f":"IFERROR('Retirement Calculations'!E104,\"\")","v":""},{"$f":"IFERROR('Retirement Calculations'!G104,\"\")","v":""},{"$f":"IFERROR('Retirement Calculations'!H104,\"\")","v":""},{"$f":"IFERROR('Retirement Calculations'!I104,\"\")","v":""},{"$f":"IFERROR('Retirement Calculations'!J104,\"\")","v":""},{"$f":"IFERROR('Retirement Calculations'!L104,\"\")","v":""},{"$f":"IFERROR('Retirement Calculations'!M104,\"\")","v":""},{"$f":"IFERROR('Retirement Calculations'!O104,\"\")","v":""},{"$f":"IFERROR('Retirement Calculations'!P104,\"\")","v":""},{"$f":"IFERROR('Retirement Calculations'!Q104,\"\")","v":""}]
[null,null,{"$f":"IFERROR('Retirement Calculations'!A105,\"\")","v":""},{"$f":"IFERROR('Retirement Calculations'!B105,\"\")","v":""},{"$f":"IFERROR('Retirement Calculations'!C105,\"\")","v":""},{"$f":"IFERROR('Retirement Calculations'!D105,\"\")","v":""},{"$f":"IFERROR('Retirement Calculations'!E105,\"\")","v":""},{"$f":"IFERROR('Retirement Calculations'!G105,\"\")","v":""},{"$f":"IFERROR('Retirement Calculations'!H105,\"\")","v":""},{"$f":"IFERROR('Retirement Calculations'!I105,\"\")","v":""},{"$f":"IFERROR('Retirement Calculations'!J105,\"\")","v":""},{"$f":"IFERROR('Retirement Calculations'!L105,\"\")","v":""},{"$f":"IFERROR('Retirement Calculations'!M105,\"\")","v":""},{"$f":"IFERROR('Retirement Calculations'!O105,\"\")","v":""},{"$f":"IFERROR('Retirement Calculations'!P105,\"\")","v":""},{"$f":"IFERROR('Retirement Calculations'!Q105,\"\")","v":""}]
[null,null,{"$f":"IFERROR('Retirement Calculations'!A106,\"\")","v":""},{"$f":"IFERROR('Retirement Calculations'!B106,\"\")","v":""},{"$f":"IFERROR('Retirement Calculations'!C106,\"\")","v":""},{"$f":"IFERROR('Retirement Calculations'!D106,\"\")","v":""},{"$f":"IFERROR('Retirement Calculations'!E106,\"\")","v":""},{"$f":"IFERROR('Retirement Calculations'!G106,\"\")","v":""},{"$f":"IFERROR('Retirement Calculations'!H106,\"\")","v":""},{"$f":"IFERROR('Retirement Calculations'!I106,\"\")","v":""},{"$f":"IFERROR('Retirement Calculations'!J106,\"\")","v":""},{"$f":"IFERROR('Retirement Calculations'!L106,\"\")","v":""},{"$f":"IFERROR('Retirement Calculations'!M106,\"\")","v":""},{"$f":"IFERROR('Retirement Calculations'!O106,\"\")","v":""},{"$f":"IFERROR('Retirement Calculations'!P106,\"\")","v":""},{"$f":"IFERROR('Retirement Calculations'!Q106,\"\")","v":""}]
[null,null,{"$f":"IFERROR('Retirement Calculations'!A107,\"\")","v":""},{"$f":"IFERROR('Retirement Calculations'!B107,\"\")","v":""},{"$f":"IFERROR('Retirement Calculations'!C107,\"\")","v":""},{"$f":"IFERROR('Retirement Calculations'!D107,\"\")","v":""},{"$f":"IFERROR('Retirement Calculations'!E107,\"\")","v":""},{"$f":"IFERROR('Retirement Calculations'!G107,\"\")","v":""},{"$f":"IFERROR('Retirement Calculations'!H107,\"\")","v":""},{"$f":"IFERROR('Retirement Calculations'!I107,\"\")","v":""},{"$f":"IFERROR('Retirement Calculations'!J107,\"\")","v":""},{"$f":"IFERROR('Retirement Calculations'!L107,\"\")","v":""},{"$f":"IFERROR('Retirement Calculations'!M107,\"\")","v":""},{"$f":"IFERROR('Retirement Calculations'!O107,\"\")","v":""},{"$f":"IFERROR('Retirement Calculations'!P107,\"\")","v":""},{"$f":"IFERROR('Retirement Calculations'!Q107,\"\")","v":""}]
[]
[]
[null,null,"Row Labels","Sum of Savings Balance","Sum of Annual Income"]
[null,null,65,2000000,150000]
[null,null,66,2029000,152340]
[null,null,67,2057687.9,154673.27399999998]
[null,null,68,2085985.1086899997,156995.34652139997]
[null,null,69,2113805.5954047586,159301.30052428553]
[null,null,70,2141055.2654800843,161585.74002480507]
[null,null,71,2167631.2845242792,163842.74964937675]
[null,null,72,2193421.3474532333,166065.8508766724]
[null,null,73,2218302.8878008062,168247.95469811634]
[null,null,74,2242142.22245195,170381.31040578632]
[null,null,75,2264793.6265523112,172457.4501929814]
[null,null,76,2286098.3329224018,174467.12922718367]
[null,null,77,2305883.4498442411,176400.26082753082]
[null,null,78,2323960.7905908781,178245.84634906659]
[null,null,79,2340125.6075313524,179991.89934376732]
[null,null,80,2354155.2230621707,181625.36353345413]
[null,null,81,2365807.5489877383,183132.02409198269]
[null,null,82,2374819.4852925744,184496.41169332722]
[null,null,83,2380905.1885133712,185701.69873809046]
[null,null,84,2383754.1991246459,186729.5871233127]
[null,null,85,2383029.416492952,187560.18686892776]
[null,null,86,2378364.9090262135,188171.88485851046]
[null,null,87,2369363.5461410363,188541.20289173859]
[null,null,88,2355594.4375857268,188642.64418088557]
[null,null,89,2336590.1644836348,188448.52735327487]
[null,null,90,2311843.7851931574,187928.80694553137]
[null,null,"Grand Total",58764121.323149525,4535974.4509200081]

{"sheet":"Retirement Calculations","index":1,"n_rows":107,"n_cols":17,"rows_kept":107,"cut":false,"hidden":false,"merged":[[0,1,0,4],[0,11,0,12],[0,6,0,9]]}
[null,"Investments",null,null,null,null,"Annual Income",null,null,null,null,"Taxes"]
["Age","Savings","Investment Fees","Return on Investments","Net Investments",null,"Annual Withdrawal","Pension","SSA","Total Income",null,"Federal Income Taxes","State Income Taxes",null,"Income-Taxes","Annual Expenses","Net Income"]
[{"$f":"'Retirement Worksheet'!B6","v":65},{"$f":"'Retirement Worksheet'!B7","v":2000000},{"$f":"B3*'Retirement Worksheet'!$B$11","v":5000},{"$f":"B3*'Retirement Worksheet'!$B$16","v":100000},{"$f":"B3-C3+D3","v":2095000},null,{"$f":"B3*'Retirement Worksheet'!$B$8","v":120000},{"$f":"'Retirement Worksheet'!$B$13","v":30000},{"$f":"'Retirement Worksheet'!B12","v":0},{"$f":"SUM(G3:I3)","v":150000},null,{"$f":"SUM('Retirement Calculations'!G3:I3)*'Retirement Worksheet'!$B$9","v":57000},{"$f":"SUM(G3:I3)*'Retirement Worksheet'!$B$10","v":9000},null,{"$f":"SUM(G3:I3)-SUM(L3:M3)","v":84000},{"$f":"'Retirement Worksheet'!$B$14","v":150000},{"$f":"O3-P3","v":-66000}]
[{"$f":"IF(A3<'Retirement Worksheet'!$B$5,A3+1,NA())","v":66},{"$f":"IF(ISERROR(A4),NA(),E3+Q3)","v":2029000},{"$f":"B4*'Retirement Worksheet'!$B$11","v":5072.5},{"$f":"B4*'Retirement Worksheet'!$B$16","v":101450},{"$f":"B4-C4+D4","v":2125377.5},null,{"$f":"B4*'Retirement Worksheet'!$B$8","v":121740},{"$f":"IF(ISERROR(A4),NA(),H3*(1+'Retirement Worksheet'!$B$15))","v":30600},{"$f":"IF(ISERROR(A4),NA(),I3*(1+'Retirement Worksheet'!$B$15))","v":0},{"$f":"SUM(G4:I4)","v":152340},null,{"$f":"SUM('Retirement Calculations'!G4:I4)*'Retirement Worksheet'!$B$9","v":57889.2},{"$f":"SUM(G4:I4)*'Retirement Worksheet'!$B$10","v":9140.4},null,{"$f":"SUM(G4:I4)-SUM(L4:M4)","v":85310.400000000009},{"$f":"IF(ISERROR(A4),NA(),P3*(1+'Retirement Worksheet'!$B$15))","v":153000},{"$f":"O4-P4","v":-67689.599999999991}]
[{"$f":"IF(A4<'Retirement Worksheet'!$B$5,A4+1,NA())","v":67},{"$f":"IF(ISERROR(A5),NA(),E4+Q4)","v":2057687.9},{"$f":"B5*'Retirement Worksheet'!$B$11","v":5144.2197500000002},{"$f":"B5*'Retirement Worksheet'!$B$16","v":102884.395},{"$f":"B5-C5+D5","v":2155428.0752499998},null,{"$f":"B5*'Retirement Worksheet'!$B$8","v":123461.27399999999},{"$f":"IF(ISERROR(A5),NA(),H4*(1+'Retirement Worksheet'!$B$15))","v":31212},{"$f":"IF(ISERROR(A5),NA(),I4*(1+'Retirement Worksheet'!$B$15))","v":0},154673.27399999998,null,{"$f":"SUM('Retirement Calculations'!G5:I5)*'Retirement Worksheet'!$B$9","v":58775.844119999994},{"$f":"SUM(G5:I5)*'Retirement Worksheet'!$B$10","v":9280.3964399999986},null,{"$f":"SUM(G5:I5)-SUM(L5:M5)","v":86617.033439999985},{"$f":"IF(ISERROR(A5),NA(),P4*(1+'Retirement Worksheet'!$B$15))","v":156060},{"$f":"O5-P5","v":-69442.966560000015}]
[{"$f":"IF(A5<'Retirement Worksheet'!$B$5,A5+1,NA())","v":68},2085985.1086899997,{"$f":"B6*'Retirement Worksheet'!$B$11","v":5214.9627717249996},{"$f":"B6*'Retirement Worksheet'!$B$16","v":104299.2554345},{"$f":"B6-C6+D6","v":2185069.4013527748},null,{"$f":"B6*'Retirement Worksheet'!$B$8","v":125159.10652139998},{"$f":"IF(ISERROR(A6),NA(),H5*(1+'Retirement Worksheet'!$B$15))","v":31836.240000000002},{"$f":"IF(ISERROR(A6),NA(),I5*(1+'Retirement Worksheet'!$B$15))","v":0},156995.34652139997,null,{"$f":"SUM('Retirement Calculations'!G6:I6)*'Retirement Worksheet'!$B$9","v":59658.23167813199},{"$f":"SUM(G6:I6)*'Retirement Worksheet'!$B$10","v":9419.7207912839986},null,{"$f":"SUM(G6:I6)-SUM(L6:M6)","v":87917.394051983982},{"$f":"IF(ISERROR(A6),NA(),P5*(1+'Retirement Worksheet'!$B$15))","v":159181.20000000001},{"$f":"O6-P6","v":-71263.80594801603}]
[{"$f":"IF(A6<'Retirement Worksheet'!$B$5,A6+1,NA())","v":69},2113805.5954047586,{"$f":"B7*'Retirement Worksheet'!$B$11","v":5284.513988511897},{"$f":"B7*'Retirement Worksheet'!$B$16","v":105690.27977023793},{"$f":"B7-C7+D7","v":2214211.3611864843},null,{"$f":"B7*'Retirement Worksheet'!$B$8","v":126828.33572428551},{"$f":"IF(ISERROR(A7),NA(),H6*(1+'Retirement Worksheet'!$B$15))","v":32472.964800000002},{"$f":"IF(ISERROR(A7),NA(),I6*(1+'Retirement Worksheet'!$B$15))","v":0},159301.30052428553,null,{"$f":"SUM('Retirement Calculations'!G7:I7)*'Retirement Worksheet'!$B$9","v":60534.494199228502},{"$f":"SUM(G7:I7)*'Retirement Worksheet'!$B$10","v":9558.0780314571311},null,{"$f":"SUM(G7:I7)-SUM(L7:M7)","v":89208.728293599896},{"$f":"IF(ISERROR(A7),NA(),P6*(1+'Retirement Worksheet'!$B$15))","v":162364.82400000002},{"$f":"O7-P7","v":-73156.095706400127}]
[{"$f":"IF(A7<'Retirement Worksheet'!$B$5,A7+1,NA())","v":70},2141055.2654800843,{"$f":"B8*'Retirement Worksheet'!$B$11","v":5352.6381637002114},{"$f":"B8*'Retirement Worksheet'!$B$16","v":107052.76327400422},2242755.3905903883,null,{"$f":"B8*'Retirement Worksheet'!$B$8","v":128463.31592880505},{"$f":"IF(ISERROR(A8),NA(),H7*(1+'Retirement Worksheet'!$B$15))","v":33122.424096000002},{"$f":"IF(ISERROR(A8),NA(),I7*(1+'Retirement Worksheet'!$B$15))","v":0},161585.74002480507,null,{"$f":"SUM('Retirement Calculations'!G8:I8)*'Retirement Worksheet'!$B$9","v":61402.581209425924},{"$f":"SUM(G8:I8)*'Retirement Worksheet'!$B$10","v":9695.1444014883036},null,90488.014413890836,{"$f":"IF(ISERROR(A8),NA(),P7*(1+'Retirement Worksheet'!$B$15))","v":165612.12048000001},-75124.106066109176]
[{"$f":"IF(A8<'Retirement Worksheet'!$B$5,A8+1,NA())","v":71},2167631.2845242792,{"$f":"B9*'Retirement Worksheet'!$B$11","v":5419.078211310698},{"$f":"B9*'Retirement Worksheet'!$B$16","v":108381.56422621396},2270593.7705391822,null,{"$f":"B9*'Retirement Worksheet'!$B$8","v":130057.87707145675},{"$f":"IF(ISERROR(A9),NA(),H8*(1+'Retirement Worksheet'!$B$15))","v":33784.872577920003},{"$f":"IF(ISERROR(A9),NA(),I8*(1+'Retirement Worksheet'!$B$15))","v":0},163842.74964937675,null,{"$f":"SUM('Retirement Calculations'!G9:I9)*'Retirement Worksheet'!$B$9","v":62260.244866763169},{"$f":"SUM(G9:I9)*'Retirement Worksheet'!$B$10","v":9830.5649789626041},null,91751.939803650981,{"$f":"IF(ISERROR(A9),NA(),P8*(1+'Retirement Worksheet'!$B$15))","v":168924.36288960002},-77172.423085949034]
[{"$f":"IF(A9<'Retirement Worksheet'!$B$5,A9+1,NA())","v":72},2193421.3474532333,{"$f":"B10*'Retirement Worksheet'!$B$11","v":5483.5533686330837},{"$f":"B10*'Retirement Worksheet'!$B$16","v":109671.06737266167},2297608.8614572617,null,{"$f":"B10*'Retirement Worksheet'!$B$8","v":131605.28084719399},{"$f":"IF(ISERROR(A10),NA(),H9*(1+'Retirement Worksheet'!$B$15))","v":34460.570029478404},{"$f":"IF(ISERROR(A10),NA(),I9*(1+'Retirement Worksheet'!$B$15))","v":0},166065.8508766724,null,{"$f":"SUM('Retirement Calculations'!G10:I10)*'Retirement Worksheet'!$B$9","v":63105.023333135512},{"$f":"SUM(G10:I10)*'Retirement Worksheet'!$B$10","v":9963.9510526003432},null,92996.876490936542,{"$f":"IF(ISERROR(A10),NA(),P9*(1+'Retirement Worksheet'!$B$15))","v":172302.85014739202},-79305.973656455477]
[{"$f":"IF(A10<'Retirement Worksheet'!$B$5,A10+1,NA())","v":73},2218302.8878008062,{"$f":"B11*'Retirement Worksheet'!$B$11","v":5545.7572195020157},{"$f":"B11*'Retirement Worksheet'!$B$16","v":110915.14439004031},2323672.2749713445,null,{"$f":"B11*'Retirement Worksheet'!$B$8","v":133098.17326804835},{"$f":"IF(ISERROR(A11),NA(),H10*(1+'Retirement Worksheet'!$B$15))","v":35149.781430067975},{"$f":"IF(ISERROR(A11),NA(),I10*(1+'Retirement Worksheet'!$B$15))","v":0},168247.95469811634,null,{"$f":"SUM('Retirement Calculations'!G11:I11)*'Retirement Worksheet'!$B$9","v":63934.222785284212},{"$f":"SUM(G11:I11)*'Retirement Worksheet'!$B$10","v":10094.87728188698},null,94218.854630945149,{"$f":"IF(ISERROR(A11),NA(),P10*(1+'Retirement Worksheet'!$B$15))","v":175748.90715033986},-81530.052519394711]
[{"$f":"IF(A11<'Retirement Worksheet'!$B$5,A11+1,NA())","v":74},2242142.22245195,{"$f":"B12*'Retirement Worksheet'!$B$11","v":5605.3555561298754},{"$f":"B12*'Retirement Worksheet'!$B$16","v":112107.1111225975},2348643.9780184175,null,{"$f":"B12*'Retirement Worksheet'!$B$8","v":134528.53334711699},{"$f":"IF(ISERROR(A12),NA(),H11*(1+'Retirement Worksheet'!$B$15))","v":35852.777058669337},{"$f":"IF(ISERROR(A12),NA(),I11*(1+'Retirement Worksheet'!$B$15))","v":0},170381.31040578632,null,{"$f":"SUM('Retirement Calculations'!G12:I12)*'Retirement Worksheet'!$B$9","v":64744.897954198801},{"$f":"SUM(G12:I12)*'Retirement Worksheet'!$B$10","v":10222.878624347179},null,95413.533827240346,{"$f":"IF(ISERROR(A12),NA(),P11*(1+'Retirement Worksheet'!$B$15))","v":179263.88529334666},-83850.351466106309]
[{"$f":"IF(A12<'Retirement Worksheet'!$B$5,A12+1,NA())","v":75},2264793.6265523112,{"$f":"B13*'Retirement Worksheet'!$B$11","v":5661.9840663807781},{"$f":"B13*'Retirement Worksheet'!$B$16","v":113239.68132761557},2372371.323813546,null,{"$f":"B13*'Retirement Worksheet'!$B$8","v":135887.61759313868},{"$f":"IF(ISERROR(A13),NA(),H12*(1+'Retirement Worksheet'!$B$15))","v":36569.832599842724},{"$f":"IF(ISERROR(A13),NA(),I12*(1+'Retirement Worksheet'!$B$15))","v":0},172457.4501929814,null,{"$f":"SUM('Retirement Calculations'!G13:I13)*'Retirement Worksheet'!$B$9","v":65533.831073332934},{"$f":"SUM(G13:I13)*'Retirement Worksheet'!$B$10","v":10347.447011578884},null,96576.172108069586,{"$f":"IF(ISERROR(A13),NA(),P12*(1+'Retirement Worksheet'!$B$15))","v":182849.16299921359},-86272.990891144]
[{"$f":"IF(A13<'Retirement Worksheet'!$B$5,A13+1,NA())","v":76},2286098.3329224018,{"$f":"B14*'Retirement Worksheet'!$B$11","v":5715.2458323060046},{"$f":"B14*'Retirement Worksheet'!$B$16","v":114304.91664612009},2394688.0037362161,null,{"$f":"B14*'Retirement Worksheet'!$B$8","v":137165.8999753441},{"$f":"IF(ISERROR(A14),NA(),H13*(1+'Retirement Worksheet'!$B$15))","v":37301.229251839577},{"$f":"IF(ISERROR(A14),NA(),I13*(1+'Retirement Worksheet'!$B$15))","v":0},174467.12922718367,null,{"$f":"SUM('Retirement Calculations'!G14:I14)*'Retirement Worksheet'!$B$9","v":66297.509106329802},{"$f":"SUM(G14:I14)*'Retirement Worksheet'!$B$10","v":10468.02775363102},null,97701.592367222853,{"$f":"IF(ISERROR(A14),NA(),P13*(1+'Retirement Worksheet'!$B$15))","v":186506.14625919785},-88804.553891974996]
[{"$f":"IF(A14<'Retirement Worksheet'!$B$5,A14+1,NA())","v":77},2305883.4498442411,{"$f":"B15*'Retirement Worksheet'!$B$11","v":5764.7086246106028},{"$f":"B15*'Retirement Worksheet'!$B$16","v":115294.17249221206},2415412.9137118426,null,{"$f":"B15*'Retirement Worksheet'!$B$8","v":138353.00699065445},{"$f":"IF(ISERROR(A15),NA(),H14*(1+'Retirement Worksheet'!$B$15))","v":38047.253836876371},{"$f":"IF(ISERROR(A15),NA(),I14*(1+'Retirement Worksheet'!$B$15))","v":0},176400.26082753082,null,{"$f":"SUM('Retirement Calculations'!G15:I15)*'Retirement Worksheet'!$B$9","v":67032.099114461715},{"$f":"SUM(G15:I15)*'Retirement Worksheet'!$B$10","v":10584.015649651848},null,98784.146063417254,{"$f":"IF(ISERROR(A15),NA(),P14*(1+'Retirement Worksheet'!$B$15))","v":190236.26918438182},-91452.123120964563]
[{"$f":"IF(A15<'Retirement Worksheet'!$B$5,A15+1,NA())","v":78},2323960.7905908781,{"$f":"B16*'Retirement Worksheet'!$B$11","v":5809.9019764771956},{"$f":"B16*'Retirement Worksheet'!$B$16","v":116198.03952954391},2434348.9281439446,null,{"$f":"B16*'Retirement Worksheet'!$B$8","v":139437.64743545267},{"$f":"IF(ISERROR(A16),NA(),H15*(1+'Retirement Worksheet'!$B$15))","v":38808.198913613902},{"$f":"IF(ISERROR(A16),NA(),I15*(1+'Retirement Worksheet'!$B$15))","v":0},178245.84634906659,null,{"$f":"SUM('Retirement Calculations'!G16:I16)*'Retirement Worksheet'!$B$9","v":67733.42161264531},{"$f":"SUM(G16:I16)*'Retirement Worksheet'!$B$10","v":10694.750780943996},null,99817.673955477279,{"$f":"IF(ISERROR(A16),NA(),P15*(1+'Retirement Worksheet'!$B$15))","v":194040.99456806947},-94223.320612592186]
[{"$f":"IF(A16<'Retirement Worksheet'!$B$5,A16+1,NA())","v":79},2340125.6075313524,{"$f":"B17*'Retirement Worksheet'!$B$11","v":5850.3140188283814},{"$f":"B17*'Retirement Worksheet'!$B$16","v":117006.28037656762},2451281.5738890916,null,{"$f":"B17*'Retirement Worksheet'!$B$8","v":140407.53645188114},{"$f":"IF(ISERROR(A17),NA(),H16*(1+'Retirement Worksheet'!$B$15))","v":39584.36289188618},{"$f":"IF(ISERROR(A17),NA(),I16*(1+'Retirement Worksheet'!$B$15))","v":0},179991.89934376732,null,{"$f":"SUM('Retirement Calculations'!G17:I17)*'Retirement Worksheet'!$B$9","v":68396.921750631576},{"$f":"SUM(G17:I17)*'Retirement Worksheet'!$B$10","v":10799.513960626038},null,100795.46363250971,{"$f":"IF(ISERROR(A17),NA(),P16*(1+'Retirement Worksheet'!$B$15))","v":197921.81445943087},-97126.35082692116]
[{"$f":"IF(A17<'Retirement Worksheet'!$B$5,A17+1,NA())","v":80},2354155.2230621707,{"$f":"B18*'Retirement Worksheet'!$B$11","v":5885.3880576554266},{"$f":"B18*'Retirement Worksheet'!$B$16","v":117707.76115310854},2465977.5961576235,null,{"$f":"B18*'Retirement Worksheet'!$B$8","v":141249.31338373024},{"$f":"IF(ISERROR(A18),NA(),H17*(1+'Retirement Worksheet'!$B$15))","v":40376.050149723902},{"$f":"IF(ISERROR(A18),NA(),I17*(1+'Retirement Worksheet'!$B$15))","v":0},181625.36353345413,null,{"$f":"SUM('Retirement Calculations'!G18:I18)*'Retirement Worksheet'!$B$9","v":69017.638142712574},{"$f":"SUM(G18:I18)*'Retirement Worksheet'!$B$10","v":10897.521812007248},null,101710.2035787343,{"$f":"IF(ISERROR(A18),NA(),P17*(1+'Retirement Worksheet'!$B$15))","v":201880.2507486195},-100170.04716988519]
[{"$f":"IF(A18<'Retirement Worksheet'!$B$5,A18+1,NA())","v":81},2365807.5489877383,{"$f":"B19*'Retirement Worksheet'!$B$11","v":5914.5188724693462},{"$f":"B19*'Retirement Worksheet'!$B$16","v":118290.37744938693},2478183.4075646559,null,{"$f":"B19*'Retirement Worksheet'!$B$8","v":141948.4529392643},{"$f":"IF(ISERROR(A19),NA(),H18*(1+'Retirement Worksheet'!$B$15))","v":41183.571152718381},{"$f":"IF(ISERROR(A19),NA(),I18*(1+'Retirement Worksheet'!$B$15))","v":0},183132.02409198269,null,{"$f":"SUM('Retirement Calculations'!G19:I19)*'Retirement Worksheet'!$B$9","v":69590.16915495343},{"$f":"SUM(G19:I19)*'Retirement Worksheet'!$B$10","v":10987.921445518961},null,102553.9334915103,{"$f":"IF(ISERROR(A19),NA(),P18*(1+'Retirement Worksheet'!$B$15))","v":205917.85576359188},-103363.92227208159]
[{"$f":"IF(A19<'Retirement Worksheet'!$B$5,A19+1,NA())","v":82},2374819.4852925744,{"$f":"B20*'Retirement Worksheet'!$B$11","v":5937.0487132314365},{"$f":"B20*'Retirement Worksheet'!$B$16","v":118740.97426462872},2487623.4108439717,null,{"$f":"B20*'Retirement Worksheet'!$B$8","v":142489.16911755447},{"$f":"IF(ISERROR(A20),NA(),H19*(1+'Retirement Worksheet'!$B$15))","v":42007.242575772747},{"$f":"IF(ISERROR(A20),NA(),I19*(1+'Retirement Worksheet'!$B$15))","v":0},184496.41169332722,null,{"$f":"SUM('Retirement Calculations'!G20:I20)*'Retirement Worksheet'!$B$9","v":70108.636443464347},{"$f":"SUM(G20:I20)*'Retirement Worksheet'!$B$10","v":11069.784701599632},null,103317.99054826323,{"$f":"IF(ISERROR(A20),NA(),P19*(1+'Retirement Worksheet'!$B$15))","v":210036.21287886373},-106718.2223306005]
[{"$f":"IF(A20<'Retirement Worksheet'!$B$5,A20+1,NA())","v":83},2380905.1885133712,{"$f":"B21*'Retirement Worksheet'!$B$11","v":5952.2629712834278},{"$f":"B21*'Retirement Worksheet'!$B$16","v":119045.25942566857},2493998.1849677563,null,{"$f":"B21*'Retirement Worksheet'!$B$8","v":142854.31131080227},{"$f":"IF(ISERROR(A21),NA(),H20*(1+'Retirement Worksheet'!$B$15))","v":42847.387427288202},{"$f":"IF(ISERROR(A21),NA(),I20*(1+'Retirement Worksheet'!$B$15))","v":0},185701.69873809046,null,{"$f":"SUM('Retirement Calculations'!G21:I21)*'Retirement Worksheet'!$B$9","v":70566.645520474369},{"$f":"SUM(G21:I21)*'Retirement Worksheet'!$B$10","v":11142.101924285427},null,103992.95129333067,{"$f":"IF(ISERROR(A21),NA(),P20*(1+'Retirement Worksheet'!$B$15))","v":214236.937136441},-110243.98584311033]
[{"$f":"IF(A21<'Retirement Worksheet'!$B$5,A21+1,NA())","v":84},2383754.1991246459,{"$f":"B22*'Retirement Worksheet'!$B$11","v":5959.3854978116151},{"$f":"B22*'Retirement Worksheet'!$B$16","v":119187.7099562323},2496982.5235830666,null,{"$f":"B22*'Retirement Worksheet'!$B$8","v":143025.25194747874},{"$f":"IF(ISERROR(A22),NA(),H21*(1+'Retirement Worksheet'!$B$15))","v":43704.33517583397},{"$f":"IF(ISERROR(A22),NA(),I21*(1+'Retirement Worksheet'!$B$15))","v":0},186729.5871233127,null,{"$f":"SUM('Retirement Calculations'!G22:I22)*'Retirement Worksheet'!$B$9","v":70957.243106858819},{"$f":"SUM(G22:I22)*'Retirement Worksheet'!$B$10","v":11203.775227398761},null,104568.56878905512,{"$f":"IF(ISERROR(A22),NA(),P21*(1+'Retirement Worksheet'!$B$15))","v":218521.67587916984},-113953.10709011472]
[{"$f":"IF(A22<'Retirement Worksheet'!$B$5,A22+1,NA())","v":85},2383029.416492952,{"$f":"B23*'Retirement Worksheet'!$B$11","v":5957.5735412323802},{"$f":"B23*'Retirement Worksheet'!$B$16","v":119151.47082464761},2496223.3137763673,null,{"$f":"B23*'Retirement Worksheet'!$B$8","v":142981.76498957712},{"$f":"IF(ISERROR(A23),NA(),H22*(1+'Retirement Worksheet'!$B$15))","v":44578.421879350652},{"$f":"IF(ISERROR(A23),NA(),I22*(1+'Retirement Worksheet'!$B$15))","v":0},187560.18686892776,null,{"$f":"SUM('Retirement Calculations'!G23:I23)*'Retirement Worksheet'!$B$9","v":71272.871010192554},{"$f":"SUM(G23:I23)*'Retirement Worksheet'!$B$10","v":11253.611212135665},null,105033.70464659954,{"$f":"IF(ISERROR(A23),NA(),P22*(1+'Retirement Worksheet'!$B$15))","v":222892.10939675325},-117858.40475015371]
[{"$f":"IF(A23<'Retirement Worksheet'!$B$5,A23+1,NA())","v":86},2378364.9090262135,{"$f":"B24*'Retirement Worksheet'!$B$11","v":5945.9122725655334},{"$f":"B24*'Retirement Worksheet'!$B$16","v":118918.24545131068},2491337.2422049586,null,{"$f":"B24*'Retirement Worksheet'!$B$8","v":142701.89454157281},{"$f":"IF(ISERROR(A24),NA(),H23*(1+'Retirement Worksheet'!$B$15))","v":45469.990316937663},{"$f":"IF(ISERROR(A24),NA(),I23*(1+'Retirement Worksheet'!$B$15))","v":0},188171.88485851046,null,{"$f":"SUM('Retirement Calculations'!G24:I24)*'Retirement Worksheet'!$B$9","v":71505.316246233968},{"$f":"SUM(G24:I24)*'Retirement Worksheet'!$B$10","v":11290.313091510627},null,105376.25552076586,{"$f":"IF(ISERROR(A24),NA(),P23*(1+'Retirement Worksheet'!$B$15))","v":227349.95158468833},-121973.69606392247]
[{"$f":"IF(A24<'Retirement Worksheet'!$B$5,A24+1,NA())","v":87},2369363.5461410363,{"$f":"B25*'Retirement Worksheet'!$B$11","v":5923.4088653525905},{"$f":"B25*'Retirement Worksheet'!$B$16","v":118468.17730705182},2481908.3145827353,null,{"$f":"B25*'Retirement Worksheet'!$B$8","v":142161.81276846217},{"$f":"IF(ISERROR(A25),NA(),H24*(1+'Retirement Worksheet'!$B$15))","v":46379.390123276418},{"$f":"IF(ISERROR(A25),NA(),I24*(1+'Retirement Worksheet'!$B$15))","v":0},188541.20289173859,null,{"$f":"SUM('Retirement Calculations'!G25:I25)*'Retirement Worksheet'!$B$9","v":71645.657098860669},{"$f":"SUM(G25:I25)*'Retirement Worksheet'!$B$10","v":11312.472173504315},null,105583.07361937361,{"$f":"IF(ISERROR(A25),NA(),P24*(1+'Retirement Worksheet'!$B$15))","v":231896.95061638209},-126313.87699700848]
[{"$f":"IF(A25<'Retirement Worksheet'!$B$5,A25+1,NA())","v":88},2355594.4375857268,{"$f":"B26*'Retirement Worksheet'!$B$11","v":5888.9860939643177},{"$f":"B26*'Retirement Worksheet'!$B$16","v":117779.72187928634},2467485.1733710486,null,{"$f":"B26*'Retirement Worksheet'!$B$8","v":141335.66625514362},{"$f":"IF(ISERROR(A26),NA(),H25*(1+'Retirement Worksheet'!$B$15))","v":47306.97792574195},{"$f":"IF(ISERROR(A26),NA(),I25*(1+'Retirement Worksheet'!$B$15))","v":0},188642.64418088557,null,{"$f":"SUM('Retirement Calculations'!G26:I26)*'Retirement Worksheet'!$B$9","v":71684.204788736519},{"$f":"SUM(G26:I26)*'Retirement Worksheet'!$B$10","v":11318.558650853134},null,105639.88074129593,{"$f":"IF(ISERROR(A26),NA(),P25*(1+'Retirement Worksheet'!$B$15))","v":236534.88962870973},-130895.0088874138]
[{"$f":"IF(A26<'Retirement Worksheet'!$B$5,A26+1,NA())","v":89},2336590.1644836348,{"$f":"B27*'Retirement Worksheet'!$B$11","v":5841.4754112090868},{"$f":"B27*'Retirement Worksheet'!$B$16","v":116829.50822418174},2447578.1972966073,null,{"$f":"B27*'Retirement Worksheet'!$B$8","v":140195.40986901807},{"$f":"IF(ISERROR(A27),NA(),H26*(1+'Retirement Worksheet'!$B$15))","v":48253.117484256793},{"$f":"IF(ISERROR(A27),NA(),I26*(1+'Retirement Worksheet'!$B$15))","v":0},188448.52735327487,null,{"$f":"SUM('Retirement Calculations'!G27:I27)*'Retirement Worksheet'!$B$9","v":71610.440394244448},{"$f":"SUM(G27:I27)*'Retirement Worksheet'!$B$10","v":11306.911641196491},null,105531.17531783393,{"$f":"IF(ISERROR(A27),NA(),P26*(1+'Retirement Worksheet'!$B$15))","v":241265.58742128394},-135734.41210345001]
[{"$f":"IF(A27<'Retirement Worksheet'!$B$5,A27+1,NA())","v":90},2311843.7851931574,{"$f":"B28*'Retirement Worksheet'!$B$11","v":5779.609462982894},{"$f":"B28*'Retirement Worksheet'!$B$16","v":115592.18925965787},2421656.364989832,null,{"$f":"B28*'Retirement Worksheet'!$B$8","v":138710.62711158945},{"$f":"IF(ISERROR(A28),NA(),H27*(1+'Retirement Worksheet'!$B$15))","v":49218.179833941926},{"$f":"IF(ISERROR(A28),NA(),I27*(1+'Retirement Worksheet'!$B$15))","v":0},187928.80694553137,null,{"$f":"SUM('Retirement Calculations'!G28:I28)*'Retirement Worksheet'!$B$9","v":71412.946639301925},{"$f":"SUM(G28:I28)*'Retirement Worksheet'!$B$10","v":11275.728416731881},null,105240.13188949756,{"$f":"IF(ISERROR(A28),NA(),P27*(1+'Retirement Worksheet'!$B$15))","v":246090.89916970962},-140850.76728021208]
[{"$f":"IF(A28<'Retirement Worksheet'!$B$5,A28+1,NA())","v":{"$error":"#N/A"}},{"$error":"#N/A"},{"$f":"B29*'Retirement Worksheet'!$B$11","v":{"$error":"#N/A"}},{"$f":"B29*'Retirement Worksheet'!$B$16","v":{"$error":"#N/A"}},{"$error":"#N/A"},null,{"$f":"B29*'Retirement Worksheet'!$B$8","v":{"$error":"#N/A"}},{"$f":"IF(ISERROR(A29),NA(),H28*(1+'Retirement Worksheet'!$B$15))","v":{"$error":"#N/A"}},{"$f":"IF(ISERROR(A29),NA(),I28*(1+'Retirement Worksheet'!$B$15))","v":{"$error":"#N/A"}},{"$error":"#N/A"},null,{"$f":"SUM('Retirement Calculations'!G29:I29)*'Retirement Worksheet'!$B$9","v":{"$error":"#N/A"}},{"$f":"SUM(G29:I29)*'Retirement Worksheet'!$B$10","v":{"$error":"#N/A"}},null,{"$error":"#N/A"},{"$f":"IF(ISERROR(A29),NA(),P28*(1+'Retirement Worksheet'!$B$15))","v":{"$error":"#N/A"}},{"$error":"#N/A"}]
[{"$f":"IF(A29<'Retirement Worksheet'!$B$5,A29+1,NA())","v":{"$error":"#N/A"}},{"$error":"#N/A"},{"$f":"B30*'Retirement Worksheet'!$B$11","v":{"$error":"#N/A"}},{"$f":"B30*'Retirement Worksheet'!$B$16","v":{"$error":"#N/A"}},{"$error":"#N/A"},null,{"$f":"B30*'Retirement Worksheet'!$B$8","v":{"$error":"#N/A"}},{"$f":"IF(ISERROR(A30),NA(),H29*(1+'Retirement Worksheet'!$B$15))","v":{"$error":"#N/A"}},{"$f":"IF(ISERROR(A30),NA(),I29*(1+'Retirement Worksheet'!$B$15))","v":{"$error":"#N/A"}},{"$error":"#N/A"},null,{"$f":"SUM('Retirement Calculations'!G30:I30)*'Retirement Worksheet'!$B$9","v":{"$error":"#N/A"}},{"$f":"SUM(G30:I30)*'Retirement Worksheet'!$B$10","v":{"$error":"#N/A"}},null,{"$error":"#N/A"},{"$f":"IF(ISERROR(A30),NA(),P29*(1+'Retirement Worksheet'!$B$15))","v":{"$error":"#N/A"}},{"$error":"#N/A"}]
[{"$f":"IF(A30<'Retirement Worksheet'!$B$5,A30+1,NA())","v":{"$error":"#N/A"}},{"$error":"#N/A"},{"$f":"B31*'Retirement Worksheet'!$B$11","v":{"$error":"#N/A"}},{"$f":"B31*'Retirement Worksheet'!$B$16","v":{"$error":"#N/A"}},{"$error":"#N/A"},null,{"$f":"B31*'Retirement Worksheet'!$B$8","v":{"$error":"#N/A"}},{"$f":"IF(ISERROR(A31),NA(),H30*(1+'Retirement Worksheet'!$B$15))","v":{"$error":"#N/A"}},{"$f":"IF(ISERROR(A31),NA(),I30*(1+'Retirement Worksheet'!$B$15))","v":{"$error":"#N/A"}},{"$error":"#N/A"},null,{"$f":"SUM('Retirement Calculations'!G31:I31)*'Retirement Worksheet'!$B$9","v":{"$error":"#N/A"}},{"$f":"SUM(G31:I31)*'Retirement Worksheet'!$B$10","v":{"$error":"#N/A"}},null,{"$error":"#N/A"},{"$f":"IF(ISERROR(A31),NA(),P30*(1+'Retirement Worksheet'!$B$15))","v":{"$error":"#N/A"}},{"$error":"#N/A"}]
[{"$f":"IF(A31<'Retirement Worksheet'!$B$5,A31+1,NA())","v":{"$error":"#N/A"}},{"$error":"#N/A"},{"$f":"B32*'Retirement Worksheet'!$B$11","v":{"$error":"#N/A"}},{"$f":"B32*'Retirement Worksheet'!$B$16","v":{"$error":"#N/A"}},{"$error":"#N/A"},null,{"$f":"B32*'Retirement Worksheet'!$B$8","v":{"$error":"#N/A"}},{"$f":"IF(ISERROR(A32),NA(),H31*(1+'Retirement Worksheet'!$B$15))","v":{"$error":"#N/A"}},{"$f":"IF(ISERROR(A32),NA(),I31*(1+'Retirement Worksheet'!$B$15))","v":{"$error":"#N/A"}},{"$error":"#N/A"},null,{"$f":"SUM('Retirement Calculations'!G32:I32)*'Retirement Worksheet'!$B$9","v":{"$error":"#N/A"}},{"$f":"SUM(G32:I32)*'Retirement Worksheet'!$B$10","v":{"$error":"#N/A"}},null,{"$error":"#N/A"},{"$f":"IF(ISERROR(A32),NA(),P31*(1+'Retirement Worksheet'!$B$15))","v":{"$error":"#N/A"}},{"$error":"#N/A"}]
[{"$f":"IF(A32<'Retirement Worksheet'!$B$5,A32+1,NA())","v":{"$error":"#N/A"}},{"$error":"#N/A"},{"$f":"B33*'Retirement Worksheet'!$B$11","v":{"$error":"#N/A"}},{"$f":"B33*'Retirement Worksheet'!$B$16","v":{"$error":"#N/A"}},{"$error":"#N/A"},null,{"$f":"B33*'Retirement Worksheet'!$B$8","v":{"$error":"#N/A"}},{"$f":"IF(ISERROR(A33),NA(),H32*(1+'Retirement Worksheet'!$B$15))","v":{"$error":"#N/A"}},{"$f":"IF(ISERROR(A33),NA(),I32*(1+'Retirement Worksheet'!$B$15))","v":{"$error":"#N/A"}},{"$error":"#N/A"},null,{"$f":"SUM('Retirement Calculations'!G33:I33)*'Retirement Worksheet'!$B$9","v":{"$error":"#N/A"}},{"$f":"SUM(G33:I33)*'Retirement Worksheet'!$B$10","v":{"$error":"#N/A"}},null,{"$error":"#N/A"},{"$f":"IF(ISERROR(A33),NA(),P32*(1+'Retirement Worksheet'!$B$15))","v":{"$error":"#N/A"}},{"$error":"#N/A"}]
[{"$f":"IF(A33<'Retirement Worksheet'!$B$5,A33+1,NA())","v":{"$error":"#N/A"}},{"$error":"#N/A"},{"$f":"B34*'Retirement Worksheet'!$B$11","v":{"$error":"#N/A"}},{"$f":"B34*'Retirement Worksheet'!$B$16","v":{"$error":"#N/A"}},{"$error":"#N/A"},null,{"$f":"B34*'Retirement Worksheet'!$B$8","v":{"$error":"#N/A"}},{"$f":"IF(ISERROR(A34),NA(),H33*(1+'Retirement Worksheet'!$B$15))","v":{"$error":"#N/A"}},{"$f":"IF(ISERROR(A34),NA(),I33*(1+'Retirement Worksheet'!$B$15))","v":{"$error":"#N/A"}},{"$error":"#N/A"},null,{"$f":"SUM('Retirement Calculations'!G34:I34)*'Retirement Worksheet'!$B$9","v":{"$error":"#N/A"}},{"$f":"SUM(G34:I34)*'Retirement Worksheet'!$B$10","v":{"$error":"#N/A"}},null,{"$error":"#N/A"},{"$f":"IF(ISERROR(A34),NA(),P33*(1+'Retirement Worksheet'!$B$15))","v":{"$error":"#N/A"}},{"$error":"#N/A"}]
[{"$f":"IF(A34<'Retirement Worksheet'!$B$5,A34+1,NA())","v":{"$error":"#N/A"}},{"$error":"#N/A"},{"$f":"B35*'Retirement Worksheet'!$B$11","v":{"$error":"#N/A"}},{"$f":"B35*'Retirement Worksheet'!$B$16","v":{"$error":"#N/A"}},{"$error":"#N/A"},null,{"$f":"B35*'Retirement Worksheet'!$B$8","v":{"$error":"#N/A"}},{"$f":"IF(ISERROR(A35),NA(),H34*(1+'Retirement Worksheet'!$B$15))","v":{"$error":"#N/A"}},{"$f":"IF(ISERROR(A35),NA(),I34*(1+'Retirement Worksheet'!$B$15))","v":{"$error":"#N/A"}},{"$error":"#N/A"},null,{"$f":"SUM('Retirement Calculations'!G35:I35)*'Retirement Worksheet'!$B$9","v":{"$error":"#N/A"}},{"$f":"SUM(G35:I35)*'Retirement Worksheet'!$B$10","v":{"$error":"#N/A"}},null,{"$error":"#N/A"},{"$f":"IF(ISERROR(A35),NA(),P34*(1+'Retirement Worksheet'!$B$15))","v":{"$error":"#N/A"}},{"$error":"#N/A"}]
[{"$f":"IF(A35<'Retirement Worksheet'!$B$5,A35+1,NA())","v":{"$error":"#N/A"}},{"$error":"#N/A"},{"$f":"B36*'Retirement Worksheet'!$B$11","v":{"$error":"#N/A"}},{"$f":"B36*'Retirement Worksheet'!$B$16","v":{"$error":"#N/A"}},{"$error":"#N/A"},null,{"$f":"B36*'Retirement Worksheet'!$B$8","v":{"$error":"#N/A"}},{"$f":"IF(ISERROR(A36),NA(),H35*(1+'Retirement Worksheet'!$B$15))","v":{"$error":"#N/A"}},{"$f":"IF(ISERROR(A36),NA(),I35*(1+'Retirement Worksheet'!$B$15))","v":{"$error":"#N/A"}},{"$error":"#N/A"},null,{"$f":"SUM('Retirement Calculations'!G36:I36)*'Retirement Worksheet'!$B$9","v":{"$error":"#N/A"}},{"$f":"SUM(G36:I36)*'Retirement Worksheet'!$B$10","v":{"$error":"#N/A"}},null,{"$error":"#N/A"},{"$f":"IF(ISERROR(A36),NA(),P35*(1+'Retirement Worksheet'!$B$15))","v":{"$error":"#N/A"}},{"$error":"#N/A"}]
[{"$f":"IF(A36<'Retirement Worksheet'!$B$5,A36+1,NA())","v":{"$error":"#N/A"}},{"$error":"#N/A"},{"$f":"B37*'Retirement Worksheet'!$B$11","v":{"$error":"#N/A"}},{"$f":"B37*'Retirement Worksheet'!$B$16","v":{"$error":"#N/A"}},{"$error":"#N/A"},null,{"$f":"B37*'Retirement Worksheet'!$B$8","v":{"$error":"#N/A"}},{"$f":"IF(ISERROR(A37),NA(),H36*(1+'Retirement Worksheet'!$B$15))","v":{"$error":"#N/A"}},{"$f":"IF(ISERROR(A37),NA(),I36*(1+'Retirement Worksheet'!$B$15))","v":{"$error":"#N/A"}},{"$error":"#N/A"},null,{"$f":"SUM('Retirement Calculations'!G37:I37)*'Retirement Worksheet'!$B$9","v":{"$error":"#N/A"}},{"$f":"SUM(G37:I37)*'Retirement Worksheet'!$B$10","v":{"$error":"#N/A"}},null,{"$error":"#N/A"},{"$f":"IF(ISERROR(A37),NA(),P36*(1+'Retirement Worksheet'!$B$15))","v":{"$error":"#N/A"}},{"$error":"#N/A"}]
[{"$f":"IF(A37<'Retirement Worksheet'!$B$5,A37+1,NA())","v":{"$error":"#N/A"}},{"$error":"#N/A"},{"$f":"B38*'Retirement Worksheet'!$B$11","v":{"$error":"#N/A"}},{"$f":"B38*'Retirement Worksheet'!$B$16","v":{"$error":"#N/A"}},{"$error":"#N/A"},null,{"$f":"B38*'Retirement Worksheet'!$B$8","v":{"$error":"#N/A"}},{"$f":"IF(ISERROR(A38),NA(),H37*(1+'Retirement Worksheet'!$B$15))","v":{"$error":"#N/A"}},{"$f":"IF(ISERROR(A38),NA(),I37*(1+'Retirement Worksheet'!$B$15))","v":{"$error":"#N/A"}},{"$error":"#N/A"},null,{"$f":"SUM('Retirement Calculations'!G38:I38)*'Retirement Worksheet'!$B$9","v":{"$error":"#N/A"}},{"$f":"SUM(G38:I38)*'Retirement Worksheet'!$B$10","v":{"$error":"#N/A"}},null,{"$error":"#N/A"},{"$f":"IF(ISERROR(A38),NA(),P37*(1+'Retirement Worksheet'!$B$15))","v":{"$error":"#N/A"}},{"$error":"#N/A"}]
[{"$f":"IF(A38<'Retirement Worksheet'!$B$5,A38+1,NA())","v":{"$error":"#N/A"}},{"$error":"#N/A"},{"$f":"B39*'Retirement Worksheet'!$B$11","v":{"$error":"#N/A"}},{"$f":"B39*'Retirement Worksheet'!$B$16","v":{"$error":"#N/A"}},{"$error":"#N/A"},null,{"$f":"B39*'Retirement Worksheet'!$B$8","v":{"$error":"#N/A"}},{"$f":"IF(ISERROR(A39),NA(),H38*(1+'Retirement Worksheet'!$B$15))","v":{"$error":"#N/A"}},{"$f":"IF(ISERROR(A39),NA(),I38*(1+'Retirement Worksheet'!$B$15))","v":{"$error":"#N/A"}},{"$error":"#N/A"},null,{"$f":"SUM('Retirement Calculations'!G39:I39)*'Retirement Worksheet'!$B$9","v":{"$error":"#N/A"}},{"$f":"SUM(G39:I39)*'Retirement Worksheet'!$B$10","v":{"$error":"#N/A"}},null,{"$error":"#N/A"},{"$f":"IF(ISERROR(A39),NA(),P38*(1+'Retirement Worksheet'!$B$15))","v":{"$error":"#N/A"}},{"$error":"#N/A"}]
[{"$f":"IF(A39<'Retirement Worksheet'!$B$5,A39+1,NA())","v":{"$error":"#N/A"}},{"$error":"#N/A"},{"$f":"B40*'Retirement Worksheet'!$B$11","v":{"$error":"#N/A"}},{"$f":"B40*'Retirement Worksheet'!$B$16","v":{"$error":"#N/A"}},{"$error":"#N/A"},null,{"$f":"B40*'Retirement Worksheet'!$B$8","v":{"$error":"#N/A"}},{"$f":"IF(ISERROR(A40),NA(),H39*(1+'Retirement Worksheet'!$B$15))","v":{"$error":"#N/A"}},{"$f":"IF(ISERROR(A40),NA(),I39*(1+'Retirement Worksheet'!$B$15))","v":{"$error":"#N/A"}},{"$error":"#N/A"},null,{"$f":"SUM('Retirement Calculations'!G40:I40)*'Retirement Worksheet'!$B$9","v":{"$error":"#N/A"}},{"$f":"SUM(G40:I40)*'Retirement Worksheet'!$B$10","v":{"$error":"#N/A"}},null,{"$error":"#N/A"},{"$f":"IF(ISERROR(A40),NA(),P39*(1+'Retirement Worksheet'!$B$15))","v":{"$error":"#N/A"}},{"$error":"#N/A"}]
[{"$f":"IF(A40<'Retirement Worksheet'!$B$5,A40+1,NA())","v":{"$error":"#N/A"}},{"$error":"#N/A"},{"$f":"B41*'Retirement Worksheet'!$B$11","v":{"$error":"#N/A"}},{"$f":"B41*'Retirement Worksheet'!$B$16","v":{"$error":"#N/A"}},{"$error":"#N/A"},null,{"$f":"B41*'Retirement Worksheet'!$B$8","v":{"$error":"#N/A"}},{"$f":"IF(ISERROR(A41),NA(),H40*(1+'Retirement Worksheet'!$B$15))","v":{"$error":"#N/A"}},{"$f":"IF(ISERROR(A41),NA(),I40*(1+'Retirement Worksheet'!$B$15))","v":{"$error":"#N/A"}},{"$error":"#N/A"},null,{"$f":"SUM('Retirement Calculations'!G41:I41)*'Retirement Worksheet'!$B$9","v":{"$error":"#N/A"}},{"$f":"SUM(G41:I41)*'Retirement Worksheet'!$B$10","v":{"$error":"#N/A"}},null,{"$error":"#N/A"},{"$f":"IF(ISERROR(A41),NA(),P40*(1+'Retirement Worksheet'!$B$15))","v":{"$error":"#N/A"}},{"$error":"#N/A"}]
[{"$f":"IF(A41<'Retirement Worksheet'!$B$5,A41+1,NA())","v":{"$error":"#N/A"}},{"$error":"#N/A"},{"$f":"B42*'Retirement Worksheet'!$B$11","v":{"$error":"#N/A"}},{"$f":"B42*'Retirement Worksheet'!$B$16","v":{"$error":"#N/A"}},{"$error":"#N/A"},null,{"$f":"B42*'Retirement Worksheet'!$B$8","v":{"$error":"#N/A"}},{"$f":"IF(ISERROR(A42),NA(),H41*(1+'Retirement Worksheet'!$B$15))","v":{"$error":"#N/A"}},{"$f":"IF(ISERROR(A42),NA(),I41*(1+'Retirement Worksheet'!$B$15))","v":{"$error":"#N/A"}},{"$error":"#N/A"},null,{"$f":"SUM('Retirement Calculations'!G42:I42)*'Retirement Worksheet'!$B$9","v":{"$error":"#N/A"}},{"$f":"SUM(G42:I42)*'Retirement Worksheet'!$B$10","v":{"$error":"#N/A"}},null,{"$error":"#N/A"},{"$f":"IF(ISERROR(A42),NA(),P41*(1+'Retirement Worksheet'!$B$15))","v":{"$error":"#N/A"}},{"$error":"#N/A"}]
[{"$f":"IF(A42<'Retirement Worksheet'!$B$5,A42+1,NA())","v":{"$error":"#N/A"}},{"$error":"#N/A"},{"$f":"B43*'Retirement Worksheet'!$B$11","v":{"$error":"#N/A"}},{"$f":"B43*'Retirement Worksheet'!$B$16","v":{"$error":"#N/A"}},{"$error":"#N/A"},null,{"$f":"B43*'Retirement Worksheet'!$B$8","v":{"$error":"#N/A"}},{"$f":"IF(ISERROR(A43),NA(),H42*(1+'Retirement Worksheet'!$B$15))","v":{"$error":"#N/A"}},{"$f":"IF(ISERROR(A43),NA(),I42*(1+'Retirement Worksheet'!$B$15))","v":{"$error":"#N/A"}},{"$error":"#N/A"},null,{"$f":"SUM('Retirement Calculations'!G43:I43)*'Retirement Worksheet'!$B$9","v":{"$error":"#N/A"}},{"$f":"SUM(G43:I43)*'Retirement Worksheet'!$B$10","v":{"$error":"#N/A"}},null,{"$error":"#N/A"},{"$f":"IF(ISERROR(A43),NA(),P42*(1+'Retirement Worksheet'!$B$15))","v":{"$error":"#N/A"}},{"$error":"#N/A"}]
[{"$f":"IF(A43<'Retirement Worksheet'!$B$5,A43+1,NA())","v":{"$error":"#N/A"}},{"$error":"#N/A"},{"$f":"B44*'Retirement Worksheet'!$B$11","v":{"$error":"#N/A"}},{"$f":"B44*'Retirement Worksheet'!$B$16","v":{"$error":"#N/A"}},{"$error":"#N/A"},null,{"$f":"B44*'Retirement Worksheet'!$B$8","v":{"$error":"#N/A"}},{"$f":"IF(ISERROR(A44),NA(),H43*(1+'Retirement Worksheet'!$B$15))","v":{"$error":"#N/A"}},{"$f":"IF(ISERROR(A44),NA(),I43*(1+'Retirement Worksheet'!$B$15))","v":{"$error":"#N/A"}},{"$error":"#N/A"},null,{"$f":"SUM('Retirement Calculations'!G44:I44)*'Retirement Worksheet'!$B$9","v":{"$error":"#N/A"}},{"$f":"SUM(G44:I44)*'Retirement Worksheet'!$B$10","v":{"$error":"#N/A"}},null,{"$error":"#N/A"},{"$f":"IF(ISERROR(A44),NA(),P43*(1+'Retirement Worksheet'!$B$15))","v":{"$error":"#N/A"}},{"$error":"#N/A"}]
[{"$f":"IF(A44<'Retirement Worksheet'!$B$5,A44+1,NA())","v":{"$error":"#N/A"}},{"$error":"#N/A"},{"$f":"B45*'Retirement Worksheet'!$B$11","v":{"$error":"#N/A"}},{"$f":"B45*'Retirement Worksheet'!$B$16","v":{"$error":"#N/A"}},{"$error":"#N/A"},null,{"$f":"B45*'Retirement Worksheet'!$B$8","v":{"$error":"#N/A"}},{"$f":"IF(ISERROR(A45),NA(),H44*(1+'Retirement Worksheet'!$B$15))","v":{"$error":"#N/A"}},{"$f":"IF(ISERROR(A45),NA(),I44*(1+'Retirement Worksheet'!$B$15))","v":{"$error":"#N/A"}},{"$error":"#N/A"},null,{"$f":"SUM('Retirement Calculations'!G45:I45)*'Retirement Worksheet'!$B$9","v":{"$error":"#N/A"}},{"$f":"SUM(G45:I45)*'Retirement Worksheet'!$B$10","v":{"$error":"#N/A"}},null,{"$error":"#N/A"},{"$f":"IF(ISERROR(A45),NA(),P44*(1+'Retirement Worksheet'!$B$15))","v":{"$error":"#N/A"}},{"$error":"#N/A"}]
[{"$f":"IF(A45<'Retirement Worksheet'!$B$5,A45+1,NA())","v":{"$error":"#N/A"}},{"$error":"#N/A"},{"$f":"B46*'Retirement Worksheet'!$B$11","v":{"$error":"#N/A"}},{"$f":"B46*'Retirement Worksheet'!$B$16","v":{"$error":"#N/A"}},{"$error":"#N/A"},null,{"$f":"B46*'Retirement Worksheet'!$B$8","v":{"$error":"#N/A"}},{"$f":"IF(ISERROR(A46),NA(),H45*(1+'Retirement Worksheet'!$B$15))","v":{"$error":"#N/A"}},{"$f":"IF(ISERROR(A46),NA(),I45*(1+'Retirement Worksheet'!$B$15))","v":{"$error":"#N/A"}},{"$error":"#N/A"},null,{"$f":"SUM('Retirement Calculations'!G46:I46)*'Retirement Worksheet'!$B$9","v":{"$error":"#N/A"}},{"$f":"SUM(G46:I46)*'Retirement Worksheet'!$B$10","v":{"$error":"#N/A"}},null,{"$error":"#N/A"},{"$f":"IF(ISERROR(A46),NA(),P45*(1+'Retirement Worksheet'!$B$15))","v":{"$error":"#N/A"}},{"$error":"#N/A"}]
[{"$f":"IF(A46<'Retirement Worksheet'!$B$5,A46+1,NA())","v":{"$error":"#N/A"}},{"$error":"#N/A"},{"$f":"B47*'Retirement Worksheet'!$B$11","v":{"$error":"#N/A"}},{"$f":"B47*'Retirement Worksheet'!$B$16","v":{"$error":"#N/A"}},{"$error":"#N/A"},null,{"$f":"B47*'Retirement Worksheet'!$B$8","v":{"$error":"#N/A"}},{"$f":"IF(ISERROR(A47),NA(),H46*(1+'Retirement Worksheet'!$B$15))","v":{"$error":"#N/A"}},{"$f":"IF(ISERROR(A47),NA(),I46*(1+'Retirement Worksheet'!$B$15))","v":{"$error":"#N/A"}},{"$error":"#N/A"},null,{"$f":"SUM('Retirement Calculations'!G47:I47)*'Retirement Worksheet'!$B$9","v":{"$error":"#N/A"}},{"$f":"SUM(G47:I47)*'Retirement Worksheet'!$B$10","v":{"$error":"#N/A"}},null,{"$error":"#N/A"},{"$f":"IF(ISERROR(A47),NA(),P46*(1+'Retirement Worksheet'!$B$15))","v":{"$error":"#N/A"}},{"$error":"#N/A"}]
[{"$f":"IF(A47<'Retirement Worksheet'!$B$5,A47+1,NA())","v":{"$error":"#N/A"}},{"$error":"#N/A"},{"$f":"B48*'Retirement Worksheet'!$B$11","v":{"$error":"#N/A"}},{"$f":"B48*'Retirement Worksheet'!$B$16","v":{"$error":"#N/A"}},{"$error":"#N/A"},null,{"$f":"B48*'Retirement Worksheet'!$B$8","v":{"$error":"#N/A"}},{"$f":"IF(ISERROR(A48),NA(),H47*(1+'Retirement Worksheet'!$B$15))","v":{"$error":"#N/A"}},{"$f":"IF(ISERROR(A48),NA(),I47*(1+'Retirement Worksheet'!$B$15))","v":{"$error":"#N/A"}},{"$error":"#N/A"},null,{"$f":"SUM('Retirement Calculations'!G48:I48)*'Retirement Worksheet'!$B$9","v":{"$error":"#N/A"}},{"$f":"SUM(G48:I48)*'Retirement Worksheet'!$B$10","v":{"$error":"#N/A"}},null,{"$error":"#N/A"},{"$f":"IF(ISERROR(A48),NA(),P47*(1+'Retirement Worksheet'!$B$15))","v":{"$error":"#N/A"}},{"$error":"#N/A"}]
[{"$f":"IF(A48<'Retirement Worksheet'!$B$5,A48+1,NA())","v":{"$error":"#N/A"}},{"$error":"#N/A"},{"$f":"B49*'Retirement Worksheet'!$B$11","v":{"$error":"#N/A"}},{"$f":"B49*'Retirement Worksheet'!$B$16","v":{"$error":"#N/A"}},{"$error":"#N/A"},null,{"$f":"B49*'Retirement Worksheet'!$B$8","v":{"$error":"#N/A"}},{"$f":"IF(ISERROR(A49),NA(),H48*(1+'Retirement Worksheet'!$B$15))","v":{"$error":"#N/A"}},{"$f":"IF(ISERROR(A49),NA(),I48*(1+'Retirement Worksheet'!$B$15))","v":{"$error":"#N/A"}},{"$error":"#N/A"},null,{"$f":"SUM('Retirement Calculations'!G49:I49)*'Retirement Worksheet'!$B$9","v":{"$error":"#N/A"}},{"$f":"SUM(G49:I49)*'Retirement Worksheet'!$B$10","v":{"$error":"#N/A"}},null,{"$error":"#N/A"},{"$f":"IF(ISERROR(A49),NA(),P48*(1+'Retirement Worksheet'!$B$15))","v":{"$error":"#N/A"}},{"$error":"#N/A"}]
[{"$f":"IF(A49<'Retirement Worksheet'!$B$5,A49+1,NA())","v":{"$error":"#N/A"}},{"$error":"#N/A"},{"$f":"B50*'Retirement Worksheet'!$B$11","v":{"$error":"#N/A"}},{"$f":"B50*'Retirement Worksheet'!$B$16","v":{"$error":"#N/A"}},{"$error":"#N/A"},null,{"$f":"B50*'Retirement Worksheet'!$B$8","v":{"$error":"#N/A"}},{"$f":"IF(ISERROR(A50),NA(),H49*(1+'Retirement Worksheet'!$B$15))","v":{"$error":"#N/A"}},{"$f":"IF(ISERROR(A50),NA(),I49*(1+'Retirement Worksheet'!$B$15))","v":{"$error":"#N/A"}},{"$error":"#N/A"},null,{"$f":"SUM('Retirement Calculations'!G50:I50)*'Retirement Worksheet'!$B$9","v":{"$error":"#N/A"}},{"$f":"SUM(G50:I50)*'Retirement Worksheet'!$B$10","v":{"$error":"#N/A"}},null,{"$error":"#N/A"},{"$f":"IF(ISERROR(A50),NA(),P49*(1+'Retirement Worksheet'!$B$15))","v":{"$error":"#N/A"}},{"$error":"#N/A"}]
[{"$f":"IF(A50<'Retirement Worksheet'!$B$5,A50+1,NA())","v":{"$error":"#N/A"}},{"$error":"#N/A"},{"$f":"B51*'Retirement Worksheet'!$B$11","v":{"$error":"#N/A"}},{"$f":"B51*'Retirement Worksheet'!$B$16","v":{"$error":"#N/A"}},{"$error":"#N/A"},null,{"$f":"B51*'Retirement Worksheet'!$B$8","v":{"$error":"#N/A"}},{"$f":"IF(ISERROR(A51),NA(),H50*(1+'Retirement Worksheet'!$B$15))","v":{"$error":"#N/A"}},{"$f":"IF(ISERROR(A51),NA(),I50*(1+'Retirement Worksheet'!$B$15))","v":{"$error":"#N/A"}},{"$error":"#N/A"},null,{"$f":"SUM('Retirement Calculations'!G51:I51)*'Retirement Worksheet'!$B$9","v":{"$error":"#N/A"}},{"$f":"SUM(G51:I51)*'Retirement Worksheet'!$B$10","v":{"$error":"#N/A"}},null,{"$error":"#N/A"},{"$f":"IF(ISERROR(A51),NA(),P50*(1+'Retirement Worksheet'!$B$15))","v":{"$error":"#N/A"}},{"$error":"#N/A"}]
[{"$f":"IF(A51<'Retirement Worksheet'!$B$5,A51+1,NA())","v":{"$error":"#N/A"}},{"$error":"#N/A"},{"$f":"B52*'Retirement Worksheet'!$B$11","v":{"$error":"#N/A"}},{"$f":"B52*'Retirement Worksheet'!$B$16","v":{"$error":"#N/A"}},{"$error":"#N/A"},null,{"$f":"B52*'Retirement Worksheet'!$B$8","v":{"$error":"#N/A"}},{"$f":"IF(ISERROR(A52),NA(),H51*(1+'Retirement Worksheet'!$B$15))","v":{"$error":"#N/A"}},{"$f":"IF(ISERROR(A52),NA(),I51*(1+'Retirement Worksheet'!$B$15))","v":{"$error":"#N/A"}},{"$error":"#N/A"},null,{"$f":"SUM('Retirement Calculations'!G52:I52)*'Retirement Worksheet'!$B$9","v":{"$error":"#N/A"}},{"$f":"SUM(G52:I52)*'Retirement Worksheet'!$B$10","v":{"$error":"#N/A"}},null,{"$error":"#N/A"},{"$f":"IF(ISERROR(A52),NA(),P51*(1+'Retirement Worksheet'!$B$15))","v":{"$error":"#N/A"}},{"$error":"#N/A"}]
[{"$f":"IF(A52<'Retirement Worksheet'!$B$5,A52+1,NA())","v":{"$error":"#N/A"}},{"$error":"#N/A"},{"$f":"B53*'Retirement Worksheet'!$B$11","v":{"$error":"#N/A"}},{"$f":"B53*'Retirement Worksheet'!$B$16","v":{"$error":"#N/A"}},{"$error":"#N/A"},null,{"$f":"B53*'Retirement Worksheet'!$B$8","v":{"$error":"#N/A"}},{"$f":"IF(ISERROR(A53),NA(),H52*(1+'Retirement Worksheet'!$B$15))","v":{"$error":"#N/A"}},{"$f":"IF(ISERROR(A53),NA(),I52*(1+'Retirement Worksheet'!$B$15))","v":{"$error":"#N/A"}},{"$error":"#N/A"},null,{"$f":"SUM('Retirement Calculations'!G53:I53)*'Retirement Worksheet'!$B$9","v":{"$error":"#N/A"}},{"$f":"SUM(G53:I53)*'Retirement Worksheet'!$B$10","v":{"$error":"#N/A"}},null,{"$error":"#N/A"},{"$f":"IF(ISERROR(A53),NA(),P52*(1+'Retirement Worksheet'!$B$15))","v":{"$error":"#N/A"}},{"$error":"#N/A"}]
[{"$f":"IF(A53<'Retirement Worksheet'!$B$5,A53+1,NA())","v":{"$error":"#N/A"}},{"$error":"#N/A"},{"$f":"B54*'Retirement Worksheet'!$B$11","v":{"$error":"#N/A"}},{"$f":"B54*'Retirement Worksheet'!$B$16","v":{"$error":"#N/A"}},{"$error":"#N/A"},null,{"$f":"B54*'Retirement Worksheet'!$B$8","v":{"$error":"#N/A"}},{"$f":"IF(ISERROR(A54),NA(),H53*(1+'Retirement Worksheet'!$B$15))","v":{"$error":"#N/A"}},{"$f":"IF(ISERROR(A54),NA(),I53*(1+'Retirement Worksheet'!$B$15))","v":{"$error":"#N/A"}},{"$error":"#N/A"},null,{"$f":"SUM('Retirement Calculations'!G54:I54)*'Retirement Worksheet'!$B$9","v":{"$error":"#N/A"}},{"$f":"SUM(G54:I54)*'Retirement Worksheet'!$B$10","v":{"$error":"#N/A"}},null,{"$error":"#N/A"},{"$f":"IF(ISERROR(A54),NA(),P53*(1+'Retirement Worksheet'!$B$15))","v":{"$error":"#N/A"}},{"$error":"#N/A"}]
[{"$f":"IF(A54<'Retirement Worksheet'!$B$5,A54+1,NA())","v":{"$error":"#N/A"}},{"$error":"#N/A"},{"$f":"B55*'Retirement Worksheet'!$B$11","v":{"$error":"#N/A"}},{"$f":"B55*'Retirement Worksheet'!$B$16","v":{"$error":"#N/A"}},{"$error":"#N/A"},null,{"$f":"B55*'Retirement Worksheet'!$B$8","v":{"$error":"#N/A"}},{"$f":"IF(ISERROR(A55),NA(),H54*(1+'Retirement Worksheet'!$B$15))","v":{"$error":"#N/A"}},{"$f":"IF(ISERROR(A55),NA(),I54*(1+'Retirement Worksheet'!$B$15))","v":{"$error":"#N/A"}},{"$error":"#N/A"},null,{"$f":"SUM('Retirement Calculations'!G55:I55)*'Retirement Worksheet'!$B$9","v":{"$error":"#N/A"}},{"$f":"SUM(G55:I55)*'Retirement Worksheet'!$B$10","v":{"$error":"#N/A"}},null,{"$error":"#N/A"},{"$f":"IF(ISERROR(A55),NA(),P54*(1+'Retirement Worksheet'!$B$15))","v":{"$error":"#N/A"}},{"$error":"#N/A"}]
[{"$f":"IF(A55<'Retirement Worksheet'!$B$5,A55+1,NA())","v":{"$error":"#N/A"}},{"$error":"#N/A"},{"$f":"B56*'Retirement Worksheet'!$B$11","v":{"$error":"#N/A"}},{"$f":"B56*'Retirement Worksheet'!$B$16","v":{"$error":"#N/A"}},{"$error":"#N/A"},null,{"$f":"B56*'Retirement Worksheet'!$B$8","v":{"$error":"#N/A"}},{"$f":"IF(ISERROR(A56),NA(),H55*(1+'Retirement Worksheet'!$B$15))","v":{"$error":"#N/A"}},{"$f":"IF(ISERROR(A56),NA(),I55*(1+'Retirement Worksheet'!$B$15))","v":{"$error":"#N/A"}},{"$error":"#N/A"},null,{"$f":"SUM('Retirement Calculations'!G56:I56)*'Retirement Worksheet'!$B$9","v":{"$error":"#N/A"}},{"$f":"SUM(G56:I56)*'Retirement Worksheet'!$B$10","v":{"$error":"#N/A"}},null,{"$error":"#N/A"},{"$f":"IF(ISERROR(A56),NA(),P55*(1+'Retirement Worksheet'!$B$15))","v":{"$error":"#N/A"}},{"$error":"#N/A"}]
[{"$f":"IF(A56<'Retirement Worksheet'!$B$5,A56+1,NA())","v":{"$error":"#N/A"}},{"$error":"#N/A"},{"$f":"B57*'Retirement Worksheet'!$B$11","v":{"$error":"#N/A"}},{"$f":"B57*'Retirement Worksheet'!$B$16","v":{"$error":"#N/A"}},{"$error":"#N/A"},null,{"$f":"B57*'Retirement Worksheet'!$B$8","v":{"$error":"#N/A"}},{"$f":"IF(ISERROR(A57),NA(),H56*(1+'Retirement Worksheet'!$B$15))","v":{"$error":"#N/A"}},{"$f":"IF(ISERROR(A57),NA(),I56*(1+'Retirement Worksheet'!$B$15))","v":{"$error":"#N/A"}},{"$error":"#N/A"},null,{"$f":"SUM('Retirement Calculations'!G57:I57)*'Retirement Worksheet'!$B$9","v":{"$error":"#N/A"}},{"$f":"SUM(G57:I57)*'Retirement Worksheet'!$B$10","v":{"$error":"#N/A"}},null,{"$error":"#N/A"},{"$f":"IF(ISERROR(A57),NA(),P56*(1+'Retirement Worksheet'!$B$15))","v":{"$error":"#N/A"}},{"$error":"#N/A"}]
[{"$f":"IF(A57<'Retirement Worksheet'!$B$5,A57+1,NA())","v":{"$error":"#N/A"}},{"$error":"#N/A"},{"$f":"B58*'Retirement Worksheet'!$B$11","v":{"$error":"#N/A"}},{"$f":"B58*'Retirement Worksheet'!$B$16","v":{"$error":"#N/A"}},{"$error":"#N/A"},null,{"$f":"B58*'Retirement Worksheet'!$B$8","v":{"$error":"#N/A"}},{"$f":"IF(ISERROR(A58),NA(),H57*(1+'Retirement Worksheet'!$B$15))","v":{"$error":"#N/A"}},{"$f":"IF(ISERROR(A58),NA(),I57*(1+'Retirement Worksheet'!$B$15))","v":{"$error":"#N/A"}},{"$error":"#N/A"},null,{"$f":"SUM('Retirement Calculations'!G58:I58)*'Retirement Worksheet'!$B$9","v":{"$error":"#N/A"}},{"$f":"SUM(G58:I58)*'Retirement Worksheet'!$B$10","v":{"$error":"#N/A"}},null,{"$error":"#N/A"},{"$f":"IF(ISERROR(A58),NA(),P57*(1+'Retirement Worksheet'!$B$15))","v":{"$error":"#N/A"}},{"$error":"#N/A"}]
[{"$f":"IF(A58<'Retirement Worksheet'!$B$5,A58+1,NA())","v":{"$error":"#N/A"}},{"$error":"#N/A"},{"$f":"B59*'Retirement Worksheet'!$B$11","v":{"$error":"#N/A"}},{"$f":"B59*'Retirement Worksheet'!$B$16","v":{"$error":"#N/A"}},{"$error":"#N/A"},null,{"$f":"B59*'Retirement Worksheet'!$B$8","v":{"$error":"#N/A"}},{"$f":"IF(ISERROR(A59),NA(),H58*(1+'Retirement Worksheet'!$B$15))","v":{"$error":"#N/A"}},{"$f":"IF(ISERROR(A59),NA(),I58*(1+'Retirement Worksheet'!$B$15))","v":{"$error":"#N/A"}},{"$error":"#N/A"},null,{"$f":"SUM('Retirement Calculations'!G59:I59)*'Retirement Worksheet'!$B$9","v":{"$error":"#N/A"}},{"$f":"SUM(G59:I59)*'Retirement Worksheet'!$B$10","v":{"$error":"#N/A"}},null,{"$error":"#N/A"},{"$f":"IF(ISERROR(A59),NA(),P58*(1+'Retirement Worksheet'!$B$15))","v":{"$error":"#N/A"}},{"$error":"#N/A"}]
[{"$f":"IF(A59<'Retirement Worksheet'!$B$5,A59+1,NA())","v":{"$error":"#N/A"}},{"$error":"#N/A"},{"$f":"B60*'Retirement Worksheet'!$B$11","v":{"$error":"#N/A"}},{"$f":"B60*'Retirement Worksheet'!$B$16","v":{"$error":"#N/A"}},{"$error":"#N/A"},null,{"$f":"B60*'Retirement Worksheet'!$B$8","v":{"$error":"#N/A"}},{"$f":"IF(ISERROR(A60),NA(),H59*(1+'Retirement Worksheet'!$B$15))","v":{"$error":"#N/A"}},{"$f":"IF(ISERROR(A60),NA(),I59*(1+'Retirement Worksheet'!$B$15))","v":{"$error":"#N/A"}},{"$error":"#N/A"},null,{"$f":"SUM('Retirement Calculations'!G60:I60)*'Retirement Worksheet'!$B$9","v":{"$error":"#N/A"}},{"$f":"SUM(G60:I60)*'Retirement Worksheet'!$B$10","v":{"$error":"#N/A"}},null,{"$error":"#N/A"},{"$f":"IF(ISERROR(A60),NA(),P59*(1+'Retirement Worksheet'!$B$15))","v":{"$error":"#N/A"}},{"$error":"#N/A"}]
[{"$f":"IF(A60<'Retirement Worksheet'!$B$5,A60+1,NA())","v":{"$error":"#N/A"}},{"$error":"#N/A"},{"$f":"B61*'Retirement Worksheet'!$B$11","v":{"$error":"#N/A"}},{"$f":"B61*'Retirement Worksheet'!$B$16","v":{"$error":"#N/A"}},{"$error":"#N/A"},null,{"$f":"B61*'Retirement Worksheet'!$B$8","v":{"$error":"#N/A"}},{"$f":"IF(ISERROR(A61),NA(),H60*(1+'Retirement Worksheet'!$B$15))","v":{"$error":"#N/A"}},{"$f":"IF(ISERROR(A61),NA(),I60*(1+'Retirement Worksheet'!$B$15))","v":{"$error":"#N/A"}},{"$error":"#N/A"},null,{"$f":"SUM('Retirement Calculations'!G61:I61)*'Retirement Worksheet'!$B$9","v":{"$error":"#N/A"}},{"$f":"SUM(G61:I61)*'Retirement Worksheet'!$B$10","v":{"$error":"#N/A"}},null,{"$error":"#N/A"},{"$f":"IF(ISERROR(A61),NA(),P60*(1+'Retirement Worksheet'!$B$15))","v":{"$error":"#N/A"}},{"$error":"#N/A"}]
[{"$f":"IF(A61<'Retirement Worksheet'!$B$5,A61+1,NA())","v":{"$error":"#N/A"}},{"$error":"#N/A"},{"$f":"B62*'Retirement Worksheet'!$B$11","v":{"$error":"#N/A"}},{"$f":"B62*'Retirement Worksheet'!$B$16","v":{"$error":"#N/A"}},{"$error":"#N/A"},null,{"$f":"B62*'Retirement Worksheet'!$B$8","v":{"$error":"#N/A"}},{"$f":"IF(ISERROR(A62),NA(),H61*(1+'Retirement Worksheet'!$B$15))","v":{"$error":"#N/A"}},{"$f":"IF(ISERROR(A62),NA(),I61*(1+'Retirement Worksheet'!$B$15))","v":{"$error":"#N/A"}},{"$error":"#N/A"},null,{"$f":"SUM('Retirement Calculations'!G62:I62)*'Retirement Worksheet'!$B$9","v":{"$error":"#N/A"}},{"$f":"SUM(G62:I62)*'Retirement Worksheet'!$B$10","v":{"$error":"#N/A"}},null,{"$error":"#N/A"},{"$f":"IF(ISERROR(A62),NA(),P61*(1+'Retirement Worksheet'!$B$15))","v":{"$error":"#N/A"}},{"$error":"#N/A"}]
[{"$f":"IF(A62<'Retirement Worksheet'!$B$5,A62+1,NA())","v":{"$error":"#N/A"}},{"$error":"#N/A"},{"$f":"B63*'Retirement Worksheet'!$B$11","v":{"$error":"#N/A"}},{"$f":"B63*'Retirement Worksheet'!$B$16","v":{"$error":"#N/A"}},{"$error":"#N/A"},null,{"$f":"B63*'Retirement Worksheet'!$B$8","v":{"$error":"#N/A"}},{"$f":"IF(ISERROR(A63),NA(),H62*(1+'Retirement Worksheet'!$B$15))","v":{"$error":"#N/A"}},{"$f":"IF(ISERROR(A63),NA(),I62*(1+'Retirement Worksheet'!$B$15))","v":{"$error":"#N/A"}},{"$error":"#N/A"},null,{"$f":"SUM('Retirement Calculations'!G63:I63)*'Retirement Worksheet'!$B$9","v":{"$error":"#N/A"}},{"$f":"SUM(G63:I63)*'Retirement Worksheet'!$B$10","v":{"$error":"#N/A"}},null,{"$error":"#N/A"},{"$f":"IF(ISERROR(A63),NA(),P62*(1+'Retirement Worksheet'!$B$15))","v":{"$error":"#N/A"}},{"$error":"#N/A"}]
[{"$f":"IF(A63<'Retirement Worksheet'!$B$5,A63+1,NA())","v":{"$error":"#N/A"}},{"$error":"#N/A"},{"$f":"B64*'Retirement Worksheet'!$B$11","v":{"$error":"#N/A"}},{"$f":"B64*'Retirement Worksheet'!$B$16","v":{"$error":"#N/A"}},{"$error":"#N/A"},null,{"$f":"B64*'Retirement Worksheet'!$B$8","v":{"$error":"#N/A"}},{"$f":"IF(ISERROR(A64),NA(),H63*(1+'Retirement Worksheet'!$B$15))","v":{"$error":"#N/A"}},{"$f":"IF(ISERROR(A64),NA(),I63*(1+'Retirement Worksheet'!$B$15))","v":{"$error":"#N/A"}},{"$error":"#N/A"},null,{"$f":"SUM('Retirement Calculations'!G64:I64)*'Retirement Worksheet'!$B$9","v":{"$error":"#N/A"}},{"$f":"SUM(G64:I64)*'Retirement Worksheet'!$B$10","v":{"$error":"#N/A"}},null,{"$error":"#N/A"},{"$f":"IF(ISERROR(A64),NA(),P63*(1+'Retirement Worksheet'!$B$15))","v":{"$error":"#N/A"}},{"$error":"#N/A"}]
[{"$f":"IF(A64<'Retirement Worksheet'!$B$5,A64+1,NA())","v":{"$error":"#N/A"}},{"$error":"#N/A"},{"$f":"B65*'Retirement Worksheet'!$B$11","v":{"$error":"#N/A"}},{"$f":"B65*'Retirement Worksheet'!$B$16","v":{"$error":"#N/A"}},{"$error":"#N/A"},null,{"$f":"B65*'Retirement Worksheet'!$B$8","v":{"$error":"#N/A"}},{"$f":"IF(ISERROR(A65),NA(),H64*(1+'Retirement Worksheet'!$B$15))","v":{"$error":"#N/A"}},{"$f":"IF(ISERROR(A65),NA(),I64*(1+'Retirement Worksheet'!$B$15))","v":{"$error":"#N/A"}},{"$error":"#N/A"},null,{"$f":"SUM('Retirement Calculations'!G65:I65)*'Retirement Worksheet'!$B$9","v":{"$error":"#N/A"}},{"$f":"SUM(G65:I65)*'Retirement Worksheet'!$B$10","v":{"$error":"#N/A"}},null,{"$error":"#N/A"},{"$f":"IF(ISERROR(A65),NA(),P64*(1+'Retirement Worksheet'!$B$15))","v":{"$error":"#N/A"}},{"$error":"#N/A"}]
[{"$f":"IF(A65<'Retirement Worksheet'!$B$5,A65+1,NA())","v":{"$error":"#N/A"}},{"$error":"#N/A"},{"$f":"B66*'Retirement Worksheet'!$B$11","v":{"$error":"#N/A"}},{"$f":"B66*'Retirement Worksheet'!$B$16","v":{"$error":"#N/A"}},{"$error":"#N/A"},null,{"$f":"B66*'Retirement Worksheet'!$B$8","v":{"$error":"#N/A"}},{"$f":"IF(ISERROR(A66),NA(),H65*(1+'Retirement Worksheet'!$B$15))","v":{"$error":"#N/A"}},{"$f":"IF(ISERROR(A66),NA(),I65*(1+'Retirement Worksheet'!$B$15))","v":{"$error":"#N/A"}},{"$error":"#N/A"},null,{"$f":"SUM('Retirement Calculations'!G66:I66)*'Retirement Worksheet'!$B$9","v":{"$error":"#N/A"}},{"$f":"SUM(G66:I66)*'Retirement Worksheet'!$B$10","v":{"$error":"#N/A"}},null,{"$error":"#N/A"},{"$f":"IF(ISERROR(A66),NA(),P65*(1+'Retirement Worksheet'!$B$15))","v":{"$error":"#N/A"}},{"$error":"#N/A"}]
[{"$f":"IF(A66<'Retirement Worksheet'!$B$5,A66+1,NA())","v":{"$error":"#N/A"}},{"$error":"#N/A"},{"$f":"B67*'Retirement Worksheet'!$B$11","v":{"$error":"#N/A"}},{"$f":"B67*'Retirement Worksheet'!$B$16","v":{"$error":"#N/A"}},{"$error":"#N/A"},null,{"$f":"B67*'Retirement Worksheet'!$B$8","v":{"$error":"#N/A"}},{"$f":"IF(ISERROR(A67),NA(),H66*(1+'Retirement Worksheet'!$B$15))","v":{"$error":"#N/A"}},{"$f":"IF(ISERROR(A67),NA(),I66*(1+'Retirement Worksheet'!$B$15))","v":{"$error":"#N/A"}},{"$error":"#N/A"},null,{"$f":"SUM('Retirement Calculations'!G67:I67)*'Retirement Worksheet'!$B$9","v":{"$error":"#N/A"}},{"$f":"SUM(G67:I67)*'Retirement Worksheet'!$B$10","v":{"$error":"#N/A"}},null,{"$error":"#N/A"},{"$f":"IF(ISERROR(A67),NA(),P66*(1+'Retirement Worksheet'!$B$15))","v":{"$error":"#N/A"}},{"$error":"#N/A"}]
[{"$f":"IF(A67<'Retirement Worksheet'!$B$5,A67+1,NA())","v":{"$error":"#N/A"}},{"$error":"#N/A"},{"$f":"B68*'Retirement Worksheet'!$B$11","v":{"$error":"#N/A"}},{"$f":"B68*'Retirement Worksheet'!$B$16","v":{"$error":"#N/A"}},{"$error":"#N/A"},null,{"$f":"B68*'Retirement Worksheet'!$B$8","v":{"$error":"#N/A"}},{"$f":"IF(ISERROR(A68),NA(),H67*(1+'Retirement Worksheet'!$B$15))","v":{"$error":"#N/A"}},{"$f":"IF(ISERROR(A68),NA(),I67*(1+'Retirement Worksheet'!$B$15))","v":{"$error":"#N/A"}},{"$f":"SUM(G68:I68)","v":{"$error":"#N/A"}},null,{"$f":"SUM('Retirement Calculations'!G68:I68)*'Retirement Worksheet'!$B$9","v":{"$error":"#N/A"}},{"$f":"SUM(G68:I68)*'Retirement Worksheet'!$B$10","v":{"$error":"#N/A"}},null,{"$error":"#N/A"},{"$f":"IF(ISERROR(A68),NA(),P67*(1+'Retirement Worksheet'!$B$15))","v":{"$error":"#N/A"}},{"$error":"#N/A"}]
[{"$f":"IF(A68<'Retirement Worksheet'!$B$5,A68+1,NA())","v":{"$error":"#N/A"}},{"$f":"IF(ISERROR(A69),NA(),E68+Q68)","v":{"$error":"#N/A"}},{"$f":"B69*'Retirement Worksheet'!$B$11","v":{"$error":"#N/A"}},{"$f":"B69*'Retirement Worksheet'!$B$16","v":{"$error":"#N/A"}},{"$error":"#N/A"},null,{"$f":"B69*'Retirement Worksheet'!$B$8","v":{"$error":"#N/A"}},{"$f":"IF(ISERROR(A69),NA(),H68*(1+'Retirement Worksheet'!$B$15))","v":{"$error":"#N/A"}},{"$f":"IF(ISERROR(A69),NA(),I68*(1+'Retirement Worksheet'!$B$15))","v":{"$error":"#N/A"}},{"$error":"#N/A"},null,{"$f":"SUM('Retirement Calculations'!G69:I69)*'Retirement Worksheet'!$B$9","v":{"$error":"#N/A"}},{"$f":"SUM(G69:I69)*'Retirement Worksheet'!$B$10","v":{"$error":"#N/A"}},null,{"$error":"#N/A"},{"$f":"IF(ISERROR(A69),NA(),P68*(1+'Retirement Worksheet'!$B$15))","v":{"$error":"#N/A"}},{"$error":"#N/A"}]
[{"$f":"IF(A69<'Retirement Worksheet'!$B$5,A69+1,NA())","v":{"$error":"#N/A"}},{"$error":"#N/A"},{"$f":"B70*'Retirement Worksheet'!$B$11","v":{"$error":"#N/A"}},{"$f":"B70*'Retirement Worksheet'!$B$16","v":{"$error":"#N/A"}},{"$error":"#N/A"},null,{"$f":"B70*'Retirement Worksheet'!$B$8","v":{"$error":"#N/A"}},{"$f":"IF(ISERROR(A70),NA(),H69*(1+'Retirement Worksheet'!$B$15))","v":{"$error":"#N/A"}},{"$f":"IF(ISERROR(A70),NA(),I69*(1+'Retirement Worksheet'!$B$15))","v":{"$error":"#N/A"}},{"$error":"#N/A"},null,{"$f":"SUM('Retirement Calculations'!G70:I70)*'Retirement Worksheet'!$B$9","v":{"$error":"#N/A"}},{"$f":"SUM(G70:I70)*'Retirement Worksheet'!$B$10","v":{"$error":"#N/A"}},null,{"$error":"#N/A"},{"$f":"IF(ISERROR(A70),NA(),P69*(1+'Retirement Worksheet'!$B$15))","v":{"$error":"#N/A"}},{"$error":"#N/A"}]
[{"$f":"IF(A70<'Retirement Worksheet'!$B$5,A70+1,NA())","v":{"$error":"#N/A"}},{"$error":"#N/A"},{"$f":"B71*'Retirement Worksheet'!$B$11","v":{"$error":"#N/A"}},{"$f":"B71*'Retirement Worksheet'!$B$16","v":{"$error":"#N/A"}},{"$f":"B71-C71+D71","v":{"$error":"#N/A"}},null,{"$f":"B71*'Retirement Worksheet'!$B$8","v":{"$error":"#N/A"}},{"$f":"IF(ISERROR(A71),NA(),H70*(1+'Retirement Worksheet'!$B$15))","v":{"$error":"#N/A"}},{"$f":"IF(ISERROR(A71),NA(),I70*(1+'Retirement Worksheet'!$B$15))","v":{"$error":"#N/A"}},{"$error":"#N/A"},null,{"$f":"SUM('Retirement Calculations'!G71:I71)*'Retirement Worksheet'!$B$9","v":{"$error":"#N/A"}},{"$f":"SUM(G71:I71)*'Retirement Worksheet'!$B$10","v":{"$error":"#N/A"}},null,{"$f":"SUM(G71:I71)-SUM(L71:M71)","v":{"$error":"#N/A"}},{"$f":"IF(ISERROR(A71),NA(),P70*(1+'Retirement Worksheet'!$B$15))","v":{"$error":"#N/A"}},{"$f":"O71-P71","v":{"$error":"#N/A"}}]
[{"$f":"IF(A71<'Retirement Worksheet'!$B$5,A71+1,NA())","v":{"$error":"#N/A"}},{"$error":"#N/A"},{"$f":"B72*'Retirement Worksheet'!$B$11","v":{"$error":"#N/A"}},{"$f":"B72*'Retirement Worksheet'!$B$16","v":{"$error":"#N/A"}},{"$error":"#N/A"},null,{"$f":"B72*'Retirement Worksheet'!$B$8","v":{"$error":"#N/A"}},{"$f":"IF(ISERROR(A72),NA(),H71*(1+'Retirement Worksheet'!$B$15))","v":{"$error":"#N/A"}},{"$f":"IF(ISERROR(A72),NA(),I71*(1+'Retirement Worksheet'!$B$15))","v":{"$error":"#N/A"}},{"$error":"#N/A"},null,{"$f":"SUM('Retirement Calculations'!G72:I72)*'Retirement Worksheet'!$B$9","v":{"$error":"#N/A"}},{"$f":"SUM(G72:I72)*'Retirement Worksheet'!$B$10","v":{"$error":"#N/A"}},null,{"$error":"#N/A"},{"$f":"IF(ISERROR(A72),NA(),P71*(1+'Retirement Worksheet'!$B$15))","v":{"$error":"#N/A"}},{"$error":"#N/A"}]
[{"$f":"IF(A72<'Retirement Worksheet'!$B$5,A72+1,NA())","v":{"$error":"#N/A"}},{"$error":"#N/A"},{"$f":"B73*'Retirement Worksheet'!$B$11","v":{"$error":"#N/A"}},{"$f":"B73*'Retirement Worksheet'!$B$16","v":{"$error":"#N/A"}},{"$error":"#N/A"},null,{"$f":"B73*'Retirement Worksheet'!$B$8","v":{"$error":"#N/A"}},{"$f":"IF(ISERROR(A73),NA(),H72*(1+'Retirement Worksheet'!$B$15))","v":{"$error":"#N/A"}},{"$f":"IF(ISERROR(A73),NA(),I72*(1+'Retirement Worksheet'!$B$15))","v":{"$error":"#N/A"}},{"$error":"#N/A"},null,{"$f":"SUM('Retirement Calculations'!G73:I73)*'Retirement Worksheet'!$B$9","v":{"$error":"#N/A"}},{"$f":"SUM(G73:I73)*'Retirement Worksheet'!$B$10","v":{"$error":"#N/A"}},null,{"$error":"#N/A"},{"$f":"IF(ISERROR(A73),NA(),P72*(1+'Retirement Worksheet'!$B$15))","v":{"$error":"#N/A"}},{"$error":"#N/A"}]
[{"$f":"IF(A73<'Retirement Worksheet'!$B$5,A73+1,NA())","v":{"$error":"#N/A"}},{"$error":"#N/A"},{"$f":"B74*'Retirement Worksheet'!$B$11","v":{"$error":"#N/A"}},{"$f":"B74*'Retirement Worksheet'!$B$16","v":{"$error":"#N/A"}},{"$error":"#N/A"},null,{"$f":"B74*'Retirement Worksheet'!$B$8","v":{"$error":"#N/A"}},{"$f":"IF(ISERROR(A74),NA(),H73*(1+'Retirement Worksheet'!$B$15))","v":{"$error":"#N/A"}},{"$f":"IF(ISERROR(A74),NA(),I73*(1+'Retirement Worksheet'!$B$15))","v":{"$error":"#N/A"}},{"$error":"#N/A"},null,{"$f":"SUM('Retirement Calculations'!G74:I74)*'Retirement Worksheet'!$B$9","v":{"$error":"#N/A"}},{"$f":"SUM(G74:I74)*'Retirement Worksheet'!$B$10","v":{"$error":"#N/A"}},null,{"$error":"#N/A"},{"$f":"IF(ISERROR(A74),NA(),P73*(1+'Retirement Worksheet'!$B$15))","v":{"$error":"#N/A"}},{"$error":"#N/A"}]
[{"$f":"IF(A74<'Retirement Worksheet'!$B$5,A74+1,NA())","v":{"$error":"#N/A"}},{"$error":"#N/A"},{"$f":"B75*'Retirement Worksheet'!$B$11","v":{"$error":"#N/A"}},{"$f":"B75*'Retirement Worksheet'!$B$16","v":{"$error":"#N/A"}},{"$error":"#N/A"},null,{"$f":"B75*'Retirement Worksheet'!$B$8","v":{"$error":"#N/A"}},{"$f":"IF(ISERROR(A75),NA(),H74*(1+'Retirement Worksheet'!$B$15))","v":{"$error":"#N/A"}},{"$f":"IF(ISERROR(A75),NA(),I74*(1+'Retirement Worksheet'!$B$15))","v":{"$error":"#N/A"}},{"$error":"#N/A"},null,{"$f":"SUM('Retirement Calculations'!G75:I75)*'Retirement Worksheet'!$B$9","v":{"$error":"#N/A"}},{"$f":"SUM(G75:I75)*'Retirement Worksheet'!$B$10","v":{"$error":"#N/A"}},null,{"$error":"#N/A"},{"$f":"IF(ISERROR(A75),NA(),P74*(1+'Retirement Worksheet'!$B$15))","v":{"$error":"#N/A"}},{"$error":"#N/A"}]
[{"$f":"IF(A75<'Retirement Worksheet'!$B$5,A75+1,NA())","v":{"$error":"#N/A"}},{"$error":"#N/A"},{"$f":"B76*'Retirement Worksheet'!$B$11","v":{"$error":"#N/A"}},{"$f":"B76*'Retirement Worksheet'!$B$16","v":{"$error":"#N/A"}},{"$error":"#N/A"},null,{"$f":"B76*'Retirement Worksheet'!$B$8","v":{"$error":"#N/A"}},{"$f":"IF(ISERROR(A76),NA(),H75*(1+'Retirement Worksheet'!$B$15))","v":{"$error":"#N/A"}},{"$f":"IF(ISERROR(A76),NA(),I75*(1+'Retirement Worksheet'!$B$15))","v":{"$error":"#N/A"}},{"$error":"#N/A"},null,{"$f":"SUM('Retirement Calculations'!G76:I76)*'Retirement Worksheet'!$B$9","v":{"$error":"#N/A"}},{"$f":"SUM(G76:I76)*'Retirement Worksheet'!$B$10","v":{"$error":"#N/A"}},null,{"$error":"#N/A"},{"$f":"IF(ISERROR(A76),NA(),P75*(1+'Retirement Worksheet'!$B$15))","v":{"$error":"#N/A"}},{"$error":"#N/A"}]
[{"$f":"IF(A76<'Retirement Worksheet'!$B$5,A76+1,NA())","v":{"$error":"#N/A"}},{"$error":"#N/A"},{"$f":"B77*'Retirement Worksheet'!$B$11","v":{"$error":"#N/A"}},{"$f":"B77*'Retirement Worksheet'!$B$16","v":{"$error":"#N/A"}},{"$error":"#N/A"},null,{"$f":"B77*'Retirement Worksheet'!$B$8","v":{"$error":"#N/A"}},{"$f":"IF(ISERROR(A77),NA(),H76*(1+'Retirement Worksheet'!$B$15))","v":{"$error":"#N/A"}},{"$f":"IF(ISERROR(A77),NA(),I76*(1+'Retirement Worksheet'!$B$15))","v":{"$error":"#N/A"}},{"$error":"#N/A"},null,{"$f":"SUM('Retirement Calculations'!G77:I77)*'Retirement Worksheet'!$B$9","v":{"$error":"#N/A"}},{"$f":"SUM(G77:I77)*'Retirement Worksheet'!$B$10","v":{"$error":"#N/A"}},null,{"$error":"#N/A"},{"$f":"IF(ISERROR(A77),NA(),P76*(1+'Retirement Worksheet'!$B$15))","v":{"$error":"#N/A"}},{"$error":"#N/A"}]
[{"$f":"IF(A77<'Retirement Worksheet'!$B$5,A77+1,NA())","v":{"$error":"#N/A"}},{"$error":"#N/A"},{"$f":"B78*'Retirement Worksheet'!$B$11","v":{"$error":"#N/A"}},{"$f":"B78*'Retirement Worksheet'!$B$16","v":{"$error":"#N/A"}},{"$error":"#N/A"},null,{"$f":"B78*'Retirement Worksheet'!$B$8","v":{"$error":"#N/A"}},{"$f":"IF(ISERROR(A78),NA(),H77*(1+'Retirement Worksheet'!$B$15))","v":{"$error":"#N/A"}},{"$f":"IF(ISERROR(A78),NA(),I77*(1+'Retirement Worksheet'!$B$15))","v":{"$error":"#N/A"}},{"$error":"#N/A"},null,{"$f":"SUM('Retirement Calculations'!G78:I78)*'Retirement Worksheet'!$B$9","v":{"$error":"#N/A"}},{"$f":"SUM(G78:I78)*'Retirement Worksheet'!$B$10","v":{"$error":"#N/A"}},null,{"$error":"#N/A"},{"$f":"IF(ISERROR(A78),NA(),P77*(1+'Retirement Worksheet'!$B$15))","v":{"$error":"#N/A"}},{"$error":"#N/A"}]
[{"$f":"IF(A78<'Retirement Worksheet'!$B$5,A78+1,NA())","v":{"$error":"#N/A"}},{"$error":"#N/A"},{"$f":"B79*'Retirement Worksheet'!$B$11","v":{"$error":"#N/A"}},{"$f":"B79*'Retirement Worksheet'!$B$16","v":{"$error":"#N/A"}},{"$error":"#N/A"},null,{"$f":"B79*'Retirement Worksheet'!$B$8","v":{"$error":"#N/A"}},{"$f":"IF(ISERROR(A79),NA(),H78*(1+'Retirement Worksheet'!$B$15))","v":{"$error":"#N/A"}},{"$f":"IF(ISERROR(A79),NA(),I78*(1+'Retirement Worksheet'!$B$15))","v":{"$error":"#N/A"}},{"$error":"#N/A"},null,{"$f":"SUM('Retirement Calculations'!G79:I79)*'Retirement Worksheet'!$B$9","v":{"$error":"#N/A"}},{"$f":"SUM(G79:I79)*'Retirement Worksheet'!$B$10","v":{"$error":"#N/A"}},null,{"$error":"#N/A"},{"$f":"IF(ISERROR(A79),NA(),P78*(1+'Retirement Worksheet'!$B$15))","v":{"$error":"#N/A"}},{"$error":"#N/A"}]
[{"$f":"IF(A79<'Retirement Worksheet'!$B$5,A79+1,NA())","v":{"$error":"#N/A"}},{"$error":"#N/A"},{"$f":"B80*'Retirement Worksheet'!$B$11","v":{"$error":"#N/A"}},{"$f":"B80*'Retirement Worksheet'!$B$16","v":{"$error":"#N/A"}},{"$error":"#N/A"},null,{"$f":"B80*'Retirement Worksheet'!$B$8","v":{"$error":"#N/A"}},{"$f":"IF(ISERROR(A80),NA(),H79*(1+'Retirement Worksheet'!$B$15))","v":{"$error":"#N/A"}},{"$f":"IF(ISERROR(A80),NA(),I79*(1+'Retirement Worksheet'!$B$15))","v":{"$error":"#N/A"}},{"$error":"#N/A"},null,{"$f":"SUM('Retirement Calculations'!G80:I80)*'Retirement Worksheet'!$B$9","v":{"$error":"#N/A"}},{"$f":"SUM(G80:I80)*'Retirement Worksheet'!$B$10","v":{"$error":"#N/A"}},null,{"$error":"#N/A"},{"$f":"IF(ISERROR(A80),NA(),P79*(1+'Retirement Worksheet'!$B$15))","v":{"$error":"#N/A"}},{"$error":"#N/A"}]
[{"$f":"IF(A80<'Retirement Worksheet'!$B$5,A80+1,NA())","v":{"$error":"#N/A"}},{"$error":"#N/A"},{"$f":"B81*'Retirement Worksheet'!$B$11","v":{"$error":"#N/A"}},{"$f":"B81*'Retirement Worksheet'!$B$16","v":{"$error":"#N/A"}},{"$error":"#N/A"},null,{"$f":"B81*'Retirement Worksheet'!$B$8","v":{"$error":"#N/A"}},{"$f":"IF(ISERROR(A81),NA(),H80*(1+'Retirement Worksheet'!$B$15))","v":{"$error":"#N/A"}},{"$f":"IF(ISERROR(A81),NA(),I80*(1+'Retirement Worksheet'!$B$15))","v":{"$error":"#N/A"}},{"$error":"#N/A"},null,{"$f":"SUM('Retirement Calculations'!G81:I81)*'Retirement Worksheet'!$B$9","v":{"$error":"#N/A"}},{"$f":"SUM(G81:I81)*'Retirement Worksheet'!$B$10","v":{"$error":"#N/A"}},null,{"$error":"#N/A"},{"$f":"IF(ISERROR(A81),NA(),P80*(1+'Retirement Worksheet'!$B$15))","v":{"$error":"#N/A"}},{"$error":"#N/A"}]
[{"$f":"IF(A81<'Retirement Worksheet'!$B$5,A81+1,NA())","v":{"$error":"#N/A"}},{"$error":"#N/A"},{"$f":"B82*'Retirement Worksheet'!$B$11","v":{"$error":"#N/A"}},{"$f":"B82*'Retirement Worksheet'!$B$16","v":{"$error":"#N/A"}},{"$error":"#N/A"},null,{"$f":"B82*'Retirement Worksheet'!$B$8","v":{"$error":"#N/A"}},{"$f":"IF(ISERROR(A82),NA(),H81*(1+'Retirement Worksheet'!$B$15))","v":{"$error":"#N/A"}},{"$f":"IF(ISERROR(A82),NA(),I81*(1+'Retirement Worksheet'!$B$15))","v":{"$error":"#N/A"}},{"$error":"#N/A"},null,{"$f":"SUM('Retirement Calculations'!G82:I82)*'Retirement Worksheet'!$B$9","v":{"$error":"#N/A"}},{"$f":"SUM(G82:I82)*'Retirement Worksheet'!$B$10","v":{"$error":"#N/A"}},null,{"$error":"#N/A"},{"$f":"IF(ISERROR(A82),NA(),P81*(1+'Retirement Worksheet'!$B$15))","v":{"$error":"#N/A"}},{"$error":"#N/A"}]
[{"$f":"IF(A82<'Retirement Worksheet'!$B$5,A82+1,NA())","v":{"$error":"#N/A"}},{"$error":"#N/A"},{"$f":"B83*'Retirement Worksheet'!$B$11","v":{"$error":"#N/A"}},{"$f":"B83*'Retirement Worksheet'!$B$16","v":{"$error":"#N/A"}},{"$error":"#N/A"},null,{"$f":"B83*'Retirement Worksheet'!$B$8","v":{"$error":"#N/A"}},{"$f":"IF(ISERROR(A83),NA(),H82*(1+'Retirement Worksheet'!$B$15))","v":{"$error":"#N/A"}},{"$f":"IF(ISERROR(A83),NA(),I82*(1+'Retirement Worksheet'!$B$15))","v":{"$error":"#N/A"}},{"$error":"#N/A"},null,{"$f":"SUM('Retirement Calculations'!G83:I83)*'Retirement Worksheet'!$B$9","v":{"$error":"#N/A"}},{"$f":"SUM(G83:I83)*'Retirement Worksheet'!$B$10","v":{"$error":"#N/A"}},null,{"$error":"#N/A"},{"$f":"IF(ISERROR(A83),NA(),P82*(1+'Retirement Worksheet'!$B$15))","v":{"$error":"#N/A"}},{"$error":"#N/A"}]
[{"$f":"IF(A83<'Retirement Worksheet'!$B$5,A83+1,NA())","v":{"$error":"#N/A"}},{"$error":"#N/A"},{"$f":"B84*'Retirement Worksheet'!$B$11","v":{"$error":"#N/A"}},{"$f":"B84*'Retirement Worksheet'!$B$16","v":{"$error":"#N/A"}},{"$error":"#N/A"},null,{"$f":"B84*'Retirement Worksheet'!$B$8","v":{"$error":"#N/A"}},{"$f":"IF(ISERROR(A84),NA(),H83*(1+'Retirement Worksheet'!$B$15))","v":{"$error":"#N/A"}},{"$f":"IF(ISERROR(A84),NA(),I83*(1+'Retirement Worksheet'!$B$15))","v":{"$error":"#N/A"}},{"$error":"#N/A"},null,{"$f":"SUM('Retirement Calculations'!G84:I84)*'Retirement Worksheet'!$B$9","v":{"$error":"#N/A"}},{"$f":"SUM(G84:I84)*'Retirement Worksheet'!$B$10","v":{"$error":"#N/A"}},null,{"$error":"#N/A"},{"$f":"IF(ISERROR(A84),NA(),P83*(1+'Retirement Worksheet'!$B$15))","v":{"$error":"#N/A"}},{"$error":"#N/A"}]
[{"$f":"IF(A84<'Retirement Worksheet'!$B$5,A84+1,NA())","v":{"$error":"#N/A"}},{"$error":"#N/A"},{"$f":"B85*'Retirement Worksheet'!$B$11","v":{"$error":"#N/A"}},{"$f":"B85*'Retirement Worksheet'!$B$16","v":{"$error":"#N/A"}},{"$error":"#N/A"},null,{"$f":"B85*'Retirement Worksheet'!$B$8","v":{"$error":"#N/A"}},{"$f":"IF(ISERROR(A85),NA(),H84*(1+'Retirement Worksheet'!$B$15))","v":{"$error":"#N/A"}},{"$f":"IF(ISERROR(A85),NA(),I84*(1+'Retirement Worksheet'!$B$15))","v":{"$error":"#N/A"}},{"$error":"#N/A"},null,{"$f":"SUM('Retirement Calculations'!G85:I85)*'Retirement Worksheet'!$B$9","v":{"$error":"#N/A"}},{"$f":"SUM(G85:I85)*'Retirement Worksheet'!$B$10","v":{"$error":"#N/A"}},null,{"$error":"#N/A"},{"$f":"IF(ISERROR(A85),NA(),P84*(1+'Retirement Worksheet'!$B$15))","v":{"$error":"#N/A"}},{"$error":"#N/A"}]
[{"$f":"IF(A85<'Retirement Worksheet'!$B$5,A85+1,NA())","v":{"$error":"#N/A"}},{"$error":"#N/A"},{"$f":"B86*'Retirement Worksheet'!$B$11","v":{"$error":"#N/A"}},{"$f":"B86*'Retirement Worksheet'!$B$16","v":{"$error":"#N/A"}},{"$error":"#N/A"},null,{"$f":"B86*'Retirement Worksheet'!$B$8","v":{"$error":"#N/A"}},{"$f":"IF(ISERROR(A86),NA(),H85*(1+'Retirement Worksheet'!$B$15))","v":{"$error":"#N/A"}},{"$f":"IF(ISERROR(A86),NA(),I85*(1+'Retirement Worksheet'!$B$15))","v":{"$error":"#N/A"}},{"$error":"#N/A"},null,{"$f":"SUM('Retirement Calculations'!G86:I86)*'Retirement Worksheet'!$B$9","v":{"$error":"#N/A"}},{"$f":"SUM(G86:I86)*'Retirement Worksheet'!$B$10","v":{"$error":"#N/A"}},null,{"$error":"#N/A"},{"$f":"IF(ISERROR(A86),NA(),P85*(1+'Retirement Worksheet'!$B$15))","v":{"$error":"#N/A"}},{"$error":"#N/A"}]
[{"$f":"IF(A86<'Retirement Worksheet'!$B$5,A86+1,NA())","v":{"$error":"#N/A"}},{"$error":"#N/A"},{"$f":"B87*'Retirement Worksheet'!$B$11","v":{"$error":"#N/A"}},{"$f":"B87*'Retirement Worksheet'!$B$16","v":{"$error":"#N/A"}},{"$error":"#N/A"},null,{"$f":"B87*'Retirement Worksheet'!$B$8","v":{"$error":"#N/A"}},{"$f":"IF(ISERROR(A87),NA(),H86*(1+'Retirement Worksheet'!$B$15))","v":{"$error":"#N/A"}},{"$f":"IF(ISERROR(A87),NA(),I86*(1+'Retirement Worksheet'!$B$15))","v":{"$error":"#N/A"}},{"$error":"#N/A"},null,{"$f":"SUM('Retirement Calculations'!G87:I87)*'Retirement Worksheet'!$B$9","v":{"$error":"#N/A"}},{"$f":"SUM(G87:I87)*'Retirement Worksheet'!$B$10","v":{"$error":"#N/A"}},null,{"$error":"#N/A"},{"$f":"IF(ISERROR(A87),NA(),P86*(1+'Retirement Worksheet'!$B$15))","v":{"$error":"#N/A"}},{"$error":"#N/A"}]
[{"$f":"IF(A87<'Retirement Worksheet'!$B$5,A87+1,NA())","v":{"$error":"#N/A"}},{"$error":"#N/A"},{"$f":"B88*'Retirement Worksheet'!$B$11","v":{"$error":"#N/A"}},{"$f":"B88*'Retirement Worksheet'!$B$16","v":{"$error":"#N/A"}},{"$error":"#N/A"},null,{"$f":"B88*'Retirement Worksheet'!$B$8","v":{"$error":"#N/A"}},{"$f":"IF(ISERROR(A88),NA(),H87*(1+'Retirement Worksheet'!$B$15))","v":{"$error":"#N/A"}},{"$f":"IF(ISERROR(A88),NA(),I87*(1+'Retirement Worksheet'!$B$15))","v":{"$error":"#N/A"}},{"$error":"#N/A"},null,{"$f":"SUM('Retirement Calculations'!G88:I88)*'Retirement Worksheet'!$B$9","v":{"$error":"#N/A"}},{"$f":"SUM(G88:I88)*'Retirement Worksheet'!$B$10","v":{"$error":"#N/A"}},null,{"$error":"#N/A"},{"$f":"IF(ISERROR(A88),NA(),P87*(1+'Retirement Worksheet'!$B$15))","v":{"$error":"#N/A"}},{"$error":"#N/A"}]
[{"$f":"IF(A88<'Retirement Worksheet'!$B$5,A88+1,NA())","v":{"$error":"#N/A"}},{"$error":"#N/A"},{"$f":"B89*'Retirement Worksheet'!$B$11","v":{"$error":"#N/A"}},{"$f":"B89*'Retirement Worksheet'!$B$16","v":{"$error":"#N/A"}},{"$error":"#N/A"},null,{"$f":"B89*'Retirement Worksheet'!$B$8","v":{"$error":"#N/A"}},{"$f":"IF(ISERROR(A89),NA(),H88*(1+'Retirement Worksheet'!$B$15))","v":{"$error":"#N/A"}},{"$f":"IF(ISERROR(A89),NA(),I88*(1+'Retirement Worksheet'!$B$15))","v":{"$error":"#N/A"}},{"$error":"#N/A"},null,{"$f":"SUM('Retirement Calculations'!G89:I89)*'Retirement Worksheet'!$B$9","v":{"$error":"#N/A"}},{"$f":"SUM(G89:I89)*'Retirement Worksheet'!$B$10","v":{"$error":"#N/A"}},null,{"$error":"#N/A"},{"$f":"IF(ISERROR(A89),NA(),P88*(1+'Retirement Worksheet'!$B$15))","v":{"$error":"#N/A"}},{"$error":"#N/A"}]
[{"$f":"IF(A89<'Retirement Worksheet'!$B$5,A89+1,NA())","v":{"$error":"#N/A"}},{"$error":"#N/A"},{"$f":"B90*'Retirement Worksheet'!$B$11","v":{"$error":"#N/A"}},{"$f":"B90*'Retirement Worksheet'!$B$16","v":{"$error":"#N/A"}},{"$error":"#N/A"},null,{"$f":"B90*'Retirement Worksheet'!$B$8","v":{"$error":"#N/A"}},{"$f":"IF(ISERROR(A90),NA(),H89*(1+'Retirement Worksheet'!$B$15))","v":{"$error":"#N/A"}},{"$f":"IF(ISERROR(A90),NA(),I89*(1+'Retirement Worksheet'!$B$15))","v":{"$error":"#N/A"}},{"$error":"#N/A"},null,{"$f":"SUM('Retirement Calculations'!G90:I90)*'Retirement Worksheet'!$B$9","v":{"$error":"#N/A"}},{"$f":"SUM(G90:I90)*'Retirement Worksheet'!$B$10","v":{"$error":"#N/A"}},null,{"$error":"#N/A"},{"$f":"IF(ISERROR(A90),NA(),P89*(1+'Retirement Worksheet'!$B$15))","v":{"$error":"#N/A"}},{"$error":"#N/A"}]
[{"$f":"IF(A90<'Retirement Worksheet'!$B$5,A90+1,NA())","v":{"$error":"#N/A"}},{"$error":"#N/A"},{"$f":"B91*'Retirement Worksheet'!$B$11","v":{"$error":"#N/A"}},{"$f":"B91*'Retirement Worksheet'!$B$16","v":{"$error":"#N/A"}},{"$error":"#N/A"},null,{"$f":"B91*'Retirement Worksheet'!$B$8","v":{"$error":"#N/A"}},{"$f":"IF(ISERROR(A91),NA(),H90*(1+'Retirement Worksheet'!$B$15))","v":{"$error":"#N/A"}},{"$f":"IF(ISERROR(A91),NA(),I90*(1+'Retirement Worksheet'!$B$15))","v":{"$error":"#N/A"}},{"$error":"#N/A"},null,{"$f":"SUM('Retirement Calculations'!G91:I91)*'Retirement Worksheet'!$B$9","v":{"$error":"#N/A"}},{"$f":"SUM(G91:I91)*'Retirement Worksheet'!$B$10","v":{"$error":"#N/A"}},null,{"$error":"#N/A"},{"$f":"IF(ISERROR(A91),NA(),P90*(1+'Retirement Worksheet'!$B$15))","v":{"$error":"#N/A"}},{"$error":"#N/A"}]
[{"$f":"IF(A91<'Retirement Worksheet'!$B$5,A91+1,NA())","v":{"$error":"#N/A"}},{"$error":"#N/A"},{"$f":"B92*'Retirement Worksheet'!$B$11","v":{"$error":"#N/A"}},{"$f":"B92*'Retirement Worksheet'!$B$16","v":{"$error":"#N/A"}},{"$error":"#N/A"},null,{"$f":"B92*'Retirement Worksheet'!$B$8","v":{"$error":"#N/A"}},{"$f":"IF(ISERROR(A92),NA(),H91*(1+'Retirement Worksheet'!$B$15))","v":{"$error":"#N/A"}},{"$f":"IF(ISERROR(A92),NA(),I91*(1+'Retirement Worksheet'!$B$15))","v":{"$error":"#N/A"}},{"$error":"#N/A"},null,{"$f":"SUM('Retirement Calculations'!G92:I92)*'Retirement Worksheet'!$B$9","v":{"$error":"#N/A"}},{"$f":"SUM(G92:I92)*'Retirement Worksheet'!$B$10","v":{"$error":"#N/A"}},null,{"$error":"#N/A"},{"$f":"IF(ISERROR(A92),NA(),P91*(1+'Retirement Worksheet'!$B$15))","v":{"$error":"#N/A"}},{"$error":"#N/A"}]
[{"$f":"IF(A92<'Retirement Worksheet'!$B$5,A92+1,NA())","v":{"$error":"#N/A"}},{"$error":"#N/A"},{"$f":"B93*'Retirement Worksheet'!$B$11","v":{"$error":"#N/A"}},{"$f":"B93*'Retirement Worksheet'!$B$16","v":{"$error":"#N/A"}},{"$error":"#N/A"},null,{"$f":"B93*'Retirement Worksheet'!$B$8","v":{"$error":"#N/A"}},{"$f":"IF(ISERROR(A93),NA(),H92*(1+'Retirement Worksheet'!$B$15))","v":{"$error":"#N/A"}},{"$f":"IF(ISERROR(A93),NA(),I92*(1+'Retirement Worksheet'!$B$15))","v":{"$error":"#N/A"}},{"$error":"#N/A"},null,{"$f":"SUM('Retirement Calculations'!G93:I93)*'Retirement Worksheet'!$B$9","v":{"$error":"#N/A"}},{"$f":"SUM(G93:I93)*'Retirement Worksheet'!$B$10","v":{"$error":"#N/A"}},null,{"$error":"#N/A"},{"$f":"IF(ISERROR(A93),NA(),P92*(1+'Retirement Worksheet'!$B$15))","v":{"$error":"#N/A"}},{"$error":"#N/A"}]
[{"$f":"IF(A93<'Retirement Worksheet'!$B$5,A93+1,NA())","v":{"$error":"#N/A"}},{"$error":"#N/A"},{"$f":"B94*'Retirement Worksheet'!$B$11","v":{"$error":"#N/A"}},{"$f":"B94*'Retirement Worksheet'!$B$16","v":{"$error":"#N/A"}},{"$error":"#N/A"},null,{"$f":"B94*'Retirement Worksheet'!$B$8","v":{"$error":"#N/A"}},{"$f":"IF(ISERROR(A94),NA(),H93*(1+'Retirement Worksheet'!$B$15))","v":{"$error":"#N/A"}},{"$f":"IF(ISERROR(A94),NA(),I93*(1+'Retirement Worksheet'!$B$15))","v":{"$error":"#N/A"}},{"$error":"#N/A"},null,{"$f":"SUM('Retirement Calculations'!G94:I94)*'Retirement Worksheet'!$B$9","v":{"$error":"#N/A"}},{"$f":"SUM(G94:I94)*'Retirement Worksheet'!$B$10","v":{"$error":"#N/A"}},null,{"$error":"#N/A"},{"$f":"IF(ISERROR(A94),NA(),P93*(1+'Retirement Worksheet'!$B$15))","v":{"$error":"#N/A"}},{"$error":"#N/A"}]
[{"$f":"IF(A94<'Retirement Worksheet'!$B$5,A94+1,NA())","v":{"$error":"#N/A"}},{"$error":"#N/A"},{"$f":"B95*'Retirement Worksheet'!$B$11","v":{"$error":"#N/A"}},{"$f":"B95*'Retirement Worksheet'!$B$16","v":{"$error":"#N/A"}},{"$error":"#N/A"},null,{"$f":"B95*'Retirement Worksheet'!$B$8","v":{"$error":"#N/A"}},{"$f":"IF(ISERROR(A95),NA(),H94*(1+'Retirement Worksheet'!$B$15))","v":{"$error":"#N/A"}},{"$f":"IF(ISERROR(A95),NA(),I94*(1+'Retirement Worksheet'!$B$15))","v":{"$error":"#N/A"}},{"$error":"#N/A"},null,{"$f":"SUM('Retirement Calculations'!G95:I95)*'Retirement Worksheet'!$B$9","v":{"$error":"#N/A"}},{"$f":"SUM(G95:I95)*'Retirement Worksheet'!$B$10","v":{"$error":"#N/A"}},null,{"$error":"#N/A"},{"$f":"IF(ISERROR(A95),NA(),P94*(1+'Retirement Worksheet'!$B$15))","v":{"$error":"#N/A"}},{"$error":"#N/A"}]
[{"$f":"IF(A95<'Retirement Worksheet'!$B$5,A95+1,NA())","v":{"$error":"#N/A"}},{"$error":"#N/A"},{"$f":"B96*'Retirement Worksheet'!$B$11","v":{"$error":"#N/A"}},{"$f":"B96*'Retirement Worksheet'!$B$16","v":{"$error":"#N/A"}},{"$error":"#N/A"},null,{"$f":"B96*'Retirement Worksheet'!$B$8","v":{"$error":"#N/A"}},{"$f":"IF(ISERROR(A96),NA(),H95*(1+'Retirement Worksheet'!$B$15))","v":{"$error":"#N/A"}},{"$f":"IF(ISERROR(A96),NA(),I95*(1+'Retirement Worksheet'!$B$15))","v":{"$error":"#N/A"}},{"$error":"#N/A"},null,{"$f":"SUM('Retirement Calculations'!G96:I96)*'Retirement Worksheet'!$B$9","v":{"$error":"#N/A"}},{"$f":"SUM(G96:I96)*'Retirement Worksheet'!$B$10","v":{"$error":"#N/A"}},null,{"$error":"#N/A"},{"$f":"IF(ISERROR(A96),NA(),P95*(1+'Retirement Worksheet'!$B$15))","v":{"$error":"#N/A"}},{"$error":"#N/A"}]
[{"$f":"IF(A96<'Retirement Worksheet'!$B$5,A96+1,NA())","v":{"$error":"#N/A"}},{"$error":"#N/A"},{"$f":"B97*'Retirement Worksheet'!$B$11","v":{"$error":"#N/A"}},{"$f":"B97*'Retirement Worksheet'!$B$16","v":{"$error":"#N/A"}},{"$error":"#N/A"},null,{"$f":"B97*'Retirement Worksheet'!$B$8","v":{"$error":"#N/A"}},{"$f":"IF(ISERROR(A97),NA(),H96*(1+'Retirement Worksheet'!$B$15))","v":{"$error":"#N/A"}},{"$f":"IF(ISERROR(A97),NA(),I96*(1+'Retirement Worksheet'!$B$15))","v":{"$error":"#N/A"}},{"$error":"#N/A"},null,{"$f":"SUM('Retirement Calculations'!G97:I97)*'Retirement Worksheet'!$B$9","v":{"$error":"#N/A"}},{"$f":"SUM(G97:I97)*'Retirement Worksheet'!$B$10","v":{"$error":"#N/A"}},null,{"$error":"#N/A"},{"$f":"IF(ISERROR(A97),NA(),P96*(1+'Retirement Worksheet'!$B$15))","v":{"$error":"#N/A"}},{"$error":"#N/A"}]
[{"$f":"IF(A97<'Retirement Worksheet'!$B$5,A97+1,NA())","v":{"$error":"#N/A"}},{"$error":"#N/A"},{"$f":"B98*'Retirement Worksheet'!$B$11","v":{"$error":"#N/A"}},{"$f":"B98*'Retirement Worksheet'!$B$16","v":{"$error":"#N/A"}},{"$error":"#N/A"},null,{"$f":"B98*'Retirement Worksheet'!$B$8","v":{"$error":"#N/A"}},{"$f":"IF(ISERROR(A98),NA(),H97*(1+'Retirement Worksheet'!$B$15))","v":{"$error":"#N/A"}},{"$f":"IF(ISERROR(A98),NA(),I97*(1+'Retirement Worksheet'!$B$15))","v":{"$error":"#N/A"}},{"$error":"#N/A"},null,{"$f":"SUM('Retirement Calculations'!G98:I98)*'Retirement Worksheet'!$B$9","v":{"$error":"#N/A"}},{"$f":"SUM(G98:I98)*'Retirement Worksheet'!$B$10","v":{"$error":"#N/A"}},null,{"$error":"#N/A"},{"$f":"IF(ISERROR(A98),NA(),P97*(1+'Retirement Worksheet'!$B$15))","v":{"$error":"#N/A"}},{"$error":"#N/A"}]
[{"$f":"IF(A98<'Retirement Worksheet'!$B$5,A98+1,NA())","v":{"$error":"#N/A"}},{"$error":"#N/A"},{"$f":"B99*'Retirement Worksheet'!$B$11","v":{"$error":"#N/A"}},{"$f":"B99*'Retirement Worksheet'!$B$16","v":{"$error":"#N/A"}},{"$error":"#N/A"},null,{"$f":"B99*'Retirement Worksheet'!$B$8","v":{"$error":"#N/A"}},{"$f":"IF(ISERROR(A99),NA(),H98*(1+'Retirement Worksheet'!$B$15))","v":{"$error":"#N/A"}},{"$f":"IF(ISERROR(A99),NA(),I98*(1+'Retirement Worksheet'!$B$15))","v":{"$error":"#N/A"}},{"$error":"#N/A"},null,{"$f":"SUM('Retirement Calculations'!G99:I99)*'Retirement Worksheet'!$B$9","v":{"$error":"#N/A"}},{"$f":"SUM(G99:I99)*'Retirement Worksheet'!$B$10","v":{"$error":"#N/A"}},null,{"$error":"#N/A"},{"$f":"IF(ISERROR(A99),NA(),P98*(1+'Retirement Worksheet'!$B$15))","v":{"$error":"#N/A"}},{"$error":"#N/A"}]
[{"$f":"IF(A99<'Retirement Worksheet'!$B$5,A99+1,NA())","v":{"$error":"#N/A"}},{"$error":"#N/A"},{"$f":"B100*'Retirement Worksheet'!$B$11","v":{"$error":"#N/A"}},{"$f":"B100*'Retirement Worksheet'!$B$16","v":{"$error":"#N/A"}},{"$error":"#N/A"},null,{"$f":"B100*'Retirement Worksheet'!$B$8","v":{"$error":"#N/A"}},{"$f":"IF(ISERROR(A100),NA(),H99*(1+'Retirement Worksheet'!$B$15))","v":{"$error":"#N/A"}},{"$f":"IF(ISERROR(A100),NA(),I99*(1+'Retirement Worksheet'!$B$15))","v":{"$error":"#N/A"}},{"$error":"#N/A"},null,{"$f":"SUM('Retirement Calculations'!G100:I100)*'Retirement Worksheet'!$B$9","v":{"$error":"#N/A"}},{"$f":"SUM(G100:I100)*'Retirement Worksheet'!$B$10","v":{"$error":"#N/A"}},null,{"$error":"#N/A"},{"$f":"IF(ISERROR(A100),NA(),P99*(1+'Retirement Worksheet'!$B$15))","v":{"$error":"#N/A"}},{"$error":"#N/A"}]
[{"$f":"IF(A100<'Retirement Worksheet'!$B$5,A100+1,NA())","v":{"$error":"#N/A"}},{"$error":"#N/A"},{"$f":"B101*'Retirement Worksheet'!$B$11","v":{"$error":"#N/A"}},{"$f":"B101*'Retirement Worksheet'!$B$16","v":{"$error":"#N/A"}},{"$error":"#N/A"},null,{"$f":"B101*'Retirement Worksheet'!$B$8","v":{"$error":"#N/A"}},{"$f":"IF(ISERROR(A101),NA(),H100*(1+'Retirement Worksheet'!$B$15))","v":{"$error":"#N/A"}},{"$f":"IF(ISERROR(A101),NA(),I100*(1+'Retirement Worksheet'!$B$15))","v":{"$error":"#N/A"}},{"$error":"#N/A"},null,{"$f":"SUM('Retirement Calculations'!G101:I101)*'Retirement Worksheet'!$B$9","v":{"$error":"#N/A"}},{"$f":"SUM(G101:I101)*'Retirement Worksheet'!$B$10","v":{"$error":"#N/A"}},null,{"$error":"#N/A"},{"$f":"IF(ISERROR(A101),NA(),P100*(1+'Retirement Worksheet'!$B$15))","v":{"$error":"#N/A"}},{"$error":"#N/A"}]
[{"$f":"IF(A101<'Retirement Worksheet'!$B$5,A101+1,NA())","v":{"$error":"#N/A"}},{"$error":"#N/A"},{"$f":"B102*'Retirement Worksheet'!$B$11","v":{"$error":"#N/A"}},{"$f":"B102*'Retirement Worksheet'!$B$16","v":{"$error":"#N/A"}},{"$error":"#N/A"},null,{"$f":"B102*'Retirement Worksheet'!$B$8","v":{"$error":"#N/A"}},{"$f":"IF(ISERROR(A102),NA(),H101*(1+'Retirement Worksheet'!$B$15))","v":{"$error":"#N/A"}},{"$f":"IF(ISERROR(A102),NA(),I101*(1+'Retirement Worksheet'!$B$15))","v":{"$error":"#N/A"}},{"$error":"#N/A"},null,{"$f":"SUM('Retirement Calculations'!G102:I102)*'Retirement Worksheet'!$B$9","v":{"$error":"#N/A"}},{"$f":"SUM(G102:I102)*'Retirement Worksheet'!$B$10","v":{"$error":"#N/A"}},null,{"$error":"#N/A"},{"$f":"IF(ISERROR(A102),NA(),P101*(1+'Retirement Worksheet'!$B$15))","v":{"$error":"#N/A"}},{"$error":"#N/A"}]
[{"$f":"IF(A102<'Retirement Worksheet'!$B$5,A102+1,NA())","v":{"$error":"#N/A"}},{"$error":"#N/A"},{"$f":"B103*'Retirement Worksheet'!$B$11","v":{"$error":"#N/A"}},{"$f":"B103*'Retirement Worksheet'!$B$16","v":{"$error":"#N/A"}},{"$error":"#N/A"},null,{"$f":"B103*'Retirement Worksheet'!$B$8","v":{"$error":"#N/A"}},{"$f":"IF(ISERROR(A103),NA(),H102*(1+'Retirement Worksheet'!$B$15))","v":{"$error":"#N/A"}},{"$f":"IF(ISERROR(A103),NA(),I102*(1+'Retirement Worksheet'!$B$15))","v":{"$error":"#N/A"}},{"$error":"#N/A"},null,{"$f":"SUM('Retirement Calculations'!G103:I103)*'Retirement Worksheet'!$B$9","v":{"$error":"#N/A"}},{"$f":"SUM(G103:I103)*'Retirement Worksheet'!$B$10","v":{"$error":"#N/A"}},null,{"$error":"#N/A"},{"$f":"IF(ISERROR(A103),NA(),P102*(1+'Retirement Worksheet'!$B$15))","v":{"$error":"#N/A"}},{"$error":"#N/A"}]
[{"$f":"IF(A103<'Retirement Worksheet'!$B$5,A103+1,NA())","v":{"$error":"#N/A"}},{"$error":"#N/A"},{"$f":"B104*'Retirement Worksheet'!$B$11","v":{"$error":"#N/A"}},{"$f":"B104*'Retirement Worksheet'!$B$16","v":{"$error":"#N/A"}},{"$error":"#N/A"},null,{"$f":"B104*'Retirement Worksheet'!$B$8","v":{"$error":"#N/A"}},{"$f":"IF(ISERROR(A104),NA(),H103*(1+'Retirement Worksheet'!$B$15))","v":{"$error":"#N/A"}},{"$f":"IF(ISERROR(A104),NA(),I103*(1+'Retirement Worksheet'!$B$15))","v":{"$error":"#N/A"}},{"$error":"#N/A"},null,{"$f":"SUM('Retirement Calculations'!G104:I104)*'Retirement Worksheet'!$B$9","v":{"$error":"#N/A"}},{"$f":"SUM(G104:I104)*'Retirement Worksheet'!$B$10","v":{"$error":"#N/A"}},null,{"$error":"#N/A"},{"$f":"IF(ISERROR(A104),NA(),P103*(1+'Retirement Worksheet'!$B$15))","v":{"$error":"#N/A"}},{"$error":"#N/A"}]
[{"$f":"IF(A104<'Retirement Worksheet'!$B$5,A104+1,NA())","v":{"$error":"#N/A"}},{"$error":"#N/A"},{"$f":"B105*'Retirement Worksheet'!$B$11","v":{"$error":"#N/A"}},{"$f":"B105*'Retirement Worksheet'!$B$16","v":{"$error":"#N/A"}},{"$error":"#N/A"},null,{"$f":"B105*'Retirement Worksheet'!$B$8","v":{"$error":"#N/A"}},{"$f":"IF(ISERROR(A105),NA(),H104*(1+'Retirement Worksheet'!$B$15))","v":{"$error":"#N/A"}},{"$f":"IF(ISERROR(A105),NA(),I104*(1+'Retirement Worksheet'!$B$15))","v":{"$error":"#N/A"}},{"$error":"#N/A"},null,{"$f":"SUM('Retirement Calculations'!G105:I105)*'Retirement Worksheet'!$B$9","v":{"$error":"#N/A"}},{"$f":"SUM(G105:I105)*'Retirement Worksheet'!$B$10","v":{"$error":"#N/A"}},null,{"$error":"#N/A"},{"$f":"IF(ISERROR(A105),NA(),P104*(1+'Retirement Worksheet'!$B$15))","v":{"$error":"#N/A"}},{"$error":"#N/A"}]
[{"$f":"IF(A105<'Retirement Worksheet'!$B$5,A105+1,NA())","v":{"$error":"#N/A"}},{"$error":"#N/A"},{"$f":"B106*'Retirement Worksheet'!$B$11","v":{"$error":"#N/A"}},{"$f":"B106*'Retirement Worksheet'!$B$16","v":{"$error":"#N/A"}},{"$error":"#N/A"},null,{"$f":"B106*'Retirement Worksheet'!$B$8","v":{"$error":"#N/A"}},{"$f":"IF(ISERROR(A106),NA(),H105*(1+'Retirement Worksheet'!$B$15))","v":{"$error":"#N/A"}},{"$f":"IF(ISERROR(A106),NA(),I105*(1+'Retirement Worksheet'!$B$15))","v":{"$error":"#N/A"}},{"$error":"#N/A"},null,{"$f":"SUM('Retirement Calculations'!G106:I106)*'Retirement Worksheet'!$B$9","v":{"$error":"#N/A"}},{"$f":"SUM(G106:I106)*'Retirement Worksheet'!$B$10","v":{"$error":"#N/A"}},null,{"$error":"#N/A"},{"$f":"IF(ISERROR(A106),NA(),P105*(1+'Retirement Worksheet'!$B$15))","v":{"$error":"#N/A"}},{"$error":"#N/A"}]
[{"$f":"IF(A106<'Retirement Worksheet'!$B$5,A106+1,NA())","v":{"$error":"#N/A"}},{"$error":"#N/A"},{"$f":"B107*'Retirement Worksheet'!$B$11","v":{"$error":"#N/A"}},{"$f":"B107*'Retirement Worksheet'!$B$16","v":{"$error":"#N/A"}},{"$error":"#N/A"},null,{"$f":"B107*'Retirement Worksheet'!$B$8","v":{"$error":"#N/A"}},{"$f":"IF(ISERROR(A107),NA(),H106*(1+'Retirement Worksheet'!$B$15))","v":{"$error":"#N/A"}},{"$f":"IF(ISERROR(A107),NA(),I106*(1+'Retirement Worksheet'!$B$15))","v":{"$error":"#N/A"}},{"$error":"#N/A"},null,{"$f":"SUM('Retirement Calculations'!G107:I107)*'Retirement Worksheet'!$B$9","v":{"$error":"#N/A"}},{"$f":"SUM(G107:I107)*'Retirement Worksheet'!$B$10","v":{"$error":"#N/A"}},null,{"$error":"#N/A"},{"$f":"IF(ISERROR(A107),NA(),P106*(1+'Retirement Worksheet'!$B$15))","v":{"$error":"#N/A"}},{"$error":"#N/A"}]