{"text_format":"1","workbook":"xlsx","n_sheets":2,"sheets":["Salary Worksheet","Salary Calculations"],"not_rendered":{"charts":1,"images":0,"macros":1,"external_links":0,"defined_names":27,"comments":1,"pivot_tables":1},"unopened":[],"bounds":{"document_bytes":16777216,"sheet_cells":100000,"rows_first":2000,"rows_last":500,"rows_between":2000,"halvings":0,"cell_chars":16384,"cell_head_chars":4096},"cells_cut":0,"cells_raw":0,"read":"whole","date_system":"1900"}

{"sheet":"Salary Worksheet","index":0,"n_rows":93,"n_cols":26,"rows_kept":93,"cut":false,"hidden":false,"merged":[[3,0,3,1],[23,9,23,11],[23,12,23,17],[0,3,0,11]]}
["SALARY WORKSHEET",null,null,"Salary Requirement Graph"]
["DIRECTIONS: 1) Enter assumptions, 2) click 'Enter'->"]
[]
["Assumptions"]
["Current age (# years old)",42]
["Projected Retirement age (# years old)",70]
["Current Savings Available ($)",500000]
["Federal Tax rate (%)",0.25]
["State Tax rate (%)",0.06]
["Local Tax rate (%)",0.02]
["Annual investment fees (%)",2.5000000000000001E-3]
["Annual return on investments (%)",0.05]
["Social Security tax rate (%)",6.2E-2]
["Medicare tax rate (%)",1.4500000000000001E-2]
["Required Savings upon retirement ($)",2000000]
["Projected Annual Salary at Current Age ($)",150000]
["Annual Military Pension ($)",50000]
["Military Pension Taxed by State?","Yes",null,null,null,null,null,null,null,null,null,null,null,null,null,null,null,null,null,null,null,"Row Labels","Sum of Savings","Sum of Savings Requirement","Sum of Salary","Sum of Net Income"]
["Annual expenses ($)",100000,null,null,null,null,null,null,null,null,null,null,null,null,null,null,null,null,null,null,null,42,500000,2000000,150000,18700]
["Annual inflation rate and income increases (%)",0.02,null,null,null,null,null,null,null,null,null,null,null,null,null,null,null,null,null,null,null,43,542450,2000000,153000,19074]
[null,null,null,null,null,null,null,null,null,null,null,null,null,null,null,null,null,null,null,null,null,44,587290.375,2000000,156060,19455.479999999996]
[null,null,null,"Chart Detail",null,null,null,null,null,null,null,null,null,null,null,null,null,null,null,null,null,45,634642.14781250001,2000000,159181.20000000001,19844.589600000007]
[null,null,null,null,null,null,null,null,null,null,null,null,null,null,null,null,null,null,null,null,null,46,684632.23943359382,2000000,162364.82400000002,20241.481392000016]
[null,null,null,null,"Investments",null,null,null,null,"Income",null,null,"Deductions",null,null,null,null,null,null,null,null,47,737393.7521986895,2000000,165612.12048000001,20646.31101984001]
[null,null,null,{"$f":"'Salary Calculations'!A2","v":"Age"},{"$f":"'Salary Calculations'!B2","v":"Savings"},{"$f":"'Salary Calculations'!C2","v":"Savings Requirement"},{"$f":"'Salary Calculations'!D2","v":"Investment Fees"},{"$f":"'Salary Calculations'!E2","v":"Return on Investments"},{"$f":"'Salary Calculations'!F2","v":"Net Investments"},{"$f":"'Salary Calculations'!G2","v":"Salary"},{"$f":"'Salary Calculations'!H2","v":"Pension"},{"$f":"'Salary Calculations'!I2","v":"Total Income"},{"$f":"'Salary Calculations'!J2","v":"Federal Taxes"},{"$f":"'Salary Calculations'!K2","v":"Social Security"},{"$f":"'Salary Calculations'!L2","v":"Medicare"},{"$f":"'Salary Calculations'!M2","v":"State Taxes"},{"$f":"'Salary Calculations'!N2","v":"Local Taxes"},{"$f":"'Salary Calculations'!O2","v":"Total Deductions"},{"$f":"'Salary Calculations'!P2","v":"Expenses"},{"$f":"'Salary Calculations'!Q2","v":"Net Income"},null,48,793066.26644796738,2000000,168924.36288960002,21059.237240236791]
[null,null,null,{"$f":"IFERROR('Salary Calculations'!A3,\"\")","v":42},{"$f":"IFERROR('Salary Calculations'!B3,\"\")","v":500000},{"$f":"IFERROR('Salary Calculations'!C3,\"\")","v":2000000},{"$f":"IFERROR('Salary Calculations'!D3,\"\")","v":1250},{"$f":"IFERROR('Salary Calculations'!E3,\"\")","v":25000},{"$f":"IFERROR('Salary Calculations'!F3,\"\")","v":523750},{"$f":"IFERROR('Salary Calculations'!G3,\"\")","v":150000},{"$f":"IFERROR('Salary Calculations'!H3,\"\")","v":50000},{"$f":"IFERROR('Salary Calculations'!I3,\"\")","v":200000},{"$f":"IFERROR('Salary Calculations'!J3,\"\")","v":50000},{"$f":"IFERROR('Salary Calculations'!K3,\"\")","v":12400},{"$f":"IFERROR('Salary Calculations'!L3,\"\")","v":2900},{"$f":"IFERROR('Salary Calculations'!M3,\"\")","v":12000},{"$f":"IFERROR('Salary Calculations'!N3,\"\")","v":4000},{"$f":"IFERROR('Salary Calculations'!O3,\"\")","v":81300},{"$f":"IFERROR('Salary Calculations'!P3,\"\")","v":100000},{"$f":"IFERROR('Salary Calculations'!Q3,\"\")","v":18700},null,49,851796.15134448267,2000000,172302.85014739202,21480.421985041539]
[null,null,null,{"$f":"IFERROR('Salary Calculations'!A4,\"\")","v":43},{"$f":"IFERROR('Salary Calculations'!B4,\"\")","v":542450},{"$f":"IFERROR('Salary Calculations'!C4,\"\")","v":2000000},{"$f":"IFERROR('Salary Calculations'!D4,\"\")","v":1356.125},{"$f":"IFERROR('Salary Calculations'!E4,\"\")","v":27122.5},{"$f":"IFERROR('Salary Calculations'!F4,\"\")","v":568216.375},{"$f":"IFERROR('Salary Calculations'!G4,\"\")","v":153000},{"$f":"IFERROR('Salary Calculations'!H4,\"\")","v":51000},{"$f":"IFERROR('Salary Calculations'!I4,\"\")","v":204000},{"$f":"IFERROR('Salary Calculations'!J4,\"\")","v":51000},{"$f":"IFERROR('Salary Calculations'!K4,\"\")","v":12648},{"$f":"IFERROR('Salary Calculations'!L4,\"\")","v":2958},{"$f":"IFERROR('Salary Calculations'!M4,\"\")","v":12240},{"$f":"IFERROR('Salary Calculations'!N4,\"\")","v":4080},{"$f":"IFERROR('Salary Calculations'!O4,\"\")","v":82926},{"$f":"IFERROR('Salary Calculations'!P4,\"\")","v":102000},{"$f":"IFERROR('Salary Calculations'!Q4,\"\")","v":19074},null,50,913736.8905183872,2000000,175748.90715033986,21910.030424742377]
[null,null,null,{"$f":"IFERROR('Salary Calculations'!A5,\"\")","v":44},{"$f":"IFERROR('Salary Calculations'!B5,\"\")","v":587290.375},{"$f":"IFERROR('Salary Calculations'!C5,\"\")","v":2000000},{"$f":"IFERROR('Salary Calculations'!D5,\"\")","v":1468.2259375000001},{"$f":"IFERROR('Salary Calculations'!E5,\"\")","v":29364.518750000003},{"$f":"IFERROR('Salary Calculations'!F5,\"\")","v":615186.66781250003},{"$f":"IFERROR('Salary Calculations'!G5,\"\")","v":156060},{"$f":"IFERROR('Salary Calculations'!H5,\"\")","v":52020},{"$f":"IFERROR('Salary Calculations'!I5,\"\")","v":208080},{"$f":"IFERROR('Salary Calculations'!J5,\"\")","v":52020},{"$f":"IFERROR('Salary Calculations'!K5,\"\")","v":12900.96},{"$f":"IFERROR('Salary Calculations'!L5,\"\")","v":3017.1600000000003},{"$f":"IFERROR('Salary Calculations'!M5,\"\")","v":12484.8},{"$f":"IFERROR('Salary Calculations'!N5,\"\")","v":4161.6000000000004},{"$f":"IFERROR('Salary Calculations'!O5,\"\")","v":84584.52},{"$f":"IFERROR('Salary Calculations'!P5,\"\")","v":104040},{"$f":"IFERROR('Salary Calculations'!Q5,\"\")","v":19455.479999999996},null,51,979049.42324275302,2000000,179263.88529334666,22348.2310332372]
[null,null,null,{"$f":"IFERROR('Salary Calculations'!A6,\"\")","v":45},{"$f":"IFERROR('Salary Calculations'!B6,\"\")","v":634642.14781250001},{"$f":"IFERROR('Salary Calculations'!C6,\"\")","v":2000000},{"$f":"IFERROR('Salary Calculations'!D6,\"\")","v":1586.6053695312501},{"$f":"IFERROR('Salary Calculations'!E6,\"\")","v":31732.107390625002},{"$f":"IFERROR('Salary Calculations'!F6,\"\")","v":664787.64983359387},{"$f":"IFERROR('Salary Calculations'!G6,\"\")","v":159181.20000000001},{"$f":"IFERROR('Salary Calculations'!H6,\"\")","v":53060.4},{"$f":"IFERROR('Salary Calculations'!I6,\"\")","v":212241.6},{"$f":"IFERROR('Salary Calculations'!J6,\"\")","v":53060.4},{"$f":"IFERROR('Salary Calculations'!K6,\"\")","v":13158.9792},{"$f":"IFERROR('Salary Calculations'!L6,\"\")","v":3077.5032000000001},{"$f":"IFERROR('Salary Calculations'!M6,\"\")","v":12734.495999999999},{"$f":"IFERROR('Salary Calculations'!N6,\"\")","v":4244.8320000000003},{"$f":"IFERROR('Salary Calculations'!O6,\"\")","v":86276.210399999996},{"$f":"IFERROR('Salary Calculations'!P6,\"\")","v":106120.8},{"$f":"IFERROR('Salary Calculations'!Q6,\"\")","v":19844.589600000007},null,52,1047902.5018800211,2000000,182849.16299921359,22795.195653901959]
[null,null,null,{"$f":"IFERROR('Salary Calculations'!A7,\"\")","v":46},{"$f":"IFERROR('Salary Calculations'!B7,\"\")","v":684632.23943359382},{"$f":"IFERROR('Salary Calculations'!C7,\"\")","v":2000000},{"$f":"IFERROR('Salary Calculations'!D7,\"\")","v":1711.5805985839845},{"$f":"IFERROR('Salary Calculations'!E7,\"\")","v":34231.611971679689},{"$f":"IFERROR('Salary Calculations'!F7,\"\")","v":717152.27080668951},{"$f":"IFERROR('Salary Calculations'!G7,\"\")","v":162364.82400000002},{"$f":"IFERROR('Salary Calculations'!H7,\"\")","v":54121.608},{"$f":"IFERROR('Salary Calculations'!I7,\"\")","v":216486.43200000003},{"$f":"IFERROR('Salary Calculations'!J7,\"\")","v":54121.608000000007},{"$f":"IFERROR('Salary Calculations'!K7,\"\")","v":13422.158784000001},{"$f":"IFERROR('Salary Calculations'!L7,\"\")","v":3139.0532640000006},{"$f":"IFERROR('Salary Calculations'!M7,\"\")","v":12989.185920000002},{"$f":"IFERROR('Salary Calculations'!N7,\"\")","v":4329.7286400000003},{"$f":"IFERROR('Salary Calculations'!O7,\"\")","v":88001.734608000013},{"$f":"IFERROR('Salary Calculations'!P7,\"\")","v":108243.216},{"$f":"IFERROR('Salary Calculations'!Q7,\"\")","v":20241.481392000016},null,53,1120473.0663732239,2000000,186506.14625919785,23251.099566979959]
[null,null,null,{"$f":"IFERROR('Salary Calculations'!A8,\"\")","v":47},{"$f":"IFERROR('Salary Calculations'!B8,\"\")","v":737393.7521986895},{"$f":"IFERROR('Salary Calculations'!C8,\"\")","v":2000000},{"$f":"IFERROR('Salary Calculations'!D8,\"\")","v":1843.4843804967238},{"$f":"IFERROR('Salary Calculations'!E8,\"\")","v":36869.687609934474},{"$f":"IFERROR('Salary Calculations'!F8,\"\")","v":772419.95542812732},{"$f":"IFERROR('Salary Calculations'!G8,\"\")","v":165612.12048000001},{"$f":"IFERROR('Salary Calculations'!H8,\"\")","v":55204.040160000004},{"$f":"IFERROR('Salary Calculations'!I8,\"\")","v":220816.16064000002},{"$f":"IFERROR('Salary Calculations'!J8,\"\")","v":55204.040160000004},{"$f":"IFERROR('Salary Calculations'!K8,\"\")","v":13690.601959680002},{"$f":"IFERROR('Salary Calculations'!L8,\"\")","v":3201.8343292800005},{"$f":"IFERROR('Salary Calculations'!M8,\"\")","v":13248.9696384},{"$f":"IFERROR('Salary Calculations'!N8,\"\")","v":4416.3232128000009},{"$f":"IFERROR('Salary Calculations'!O8,\"\")","v":89761.769300159998},{"$f":"IFERROR('Salary Calculations'!P8,\"\")","v":110408.08032000001},{"$f":"IFERROR('Salary Calculations'!Q8,\"\")","v":20646.31101984001},null,54,1196946.636592932,2000000,190236.26918438182,23716.121558319603]
[null,null,null,{"$f":"IFERROR('Salary Calculations'!A9,\"\")","v":48},{"$f":"IFERROR('Salary Calculations'!B9,\"\")","v":793066.26644796738},{"$f":"IFERROR('Salary Calculations'!C9,\"\")","v":2000000},{"$f":"IFERROR('Salary Calculations'!D9,\"\")","v":1982.6656661199186},{"$f":"IFERROR('Salary Calculations'!E9,\"\")","v":39653.313322398375},{"$f":"IFERROR('Salary Calculations'!F9,\"\")","v":830736.91410424584},{"$f":"IFERROR('Salary Calculations'!G9,\"\")","v":168924.36288960002},{"$f":"IFERROR('Salary Calculations'!H9,\"\")","v":56308.120963200003},{"$f":"IFERROR('Salary Calculations'!I9,\"\")","v":225232.48385280001},{"$f":"IFERROR('Salary Calculations'!J9,\"\")","v":56308.120963200003},{"$f":"IFERROR('Salary Calculations'!K9,\"\")","v":13964.413998873601},{"$f":"IFERROR('Salary Calculations'!L9,\"\")","v":3265.8710158656004},{"$f":"IFERROR('Salary Calculations'!M9,\"\")","v":13513.949031168},{"$f":"IFERROR('Salary Calculations'!N9,\"\")","v":4504.6496770560007},{"$f":"IFERROR('Salary Calculations'!O9,\"\")","v":91557.004686163215},{"$f":"IFERROR('Salary Calculations'!P9,\"\")","v":112616.24192640001},{"$f":"IFERROR('Salary Calculations'!Q9,\"\")","v":21059.237240236791},null,55,1277517.7233894158,2000000,194040.99456806947,24190.443989485997]
[null,null,null,{"$f":"IFERROR('Salary Calculations'!A10,\"\")","v":49},{"$f":"IFERROR('Salary Calculations'!B10,\"\")","v":851796.15134448267},{"$f":"IFERROR('Salary Calculations'!C10,\"\")","v":2000000},{"$f":"IFERROR('Salary Calculations'!D10,\"\")","v":2129.4903783612067},{"$f":"IFERROR('Salary Calculations'!E10,\"\")","v":42589.807567224139},{"$f":"IFERROR('Salary Calculations'!F10,\"\")","v":892256.46853334561},{"$f":"IFERROR('Salary Calculations'!G10,\"\")","v":172302.85014739202},{"$f":"IFERROR('Salary Calculations'!H10,\"\")","v":57434.283382464004},{"$f":"IFERROR('Salary Calculations'!I10,\"\")","v":229737.13352985602},{"$f":"IFERROR('Salary Calculations'!J10,\"\")","v":57434.283382464004},{"$f":"IFERROR('Salary Calculations'!K10,\"\")","v":14243.702278851073},{"$f":"IFERROR('Salary Calculations'!L10,\"\")","v":3331.1884361829125},{"$f":"IFERROR('Salary Calculations'!M10,\"\")","v":13784.22801179136},{"$f":"IFERROR('Salary Calculations'!N10,\"\")","v":4594.7426705971202},{"$f":"IFERROR('Salary Calculations'!O10,\"\")","v":93388.144779886468},{"$f":"IFERROR('Salary Calculations'!P10,\"\")","v":114868.56676492801},{"$f":"IFERROR('Salary Calculations'!Q10,\"\")","v":21480.421985041539},null,56,1362390.259239899,2000000,197921.81445943087,24674.252869275719]
[null,null,null,{"$f":"IFERROR('Salary Calculations'!A11,\"\")","v":50},{"$f":"IFERROR('Salary Calculations'!B11,\"\")","v":913736.8905183872},{"$f":"IFERROR('Salary Calculations'!C11,\"\")","v":2000000},{"$f":"IFERROR('Salary Calculations'!D11,\"\")","v":2284.342226295968},{"$f":"IFERROR('Salary Calculations'!E11,\"\")","v":45686.844525919361},{"$f":"IFERROR('Salary Calculations'!F11,\"\")","v":957139.39281801064},{"$f":"IFERROR('Salary Calculations'!G11,\"\")","v":175748.90715033986},{"$f":"IFERROR('Salary Calculations'!H11,\"\")","v":58582.969050113286},{"$f":"IFERROR('Salary Calculations'!I11,\"\")","v":234331.87620045315},{"$f":"IFERROR('Salary Calculations'!J11,\"\")","v":58582.969050113286},{"$f":"IFERROR('Salary Calculations'!K11,\"\")","v":14528.576324428095},{"$f":"IFERROR('Salary Calculations'!L11,\"\")","v":3397.812204906571},{"$f":"IFERROR('Salary Calculations'!M11,\"\")","v":14059.912572027188},{"$f":"IFERROR('Salary Calculations'!N11,\"\")","v":4686.6375240090629},{"$f":"IFERROR('Salary Calculations'!O11,\"\")","v":95255.907675484195},{"$f":"IFERROR('Salary Calculations'!P11,\"\")","v":117165.93810022657},{"$f":"IFERROR('Salary Calculations'!Q11,\"\")","v":21910.030424742377},null,57,1451778.0494230697,2000000,201880.2507486195,25167.737926661241]
[null,null,null,{"$f":"IFERROR('Salary Calculations'!A12,\"\")","v":51},{"$f":"IFERROR('Salary Calculations'!B12,\"\")","v":979049.42324275302},{"$f":"IFERROR('Salary Calculations'!C12,\"\")","v":2000000},{"$f":"IFERROR('Salary Calculations'!D12,\"\")","v":2447.6235581068827},{"$f":"IFERROR('Salary Calculations'!E12,\"\")","v":48952.471162137655},{"$f":"IFERROR('Salary Calculations'!F12,\"\")","v":1025554.2708467839},{"$f":"IFERROR('Salary Calculations'!G12,\"\")","v":179263.88529334666},{"$f":"IFERROR('Salary Calculations'!H12,\"\")","v":59754.628431115554},{"$f":"IFERROR('Salary Calculations'!I12,\"\")","v":239018.51372446222},{"$f":"IFERROR('Salary Calculations'!J12,\"\")","v":59754.628431115554},{"$f":"IFERROR('Salary Calculations'!K12,\"\")","v":14819.147850916657},{"$f":"IFERROR('Salary Calculations'!L12,\"\")","v":3465.7684490047022},{"$f":"IFERROR('Salary Calculations'!M12,\"\")","v":14341.110823467732},{"$f":"IFERROR('Salary Calculations'!N12,\"\")","v":4780.3702744892444},{"$f":"IFERROR('Salary Calculations'!O12,\"\")","v":97161.025828993894},{"$f":"IFERROR('Salary Calculations'!P12,\"\")","v":119509.25686223111},{"$f":"IFERROR('Salary Calculations'!Q12,\"\")","v":22348.2310332372},null,58,1545905.2446973268,2000000,205917.85576359188,25671.092685194482]
[null,null,null,{"$f":"IFERROR('Salary Calculations'!A13,\"\")","v":52},{"$f":"IFERROR('Salary Calculations'!B13,\"\")","v":1047902.5018800211},{"$f":"IFERROR('Salary Calculations'!C13,\"\")","v":2000000},{"$f":"IFERROR('Salary Calculations'!D13,\"\")","v":2619.7562547000525},{"$f":"IFERROR('Salary Calculations'!E13,\"\")","v":52395.125094001058},{"$f":"IFERROR('Salary Calculations'!F13,\"\")","v":1097677.870719322},{"$f":"IFERROR('Salary Calculations'!G13,\"\")","v":182849.16299921359},{"$f":"IFERROR('Salary Calculations'!H13,\"\")","v":60949.720999737867},{"$f":"IFERROR('Salary Calculations'!I13,\"\")","v":243798.88399895147},{"$f":"IFERROR('Salary Calculations'!J13,\"\")","v":60949.720999737867},{"$f":"IFERROR('Salary Calculations'!K13,\"\")","v":15115.530807934991},{"$f":"IFERROR('Salary Calculations'!L13,\"\")","v":3535.0838179847965},{"$f":"IFERROR('Salary Calculations'!M13,\"\")","v":14627.933039937088},{"$f":"IFERROR('Salary Calculations'!N13,\"\")","v":4875.9776799790297},{"$f":"IFERROR('Salary Calculations'!O13,\"\")","v":99104.246345573774},{"$f":"IFERROR('Salary Calculations'!P13,\"\")","v":121899.44199947573},{"$f":"IFERROR('Salary Calculations'!Q13,\"\")","v":22795.195653901959},null,59,1645006.8365056443,2000000,210036.21287886373,26184.514538898336]
[null,null,null,{"$f":"IFERROR('Salary Calculations'!A14,\"\")","v":53},{"$f":"IFERROR('Salary Calculations'!B14,\"\")","v":1120473.0663732239},{"$f":"IFERROR('Salary Calculations'!C14,\"\")","v":2000000},{"$f":"IFERROR('Salary Calculations'!D14,\"\")","v":2801.18266593306},{"$f":"IFERROR('Salary Calculations'!E14,\"\")","v":56023.6533186612},{"$f":"IFERROR('Salary Calculations'!F14,\"\")","v":1173695.537025952},{"$f":"IFERROR('Salary Calculations'!G14,\"\")","v":186506.14625919785},{"$f":"IFERROR('Salary Calculations'!H14,\"\")","v":62168.715419732624},{"$f":"IFERROR('Salary Calculations'!I14,\"\")","v":248674.86167893047},{"$f":"IFERROR('Salary Calculations'!J14,\"\")","v":62168.715419732616},{"$f":"IFERROR('Salary Calculations'!K14,\"\")","v":15417.841424093689},{"$f":"IFERROR('Salary Calculations'!L14,\"\")","v":3605.7854943444918},{"$f":"IFERROR('Salary Calculations'!M14,\"\")","v":14920.491700735827},{"$f":"IFERROR('Salary Calculations'!N14,\"\")","v":4973.4972335786097},{"$f":"IFERROR('Salary Calculations'!O14,\"\")","v":101086.33127248524},{"$f":"IFERROR('Salary Calculations'!P14,\"\")","v":124337.43083946525},{"$f":"IFERROR('Salary Calculations'!Q14,\"\")","v":23251.099566979959},null,60,1749329.1757785608,2000000,214236.937136441,26708.204829676339]
[null,null,null,{"$f":"IFERROR('Salary Calculations'!A15,\"\")","v":54},{"$f":"IFERROR('Salary Calculations'!B15,\"\")","v":1196946.636592932},{"$f":"IFERROR('Salary Calculations'!C15,\"\")","v":2000000},{"$f":"IFERROR('Salary Calculations'!D15,\"\")","v":2992.36659148233},{"$f":"IFERROR('Salary Calculations'!E15,\"\")","v":59847.331829646602},{"$f":"IFERROR('Salary Calculations'!F15,\"\")","v":1253801.6018310962},{"$f":"IFERROR('Salary Calculations'!G15,\"\")","v":190236.26918438182},{"$f":"IFERROR('Salary Calculations'!H15,\"\")","v":63412.089728127277},{"$f":"IFERROR('Salary Calculations'!I15,\"\")","v":253648.35891250911},{"$f":"IFERROR('Salary Calculations'!J15,\"\")","v":63412.089728127277},{"$f":"IFERROR('Salary Calculations'!K15,\"\")","v":15726.198252575565},{"$f":"IFERROR('Salary Calculations'!L15,\"\")","v":3677.9012042313821},{"$f":"IFERROR('Salary Calculations'!M15,\"\")","v":15218.901534750546},{"$f":"IFERROR('Salary Calculations'!N15,\"\")","v":5072.9671782501819},{"$f":"IFERROR('Salary Calculations'!O15,\"\")","v":103108.05789793495},{"$f":"IFERROR('Salary Calculations'!P15,\"\")","v":126824.17945625455},{"$f":"IFERROR('Salary Calculations'!Q15,\"\")","v":23716.121558319603},null,61,1859130.5164577188,2000000,218521.67587916984,27242.368926269846]
[null,null,null,{"$f":"IFERROR('Salary Calculations'!A16,\"\")","v":55},{"$f":"IFERROR('Salary Calculations'!B16,\"\")","v":1277517.7233894158},{"$f":"IFERROR('Salary Calculations'!C16,\"\")","v":2000000},{"$f":"IFERROR('Salary Calculations'!D16,\"\")","v":3193.7943084735393},{"$f":"IFERROR('Salary Calculations'!E16,\"\")","v":63875.886169470788},{"$f":"IFERROR('Salary Calculations'!F16,\"\")","v":1338199.815250413},{"$f":"IFERROR('Salary Calculations'!G16,\"\")","v":194040.99456806947},{"$f":"IFERROR('Salary Calculations'!H16,\"\")","v":64680.331522689827},{"$f":"IFERROR('Salary Calculations'!I16,\"\")","v":258721.32609075931},{"$f":"IFERROR('Salary Calculations'!J16,\"\")","v":64680.331522689827},{"$f":"IFERROR('Salary Calculations'!K16,\"\")","v":16040.722217627077},{"$f":"IFERROR('Salary Calculations'!L16,\"\")","v":3751.45922831601},{"$f":"IFERROR('Salary Calculations'!M16,\"\")","v":15523.279565445559},{"$f":"IFERROR('Salary Calculations'!N16,\"\")","v":5174.4265218151859},{"$f":"IFERROR('Salary Calculations'!O16,\"\")","v":105170.21905589366},{"$f":"IFERROR('Salary Calculations'!P16,\"\")","v":129360.66304537965},{"$f":"IFERROR('Salary Calculations'!Q16,\"\")","v":24190.443989485997},null,62,1974681.5849157304,2000000,222892.10939675325,27787.216304795234]
[null,null,null,{"$f":"IFERROR('Salary Calculations'!A17,\"\")","v":56},{"$f":"IFERROR('Salary Calculations'!B17,\"\")","v":1362390.259239899},{"$f":"IFERROR('Salary Calculations'!C17,\"\")","v":2000000},{"$f":"IFERROR('Salary Calculations'!D17,\"\")","v":3405.9756480997476},{"$f":"IFERROR('Salary Calculations'!E17,\"\")","v":68119.512961994958},{"$f":"IFERROR('Salary Calculations'!F17,\"\")","v":1427103.7965537941},{"$f":"IFERROR('Salary Calculations'!G17,\"\")","v":197921.81445943087},{"$f":"IFERROR('Salary Calculations'!H17,\"\")","v":65973.938153143623},{"$f":"IFERROR('Salary Calculations'!I17,\"\")","v":263895.75261257449},{"$f":"IFERROR('Salary Calculations'!J17,\"\")","v":65973.938153143623},{"$f":"IFERROR('Salary Calculations'!K17,\"\")","v":16361.536661979619},{"$f":"IFERROR('Salary Calculations'!L17,\"\")","v":3826.4884128823305},{"$f":"IFERROR('Salary Calculations'!M17,\"\")","v":15833.745156754469},{"$f":"IFERROR('Salary Calculations'!N17,\"\")","v":5277.9150522514901},{"$f":"IFERROR('Salary Calculations'!O17,\"\")","v":107273.62343701153},{"$f":"IFERROR('Salary Calculations'!P17,\"\")","v":131947.87630628725},{"$f":"IFERROR('Salary Calculations'!Q17,\"\")","v":24674.252869275719},null,63,2096266.1765040229,2000000,227349.95158468833,28342.960630891175]
[null,null,null,{"$f":"IFERROR('Salary Calculations'!A18,\"\")","v":57},{"$f":"IFERROR('Salary Calculations'!B18,\"\")","v":1451778.0494230697},{"$f":"IFERROR('Salary Calculations'!C18,\"\")","v":2000000},{"$f":"IFERROR('Salary Calculations'!D18,\"\")","v":3629.4451235576744},{"$f":"IFERROR('Salary Calculations'!E18,\"\")","v":72588.902471153488},{"$f":"IFERROR('Salary Calculations'!F18,\"\")","v":1520737.5067706655},{"$f":"IFERROR('Salary Calculations'!G18,\"\")","v":201880.2507486195},{"$f":"IFERROR('Salary Calculations'!H18,\"\")","v":67293.416916206494},{"$f":"IFERROR('Salary Calculations'!I18,\"\")","v":269173.66766482597},{"$f":"IFERROR('Salary Calculations'!J18,\"\")","v":67293.416916206494},{"$f":"IFERROR('Salary Calculations'!K18,\"\")","v":16688.767395219209},{"$f":"IFERROR('Salary Calculations'!L18,\"\")","v":3903.0181811399766},{"$f":"IFERROR('Salary Calculations'!M18,\"\")","v":16150.420059889559},{"$f":"IFERROR('Salary Calculations'!N18,\"\")","v":5383.4733532965192},{"$f":"IFERROR('Salary Calculations'!O18,\"\")","v":109419.09590575176},{"$f":"IFERROR('Salary Calculations'!P18,\"\")","v":134586.83383241299},{"$f":"IFERROR('Salary Calculations'!Q18,\"\")","v":25167.737926661241},null,64,2224181.7805188554,2000000,231896.95061638209,28909.819843508973]
[null,null,null,{"$f":"IFERROR('Salary Calculations'!A19,\"\")","v":58},{"$f":"IFERROR('Salary Calculations'!B19,\"\")","v":1545905.2446973268},{"$f":"IFERROR('Salary Calculations'!C19,\"\")","v":2000000},{"$f":"IFERROR('Salary Calculations'!D19,\"\")","v":3864.763111743317},{"$f":"IFERROR('Salary Calculations'!E19,\"\")","v":77295.262234866343},{"$f":"IFERROR('Salary Calculations'!F19,\"\")","v":1619335.7438204498},{"$f":"IFERROR('Salary Calculations'!G19,\"\")","v":205917.85576359188},{"$f":"IFERROR('Salary Calculations'!H19,\"\")","v":68639.285254530623},{"$f":"IFERROR('Salary Calculations'!I19,\"\")","v":274557.14101812249},{"$f":"IFERROR('Salary Calculations'!J19,\"\")","v":68639.285254530623},{"$f":"IFERROR('Salary Calculations'!K19,\"\")","v":17022.542743123595},{"$f":"IFERROR('Salary Calculations'!L19,\"\")","v":3981.0785447627763},{"$f":"IFERROR('Salary Calculations'!M19,\"\")","v":16473.428461087347},{"$f":"IFERROR('Salary Calculations'!N19,\"\")","v":5491.14282036245},{"$f":"IFERROR('Salary Calculations'!O19,\"\")","v":111607.47782386678},{"$f":"IFERROR('Salary Calculations'!P19,\"\")","v":137278.57050906125},{"$f":"IFERROR('Salary Calculations'!Q19,\"\")","v":25671.092685194482},null,65,2358740.2349370099,2000000,236534.88962870973,29488.016240379162]
[null,null,null,{"$f":"IFERROR('Salary Calculations'!A20,\"\")","v":59},{"$f":"IFERROR('Salary Calculations'!B20,\"\")","v":1645006.8365056443},{"$f":"IFERROR('Salary Calculations'!C20,\"\")","v":2000000},{"$f":"IFERROR('Salary Calculations'!D20,\"\")","v":4112.5170912641106},{"$f":"IFERROR('Salary Calculations'!E20,\"\")","v":82250.341825282216},{"$f":"IFERROR('Salary Calculations'!F20,\"\")","v":1723144.6612396624},{"$f":"IFERROR('Salary Calculations'!G20,\"\")","v":210036.21287886373},{"$f":"IFERROR('Salary Calculations'!H20,\"\")","v":70012.07095962124},{"$f":"IFERROR('Salary Calculations'!I20,\"\")","v":280048.28383848496},{"$f":"IFERROR('Salary Calculations'!J20,\"\")","v":70012.07095962124},{"$f":"IFERROR('Salary Calculations'!K20,\"\")","v":17362.993597986067},{"$f":"IFERROR('Salary Calculations'!L20,\"\")","v":4060.7001156580322},{"$f":"IFERROR('Salary Calculations'!M20,\"\")","v":16802.897030309097},{"$f":"IFERROR('Salary Calculations'!N20,\"\")","v":5600.9656767696997},{"$f":"IFERROR('Salary Calculations'!O20,\"\")","v":113839.62738034414},{"$f":"IFERROR('Salary Calculations'!P20,\"\")","v":140024.14191924248},{"$f":"IFERROR('Salary Calculations'!Q20,\"\")","v":26184.514538898336},null,66,2500268.4123368971,2000000,241265.58742128394,30077.776565186767]
[null,null,null,{"$f":"IFERROR('Salary Calculations'!A21,\"\")","v":60},{"$f":"IFERROR('Salary Calculations'!B21,\"\")","v":1749329.1757785608},{"$f":"IFERROR('Salary Calculations'!C21,\"\")","v":2000000},{"$f":"IFERROR('Salary Calculations'!D21,\"\")","v":4373.3229394464024},{"$f":"IFERROR('Salary Calculations'!E21,\"\")","v":87466.458788928052},{"$f":"IFERROR('Salary Calculations'!F21,\"\")","v":1832422.3116280425},{"$f":"IFERROR('Salary Calculations'!G21,\"\")","v":214236.937136441},{"$f":"IFERROR('Salary Calculations'!H21,\"\")","v":71412.312378813673},{"$f":"IFERROR('Salary Calculations'!I21,\"\")","v":285649.24951525469},{"$f":"IFERROR('Salary Calculations'!J21,\"\")","v":71412.312378813673},{"$f":"IFERROR('Salary Calculations'!K21,\"\")","v":17710.25346994579},{"$f":"IFERROR('Salary Calculations'!L21,\"\")","v":4141.9141179711933},{"$f":"IFERROR('Salary Calculations'!M21,\"\")","v":17138.954970915282},{"$f":"IFERROR('Salary Calculations'!N21,\"\")","v":5712.9849903050936},{"$f":"IFERROR('Salary Calculations'!O21,\"\")","v":116116.41992795102},{"$f":"IFERROR('Salary Calculations'!P21,\"\")","v":142824.62475762735},{"$f":"IFERROR('Salary Calculations'!Q21,\"\")","v":26708.204829676339},null,67,2649108.9384880862,2000000,246090.89916970962,30679.332096490485]
[null,null,null,{"$f":"IFERROR('Salary Calculations'!A22,\"\")","v":61},{"$f":"IFERROR('Salary Calculations'!B22,\"\")","v":1859130.5164577188},{"$f":"IFERROR('Salary Calculations'!C22,\"\")","v":2000000},{"$f":"IFERROR('Salary Calculations'!D22,\"\")","v":4647.8262911442971},{"$f":"IFERROR('Salary Calculations'!E22,\"\")","v":92956.525822885946},{"$f":"IFERROR('Salary Calculations'!F22,\"\")","v":1947439.2159894605},{"$f":"IFERROR('Salary Calculations'!G22,\"\")","v":218521.67587916984},{"$f":"IFERROR('Salary Calculations'!H22,\"\")","v":72840.558626389946},{"$f":"IFERROR('Salary Calculations'!I22,\"\")","v":291362.23450555978},{"$f":"IFERROR('Salary Calculations'!J22,\"\")","v":72840.558626389946},{"$f":"IFERROR('Salary Calculations'!K22,\"\")","v":18064.458539344705},{"$f":"IFERROR('Salary Calculations'!L22,\"\")","v":4224.7524003306171},{"$f":"IFERROR('Salary Calculations'!M22,\"\")","v":17481.734070333587},{"$f":"IFERROR('Salary Calculations'!N22,\"\")","v":5827.2446901111962},{"$f":"IFERROR('Salary Calculations'!O22,\"\")","v":118438.74832651005},{"$f":"IFERROR('Salary Calculations'!P22,\"\")","v":145681.11725277989},{"$f":"IFERROR('Salary Calculations'!Q22,\"\")","v":27242.368926269846},null,68,2805620.9451627606,2000000,251012.71715310382,31292.918738420325]
[null,null,null,{"$f":"IFERROR('Salary Calculations'!A23,\"\")","v":62},{"$f":"IFERROR('Salary Calculations'!B23,\"\")","v":1974681.5849157304},{"$f":"IFERROR('Salary Calculations'!C23,\"\")","v":2000000},{"$f":"IFERROR('Salary Calculations'!D23,\"\")","v":4936.7039622893262},{"$f":"IFERROR('Salary Calculations'!E23,\"\")","v":98734.079245786532},{"$f":"IFERROR('Salary Calculations'!F23,\"\")","v":2068478.9601992276},{"$f":"IFERROR('Salary Calculations'!G23,\"\")","v":222892.10939675325},{"$f":"IFERROR('Salary Calculations'!H23,\"\")","v":74297.369798917745},{"$f":"IFERROR('Salary Calculations'!I23,\"\")","v":297189.47919567098},{"$f":"IFERROR('Salary Calculations'!J23,\"\")","v":74297.369798917745},{"$f":"IFERROR('Salary Calculations'!K23,\"\")","v":18425.7477101316},{"$f":"IFERROR('Salary Calculations'!L23,\"\")","v":4309.2474483372298},{"$f":"IFERROR('Salary Calculations'!M23,\"\")","v":17831.368751740258},{"$f":"IFERROR('Salary Calculations'!N23,\"\")","v":5943.7895839134198},{"$f":"IFERROR('Salary Calculations'!O23,\"\")","v":120807.52329304026},{"$f":"IFERROR('Salary Calculations'!P23,\"\")","v":148594.73959783549},{"$f":"IFERROR('Salary Calculations'!Q23,\"\")","v":27787.216304795234},null,69,2970180.8587964121,2000000,256032.9714961659,31918.777113188698]
[null,null,null,{"$f":"IFERROR('Salary Calculations'!A24,\"\")","v":63},{"$f":"IFERROR('Salary Calculations'!B24,\"\")","v":2096266.1765040229},{"$f":"IFERROR('Salary Calculations'!C24,\"\")","v":2000000},{"$f":"IFERROR('Salary Calculations'!D24,\"\")","v":5240.6654412600574},{"$f":"IFERROR('Salary Calculations'!E24,\"\")","v":104813.30882520115},{"$f":"IFERROR('Salary Calculations'!F24,\"\")","v":2195838.8198879641},{"$f":"IFERROR('Salary Calculations'!G24,\"\")","v":227349.95158468833},{"$f":"IFERROR('Salary Calculations'!H24,\"\")","v":75783.317194896095},{"$f":"IFERROR('Salary Calculations'!I24,\"\")","v":303133.26877958444},{"$f":"IFERROR('Salary Calculations'!J24,\"\")","v":75783.31719489611},{"$f":"IFERROR('Salary Calculations'!K24,\"\")","v":18794.262664334234},{"$f":"IFERROR('Salary Calculations'!L24,\"\")","v":4395.4323973039745},{"$f":"IFERROR('Salary Calculations'!M24,\"\")","v":18187.996126775066},{"$f":"IFERROR('Salary Calculations'!N24,\"\")","v":6062.6653755916886},{"$f":"IFERROR('Salary Calculations'!O24,\"\")","v":123223.67375890107},{"$f":"IFERROR('Salary Calculations'!P24,\"\")","v":151566.63438979219},{"$f":"IFERROR('Salary Calculations'!Q24,\"\")","v":28342.960630891175},null,70,3143183.2267024303,2000000,261153.63092608922,32557.152655452461]
[null,null,null,{"$f":"IFERROR('Salary Calculations'!A25,\"\")","v":64},{"$f":"IFERROR('Salary Calculations'!B25,\"\")","v":2224181.7805188554},{"$f":"IFERROR('Salary Calculations'!C25,\"\")","v":2000000},{"$f":"IFERROR('Salary Calculations'!D25,\"\")","v":5560.4544512971388},{"$f":"IFERROR('Salary Calculations'!E25,\"\")","v":111209.08902594278},{"$f":"IFERROR('Salary Calculations'!F25,\"\")","v":2329830.4150935011},{"$f":"IFERROR('Salary Calculations'!G25,\"\")","v":231896.95061638209},{"$f":"IFERROR('Salary Calculations'!H25,\"\")","v":77298.983538794026},{"$f":"IFERROR('Salary Calculations'!I25,\"\")","v":309195.9341551761},{"$f":"IFERROR('Salary Calculations'!J25,\"\")","v":77298.983538794026},{"$f":"IFERROR('Salary Calculations'!K25,\"\")","v":19170.147917620918},{"$f":"IFERROR('Salary Calculations'!L25,\"\")","v":4483.3410452500539},{"$f":"IFERROR('Salary Calculations'!M25,\"\")","v":18551.756049310567},{"$f":"IFERROR('Salary Calculations'!N25,\"\")","v":6183.9186831035222},{"$f":"IFERROR('Salary Calculations'!O25,\"\")","v":125688.14723407908},{"$f":"IFERROR('Salary Calculations'!P25,\"\")","v":154597.96707758805},{"$f":"IFERROR('Salary Calculations'!Q25,\"\")","v":28909.819843508973},null,"Grand Total",44202669.414698385,58000000,5818835.1772305435,725414.78542807489]
[null,null,null,{"$f":"IFERROR('Salary Calculations'!A26,\"\")","v":65},{"$f":"IFERROR('Salary Calculations'!B26,\"\")","v":2358740.2349370099},{"$f":"IFERROR('Salary Calculations'!C26,\"\")","v":2000000},{"$f":"IFERROR('Salary Calculations'!D26,\"\")","v":5896.8505873425247},{"$f":"IFERROR('Salary Calculations'!E26,\"\")","v":117937.01174685051},{"$f":"IFERROR('Salary Calculations'!F26,\"\")","v":2470780.3960965178},{"$f":"IFERROR('Salary Calculations'!G26,\"\")","v":236534.88962870973},{"$f":"IFERROR('Salary Calculations'!H26,\"\")","v":78844.963209569905},{"$f":"IFERROR('Salary Calculations'!I26,\"\")","v":315379.85283827962},{"$f":"IFERROR('Salary Calculations'!J26,\"\")","v":78844.963209569905},{"$f":"IFERROR('Salary Calculations'!K26,\"\")","v":19553.550875973335},{"$f":"IFERROR('Salary Calculations'!L26,\"\")","v":4573.0078661550551},{"$f":"IFERROR('Salary Calculations'!M26,\"\")","v":18922.791170296776},{"$f":"IFERROR('Salary Calculations'!N26,\"\")","v":6307.5970567655922},{"$f":"IFERROR('Salary Calculations'!O26,\"\")","v":128201.91017876066},{"$f":"IFERROR('Salary Calculations'!P26,\"\")","v":157689.92641913981},{"$f":"IFERROR('Salary Calculations'!Q26,\"\")","v":29488.016240379162}]
[null,null,null,{"$f":"IFERROR('Salary Calculations'!A27,\"\")","v":66},{"$f":"IFERROR('Salary Calculations'!B27,\"\")","v":2500268.4123368971},{"$f":"IFERROR('Salary Calculations'!C27,\"\")","v":2000000},{"$f":"IFERROR('Salary Calculations'!D27,\"\")","v":6250.6710308422425},{"$f":"IFERROR('Salary Calculations'!E27,\"\")","v":125013.42061684486},{"$f":"IFERROR('Salary Calculations'!F27,\"\")","v":2619031.1619228995},{"$f":"IFERROR('Salary Calculations'!G27,\"\")","v":241265.58742128394},{"$f":"IFERROR('Salary Calculations'!H27,\"\")","v":80421.862473761299},{"$f":"IFERROR('Salary Calculations'!I27,\"\")","v":321687.44989504525},{"$f":"IFERROR('Salary Calculations'!J27,\"\")","v":80421.862473761314},{"$f":"IFERROR('Salary Calculations'!K27,\"\")","v":19944.621893492807},{"$f":"IFERROR('Salary Calculations'!L27,\"\")","v":4664.4680234781563},{"$f":"IFERROR('Salary Calculations'!M27,\"\")","v":19301.246993702716},{"$f":"IFERROR('Salary Calculations'!N27,\"\")","v":6433.7489979009051},{"$f":"IFERROR('Salary Calculations'!O27,\"\")","v":130765.9483823359},{"$f":"IFERROR('Salary Calculations'!P27,\"\")","v":160843.7249475226},{"$f":"IFERROR('Salary Calculations'!Q27,\"\")","v":30077.776565186767}]
[null,null,null,{"$f":"IFERROR('Salary Calculations'!A28,\"\")","v":67},{"$f":"IFERROR('Salary Calculations'!B28,\"\")","v":2649108.9384880862},{"$f":"IFERROR('Salary Calculations'!C28,\"\")","v":2000000},{"$f":"IFERROR('Salary Calculations'!D28,\"\")","v":6622.7723462202157},{"$f":"IFERROR('Salary Calculations'!E28,\"\")","v":132455.44692440433},{"$f":"IFERROR('Salary Calculations'!F28,\"\")","v":2774941.61306627},{"$f":"IFERROR('Salary Calculations'!G28,\"\")","v":246090.89916970962},{"$f":"IFERROR('Salary Calculations'!H28,\"\")","v":82030.299723236531},{"$f":"IFERROR('Salary Calculations'!I28,\"\")","v":328121.19889294612},{"$f":"IFERROR('Salary Calculations'!J28,\"\")","v":82030.299723236531},{"$f":"IFERROR('Salary Calculations'!K28,\"\")","v":20343.514331362658},{"$f":"IFERROR('Salary Calculations'!L28,\"\")","v":4757.7573839477191},{"$f":"IFERROR('Salary Calculations'!M28,\"\")","v":19687.271933576765},{"$f":"IFERROR('Salary Calculations'!N28,\"\")","v":6562.4239778589226},{"$f":"IFERROR('Salary Calculations'!O28,\"\")","v":133381.26734998258},{"$f":"IFERROR('Salary Calculations'!P28,\"\")","v":164060.59944647306},{"$f":"IFERROR('Salary Calculations'!Q28,\"\")","v":30679.332096490485}]
[null,null,null,{"$f":"IFERROR('Salary Calculations'!A29,\"\")","v":68},{"$f":"IFERROR('Salary Calculations'!B29,\"\")","v":2805620.9451627606},{"$f":"IFERROR('Salary Calculations'!C29,\"\")","v":2000000},{"$f":"IFERROR('Salary Calculations'!D29,\"\")","v":7014.0523629069012},{"$f":"IFERROR('Salary Calculations'!E29,\"\")","v":140281.04725813805},{"$f":"IFERROR('Salary Calculations'!F29,\"\")","v":2938887.940057992},{"$f":"IFERROR('Salary Calculations'!G29,\"\")","v":251012.71715310382},{"$f":"IFERROR('Salary Calculations'!H29,\"\")","v":83670.905717701258},{"$f":"IFERROR('Salary Calculations'!I29,\"\")","v":334683.62287080509},{"$f":"IFERROR('Salary Calculations'!J29,\"\")","v":83670.905717701273},{"$f":"IFERROR('Salary Calculations'!K29,\"\")","v":20750.384617989916},{"$f":"IFERROR('Salary Calculations'!L29,\"\")","v":4852.9125316266736},{"$f":"IFERROR('Salary Calculations'!M29,\"\")","v":20081.017372248305},{"$f":"IFERROR('Salary Calculations'!N29,\"\")","v":6693.6724574161017},{"$f":"IFERROR('Salary Calculations'!O29,\"\")","v":136048.89269698225},{"$f":"IFERROR('Salary Calculations'!P29,\"\")","v":167341.81143540252},{"$f":"IFERROR('Salary Calculations'!Q29,\"\")","v":31292.918738420325}]
[null,null,null,{"$f":"IFERROR('Salary Calculations'!A30,\"\")","v":69},{"$f":"IFERROR('Salary Calculations'!B30,\"\")","v":2970180.8587964121},{"$f":"IFERROR('Salary Calculations'!C30,\"\")","v":2000000},{"$f":"IFERROR('Salary Calculations'!D30,\"\")","v":7425.4521469910305},{"$f":"IFERROR('Salary Calculations'!E30,\"\")","v":148509.04293982062},{"$f":"IFERROR('Salary Calculations'!F30,\"\")","v":3111264.4495892418},{"$f":"IFERROR('Salary Calculations'!G30,\"\")","v":256032.9714961659},{"$f":"IFERROR('Salary Calculations'!H30,\"\")","v":85344.323832055292},{"$f":"IFERROR('Salary Calculations'!I30,\"\")","v":341377.29532822117},{"$f":"IFERROR('Salary Calculations'!J30,\"\")","v":85344.323832055292},{"$f":"IFERROR('Salary Calculations'!K30,\"\")","v":21165.392310349711},{"$f":"IFERROR('Salary Calculations'!L30,\"\")","v":4949.9707822592072},{"$f":"IFERROR('Salary Calculations'!M30,\"\")","v":20482.63771969327},{"$f":"IFERROR('Salary Calculations'!N30,\"\")","v":6827.5459065644236},{"$f":"IFERROR('Salary Calculations'!O30,\"\")","v":138769.87055092189},{"$f":"IFERROR('Salary Calculations'!P30,\"\")","v":170688.64766411058},{"$f":"IFERROR('Salary Calculations'!Q30,\"\")","v":31918.777113188698}]
[null,null,null,{"$f":"IFERROR('Salary Calculations'!A31,\"\")","v":70},{"$f":"IFERROR('Salary Calculations'!B31,\"\")","v":3143183.2267024303},{"$f":"IFERROR('Salary Calculations'!C31,\"\")","v":2000000},{"$f":"IFERROR('Salary Calculations'!D31,\"\")","v":7857.9580667560758},{"$f":"IFERROR('Salary Calculations'!E31,\"\")","v":157159.16133512152},{"$f":"IFERROR('Salary Calculations'!F31,\"\")","v":3292484.4299707958},{"$f":"IFERROR('Salary Calculations'!G31,\"\")","v":261153.63092608922},{"$f":"IFERROR('Salary Calculations'!H31,\"\")","v":87051.210308696405},{"$f":"IFERROR('Salary Calculations'!I31,\"\")","v":348204.84123478562},{"$f":"IFERROR('Salary Calculations'!J31,\"\")","v":87051.210308696405},{"$f":"IFERROR('Salary Calculations'!K31,\"\")","v":21588.700156556708},{"$f":"IFERROR('Salary Calculations'!L31,\"\")","v":5048.9701979043921},{"$f":"IFERROR('Salary Calculations'!M31,\"\")","v":20892.290474087138},{"$f":"IFERROR('Salary Calculations'!N31,\"\")","v":6964.0968246957127},{"$f":"IFERROR('Salary Calculations'!O31,\"\")","v":141545.26796194035},{"$f":"IFERROR('Salary Calculations'!P31,\"\")","v":174102.42061739281},{"$f":"IFERROR('Salary Calculations'!Q31,\"\")","v":32557.152655452461}]
[null,null,null,{"$f":"IFERROR('Salary Calculations'!A32,\"\")","v":""},{"$f":"IFERROR('Salary Calculations'!B32,\"\")","v":""},{"$f":"IFERROR('Salary Calculations'!C32,\"\")","v":""},{"$f":"IFERROR('Salary Calculations'!D32,\"\")","v":""},{"$f":"IFERROR('Salary Calculations'!E32,\"\")","v":""},{"$f":"IFERROR('Salary Calculations'!F32,\"\")","v":""},{"$f":"IFERROR('Salary Calculations'!G32,\"\")","v":""},{"$f":"IFERROR('Salary Calculations'!H32,\"\")","v":""},{"$f":"IFERROR('Salary Calculations'!I32,\"\")","v":""},{"$f":"IFERROR('Salary Calculations'!J32,\"\")","v":""},{"$f":"IFERROR('Salary Calculations'!K32,\"\")","v":""},{"$f":"IFERROR('Salary Calculations'!L32,\"\")","v":""},{"$f":"IFERROR('Salary Calculations'!M32,\"\")","v":""},{"$f":"IFERROR('Salary Calculations'!N32,\"\")","v":""},{"$f":"IFERROR('Salary Calculations'!O32,\"\")","v":""},{"$f":"IFERROR('Salary Calculations'!P32,\"\")","v":""},{"$f":"IFERROR('Salary Calculations'!Q32,\"\")","v":""}]
[null,null,null,{"$f":"IFERROR('Salary Calculations'!A33,\"\")","v":""},{"$f":"IFERROR('Salary Calculations'!B33,\"\")","v":""},{"$f":"IFERROR('Salary Calculations'!C33,\"\")","v":""},{"$f":"IFERROR('Salary Calculations'!D33,\"\")","v":""},{"$f":"IFERROR('Salary Calculations'!E33,\"\")","v":""},{"$f":"IFERROR('Salary Calculations'!F33,\"\")","v":""},{"$f":"IFERROR('Salary Calculations'!G33,\"\")","v":""},{"$f":"IFERROR('Salary Calculations'!H33,\"\")","v":""},{"$f":"IFERROR('Salary Calculations'!I33,\"\")","v":""},{"$f":"IFERROR('Salary Calculations'!J33,\"\")","v":""},{"$f":"IFERROR('Salary Calculations'!K33,\"\")","v":""},{"$f":"IFERROR('Salary Calculations'!L33,\"\")","v":""},{"$f":"IFERROR('Salary Calculations'!M33,\"\")","v":""},{"$f":"IFERROR('Salary Calculations'!N33,\"\")","v":""},{"$f":"IFERROR('Salary Calculations'!O33,\"\")","v":""},{"$f":"IFERROR('Salary Calculations'!P33,\"\")","v":""},{"$f":"IFERROR('Salary Calculations'!Q33,\"\")","v":""}]
[null,null,null,{"$f":"IFERROR('Salary Calculations'!A34,\"\")","v":""},{"$f":"IFERROR('Salary Calculations'!B34,\"\")","v":""},{"$f":"IFERROR('Salary Calculations'!C34,\"\")","v":""},{"$f":"IFERROR('Salary Calculations'!D34,\"\")","v":""},{"$f":"IFERROR('Salary Calculations'!E34,\"\")","v":""},{"$f":"IFERROR('Salary Calculations'!F34,\"\")","v":""},{"$f":"IFERROR('Salary Calculations'!G34,\"\")","v":""},{"$f":"IFERROR('Salary Calculations'!H34,\"\")","v":""},{"$f":"IFERROR('Salary Calculations'!I34,\"\")","v":""},{"$f":"IFERROR('Salary Calculations'!J34,\"\")","v":""},{"$f":"IFERROR('Salary Calculations'!K34,\"\")","v":""},{"$f":"IFERROR('Salary Calculations'!L34,\"\")","v":""},{"$f":"IFERROR('Salary Calculations'!M34,\"\")","v":""},{"$f":"IFERROR('Salary Calculations'!N34,\"\")","v":""},{"$f":"IFERROR('Salary Calculations'!O34,\"\")","v":""},{"$f":"IFERROR('Salary Calculations'!P34,\"\")","v":""},{"$f":"IFERROR('Salary Calculations'!Q34,\"\")","v":""}]
[null,null,null,{"$f":"IFERROR('Salary Calculations'!A35,\"\")","v":""},{"$f":"IFERROR('Salary Calculations'!B35,\"\")","v":""},{"$f":"IFERROR('Salary Calculations'!C35,\"\")","v":""},{"$f":"IFERROR('Salary Calculations'!D35,\"\")","v":""},{"$f":"IFERROR('Salary Calculations'!E35,\"\")","v":""},{"$f":"IFERROR('Salary Calculations'!F35,\"\")","v":""},{"$f":"IFERROR('Salary Calculations'!G35,\"\")","v":""},{"$f":"IFERROR('Salary Calculations'!H35,\"\")","v":""},{"$f":"IFERROR('Salary Calculations'!I35,\"\")","v":""},{"$f":"IFERROR('Salary Calculations'!J35,\"\")","v":""},{"$f":"IFERROR('Salary Calculations'!K35,\"\")","v":""},{"$f":"IFERROR('Salary Calculations'!L35,\"\")","v":""},{"$f":"IFERROR('Salary Calculations'!M35,\"\")","v":""},{"$f":"IFERROR('Salary Calculations'!N35,\"\")","v":""},{"$f":"IFERROR('Salary Calculations'!O35,\"\")","v":""},{"$f":"IFERROR('Salary Calculations'!P35,\"\")","v":""},{"$f":"IFERROR('Salary Calculations'!Q35,\"\")","v":""}]
[null,null,null,{"$f":"IFERROR('Salary Calculations'!A36,\"\")","v":""},{"$f":"IFERROR('Salary Calculations'!B36,\"\")","v":""},{"$f":"IFERROR('Salary Calculations'!C36,\"\")","v":""},{"$f":"IFERROR('Salary Calculations'!D36,\"\")","v":""},{"$f":"IFERROR('Salary Calculations'!E36,\"\")","v":""},{"$f":"IFERROR('Salary Calculations'!F36,\"\")","v":""},{"$f":"IFERROR('Salary Calculations'!G36,\"\")","v":""},{"$f":"IFERROR('Salary Calculations'!H36,\"\")","v":""},{"$f":"IFERROR('Salary Calculations'!I36,\"\")","v":""},{"$f":"IFERROR('Salary Calculations'!J36,\"\")","v":""},{"$f":"IFERROR('Salary Calculations'!K36,\"\")","v":""},{"$f":"IFERROR('Salary Calculations'!L36,\"\")","v":""},{"$f":"IFERROR('Salary Calculations'!M36,\"\")","v":""},{"$f":"IFERROR('Salary Calculations'!N36,\"\")","v":""},{"$f":"IFERROR('Salary Calculations'!O36,\"\")","v":""},{"$f":"IFERROR('Salary Calculations'!P36,\"\")","v":""},{"$f":"IFERROR('Salary Calculations'!Q36,\"\")","v":""}]
[null,null,null,{"$f":"IFERROR('Salary Calculations'!A37,\"\")","v":""},{"$f":"IFERROR('Salary Calculations'!B37,\"\")","v":""},{"$f":"IFERROR('Salary Calculations'!C37,\"\")","v":""},{"$f":"IFERROR('Salary Calculations'!D37,\"\")","v":""},{"$f":"IFERROR('Salary Calculations'!E37,\"\")","v":""},{"$f":"IFERROR('Salary Calculations'!F37,\"\")","v":""},{"$f":"IFERROR('Salary Calculations'!G37,\"\")","v":""},{"$f":"IFERROR('Salary Calculations'!H37,\"\")","v":""},{"$f":"IFERROR('Salary Calculations'!I37,\"\")","v":""},{"$f":"IFERROR('Salary Calculations'!J37,\"\")","v":""},{"$f":"IFERROR('Salary Calculations'!K37,\"\")","v":""},{"$f":"IFERROR('Salary Calculations'!L37,\"\")","v":""},{"$f":"IFERROR('Salary Calculations'!M37,\"\")","v":""},{"$f":"IFERROR('Salary Calculations'!N37,\"\")","v":""},{"$f":"IFERROR('Salary Calculations'!O37,\"\")","v":""},{"$f":"IFERROR('Salary Calculations'!P37,\"\")","v":""},{"$f":"IFERROR('Salary Calculations'!Q37,\"\")","v":""}]
[null,null,null,{"$f":"IFERROR('Salary Calculations'!A38,\"\")","v":""},{"$f":"IFERROR('Salary Calculations'!B38,\"\")","v":""},{"$f":"IFERROR('Salary Calculations'!C38,\"\")","v":""},{"$f":"IFERROR('Salary Calculations'!D38,\"\")","v":""},{"$f":"IFERROR('Salary Calculations'!E38,\"\")","v":""},{"$f":"IFERROR('Salary Calculations'!F38,\"\")","v":""},{"$f":"IFERROR('Salary Calculations'!G38,\"\")","v":""},{"$f":"IFERROR('Salary Calculations'!H38,\"\")","v":""},{"$f":"IFERROR('Salary Calculations'!I38,\"\")","v":""},{"$f":"IFERROR('Salary Calculations'!J38,\"\")","v":""},{"$f":"IFERROR('Salary Calculations'!K38,\"\")","v":""},{"$f":"IFERROR('Salary Calculations'!L38,\"\")","v":""},{"$f":"IFERROR('Salary Calculations'!M38,\"\")","v":""},{"$f":"IFERROR('Salary Calculations'!N38,\"\")","v":""},{"$f":"IFERROR('Salary Calculations'!O38,\"\")","v":""},{"$f":"IFERROR('Salary Calculations'!P38,\"\")","v":""},{"$f":"IFERROR('Salary Calculations'!Q38,\"\")","v":""}]
[null,null,null,{"$f":"IFERROR('Salary Calculations'!A39,\"\")","v":""},{"$f":"IFERROR('Salary Calculations'!B39,\"\")","v":""},{"$f":"IFERROR('Salary Calculations'!C39,\"\")","v":""},{"$f":"IFERROR('Salary Calculations'!D39,\"\")","v":""},{"$f":"IFERROR('Salary Calculations'!E39,\"\")","v":""},{"$f":"IFERROR('Salary Calculations'!F39,\"\")","v":""},{"$f":"IFERROR('Salary Calculations'!G39,\"\")","v":""},{"$f":"IFERROR('Salary Calculations'!H39,\"\")","v":""},{"$f":"IFERROR('Salary Calculations'!I39,\"\")","v":""},{"$f":"IFERROR('Salary Calculations'!J39,\"\")","v":""},{"$f":"IFERROR('Salary Calculations'!K39,\"\")","v":""},{"$f":"IFERROR('Salary Calculations'!L39,\"\")","v":""},{"$f":"IFERROR('Salary Calculations'!M39,\"\")","v":""},{"$f":"IFERROR('Salary Calculations'!N39,\"\")","v":""},{"$f":"IFERROR('Salary Calculations'!O39,\"\")","v":""},{"$f":"IFERROR('Salary Calculations'!P39,\"\")","v":""},{"$f":"IFERROR('Salary Calculations'!Q39,\"\")","v":""}]
[null,null,null,{"$f":"IFERROR('Salary Calculations'!A40,\"\")","v":""},{"$f":"IFERROR('Salary Calculations'!B40,\"\")","v":""},{"$f":"IFERROR('Salary Calculations'!C40,\"\")","v":""},{"$f":"IFERROR('Salary Calculations'!D40,\"\")","v":""},{"$f":"IFERROR('Salary Calculations'!E40,\"\")","v":""},{"$f":"IFERROR('Salary Calculations'!F40,\"\")","v":""},{"$f":"IFERROR('Salary Calculations'!G40,\"\")","v":""},{"$f":"IFERROR('Salary Calculations'!H40,\"\")","v":""},{"$f":"IFERROR('Salary Calculations'!I40,\"\")","v":""},{"$f":"IFERROR('Salary Calculations'!J40,\"\")","v":""},{"$f":"IFERROR('Salary Calculations'!K40,\"\")","v":""},{"$f":"IFERROR('Salary Calculations'!L40,\"\")","v":""},{"$f":"IFERROR('Salary Calculations'!M40,\"\")","v":""},{"$f":"IFERROR('Salary Calculations'!N40,\"\")","v":""},{"$f":"IFERROR('Salary Calculations'!O40,\"\")","v":""},{"$f":"IFERROR('Salary Calculations'!P40,\"\")","v":""},{"$f":"IFERROR('Salary Calculations'!Q40,\"\")","v":""}]
[null,null,null,{"$f":"IFERROR('Salary Calculations'!A41,\"\")","v":""},{"$f":"IFERROR('Salary Calculations'!B41,\"\")","v":""},{"$f":"IFERROR('Salary Calculations'!C41,\"\")","v":""},{"$f":"IFERROR('Salary Calculations'!D41,\"\")","v":""},{"$f":"IFERROR('Salary Calculations'!E41,\"\")","v":""},{"$f":"IFERROR('Salary Calculations'!F41,\"\")","v":""},{"$f":"IFERROR('Salary Calculations'!G41,\"\")","v":""},{"$f":"IFERROR('Salary Calculations'!H41,\"\")","v":""},{"$f":"IFERROR('Salary Calculations'!I41,\"\")","v":""},{"$f":"IFERROR('Salary Calculations'!J41,\"\")","v":""},{"$f":"IFERROR('Salary Calculations'!K41,\"\")","v":""},{"$f":"IFERROR('Salary Calculations'!L41,\"\")","v":""},{"$f":"IFERROR('Salary Calculations'!M41,\"\")","v":""},{"$f":"IFERROR('Salary Calculations'!N41,\"\")","v":""},{"$f":"IFERROR('Salary Calculations'!O41,\"\")","v":""},{"$f":"IFERROR('Salary Calculations'!P41,\"\")","v":""},{"$f":"IFERROR('Salary Calculations'!Q41,\"\")","v":""}]
[null,null,null,{"$f":"IFERROR('Salary Calculations'!A42,\"\")","v":""},{"$f":"IFERROR('Salary Calculations'!B42,\"\")","v":""},{"$f":"IFERROR('Salary Calculations'!C42,\"\")","v":""},{"$f":"IFERROR('Salary Calculations'!D42,\"\")","v":""},{"$f":"IFERROR('Salary Calculations'!E42,\"\")","v":""},{"$f":"IFERROR('Salary Calculations'!F42,\"\")","v":""},{"$f":"IFERROR('Salary Calculations'!G42,\"\")","v":""},{"$f":"IFERROR('Salary Calculations'!H42,\"\")","v":""},{"$f":"IFERROR('Salary Calculations'!I42,\"\")","v":""},{"$f":"IFERROR('Salary Calculations'!J42,\"\")","v":""},{"$f":"IFERROR('Salary Calculations'!K42,\"\")","v":""},{"$f":"IFERROR('Salary Calculations'!L42,\"\")","v":""},{"$f":"IFERROR('Salary Calculations'!M42,\"\")","v":""},{"$f":"IFERROR('Salary Calculations'!N42,\"\")","v":""},{"$f":"IFERROR('Salary Calculations'!O42,\"\")","v":""},{"$f":"IFERROR('Salary Calculations'!P42,\"\")","v":""},{"$f":"IFERROR('Salary Calculations'!Q42,\"\")","v":""}]
[null,null,null,{"$f":"IFERROR('Salary Calculations'!A43,\"\")","v":""},{"$f":"IFERROR('Salary Calculations'!B43,\"\")","v":""},{"$f":"IFERROR('Salary Calculations'!C43,\"\")","v":""},{"$f":"IFERROR('Salary Calculations'!D43,\"\")","v":""},{"$f":"IFERROR('Salary Calculations'!E43,\"\")","v":""},{"$f":"IFERROR('Salary Calculations'!F43,\"\")","v":""},{"$f":"IFERROR('Salary Calculations'!G43,\"\")","v":""},{"$f":"IFERROR('Salary Calculations'!H43,\"\")","v":""},{"$f":"IFERROR('Salary Calculations'!I43,\"\")","v":""},{"$f":"IFERROR('Salary Calculations'!J43,\"\")","v":""},{"$f":"IFERROR('Salary Calculations'!K43,\"\")","v":""},{"$f":"IFERROR('Salary Calculations'!L43,\"\")","v":""},{"$f":"IFERROR('Salary Calculations'!M43,\"\")","v":""},{"$f":"IFERROR('Salary Calculations'!N43,\"\")","v":""},{"$f":"IFERROR('Salary Calculations'!O43,\"\")","v":""},{"$f":"IFERROR('Salary Calculations'!P43,\"\")","v":""},{"$f":"IFERROR('Salary Calculations'!Q43,\"\")","v":""}]
[null,null,null,{"$f":"IFERROR('Salary Calculations'!A44,\"\")","v":""},{"$f":"IFERROR('Salary Calculations'!B44,\"\")","v":""},{"$f":"IFERROR('Salary Calculations'!C44,\"\")","v":""},{"$f":"IFERROR('Salary Calculations'!D44,\"\")","v":""},{"$f":"IFERROR('Salary Calculations'!E44,\"\")","v":""},{"$f":"IFERROR('Salary Calculations'!F44,\"\")","v":""},{"$f":"IFERROR('Salary Calculations'!G44,\"\")","v":""},{"$f":"IFERROR('Salary Calculations'!H44,\"\")","v":""},{"$f":"IFERROR('Salary Calculations'!I44,\"\")","v":""},{"$f":"IFERROR('Salary Calculations'!J44,\"\")","v":""},{"$f":"IFERROR('Salary Calculations'!K44,\"\")","v":""},{"$f":"IFERROR('Salary Calculations'!L44,\"\")","v":""},{"$f":"IFERROR('Salary Calculations'!M44,\"\")","v":""},{"$f":"IFERROR('Salary Calculations'!N44,\"\")","v":""},{"$f":"IFERROR('Salary Calculations'!O44,\"\")","v":""},{"$f":"IFERROR('Salary Calculations'!P44,\"\")","v":""},{"$f":"IFERROR('Salary Calculations'!Q44,\"\")","v":""}]
[null,null,null,{"$f":"IFERROR('Salary Calculations'!A45,\"\")","v":""},{"$f":"IFERROR('Salary Calculations'!B45,\"\")","v":""},{"$f":"IFERROR('Salary Calculations'!C45,\"\")","v":""},{"$f":"IFERROR('Salary Calculations'!D45,\"\")","v":""},{"$f":"IFERROR('Salary Calculations'!E45,\"\")","v":""},{"$f":"IFERROR('Salary Calculations'!F45,\"\")","v":""},{"$f":"IFERROR('Salary Calculations'!G45,\"\")","v":""},{"$f":"IFERROR('Salary Calculations'!H45,\"\")","v":""},{"$f":"IFERROR('Salary Calculations'!I45,\"\")","v":""},{"$f":"IFERROR('Salary Calculations'!J45,\"\")","v":""},{"$f":"IFERROR('Salary Calculations'!K45,\"\")","v":""},{"$f":"IFERROR('Salary Calculations'!L45,\"\")","v":""},{"$f":"IFERROR('Salary Calculations'!M45,\"\")","v":""},{"$f":"IFERROR('Salary Calculations'!N45,\"\")","v":""},{"$f":"IFERROR('Salary Calculations'!O45,\"\")","v":""},{"$f":"IFERROR('Salary Calculations'!P45,\"\")","v":""},{"$f":"IFERROR('Salary Calculations'!Q45,\"\")","v":""}]
[null,null,null,{"$f":"IFERROR('Salary Calculations'!A46,\"\")","v":""},{"$f":"IFERROR('Salary Calculations'!B46,\"\")","v":""},{"$f":"IFERROR('Salary Calculations'!C46,\"\")","v":""},{"$f":"IFERROR('Salary Calculations'!D46,\"\")","v":""},{"$f":"IFERROR('Salary Calculations'!E46,\"\")","v":""},{"$f":"IFERROR('Salary Calculations'!F46,\"\")","v":""},{"$f":"IFERROR('Salary Calculations'!G46,\"\")","v":""},{"$f":"IFERROR('Salary Calculations'!H46,\"\")","v":""},{"$f":"IFERROR('Salary Calculations'!I46,\"\")","v":""},{"$f":"IFERROR('Salary Calculations'!J46,\"\")","v":""},{"$f":"IFERROR('Salary Calculations'!K46,\"\")","v":""},{"$f":"IFERROR('Salary Calculations'!L46,\"\")","v":""},{"$f":"IFERROR('Salary Calculations'!M46,\"\")","v":""},{"$f":"IFERROR('Salary Calculations'!N46,\"\")","v":""},{"$f":"IFERROR('Salary Calculations'!O46,\"\")","v":""},{"$f":"IFERROR('Salary Calculations'!P46,\"\")","v":""},{"$f":"IFERROR('Salary Calculations'!Q46,\"\")","v":""}]
[null,null,null,{"$f":"IFERROR('Salary Calculations'!A47,\"\")","v":""},{"$f":"IFERROR('Salary Calculations'!B47,\"\")","v":""},{"$f":"IFERROR('Salary Calculations'!C47,\"\")","v":""},{"$f":"IFERROR('Salary Calculations'!D47,\"\")","v":""},{"$f":"IFERROR('Salary Calculations'!E47,\"\")","v":""},{"$f":"IFERROR('Salary Calculations'!F47,\"\")","v":""},{"$f":"IFERROR('Salary Calculations'!G47,\"\")","v":""},{"$f":"IFERROR('Salary Calculations'!H47,\"\")","v":""},{"$f":"IFERROR('Salary Calculations'!I47,\"\")","v":""},{"$f":"IFERROR('Salary Calculations'!J47,\"\")","v":""},{"$f":"IFERROR('Salary Calculations'!K47,\"\")","v":""},{"$f":"IFERROR('Salary Calculations'!L47,\"\")","v":""},{"$f":"IFERROR('Salary Calculations'!M47,\"\")","v":""},{"$f":"IFERROR('Salary Calculations'!N47,\"\")","v":""},{"$f":"IFERROR('Salary Calculations'!O47,\"\")","v":""},{"$f":"IFERROR('Salary Calculations'!P47,\"\")","v":""},{"$f":"IFERROR('Salary Calculations'!Q47,\"\")","v":""}]
[null,null,null,{"$f":"IFERROR('Salary Calculations'!A48,\"\")","v":""},{"$f":"IFERROR('Salary Calculations'!B48,\"\")","v":""},{"$f":"IFERROR('Salary Calculations'!C48,\"\")","v":""},{"$f":"IFERROR('Salary Calculations'!D48,\"\")","v":""},{"$f":"IFERROR('Salary Calculations'!E48,\"\")","v":""},{"$f":"IFERROR('Salary Calculations'!F48,\"\")","v":""},{"$f":"IFERROR('Salary Calculations'!G48,\"\")","v":""},{"$f":"IFERROR('Salary Calculations'!H48,\"\")","v":""},{"$f":"IFERROR('Salary Calculations'!I48,\"\")","v":""},{"$f":"IFERROR('Salary Calculations'!J48,\"\")","v":""},{"$f":"IFERROR('Salary Calculations'!K48,\"\")","v":""},{"$f":"IFERROR('Salary Calculations'!L48,\"\")","v":""},{"$f":"IFERROR('Salary Calculations'!M48,\"\")","v":""},{"$f":"IFERROR('Salary Calculations'!N48,\"\")","v":""},{"$f":"IFERROR('Salary Calculations'!O48,\"\")","v":""},{"$f":"IFERROR('Salary Calculations'!P48,\"\")","v":""},{"$f":"IFERROR('Salary Calculations'!Q48,\"\")","v":""}]
[null,null,null,{"$f":"IFERROR('Salary Calculations'!A49,\"\")","v":""},{"$f":"IFERROR('Salary Calculations'!B49,\"\")","v":""},{"$f":"IFERROR('Salary Calculations'!C49,\"\")","v":""},{"$f":"IFERROR('Salary Calculations'!D49,\"\")","v":""},{"$f":"IFERROR('Salary Calculations'!E49,\"\")","v":""},{"$f":"IFERROR('Salary Calculations'!F49,\"\")","v":""},{"$f":"IFERROR('Salary Calculations'!G49,\"\")","v":""},{"$f":"IFERROR('Salary Calculations'!H49,\"\")","v":""},{"$f":"IFERROR('Salary Calculations'!I49,\"\")","v":""},{"$f":"IFERROR('Salary Calculations'!J49,\"\")","v":""},{"$f":"IFERROR('Salary Calculations'!K49,\"\")","v":""},{"$f":"IFERROR('Salary Calculations'!L49,\"\")","v":""},{"$f":"IFERROR('Salary Calculations'!M49,\"\")","v":""},{"$f":"IFERROR('Salary Calculations'!N49,\"\")","v":""},{"$f":"IFERROR('Salary Calculations'!O49,\"\")","v":""},{"$f":"IFERROR('Salary Calculations'!P49,\"\")","v":""},{"$f":"IFERROR('Salary Calculations'!Q49,\"\")","v":""}]
[null,null,null,{"$f":"IFERROR('Salary Calculations'!A50,\"\")","v":""},{"$f":"IFERROR('Salary Calculations'!B50,\"\")","v":""},{"$f":"IFERROR('Salary Calculations'!C50,\"\")","v":""},{"$f":"IFERROR('Salary Calculations'!D50,\"\")","v":""},{"$f":"IFERROR('Salary Calculations'!E50,\"\")","v":""},{"$f":"IFERROR('Salary Calculations'!F50,\"\")","v":""},{"$f":"IFERROR('Salary Calculations'!G50,\"\")","v":""},{"$f":"IFERROR('Salary Calculations'!H50,\"\")","v":""},{"$f":"IFERROR('Salary Calculations'!I50,\"\")","v":""},{"$f":"IFERROR('Salary Calculations'!J50,\"\")","v":""},{"$f":"IFERROR('Salary Calculations'!K50,\"\")","v":""},{"$f":"IFERROR('Salary Calculations'!L50,\"\")","v":""},{"$f":"IFERROR('Salary Calculations'!M50,\"\")","v":""},{"$f":"IFERROR('Salary Calculations'!N50,\"\")","v":""},{"$f":"IFERROR('Salary Calculations'!O50,\"\")","v":""},{"$f":"IFERROR('Salary Calculations'!P50,\"\")","v":""},{"$f":"IFERROR('Salary Calculations'!Q50,\"\")","v":""}]
[null,null,null,{"$f":"IFERROR('Salary Calculations'!A51,\"\")","v":""},{"$f":"IFERROR('Salary Calculations'!B51,\"\")","v":""},{"$f":"IFERROR('Salary Calculations'!C51,\"\")","v":""},{"$f":"IFERROR('Salary Calculations'!D51,\"\")","v":""},{"$f":"IFERROR('Salary Calculations'!E51,\"\")","v":""},{"$f":"IFERROR('Salary Calculations'!F51,\"\")","v":""},{"$f":"IFERROR('Salary Calculations'!G51,\"\")","v":""},{"$f":"IFERROR('Salary Calculations'!H51,\"\")","v":""},{"$f":"IFERROR('Salary Calculations'!I51,\"\")","v":""},{"$f":"IFERROR('Salary Calculations'!J51,\"\")","v":""},{"$f":"IFERROR('Salary Calculations'!K51,\"\")","v":""},{"$f":"IFERROR('Salary Calculations'!L51,\"\")","v":""},{"$f":"IFERROR('Salary Calculations'!M51,\"\")","v":""},{"$f":"IFERROR('Salary Calculations'!N51,\"\")","v":""},{"$f":"IFERROR('Salary Calculations'!O51,\"\")","v":""},{"$f":"IFERROR('Salary Calculations'!P51,\"\")","v":""},{"$f":"IFERROR('Salary Calculations'!Q51,\"\")","v":""}]
[null,null,null,{"$f":"IFERROR('Salary Calculations'!A52,\"\")","v":""},{"$f":"IFERROR('Salary Calculations'!B52,\"\")","v":""},{"$f":"IFERROR('Salary Calculations'!C52,\"\")","v":""},{"$f":"IFERROR('Salary Calculations'!D52,\"\")","v":""},{"$f":"IFERROR('Salary Calculations'!E52,\"\")","v":""},{"$f":"IFERROR('Salary Calculations'!F52,\"\")","v":""},{"$f":"IFERROR('Salary Calculations'!G52,\"\")","v":""},{"$f":"IFERROR('Salary Calculations'!H52,\"\")","v":""},{"$f":"IFERROR('Salary Calculations'!I52,\"\")","v":""},{"$f":"IFERROR('Salary Calculations'!J52,\"\")","v":""},{"$f":"IFERROR('Salary Calculations'!K52,\"\")","v":""},{"$f":"IFERROR('Salary Calculations'!L52,\"\")","v":""},{"$f":"IFERROR('Salary Calculations'!M52,\"\")","v":""},{"$f":"IFERROR('Salary Calculations'!N52,\"\")","v":""},{"$f":"IFERROR('Salary Calculations'!O52,\"\")","v":""},{"$f":"IFERROR('Salary Calculations'!P52,\"\")","v":""},{"$f":"IFERROR('Salary Calculations'!Q52,\"\")","v":""}]
[null,null,null,{"$f":"IFERROR('Salary Calculations'!A53,\"\")","v":""},{"$f":"IFERROR('Salary Calculations'!B53,\"\")","v":""},{"$f":"IFERROR('Salary Calculations'!C53,\"\")","v":""},{"$f":"IFERROR('Salary Calculations'!D53,\"\")","v":""},{"$f":"IFERROR('Salary Calculations'!E53,\"\")","v":""},{"$f":"IFERROR('Salary Calculations'!F53,\"\")","v":""},{"$f":"IFERROR('Salary Calculations'!G53,\"\")","v":""},{"$f":"IFERROR('Salary Calculations'!H53,\"\")","v":""},{"$f":"IFERROR('Salary Calculations'!I53,\"\")","v":""},{"$f":"IFERROR('Salary Calculations'!J53,\"\")","v":""},{"$f":"IFERROR('Salary Calculations'!K53,\"\")","v":""},{"$f":"IFERROR('Salary Calculations'!L53,\"\")","v":""},{"$f":"IFERROR('Salary Calculations'!M53,\"\")","v":""},{"$f":"IFERROR('Salary Calculations'!N53,\"\")","v":""},{"$f":"IFERROR('Salary Calculations'!O53,\"\")","v":""},{"$f":"IFERROR('Salary Calculations'!P53,\"\")","v":""},{"$f":"IFERROR('Salary Calculations'!Q53,\"\")","v":""}]
[null,null,null,{"$f":"IFERROR('Salary Calculations'!A54,\"\")","v":""},{"$f":"IFERROR('Salary Calculations'!B54,\"\")","v":""},{"$f":"IFERROR('Salary Calculations'!C54,\"\")","v":""},{"$f":"IFERROR('Salary Calculations'!D54,\"\")","v":""},{"$f":"IFERROR('Salary Calculations'!E54,\"\")","v":""},{"$f":"IFERROR('Salary Calculations'!F54,\"\")","v":""},{"$f":"IFERROR('Salary Calculations'!G54,\"\")","v":""},{"$f":"IFERROR('Salary Calculations'!H54,\"\")","v":""},{"$f":"IFERROR('Salary Calculations'!I54,\"\")","v":""},{"$f":"IFERROR('Salary Calculations'!J54,\"\")","v":""},{"$f":"IFERROR('Salary Calculations'!K54,\"\")","v":""},{"$f":"IFERROR('Salary Calculations'!L54,\"\")","v":""},{"$f":"IFERROR('Salary Calculations'!M54,\"\")","v":""},{"$f":"IFERROR('Salary Calculations'!N54,\"\")","v":""},{"$f":"IFERROR('Salary Calculations'!O54,\"\")","v":""},{"$f":"IFERROR('Salary Calculations'!P54,\"\")","v":""},{"$f":"IFERROR('Salary Calculations'!Q54,\"\")","v":""}]
[null,null,null,{"$f":"IFERROR('Salary Calculations'!A55,\"\")","v":""},{"$f":"IFERROR('Salary Calculations'!B55,\"\")","v":""},{"$f":"IFERROR('Salary Calculations'!C55,\"\")","v":""},{"$f":"IFERROR('Salary Calculations'!D55,\"\")","v":""},{"$f":"IFERROR('Salary Calculations'!E55,\"\")","v":""},{"$f":"IFERROR('Salary Calculations'!F55,\"\")","v":""},{"$f":"IFERROR('Salary Calculations'!G55,\"\")","v":""},{"$f":"IFERROR('Salary Calculations'!H55,\"\")","v":""},{"$f":"IFERROR('Salary Calculations'!I55,\"\")","v":""},{"$f":"IFERROR('Salary Calculations'!J55,\"\")","v":""},{"$f":"IFERROR('Salary Calculations'!K55,\"\")","v":""},{"$f":"IFERROR('Salary Calculations'!L55,\"\")","v":""},{"$f":"IFERROR('Salary Calculations'!M55,\"\")","v":""},{"$f":"IFERROR('Salary Calculations'!N55,\"\")","v":""},{"$f":"IFERROR('Salary Calculations'!O55,\"\")","v":""},{"$f":"IFERROR('Salary Calculations'!P55,\"\")","v":""},{"$f":"IFERROR('Salary Calculations'!Q55,\"\")","v":""}]
[null,null,null,{"$f":"IFERROR('Salary Calculations'!A56,\"\")","v":""},{"$f":"IFERROR('Salary Calculations'!B56,\"\")","v":""},{"$f":"IFERROR('Salary Calculations'!C56,\"\")","v":""},{"$f":"IFERROR('Salary Calculations'!D56,\"\")","v":""},{"$f":"IFERROR('Salary Calculations'!E56,\"\")","v":""},{"$f":"IFERROR('Salary Calculations'!F56,\"\")","v":""},{"$f":"IFERROR('Salary Calculations'!G56,\"\")","v":""},{"$f":"IFERROR('Salary Calculations'!H56,\"\")","v":""},{"$f":"IFERROR('Salary Calculations'!I56,\"\")","v":""},{"$f":"IFERROR('Salary Calculations'!J56,\"\")","v":""},{"$f":"IFERROR('Salary Calculations'!K56,\"\")","v":""},{"$f":"IFERROR('Salary Calculations'!L56,\"\")","v":""},{"$f":"IFERROR('Salary Calculations'!M56,\"\")","v":""},{"$f":"IFERROR('Salary Calculations'!N56,\"\")","v":""},{"$f":"IFERROR('Salary Calculations'!O56,\"\")","v":""},{"$f":"IFERROR('Salary Calculations'!P56,\"\")","v":""},{"$f":"IFERROR('Salary Calculations'!Q56,\"\")","v":""}]
[null,null,null,{"$f":"IFERROR('Salary Calculations'!A57,\"\")","v":""},{"$f":"IFERROR('Salary Calculations'!B57,\"\")","v":""},{"$f":"IFERROR('Salary Calculations'!C57,\"\")","v":""},{"$f":"IFERROR('Salary Calculations'!D57,\"\")","v":""},{"$f":"IFERROR('Salary Calculations'!E57,\"\")","v":""},{"$f":"IFERROR('Salary Calculations'!F57,\"\")","v":""},{"$f":"IFERROR('Salary Calculations'!G57,\"\")","v":""},{"$f":"IFERROR('Salary Calculations'!H57,\"\")","v":""},{"$f":"IFERROR('Salary Calculations'!I57,\"\")","v":""},{"$f":"IFERROR('Salary Calculations'!J57,\"\")","v":""},{"$f":"IFERROR('Salary Calculations'!K57,\"\")","v":""},{"$f":"IFERROR('Salary Calculations'!L57,\"\")","v":""},{"$f":"IFERROR('Salary Calculations'!M57,\"\")","v":""},{"$f":"IFERROR('Salary Calculations'!N57,\"\")","v":""},{"$f":"IFERROR('Salary Calculations'!O57,\"\")","v":""},{"$f":"IFERROR('Salary Calculations'!P57,\"\")","v":""},{"$f":"IFERROR('Salary Calculations'!Q57,\"\")","v":""}]
[null,null,null,{"$f":"IFERROR('Salary Calculations'!A58,\"\")","v":""},{"$f":"IFERROR('Salary Calculations'!B58,\"\")","v":""},{"$f":"IFERROR('Salary Calculations'!C58,\"\")","v":""},{"$f":"IFERROR('Salary Calculations'!D58,\"\")","v":""},{"$f":"IFERROR('Salary Calculations'!E58,\"\")","v":""},{"$f":"IFERROR('Salary Calculations'!F58,\"\")","v":""},{"$f":"IFERROR('Salary Calculations'!G58,\"\")","v":""},{"$f":"IFERROR('Salary Calculations'!H58,\"\")","v":""},{"$f":"IFERROR('Salary Calculations'!I58,\"\")","v":""},{"$f":"IFERROR('Salary Calculations'!J58,\"\")","v":""},{"$f":"IFERROR('Salary Calculations'!K58,\"\")","v":""},{"$f":"IFERROR('Salary Calculations'!L58,\"\")","v":""},{"$f":"IFERROR('Salary Calculations'!M58,\"\")","v":""},{"$f":"IFERROR('Salary Calculations'!N58,\"\")","v":""},{"$f":"IFERROR('Salary Calculations'!O58,\"\")","v":""},{"$f":"IFERROR('Salary Calculations'!P58,\"\")","v":""},{"$f":"IFERROR('Salary Calculations'!Q58,\"\")","v":""}]
[null,null,null,{"$f":"IFERROR('Salary Calculations'!A59,\"\")","v":""},{"$f":"IFERROR('Salary Calculations'!B59,\"\")","v":""},{"$f":"IFERROR('Salary Calculations'!C59,\"\")","v":""},{"$f":"IFERROR('Salary Calculations'!D59,\"\")","v":""},{"$f":"IFERROR('Salary Calculations'!E59,\"\")","v":""},{"$f":"IFERROR('Salary Calculations'!F59,\"\")","v":""},{"$f":"IFERROR('Salary Calculations'!G59,\"\")","v":""},{"$f":"IFERROR('Salary Calculations'!H59,\"\")","v":""},{"$f":"IFERROR('Salary Calculations'!I59,\"\")","v":""},{"$f":"IFERROR('Salary Calculations'!J59,\"\")","v":""},{"$f":"IFERROR('Salary Calculations'!K59,\"\")","v":""},{"$f":"IFERROR('Salary Calculations'!L59,\"\")","v":""},{"$f":"IFERROR('Salary Calculations'!M59,\"\")","v":""},{"$f":"IFERROR('Salary Calculations'!N59,\"\")","v":""},{"$f":"IFERROR('Salary Calculations'!O59,\"\")","v":""},{"$f":"IFERROR('Salary Calculations'!P59,\"\")","v":""},{"$f":"IFERROR('Salary Calculations'!Q59,\"\")","v":""}]
[null,null,null,{"$f":"IFERROR('Salary Calculations'!A60,\"\")","v":""},{"$f":"IFERROR('Salary Calculations'!B60,\"\")","v":""},{"$f":"IFERROR('Salary Calculations'!C60,\"\")","v":""},{"$f":"IFERROR('Salary Calculations'!D60,\"\")","v":""},{"$f":"IFERROR('Salary Calculations'!E60,\"\")","v":""},{"$f":"IFERROR('Salary Calculations'!F60,\"\")","v":""},{"$f":"IFERROR('Salary Calculations'!G60,\"\")","v":""},{"$f":"IFERROR('Salary Calculations'!H60,\"\")","v":""},{"$f":"IFERROR('Salary Calculations'!I60,\"\")","v":""},{"$f":"IFERROR('Salary Calculations'!J60,\"\")","v":""},{"$f":"IFERROR('Salary Calculations'!K60,\"\")","v":""},{"$f":"IFERROR('Salary Calculations'!L60,\"\")","v":""},{"$f":"IFERROR('Salary Calculations'!M60,\"\")","v":""},{"$f":"IFERROR('Salary Calculations'!N60,\"\")","v":""},{"$f":"IFERROR('Salary Calculations'!O60,\"\")","v":""},{"$f":"IFERROR('Salary Calculations'!P60,\"\")","v":""},{"$f":"IFERROR('Salary Calculations'!Q60,\"\")","v":""}]
[null,null,null,{"$f":"IFERROR('Salary Calculations'!A61,\"\")","v":""},{"$f":"IFERROR('Salary Calculations'!B61,\"\")","v":""},{"$f":"IFERROR('Salary Calculations'!C61,\"\")","v":""},{"$f":"IFERROR('Salary Calculations'!D61,\"\")","v":""},{"$f":"IFERROR('Salary Calculations'!E61,\"\")","v":""},{"$f":"IFERROR('Salary Calculations'!F61,\"\")","v":""},{"$f":"IFERROR('Salary Calculations'!G61,\"\")","v":""},{"$f":"IFERROR('Salary Calculations'!H61,\"\")","v":""},{"$f":"IFERROR('Salary Calculations'!I61,\"\")","v":""},{"$f":"IFERROR('Salary Calculations'!J61,\"\")","v":""},{"$f":"IFERROR('Salary Calculations'!K61,\"\")","v":""},{"$f":"IFERROR('Salary Calculations'!L61,\"\")","v":""},{"$f":"IFERROR('Salary Calculations'!M61,\"\")","v":""},{"$f":"IFERROR('Salary Calculations'!N61,\"\")","v":""},{"$f":"IFERROR('Salary Calculations'!O61,\"\")","v":""},{"$f":"IFERROR('Salary Calculations'!P61,\"\")","v":""},{"$f":"IFERROR('Salary Calculations'!Q61,\"\")","v":""}]
[null,null,null,{"$f":"IFERROR('Salary Calculations'!A62,\"\")","v":""},{"$f":"IFERROR('Salary Calculations'!B62,\"\")","v":""},{"$f":"IFERROR('Salary Calculations'!C62,\"\")","v":""},{"$f":"IFERROR('Salary Calculations'!D62,\"\")","v":""},{"$f":"IFERROR('Salary Calculations'!E62,\"\")","v":""},{"$f":"IFERROR('Salary Calculations'!F62,\"\")","v":""},{"$f":"IFERROR('Salary Calculations'!G62,\"\")","v":""},{"$f":"IFERROR('Salary Calculations'!H62,\"\")","v":""},{"$f":"IFERROR('Salary Calculations'!I62,\"\")","v":""},{"$f":"IFERROR('Salary Calculations'!J62,\"\")","v":""},{"$f":"IFERROR('Salary Calculations'!K62,\"\")","v":""},{"$f":"IFERROR('Salary Calculations'!L62,\"\")","v":""},{"$f":"IFERROR('Salary Calculations'!M62,\"\")","v":""},{"$f":"IFERROR('Salary Calculations'!N62,\"\")","v":""},{"$f":"IFERROR('Salary Calculations'!O62,\"\")","v":""},{"$f":"IFERROR('Salary Calculations'!P62,\"\")","v":""},{"$f":"IFERROR('Salary Calculations'!Q62,\"\")","v":""}]
[null,null,null,{"$f":"IFERROR('Salary Calculations'!A63,\"\")","v":""},{"$f":"IFERROR('Salary Calculations'!B63,\"\")","v":""},{"$f":"IFERROR('Salary Calculations'!C63,\"\")","v":""},{"$f":"IFERROR('Salary Calculations'!D63,\"\")","v":""},{"$f":"IFERROR('Salary Calculations'!E63,\"\")","v":""},{"$f":"IFERROR('Salary Calculations'!F63,\"\")","v":""},{"$f":"IFERROR('Salary Calculations'!G63,\"\")","v":""},{"$f":"IFERROR('Salary Calculations'!H63,\"\")","v":""},{"$f":"IFERROR('Salary Calculations'!I63,\"\")","v":""},{"$f":"IFERROR('Salary Calculations'!J63,\"\")","v":""},{"$f":"IFERROR('Salary Calculations'!K63,\"\")","v":""},{"$f":"IFERROR('Salary Calculations'!L63,\"\")","v":""},{"$f":"IFERROR('Salary Calculations'!M63,\"\")","v":""},{"$f":"IFERROR('Salary Calculations'!N63,\"\")","v":""},{"$f":"IFERROR('Salary Calculations'!O63,\"\")","v":""},{"$f":"IFERROR('Salary Calculations'!P63,\"\")","v":""},{"$f":"IFERROR('Salary Calculations'!Q63,\"\")","v":""}]
[null,null,null,{"$f":"IFERROR('Salary Calculations'!A64,\"\")","v":""},{"$f":"IFERROR('Salary Calculations'!B64,\"\")","v":""},{"$f":"IFERROR('Salary Calculations'!C64,\"\")","v":""},{"$f":"IFERROR('Salary Calculations'!D64,\"\")","v":""},{"$f":"IFERROR('Salary Calculations'!E64,\"\")","v":""},{"$f":"IFERROR('Salary Calculations'!F64,\"\")","v":""},{"$f":"IFERROR('Salary Calculations'!G64,\"\")","v":""},{"$f":"IFERROR('Salary Calculations'!H64,\"\")","v":""},{"$f":"IFERROR('Salary Calculations'!I64,\"\")","v":""},{"$f":"IFERROR('Salary Calculations'!J64,\"\")","v":""},{"$f":"IFERROR('Salary Calculations'!K64,\"\")","v":""},{"$f":"IFERROR('Salary Calculations'!L64,\"\")","v":""},{"$f":"IFERROR('Salary Calculations'!M64,\"\")","v":""},{"$f":"IFERROR('Salary Calculations'!N64,\"\")","v":""},{"$f":"IFERROR('Salary Calculations'!O64,\"\")","v":""},{"$f":"IFERROR('Salary Calculations'!P64,\"\")","v":""},{"$f":"IFERROR('Salary Calculations'!Q64,\"\")","v":""}]
[null,null,null,{"$f":"IFERROR('Salary Calculations'!A65,\"\")","v":""},{"$f":"IFERROR('Salary Calculations'!B65,\"\")","v":""},{"$f":"IFERROR('Salary Calculations'!C65,\"\")","v":""},{"$f":"IFERROR('Salary Calculations'!D65,\"\")","v":""},{"$f":"IFERROR('Salary Calculations'!E65,\"\")","v":""},{"$f":"IFERROR('Salary Calculations'!F65,\"\")","v":""},{"$f":"IFERROR('Salary Calculations'!G65,\"\")","v":""},{"$f":"IFERROR('Salary Calculations'!H65,\"\")","v":""},{"$f":"IFERROR('Salary Calculations'!I65,\"\")","v":""},{"$f":"IFERROR('Salary Calculations'!J65,\"\")","v":""},{"$f":"IFERROR('Salary Calculations'!K65,\"\")","v":""},{"$f":"IFERROR('Salary Calculations'!L65,\"\")","v":""},{"$f":"IFERROR('Salary Calculations'!M65,\"\")","v":""},{"$f":"IFERROR('Salary Calculations'!N65,\"\")","v":""},{"$f":"IFERROR('Salary Calculations'!O65,\"\")","v":""},{"$f":"IFERROR('Salary Calculations'!P65,\"\")","v":""},{"$f":"IFERROR('Salary Calculations'!Q65,\"\")","v":""}]
[null,null,null,{"$f":"IFERROR('Salary Calculations'!A66,\"\")","v":""},{"$f":"IFERROR('Salary Calculations'!B66,\"\")","v":""},{"$f":"IFERROR('Salary Calculations'!C66,\"\")","v":""},{"$f":"IFERROR('Salary Calculations'!D66,\"\")","v":""},{"$f":"IFERROR('Salary Calculations'!E66,\"\")","v":""},{"$f":"IFERROR('Salary Calculations'!F66,\"\")","v":""},{"$f":"IFERROR('Salary Calculations'!G66,\"\")","v":""},{"$f":"IFERROR('Salary Calculations'!H66,\"\")","v":""},{"$f":"IFERROR('Salary Calculations'!I66,\"\")","v":""},{"$f":"IFERROR('Salary Calculations'!J66,\"\")","v":""},{"$f":"IFERROR('Salary Calculations'!K66,\"\")","v":""},{"$f":"IFERROR('Salary Calculations'!L66,\"\")","v":""},{"$f":"IFERROR('Salary Calculations'!M66,\"\")","v":""},{"$f":"IFERROR('Salary Calculations'!N66,\"\")","v":""},{"$f":"IFERROR('Salary Calculations'!O66,\"\")","v":""},{"$f":"IFERROR('Salary Calculations'!P66,\"\")","v":""},{"$f":"IFERROR('Salary Calculations'!Q66,\"\")","v":""}]
[null,null,null,{"$f":"IFERROR('Salary Calculations'!A67,\"\")","v":""},{"$f":"IFERROR('Salary Calculations'!B67,\"\")","v":""},{"$f":"IFERROR('Salary Calculations'!C67,\"\")","v":""},{"$f":"IFERROR('Salary Calculations'!D67,\"\")","v":""},{"$f":"IFERROR('Salary Calculations'!E67,\"\")","v":""},{"$f":"IFERROR('Salary Calculations'!F67,\"\")","v":""},{"$f":"IFERROR('Salary Calculations'!G67,\"\")","v":""},{"$f":"IFERROR('Salary Calculations'!H67,\"\")","v":""},{"$f":"IFERROR('Salary Calculations'!I67,\"\")","v":""},{"$f":"IFERROR('Salary Calculations'!J67,\"\")","v":""},{"$f":"IFERROR('Salary Calculations'!K67,\"\")","v":""},{"$f":"IFERROR('Salary Calculations'!L67,\"\")","v":""},{"$f":"IFERROR('Salary Calculations'!M67,\"\")","v":""},{"$f":"IFERROR('Salary Calculations'!N67,\"\")","v":""},{"$f":"IFERROR('Salary Calculations'!O67,\"\")","v":""},{"$f":"IFERROR('Salary Calculations'!P67,\"\")","v":""},{"$f":"IFERROR('Salary Calculations'!Q67,\"\")","v":""}]
[null,null,null,{"$f":"IFERROR('Salary Calculations'!A68,\"\")","v":""},{"$f":"IFERROR('Salary Calculations'!B68,\"\")","v":""},{"$f":"IFERROR('Salary Calculations'!C68,\"\")","v":""},{"$f":"IFERROR('Salary Calculations'!D68,\"\")","v":""},{"$f":"IFERROR('Salary Calculations'!E68,\"\")","v":""},{"$f":"IFERROR('Salary Calculations'!F68,\"\")","v":""},{"$f":"IFERROR('Salary Calculations'!G68,\"\")","v":""},{"$f":"IFERROR('Salary Calculations'!H68,\"\")","v":""},{"$f":"IFERROR('Salary Calculations'!I68,\"\")","v":""},{"$f":"IFERROR('Salary Calculations'!J68,\"\")","v":""},{"$f":"IFERROR('Salary Calculations'!K68,\"\")","v":""},{"$f":"IFERROR('Salary Calculations'!L68,\"\")","v":""},{"$f":"IFERROR('Salary Calculations'!M68,\"\")","v":""},{"$f":"IFERROR('Salary Calculations'!N68,\"\")","v":""},{"$f":"IFERROR('Salary Calculations'!O68,\"\")","v":""},{"$f":"IFERROR('Salary Calculations'!P68,\"\")","v":""},{"$f":"IFERROR('Salary Calculations'!Q68,\"\")","v":""}]
[null,null,null,{"$f":"IFERROR('Salary Calculations'!A69,\"\")","v":""},{"$f":"IFERROR('Salary Calculations'!B69,\"\")","v":""},{"$f":"IFERROR('Salary Calculations'!C69,\"\")","v":""},{"$f":"IFERROR('Salary Calculations'!D69,\"\")","v":""},{"$f":"IFERROR('Salary Calculations'!E69,\"\")","v":""},{"$f":"IFERROR('Salary Calculations'!F69,\"\")","v":""},{"$f":"IFERROR('Salary Calculations'!G69,\"\")","v":""},{"$f":"IFERROR('Salary Calculations'!H69,\"\")","v":""},{"$f":"IFERROR('Salary Calculations'!I69,\"\")","v":""},{"$f":"IFERROR('Salary Calculations'!J69,\"\")","v":""},{"$f":"IFERROR('Salary Calculations'!K69,\"\")","v":""},{"$f":"IFERROR('Salary Calculations'!L69,\"\")","v":""},{"$f":"IFERROR('Salary Calculations'!M69,\"\")","v":""},{"$f":"IFERROR('Salary Calculations'!N69,\"\")","v":""},{"$f":"IFERROR('Salary Calculations'!O69,\"\")","v":""},{"$f":"IFERROR('Salary Calculations'!P69,\"\")","v":""},{"$f":"IFERROR('Salary Calculations'!Q69,\"\")","v":""}]
[null,null,null,{"$f":"IFERROR('Salary Calculations'!A70,\"\")","v":""},{"$f":"IFERROR('Salary Calculations'!B70,\"\")","v":""},{"$f":"IFERROR('Salary Calculations'!C70,\"\")","v":""},{"$f":"IFERROR('Salary Calculations'!D70,\"\")","v":""},{"$f":"IFERROR('Salary Calculations'!E70,\"\")","v":""},{"$f":"IFERROR('Salary Calculations'!F70,\"\")","v":""},{"$f":"IFERROR('Salary Calculations'!G70,\"\")","v":""},{"$f":"IFERROR('Salary Calculations'!H70,\"\")","v":""},{"$f":"IFERROR('Salary Calculations'!I70,\"\")","v":""},{"$f":"IFERROR('Salary Calculations'!J70,\"\")","v":""},{"$f":"IFERROR('Salary Calculations'!K70,\"\")","v":""},{"$f":"IFERROR('Salary Calculations'!L70,\"\")","v":""},{"$f":"IFERROR('Salary Calculations'!M70,\"\")","v":""},{"$f":"IFERROR('Salary Calculations'!N70,\"\")","v":""},{"$f":"IFERROR('Salary Calculations'!O70,\"\")","v":""},{"$f":"IFERROR('Salary Calculations'!P70,\"\")","v":""},{"$f":"IFERROR('Salary Calculations'!Q70,\"\")","v":""}]

{"sheet":"Salary Calculations","index":1,"n_rows":70,"n_cols":17,"rows_kept":70,"cut":false,"hidden":false,"merged":[[0,1,0,5],[0,6,0,8],[0,9,0,14]]}
[null,"Investments",null,null,null,null,"Income",null,null,"Deductions"]
["Age","Savings","Savings Requirement","Investment Fees","Return on Investments","Net Investments","Salary","Pension","Total Income","Federal Taxes","Social Security","Medicare","State Taxes","Local Taxes","Total Deductions","Expenses","Net Income"]
[{"$f":"'Salary Worksheet'!B5","v":42},{"$f":"'Salary Worksheet'!B7","v":500000},{"$f":"IF(ISERROR(A3),NA(),'Salary Worksheet'!$B$15)","v":2000000},{"$f":"'Salary Worksheet'!$B$11*'Salary Calculations'!B3","v":1250},{"$f":"'Salary Worksheet'!$B$12*'Salary Calculations'!B3","v":25000},{"$f":"B3-D3+E3","v":523750},{"$f":"'Salary Worksheet'!$B$16","v":150000},{"$f":"'Salary Worksheet'!$B$17","v":50000},{"$f":"SUM(G3:H3)","v":200000},{"$f":"'Salary Worksheet'!$B$8*'Salary Calculations'!I3","v":50000},{"$f":"'Salary Worksheet'!$B$13*'Salary Calculations'!I3","v":12400},{"$f":"'Salary Worksheet'!$B$14*'Salary Calculations'!I3","v":2900},{"$f":"IF('Salary Worksheet'!$B$18=\"Yes\",'Salary Worksheet'!$B$9*'Salary Calculations'!I3,'Salary Worksheet'!$B$9*'Salary Calculations'!G3)","v":12000},{"$f":"'Salary Worksheet'!$B$10*'Salary Calculations'!I3","v":4000},{"$f":"SUM(J3:N3)","v":81300},{"$f":"'Salary Worksheet'!$B$19","v":100000},{"$f":"I3-O3-P3","v":18700}]
[{"$f":"IF(A3<'Salary Worksheet'!$B$6,A3+1,NA())","v":43},{"$f":"IF(ISERROR(A4),NA(),F3+Q3)","v":542450},{"$f":"IF(ISERROR(A4),NA(),'Salary Worksheet'!$B$15)","v":2000000},{"$f":"'Salary Worksheet'!$B$11*'Salary Calculations'!B4","v":1356.125},{"$f":"'Salary Worksheet'!$B$12*'Salary Calculations'!B4","v":27122.5},{"$f":"B4-D4+E4","v":568216.375},{"$f":"G3*(1+'Salary Worksheet'!$B$20)","v":153000},{"$f":"IF(ISERROR(A4),NA(),H3*(1+'Salary Worksheet'!$B$20))","v":51000},{"$f":"SUM(G4:H4)","v":204000},{"$f":"'Salary Worksheet'!$B$8*'Salary Calculations'!I4","v":51000},{"$f":"'Salary Worksheet'!$B$13*'Salary Calculations'!I4","v":12648},{"$f":"'Salary Worksheet'!$B$14*'Salary Calculations'!I4","v":2958},{"$f":"IF('Salary Worksheet'!$B$18=\"Yes\",'Salary Worksheet'!$B$9*'Salary Calculations'!I4,'Salary Worksheet'!$B$9*'Salary Calculations'!G4)","v":12240},{"$f":"'Salary Worksheet'!$B$10*'Salary Calculations'!I4","v":4080},{"$f":"SUM(J4:N4)","v":82926},{"$f":"IF(ISERROR(A4),NA(),P3*(1+'Salary Worksheet'!$B$20))","v":102000},{"$f":"I4-O4-P4","v":19074}]
[{"$f":"IF(A4<'Salary Worksheet'!$B$6,A4+1,NA())","v":44},{"$f":"IF(ISERROR(A5),NA(),F4+Q4)","v":587290.375},{"$f":"IF(ISERROR(A5),NA(),'Salary Worksheet'!$B$15)","v":2000000},{"$f":"'Salary Worksheet'!$B$11*'Salary Calculations'!B5","v":1468.2259375000001},{"$f":"'Salary Worksheet'!$B$12*'Salary Calculations'!B5","v":29364.518750000003},{"$f":"B5-D5+E5","v":615186.66781250003},{"$f":"IF(ISERROR(A5),NA(),G4*(1+'Salary Worksheet'!$B$20))","v":156060},{"$f":"IF(ISERROR(A5),NA(),H4*(1+'Salary Worksheet'!$B$20))","v":52020},{"$f":"SUM(G5:H5)","v":208080},{"$f":"'Salary Worksheet'!$B$8*'Salary Calculations'!I5","v":52020},{"$f":"'Salary Worksheet'!$B$13*'Salary Calculations'!I5","v":12900.96},{"$f":"'Salary Worksheet'!$B$14*'Salary Calculations'!I5","v":3017.1600000000003},{"$f":"IF('Salary Worksheet'!$B$18=\"Yes\",'Salary Worksheet'!$B$9*'Salary Calculations'!I5,'Salary Worksheet'!$B$9*'Salary Calculations'!G5)","v":12484.8},{"$f":"'Salary Worksheet'!$B$10*'Salary Calculations'!I5","v":4161.6000000000004},84584.52,{"$f":"IF(ISERROR(A5),NA(),P4*(1+'Salary Worksheet'!$B$20))","v":104040},{"$f":"I5-O5-P5","v":19455.479999999996}]
[{"$f":"IF(A5<'Salary Worksheet'!$B$6,A5+1,NA())","v":45},634642.14781250001,{"$f":"IF(ISERROR(A6),NA(),'Salary Worksheet'!$B$15)","v":2000000},{"$f":"'Salary Worksheet'!$B$11*'Salary Calculations'!B6","v":1586.6053695312501},{"$f":"'Salary Worksheet'!$B$12*'Salary Calculations'!B6","v":31732.107390625002},{"$f":"B6-D6+E6","v":664787.64983359387},{"$f":"IF(ISERROR(A6),NA(),G5*(1+'Salary Worksheet'!$B$20))","v":159181.20000000001},{"$f":"IF(ISERROR(A6),NA(),H5*(1+'Salary Worksheet'!$B$20))","v":53060.4},{"$f":"SUM(G6:H6)","v":212241.6},{"$f":"'Salary Worksheet'!$B$8*'Salary Calculations'!I6","v":53060.4},{"$f":"'Salary Worksheet'!$B$13*'Salary Calculations'!I6","v":13158.9792},{"$f":"'Salary Worksheet'!$B$14*'Salary Calculations'!I6","v":3077.5032000000001},{"$f":"IF('Salary Worksheet'!$B$18=\"Yes\",'Salary Worksheet'!$B$9*'Salary Calculations'!I6,'Salary Worksheet'!$B$9*'Salary Calculations'!G6)","v":12734.495999999999},{"$f":"'Salary Worksheet'!$B$10*'Salary Calculations'!I6","v":4244.8320000000003},86276.210399999996,{"$f":"IF(ISERROR(A6),NA(),P5*(1+'Salary Worksheet'!$B$20))","v":106120.8},{"$f":"I6-O6-P6","v":19844.589600000007}]
[{"$f":"IF(A6<'Salary Worksheet'!$B$6,A6+1,NA())","v":46},684632.23943359382,{"$f":"IF(ISERROR(A7),NA(),'Salary Worksheet'!$B$15)","v":2000000},{"$f":"'Salary Worksheet'!$B$11*'Salary Calculations'!B7","v":1711.5805985839845},{"$f":"'Salary Worksheet'!$B$12*'Salary Calculations'!B7","v":34231.611971679689},{"$f":"B7-D7+E7","v":717152.27080668951},{"$f":"IF(ISERROR(A7),NA(),G6*(1+'Salary Worksheet'!$B$20))","v":162364.82400000002},{"$f":"IF(ISERROR(A7),NA(),H6*(1+'Salary Worksheet'!$B$20))","v":54121.608},{"$f":"SUM(G7:H7)","v":216486.43200000003},{"$f":"'Salary Worksheet'!$B$8*'Salary Calculations'!I7","v":54121.608000000007},{"$f":"'Salary Worksheet'!$B$13*'Salary Calculations'!I7","v":13422.158784000001},{"$f":"'Salary Worksheet'!$B$14*'Salary Calculations'!I7","v":3139.0532640000006},{"$f":"IF('Salary Worksheet'!$B$18=\"Yes\",'Salary Worksheet'!$B$9*'Salary Calculations'!I7,'Salary Worksheet'!$B$9*'Salary Calculations'!G7)","v":12989.185920000002},{"$f":"'Salary Worksheet'!$B$10*'Salary Calculations'!I7","v":4329.7286400000003},88001.734608000013,{"$f":"IF(ISERROR(A7),NA(),P6*(1+'Salary Worksheet'!$B$20))","v":108243.216},{"$f":"I7-O7-P7","v":20241.481392000016}]
[{"$f":"IF(A7<'Salary Worksheet'!$B$6,A7+1,NA())","v":47},737393.7521986895,{"$f":"IF(ISERROR(A8),NA(),'Salary Worksheet'!$B$15)","v":2000000},{"$f":"'Salary Worksheet'!$B$11*'Salary Calculations'!B8","v":1843.4843804967238},{"$f":"'Salary Worksheet'!$B$12*'Salary Calculations'!B8","v":36869.687609934474},772419.95542812732,{"$f":"IF(ISERROR(A8),NA(),G7*(1+'Salary Worksheet'!$B$20))","v":165612.12048000001},{"$f":"IF(ISERROR(A8),NA(),H7*(1+'Salary Worksheet'!$B$20))","v":55204.040160000004},220816.16064000002,{"$f":"'Salary Worksheet'!$B$8*'Salary Calculations'!I8","v":55204.040160000004},{"$f":"'Salary Worksheet'!$B$13*'Salary Calculations'!I8","v":13690.601959680002},{"$f":"'Salary Worksheet'!$B$14*'Salary Calculations'!I8","v":3201.8343292800005},{"$f":"IF('Salary Worksheet'!$B$18=\"Yes\",'Salary Worksheet'!$B$9*'Salary Calculations'!I8,'Salary Worksheet'!$B$9*'Salary Calculations'!G8)","v":13248.9696384},{"$f":"'Salary Worksheet'!$B$10*'Salary Calculations'!I8","v":4416.3232128000009},89761.769300159998,{"$f":"IF(ISERROR(A8),NA(),P7*(1+'Salary Worksheet'!$B$20))","v":110408.08032000001},20646.31101984001]
[{"$f":"IF(A8<'Salary Worksheet'!$B$6,A8+1,NA())","v":48},793066.26644796738,{"$f":"IF(ISERROR(A9),NA(),'Salary Worksheet'!$B$15)","v":2000000},{"$f":"'Salary Worksheet'!$B$11*'Salary Calculations'!B9","v":1982.6656661199186},{"$f":"'Salary Worksheet'!$B$12*'Salary Calculations'!B9","v":39653.313322398375},830736.91410424584,{"$f":"IF(ISERROR(A9),NA(),G8*(1+'Salary Worksheet'!$B$20))","v":168924.36288960002},{"$f":"IF(ISERROR(A9),NA(),H8*(1+'Salary Worksheet'!$B$20))","v":56308.120963200003},225232.48385280001,{"$f":"'Salary Worksheet'!$B$8*'Salary Calculations'!I9","v":56308.120963200003},{"$f":"'Salary Worksheet'!$B$13*'Salary Calculations'!I9","v":13964.413998873601},{"$f":"'Salary Worksheet'!$B$14*'Salary Calculations'!I9","v":3265.8710158656004},{"$f":"IF('Salary Worksheet'!$B$18=\"Yes\",'Salary Worksheet'!$B$9*'Salary Calculations'!I9,'Salary Worksheet'!$B$9*'Salary Calculations'!G9)","v":13513.949031168},{"$f":"'Salary Worksheet'!$B$10*'Salary Calculations'!I9","v":4504.6496770560007},91557.004686163215,{"$f":"IF(ISERROR(A9),NA(),P8*(1+'Salary Worksheet'!$B$20))","v":112616.24192640001},21059.237240236791]
[{"$f":"IF(A9<'Salary Worksheet'!$B$6,A9+1,NA())","v":49},851796.15134448267,{"$f":"IF(ISERROR(A10),NA(),'Salary Worksheet'!$B$15)","v":2000000},{"$f":"'Salary Worksheet'!$B$11*'Salary Calculations'!B10","v":2129.4903783612067},{"$f":"'Salary Worksheet'!$B$12*'Salary Calculations'!B10","v":42589.807567224139},892256.46853334561,{"$f":"IF(ISERROR(A10),NA(),G9*(1+'Salary Worksheet'!$B$20))","v":172302.85014739202},{"$f":"IF(ISERROR(A10),NA(),H9*(1+'Salary Worksheet'!$B$20))","v":57434.283382464004},229737.13352985602,{"$f":"'Salary Worksheet'!$B$8*'Salary Calculations'!I10","v":57434.283382464004},{"$f":"'Salary Worksheet'!$B$13*'Salary Calculations'!I10","v":14243.702278851073},{"$f":"'Salary Worksheet'!$B$14*'Salary Calculations'!I10","v":3331.1884361829125},{"$f":"IF('Salary Worksheet'!$B$18=\"Yes\",'Salary Worksheet'!$B$9*'Salary Calculations'!I10,'Salary Worksheet'!$B$9*'Salary Calculations'!G10)","v":13784.22801179136},{"$f":"'Salary Worksheet'!$B$10*'Salary Calculations'!I10","v":4594.7426705971202},93388.144779886468,{"$f":"IF(ISERROR(A10),NA(),P9*(1+'Salary Worksheet'!$B$20))","v":114868.56676492801},21480.421985041539]
[{"$f":"IF(A10<'Salary Worksheet'!$B$6,A10+1,NA())","v":50},913736.8905183872,{"$f":"IF(ISERROR(A11),NA(),'Salary Worksheet'!$B$15)","v":2000000},{"$f":"'Salary Worksheet'!$B$11*'Salary Calculations'!B11","v":2284.342226295968},{"$f":"'Salary Worksheet'!$B$12*'Salary Calculations'!B11","v":45686.844525919361},957139.39281801064,{"$f":"IF(ISERROR(A11),NA(),G10*(1+'Salary Worksheet'!$B$20))","v":175748.90715033986},{"$f":"IF(ISERROR(A11),NA(),H10*(1+'Salary Worksheet'!$B$20))","v":58582.969050113286},234331.87620045315,{"$f":"'Salary Worksheet'!$B$8*'Salary Calculations'!I11","v":58582.969050113286},{"$f":"'Salary Worksheet'!$B$13*'Salary Calculations'!I11","v":14528.576324428095},{"$f":"'Salary Worksheet'!$B$14*'Salary Calculations'!I11","v":3397.812204906571},{"$f":"IF('Salary Worksheet'!$B$18=\"Yes\",'Salary Worksheet'!$B$9*'Salary Calculations'!I11,'Salary Worksheet'!$B$9*'Salary Calculations'!G11)","v":14059.912572027188},{"$f":"'Salary Worksheet'!$B$10*'Salary Calculations'!I11","v":4686.6375240090629},95255.907675484195,{"$f":"IF(ISERROR(A11),NA(),P10*(1+'Salary Worksheet'!$B$20))","v":117165.93810022657},21910.030424742377]
[{"$f":"IF(A11<'Salary Worksheet'!$B$6,A11+1,NA())","v":51},979049.42324275302,{"$f":"IF(ISERROR(A12),NA(),'Salary Worksheet'!$B$15)","v":2000000},{"$f":"'Salary Worksheet'!$B$11*'Salary Calculations'!B12","v":2447.6235581068827},{"$f":"'Salary Worksheet'!$B$12*'Salary Calculations'!B12","v":48952.471162137655},1025554.2708467839,{"$f":"IF(ISERROR(A12),NA(),G11*(1+'Salary Worksheet'!$B$20))","v":179263.88529334666},{"$f":"IF(ISERROR(A12),NA(),H11*(1+'Salary Worksheet'!$B$20))","v":59754.628431115554},239018.51372446222,{"$f":"'Salary Worksheet'!$B$8*'Salary Calculations'!I12","v":59754.628431115554},{"$f":"'Salary Worksheet'!$B$13*'Salary Calculations'!I12","v":14819.147850916657},{"$f":"'Salary Worksheet'!$B$14*'Salary Calculations'!I12","v":3465.7684490047022},{"$f":"IF('Salary Worksheet'!$B$18=\"Yes\",'Salary Worksheet'!$B$9*'Salary Calculations'!I12,'Salary Worksheet'!$B$9*'Salary Calculations'!G12)","v":14341.110823467732},{"$f":"'Salary Worksheet'!$B$10*'Salary Calculations'!I12","v":4780.3702744892444},97161.025828993894,{"$f":"IF(ISERROR(A12),NA(),P11*(1+'Salary Worksheet'!$B$20))","v":119509.25686223111},22348.2310332372]
[{"$f":"IF(A12<'Salary Worksheet'!$B$6,A12+1,NA())","v":52},1047902.5018800211,{"$f":"IF(ISERROR(A13),NA(),'Salary Worksheet'!$B$15)","v":2000000},{"$f":"'Salary Worksheet'!$B$11*'Salary Calculations'!B13","v":2619.7562547000525},{"$f":"'Salary Worksheet'!$B$12*'Salary Calculations'!B13","v":52395.125094001058},1097677.870719322,{"$f":"IF(ISERROR(A13),NA(),G12*(1+'Salary Worksheet'!$B$20))","v":182849.16299921359},{"$f":"IF(ISERROR(A13),NA(),H12*(1+'Salary Worksheet'!$B$20))","v":60949.720999737867},243798.88399895147,{"$f":"'Salary Worksheet'!$B$8*'Salary Calculations'!I13","v":60949.720999737867},{"$f":"'Salary Worksheet'!$B$13*'Salary Calculations'!I13","v":15115.530807934991},{"$f":"'Salary Worksheet'!$B$14*'Salary Calculations'!I13","v":3535.0838179847965},{"$f":"IF('Salary Worksheet'!$B$18=\"Yes\",'Salary Worksheet'!$B$9*'Salary Calculations'!I13,'Salary Worksheet'!$B$9*'Salary Calculations'!G13)","v":14627.933039937088},{"$f":"'Salary Worksheet'!$B$10*'Salary Calculations'!I13","v":4875.9776799790297},99104.246345573774,{"$f":"IF(ISERROR(A13),NA(),P12*(1+'Salary Worksheet'!$B$20))","v":121899.44199947573},22795.195653901959]
[{"$f":"IF(A13<'Salary Worksheet'!$B$6,A13+1,NA())","v":53},1120473.0663732239,{"$f":"IF(ISERROR(A14),NA(),'Salary Worksheet'!$B$15)","v":2000000},{"$f":"'Salary Worksheet'!$B$11*'Salary Calculations'!B14","v":2801.18266593306},{"$f":"'Salary Worksheet'!$B$12*'Salary Calculations'!B14","v":56023.6533186612},1173695.537025952,{"$f":"IF(ISERROR(A14),NA(),G13*(1+'Salary Worksheet'!$B$20))","v":186506.14625919785},{"$f":"IF(ISERROR(A14),NA(),H13*(1+'Salary Worksheet'!$B$20))","v":62168.715419732624},248674.86167893047,{"$f":"'Salary Worksheet'!$B$8*'Salary Calculations'!I14","v":62168.715419732616},{"$f":"'Salary Worksheet'!$B$13*'Salary Calculations'!I14","v":15417.841424093689},{"$f":"'Salary Worksheet'!$B$14*'Salary Calculations'!I14","v":3605.7854943444918},{"$f":"IF('Salary Worksheet'!$B$18=\"Yes\",'Salary Worksheet'!$B$9*'Salary Calculations'!I14,'Salary Worksheet'!$B$9*'Salary Calculations'!G14)","v":14920.491700735827},{"$f":"'Salary Worksheet'!$B$10*'Salary Calculations'!I14","v":4973.4972335786097},101086.33127248524,{"$f":"IF(ISERROR(A14),NA(),P13*(1+'Salary Worksheet'!$B$20))","v":124337.43083946525},23251.099566979959]
[{"$f":"IF(A14<'Salary Worksheet'!$B$6,A14+1,NA())","v":54},1196946.636592932,{"$f":"IF(ISERROR(A15),NA(),'Salary Worksheet'!$B$15)","v":2000000},{"$f":"'Salary Worksheet'!$B$11*'Salary Calculations'!B15","v":2992.36659148233},{"$f":"'Salary Worksheet'!$B$12*'Salary Calculations'!B15","v":59847.331829646602},1253801.6018310962,{"$f":"IF(ISERROR(A15),NA(),G14*(1+'Salary Worksheet'!$B$20))","v":190236.26918438182},{"$f":"IF(ISERROR(A15),NA(),H14*(1+'Salary Worksheet'!$B$20))","v":63412.089728127277},253648.35891250911,{"$f":"'Salary Worksheet'!$B$8*'Salary Calculations'!I15","v":63412.089728127277},{"$f":"'Salary Worksheet'!$B$13*'Salary Calculations'!I15","v":15726.198252575565},{"$f":"'Salary Worksheet'!$B$14*'Salary Calculations'!I15","v":3677.9012042313821},{"$f":"IF('Salary Worksheet'!$B$18=\"Yes\",'Salary Worksheet'!$B$9*'Salary Calculations'!I15,'Salary Worksheet'!$B$9*'Salary Calculations'!G15)","v":15218.901534750546},{"$f":"'Salary Worksheet'!$B$10*'Salary Calculations'!I15","v":5072.9671782501819},103108.05789793495,{"$f":"IF(ISERROR(A15),NA(),P14*(1+'Salary Worksheet'!$B$20))","v":126824.17945625455},23716.121558319603]
[{"$f":"IF(A15<'Salary Worksheet'!$B$6,A15+1,NA())","v":55},1277517.7233894158,{"$f":"IF(ISERROR(A16),NA(),'Salary Worksheet'!$B$15)","v":2000000},{"$f":"'Salary Worksheet'!$B$11*'Salary Calculations'!B16","v":3193.7943084735393},{"$f":"'Salary Worksheet'!$B$12*'Salary Calculations'!B16","v":63875.886169470788},1338199.815250413,{"$f":"IF(ISERROR(A16),NA(),G15*(1+'Salary Worksheet'!$B$20))","v":194040.99456806947},{"$f":"IF(ISERROR(A16),NA(),H15*(1+'Salary Worksheet'!$B$20))","v":64680.331522689827},258721.32609075931,{"$f":"'Salary Worksheet'!$B$8*'Salary Calculations'!I16","v":64680.331522689827},{"$f":"'Salary Worksheet'!$B$13*'Salary Calculations'!I16","v":16040.722217627077},{"$f":"'Salary Worksheet'!$B$14*'Salary Calculations'!I16","v":3751.45922831601},{"$f":"IF('Salary Worksheet'!$B$18=\"Yes\",'Salary Worksheet'!$B$9*'Salary Calculations'!I16,'Salary Worksheet'!$B$9*'Salary Calculations'!G16)","v":15523.279565445559},{"$f":"'Salary Worksheet'!$B$10*'Salary Calculations'!I16","v":5174.4265218151859},105170.21905589366,{"$f":"IF(ISERROR(A16),NA(),P15*(1+'Salary Worksheet'!$B$20))","v":129360.66304537965},24190.443989485997]
[{"$f":"IF(A16<'Salary Worksheet'!$B$6,A16+1,NA())","v":56},1362390.259239899,{"$f":"IF(ISERROR(A17),NA(),'Salary Worksheet'!$B$15)","v":2000000},{"$f":"'Salary Worksheet'!$B$11*'Salary Calculations'!B17","v":3405.9756480997476},{"$f":"'Salary Worksheet'!$B$12*'Salary Calculations'!B17","v":68119.512961994958},1427103.7965537941,{"$f":"IF(ISERROR(A17),NA(),G16*(1+'Salary Worksheet'!$B$20))","v":197921.81445943087},{"$f":"IF(ISERROR(A17),NA(),H16*(1+'Salary Worksheet'!$B$20))","v":65973.938153143623},263895.75261257449,{"$f":"'Salary Worksheet'!$B$8*'Salary Calculations'!I17","v":65973.938153143623},{"$f":"'Salary Worksheet'!$B$13*'Salary Calculations'!I17","v":16361.536661979619},{"$f":"'Salary Worksheet'!$B$14*'Salary Calculations'!I17","v":3826.4884128823305},{"$f":"IF('Salary Worksheet'!$B$18=\"Yes\",'Salary Worksheet'!$B$9*'Salary Calculations'!I17,'Salary Worksheet'!$B$9*'Salary Calculations'!G17)","v":15833.745156754469},{"$f":"'Salary Worksheet'!$B$10*'Salary Calculations'!I17","v":5277.9150522514901},107273.62343701153,{"$f":"IF(ISERROR(A17),NA(),P16*(1+'Salary Worksheet'!$B$20))","v":131947.87630628725},24674.252869275719]
[{"$f":"IF(A17<'Salary Worksheet'!$B$6,A17+1,NA())","v":57},1451778.0494230697,{"$f":"IF(ISERROR(A18),NA(),'Salary Worksheet'!$B$15)","v":2000000},{"$f":"'Salary Worksheet'!$B$11*'Salary Calculations'!B18","v":3629.4451235576744},{"$f":"'Salary Worksheet'!$B$12*'Salary Calculations'!B18","v":72588.902471153488},1520737.5067706655,{"$f":"IF(ISERROR(A18),NA(),G17*(1+'Salary Worksheet'!$B$20))","v":201880.2507486195},{"$f":"IF(ISERROR(A18),NA(),H17*(1+'Salary Worksheet'!$B$20))","v":67293.416916206494},269173.66766482597,{"$f":"'Salary Worksheet'!$B$8*'Salary Calculations'!I18","v":67293.416916206494},{"$f":"'Salary Worksheet'!$B$13*'Salary Calculations'!I18","v":16688.767395219209},{"$f":"'Salary Worksheet'!$B$14*'Salary Calculations'!I18","v":3903.0181811399766},{"$f":"IF('Salary Worksheet'!$B$18=\"Yes\",'Salary Worksheet'!$B$9*'Salary Calculations'!I18,'Salary Worksheet'!$B$9*'Salary Calculations'!G18)","v":16150.420059889559},{"$f":"'Salary Worksheet'!$B$10*'Salary Calculations'!I18","v":5383.4733532965192},109419.09590575176,{"$f":"IF(ISERROR(A18),NA(),P17*(1+'Salary Worksheet'!$B$20))","v":134586.83383241299},25167.737926661241]
[{"$f":"IF(A18<'Salary Worksheet'!$B$6,A18+1,NA())","v":58},1545905.2446973268,{"$f":"IF(ISERROR(A19),NA(),'Salary Worksheet'!$B$15)","v":2000000},{"$f":"'Salary Worksheet'!$B$11*'Salary Calculations'!B19","v":3864.763111743317},{"$f":"'Salary Worksheet'!$B$12*'Salary Calculations'!B19","v":77295.262234866343},1619335.7438204498,{"$f":"IF(ISERROR(A19),NA(),G18*(1+'Salary Worksheet'!$B$20))","v":205917.85576359188},{"$f":"IF(ISERROR(A19),NA(),H18*(1+'Salary Worksheet'!$B$20))","v":68639.285254530623},274557.14101812249,{"$f":"'Salary Worksheet'!$B$8*'Salary Calculations'!I19","v":68639.285254530623},{"$f":"'Salary Worksheet'!$B$13*'Salary Calculations'!I19","v":17022.542743123595},{"$f":"'Salary Worksheet'!$B$14*'Salary Calculations'!I19","v":3981.0785447627763},{"$f":"IF('Salary Worksheet'!$B$18=\"Yes\",'Salary Worksheet'!$B$9*'Salary Calculations'!I19,'Salary Worksheet'!$B$9*'Salary Calculations'!G19)","v":16473.428461087347},{"$f":"'Salary Worksheet'!$B$10*'Salary Calculations'!I19","v":5491.14282036245},111607.47782386678,{"$f":"IF(ISERROR(A19),NA(),P18*(1+'Salary Worksheet'!$B$20))","v":137278.57050906125},25671.092685194482]
[{"$f":"IF(A19<'Salary Worksheet'!$B$6,A19+1,NA())","v":59},1645006.8365056443,{"$f":"IF(ISERROR(A20),NA(),'Salary Worksheet'!$B$15)","v":2000000},{"$f":"'Salary Worksheet'!$B$11*'Salary Calculations'!B20","v":4112.5170912641106},{"$f":"'Salary Worksheet'!$B$12*'Salary Calculations'!B20","v":82250.341825282216},1723144.6612396624,{"$f":"IF(ISERROR(A20),NA(),G19*(1+'Salary Worksheet'!$B$20))","v":210036.21287886373},{"$f":"IF(ISERROR(A20),NA(),H19*(1+'Salary Worksheet'!$B$20))","v":70012.07095962124},280048.28383848496,{"$f":"'Salary Worksheet'!$B$8*'Salary Calculations'!I20","v":70012.07095962124},{"$f":"'Salary Worksheet'!$B$13*'Salary Calculations'!I20","v":17362.993597986067},{"$f":"'Salary Worksheet'!$B$14*'Salary Calculations'!I20","v":4060.7001156580322},{"$f":"IF('Salary Worksheet'!$B$18=\"Yes\",'Salary Worksheet'!$B$9*'Salary Calculations'!I20,'Salary Worksheet'!$B$9*'Salary Calculations'!G20)","v":16802.897030309097},{"$f":"'Salary Worksheet'!$B$10*'Salary Calculations'!I20","v":5600.9656767696997},113839.62738034414,{"$f":"IF(ISERROR(A20),NA(),P19*(1+'Salary Worksheet'!$B$20))","v":140024.14191924248},26184.514538898336]
[{"$f":"IF(A20<'Salary Worksheet'!$B$6,A20+1,NA())","v":60},1749329.1757785608,{"$f":"IF(ISERROR(A21),NA(),'Salary Worksheet'!$B$15)","v":2000000},{"$f":"'Salary Worksheet'!$B$11*'Salary Calculations'!B21","v":4373.3229394464024},{"$f":"'Salary Worksheet'!$B$12*'Salary Calculations'!B21","v":87466.458788928052},1832422.3116280425,{"$f":"IF(ISERROR(A21),NA(),G20*(1+'Salary Worksheet'!$B$20))","v":214236.937136441},{"$f":"IF(ISERROR(A21),NA(),H20*(1+'Salary Worksheet'!$B$20))","v":71412.312378813673},285649.24951525469,{"$f":"'Salary Worksheet'!$B$8*'Salary Calculations'!I21","v":71412.312378813673},{"$f":"'Salary Worksheet'!$B$13*'Salary Calculations'!I21","v":17710.25346994579},{"$f":"'Salary Worksheet'!$B$14*'Salary Calculations'!I21","v":4141.9141179711933},{"$f":"IF('Salary Worksheet'!$B$18=\"Yes\",'Salary Worksheet'!$B$9*'Salary Calculations'!I21,'Salary Worksheet'!$B$9*'Salary Calculations'!G21)","v":17138.954970915282},{"$f":"'Salary Worksheet'!$B$10*'Salary Calculations'!I21","v":5712.9849903050936},116116.41992795102,{"$f":"IF(ISERROR(A21),NA(),P20*(1+'Salary Worksheet'!$B$20))","v":142824.62475762735},26708.204829676339]
[{"$f":"IF(A21<'Salary Worksheet'!$B$6,A21+1,NA())","v":61},1859130.5164577188,{"$f":"IF(ISERROR(A22),NA(),'Salary Worksheet'!$B$15)","v":2000000},{"$f":"'Salary Worksheet'!$B$11*'Salary Calculations'!B22","v":4647.8262911442971},{"$f":"'Salary Worksheet'!$B$12*'Salary Calculations'!B22","v":92956.525822885946},1947439.2159894605,{"$f":"IF(ISERROR(A22),NA(),G21*(1+'Salary Worksheet'!$B$20))","v":218521.67587916984},{"$f":"IF(ISERROR(A22),NA(),H21*(1+'Salary Worksheet'!$B$20))","v":72840.558626389946},291362.23450555978,{"$f":"'Salary Worksheet'!$B$8*'Salary Calculations'!I22","v":72840.558626389946},{"$f":"'Salary Worksheet'!$B$13*'Salary Calculations'!I22","v":18064.458539344705},{"$f":"'Salary Worksheet'!$B$14*'Salary Calculations'!I22","v":4224.7524003306171},{"$f":"IF('Salary Worksheet'!$B$18=\"Yes\",'Salary Worksheet'!$B$9*'Salary Calculations'!I22,'Salary Worksheet'!$B$9*'Salary Calculations'!G22)","v":17481.734070333587},{"$f":"'Salary Worksheet'!$B$10*'Salary Calculations'!I22","v":5827.2446901111962},118438.74832651005,{"$f":"IF(ISERROR(A22),NA(),P21*(1+'Salary Worksheet'!$B$20))","v":145681.11725277989},27242.368926269846]
[{"$f":"IF(A22<'Salary Worksheet'!$B$6,A22+1,NA())","v":62},1974681.5849157304,{"$f":"IF(ISERROR(A23),NA(),'Salary Worksheet'!$B$15)","v":2000000},{"$f":"'Salary Worksheet'!$B$11*'Salary Calculations'!B23","v":4936.7039622893262},{"$f":"'Salary Worksheet'!$B$12*'Salary Calculations'!B23","v":98734.079245786532},2068478.9601992276,{"$f":"IF(ISERROR(A23),NA(),G22*(1+'Salary Worksheet'!$B$20))","v":222892.10939675325},{"$f":"IF(ISERROR(A23),NA(),H22*(1+'Salary Worksheet'!$B$20))","v":74297.369798917745},297189.47919567098,{"$f":"'Salary Worksheet'!$B$8*'Salary Calculations'!I23","v":74297.369798917745},{"$f":"'Salary Worksheet'!$B$13*'Salary Calculations'!I23","v":18425.7477101316},{"$f":"'Salary Worksheet'!$B$14*'Salary Calculations'!I23","v":4309.2474483372298},{"$f":"IF('Salary Worksheet'!$B$18=\"Yes\",'Salary Worksheet'!$B$9*'Salary Calculations'!I23,'Salary Worksheet'!$B$9*'Salary Calculations'!G23)","v":17831.368751740258},{"$f":"'Salary Worksheet'!$B$10*'Salary Calculations'!I23","v":5943.7895839134198},120807.52329304026,{"$f":"IF(ISERROR(A23),NA(),P22*(1+'Salary Worksheet'!$B$20))","v":148594.73959783549},27787.216304795234]
[{"$f":"IF(A23<'Salary Worksheet'!$B$6,A23+1,NA())","v":63},2096266.1765040229,{"$f":"IF(ISERROR(A24),NA(),'Salary Worksheet'!$B$15)","v":2000000},{"$f":"'Salary Worksheet'!$B$11*'Salary Calculations'!B24","v":5240.6654412600574},{"$f":"'Salary Worksheet'!$B$12*'Salary Calculations'!B24","v":104813.30882520115},2195838.8198879641,{"$f":"IF(ISERROR(A24),NA(),G23*(1+'Salary Worksheet'!$B$20))","v":227349.95158468833},{"$f":"IF(ISERROR(A24),NA(),H23*(1+'Salary Worksheet'!$B$20))","v":75783.317194896095},303133.26877958444,{"$f":"'Salary Worksheet'!$B$8*'Salary Calculations'!I24","v":75783.31719489611},{"$f":"'Salary Worksheet'!$B$13*'Salary Calculations'!I24","v":18794.262664334234},{"$f":"'Salary Worksheet'!$B$14*'Salary Calculations'!I24","v":4395.4323973039745},{"$f":"IF('Salary Worksheet'!$B$18=\"Yes\",'Salary Worksheet'!$B$9*'Salary Calculations'!I24,'Salary Worksheet'!$B$9*'Salary Calculations'!G24)","v":18187.996126775066},{"$f":"'Salary Worksheet'!$B$10*'Salary Calculations'!I24","v":6062.6653755916886},123223.67375890107,{"$f":"IF(ISERROR(A24),NA(),P23*(1+'Salary Worksheet'!$B$20))","v":151566.63438979219},28342.960630891175]
[{"$f":"IF(A24<'Salary Worksheet'!$B$6,A24+1,NA())","v":64},2224181.7805188554,{"$f":"IF(ISERROR(A25),NA(),'Salary Worksheet'!$B$15)","v":2000000},{"$f":"'Salary Worksheet'!$B$11*'Salary Calculations'!B25","v":5560.4544512971388},{"$f":"'Salary Worksheet'!$B$12*'Salary Calculations'!B25","v":111209.08902594278},2329830.4150935011,{"$f":"IF(ISERROR(A25),NA(),G24*(1+'Salary Worksheet'!$B$20))","v":231896.95061638209},{"$f":"IF(ISERROR(A25),NA(),H24*(1+'Salary Worksheet'!$B$20))","v":77298.983538794026},309195.9341551761,{"$f":"'Salary Worksheet'!$B$8*'Salary Calculations'!I25","v":77298.983538794026},{"$f":"'Salary Worksheet'!$B$13*'Salary Calculations'!I25","v":19170.147917620918},{"$f":"'Salary Worksheet'!$B$14*'Salary Calculations'!I25","v":4483.3410452500539},{"$f":"IF('Salary Worksheet'!$B$18=\"Yes\",'Salary Worksheet'!$B$9*'Salary Calculations'!I25,'Salary Worksheet'!$B$9*'Salary Calculations'!G25)","v":18551.756049310567},{"$f":"'Salary Worksheet'!$B$10*'Salary Calculations'!I25","v":6183.9186831035222},125688.14723407908,{"$f":"IF(ISERROR(A25),NA(),P24*(1+'Salary Worksheet'!$B$20))","v":154597.96707758805},28909.819843508973]
[{"$f":"IF(A25<'Salary Worksheet'!$B$6,A25+1,NA())","v":65},2358740.2349370099,{"$f":"IF(ISERROR(A26),NA(),'Salary Worksheet'!$B$15)","v":2000000},{"$f":"'Salary Worksheet'!$B$11*'Salary Calculations'!B26","v":5896.8505873425247},{"$f":"'Salary Worksheet'!$B$12*'Salary Calculations'!B26","v":117937.01174685051},2470780.3960965178,{"$f":"IF(ISERROR(A26),NA(),G25*(1+'Salary Worksheet'!$B$20))","v":236534.88962870973},{"$f":"IF(ISERROR(A26),NA(),H25*(1+'Salary Worksheet'!$B$20))","v":78844.963209569905},315379.85283827962,{"$f":"'Salary Worksheet'!$B$8*'Salary Calculations'!I26","v":78844.963209569905},{"$f":"'Salary Worksheet'!$B$13*'Salary Calculations'!I26","v":19553.550875973335},{"$f":"'Salary Worksheet'!$B$14*'Salary Calculations'!I26","v":4573.0078661550551},{"$f":"IF('Salary Worksheet'!$B$18=\"Yes\",'Salary Worksheet'!$B$9*'Salary Calculations'!I26,'Salary Worksheet'!$B$9*'Salary Calculations'!G26)","v":18922.791170296776},{"$f":"'Salary Worksheet'!$B$10*'Salary Calculations'!I26","v":6307.5970567655922},128201.91017876066,{"$f":"IF(ISERROR(A26),NA(),P25*(1+'Salary Worksheet'!$B$20))","v":157689.92641913981},29488.016240379162]
[{"$f":"IF(A26<'Salary Worksheet'!$B$6,A26+1,NA())","v":66},2500268.4123368971,{"$f":"IF(ISERROR(A27),NA(),'Salary Worksheet'!$B$15)","v":2000000},{"$f":"'Salary Worksheet'!$B$11*'Salary Calculations'!B27","v":6250.6710308422425},{"$f":"'Salary Worksheet'!$B$12*'Salary Calculations'!B27","v":125013.42061684486},2619031.1619228995,{"$f":"IF(ISERROR(A27),NA(),G26*(1+'Salary Worksheet'!$B$20))","v":241265.58742128394},{"$f":"IF(ISERROR(A27),NA(),H26*(1+'Salary Worksheet'!$B$20))","v":80421.862473761299},321687.44989504525,{"$f":"'Salary Worksheet'!$B$8*'Salary Calculations'!I27","v":80421.862473761314},{"$f":"'Salary Worksheet'!$B$13*'Salary Calculations'!I27","v":19944.621893492807},{"$f":"'Salary Worksheet'!$B$14*'Salary Calculations'!I27","v":4664.4680234781563},{"$f":"IF('Salary Worksheet'!$B$18=\"Yes\",'Salary Worksheet'!$B$9*'Salary Calculations'!I27,'Salary Worksheet'!$B$9*'Salary Calculations'!G27)","v":19301.246993702716},{"$f":"'Salary Worksheet'!$B$10*'Salary Calculations'!I27","v":6433.7489979009051},130765.9483823359,{"$f":"IF(ISERROR(A27),NA(),P26*(1+'Salary Worksheet'!$B$20))","v":160843.7249475226},30077.776565186767]
[{"$f":"IF(A27<'Salary Worksheet'!$B$6,A27+1,NA())","v":67},2649108.9384880862,{"$f":"IF(ISERROR(A28),NA(),'Salary Worksheet'!$B$15)","v":2000000},{"$f":"'Salary Worksheet'!$B$11*'Salary Calculations'!B28","v":6622.7723462202157},{"$f":"'Salary Worksheet'!$B$12*'Salary Calculations'!B28","v":132455.44692440433},2774941.61306627,{"$f":"IF(ISERROR(A28),NA(),G27*(1+'Salary Worksheet'!$B$20))","v":246090.89916970962},{"$f":"IF(ISERROR(A28),NA(),H27*(1+'Salary Worksheet'!$B$20))","v":82030.299723236531},328121.19889294612,{"$f":"'Salary Worksheet'!$B$8*'Salary Calculations'!I28","v":82030.299723236531},{"$f":"'Salary Worksheet'!$B$13*'Salary Calculations'!I28","v":20343.514331362658},{"$f":"'Salary Worksheet'!$B$14*'Salary Calculations'!I28","v":4757.7573839477191},{"$f":"IF('Salary Worksheet'!$B$18=\"Yes\",'Salary Worksheet'!$B$9*'Salary Calculations'!I28,'Salary Worksheet'!$B$9*'Salary Calculations'!G28)","v":19687.271933576765},{"$f":"'Salary Worksheet'!$B$10*'Salary Calculations'!I28","v":6562.4239778589226},133381.26734998258,{"$f":"IF(ISERROR(A28),NA(),P27*(1+'Salary Worksheet'!$B$20))","v":164060.59944647306},30679.332096490485]
[{"$f":"IF(A28<'Salary Worksheet'!$B$6,A28+1,NA())","v":68},2805620.9451627606,{"$f":"IF(ISERROR(A29),NA(),'Salary Worksheet'!$B$15)","v":2000000},{"$f":"'Salary Worksheet'!$B$11*'Salary Calculations'!B29","v":7014.0523629069012},{"$f":"'Salary Worksheet'!$B$12*'Salary Calculations'!B29","v":140281.04725813805},2938887.940057992,{"$f":"IF(ISERROR(A29),NA(),G28*(1+'Salary Worksheet'!$B$20))","v":251012.71715310382},{"$f":"IF(ISERROR(A29),NA(),H28*(1+'Salary Worksheet'!$B$20))","v":83670.905717701258},334683.62287080509,{"$f":"'Salary Worksheet'!$B$8*'Salary Calculations'!I29","v":83670.905717701273},{"$f":"'Salary Worksheet'!$B$13*'Salary Calculations'!I29","v":20750.384617989916},{"$f":"'Salary Worksheet'!$B$14*'Salary Calculations'!I29","v":4852.9125316266736},{"$f":"IF('Salary Worksheet'!$B$18=\"Yes\",'Salary Worksheet'!$B$9*'Salary Calculations'!I29,'Salary Worksheet'!$B$9*'Salary Calculations'!G29)","v":20081.017372248305},{"$f":"'Salary Worksheet'!$B$10*'Salary Calculations'!I29","v":6693.6724574161017},136048.89269698225,{"$f":"IF(ISERROR(A29),NA(),P28*(1+'Salary Worksheet'!$B$20))","v":167341.81143540252},31292.918738420325]
[{"$f":"IF(A29<'Salary Worksheet'!$B$6,A29+1,NA())","v":69},2970180.8587964121,{"$f":"IF(ISERROR(A30),NA(),'Salary Worksheet'!$B$15)","v":2000000},{"$f":"'Salary Worksheet'!$B$11*'Salary Calculations'!B30","v":7425.4521469910305},{"$f":"'Salary Worksheet'!$B$12*'Salary Calculations'!B30","v":148509.04293982062},3111264.4495892418,{"$f":"IF(ISERROR(A30),NA(),G29*(1+'Salary Worksheet'!$B$20))","v":256032.9714961659},{"$f":"IF(ISERROR(A30),NA(),H29*(1+'Salary Worksheet'!$B$20))","v":85344.323832055292},341377.29532822117,{"$f":"'Salary Worksheet'!$B$8*'Salary Calculations'!I30","v":85344.323832055292},{"$f":"'Salary Worksheet'!$B$13*'Salary Calculations'!I30","v":21165.392310349711},{"$f":"'Salary Worksheet'!$B$14*'Salary Calculations'!I30","v":4949.9707822592072},{"$f":"IF('Salary Worksheet'!$B$18=\"Yes\",'Salary Worksheet'!$B$9*'Salary Calculations'!I30,'Salary Worksheet'!$B$9*'Salary Calculations'!G30)","v":20482.63771969327},{"$f":"'Salary Worksheet'!$B$10*'Salary Calculations'!I30","v":6827.5459065644236},138769.87055092189,{"$f":"IF(ISERROR(A30),NA(),P29*(1+'Salary Worksheet'!$B$20))","v":170688.64766411058},31918.777113188698]
[{"$f":"IF(A30<'Salary Worksheet'!$B$6,A30+1,NA())","v":70},3143183.2267024303,{"$f":"IF(ISERROR(A31),NA(),'Salary Worksheet'!$B$15)","v":2000000},{"$f":"'Salary Worksheet'!$B$11*'Salary Calculations'!B31","v":7857.9580667560758},{"$f":"'Salary Worksheet'!$B$12*'Salary Calculations'!B31","v":157159.16133512152},3292484.4299707958,{"$f":"IF(ISERROR(A31),NA(),G30*(1+'Salary Worksheet'!$B$20))","v":261153.63092608922},{"$f":"IF(ISERROR(A31),NA(),H30*(1+'Salary Worksheet'!$B$20))","v":87051.210308696405},348204.84123478562,{"$f":"'Salary Worksheet'!$B$8*'Salary Calculations'!I31","v":87051.210308696405},{"$f":"'Salary Worksheet'!$B$13*'Salary Calculations'!I31","v":21588.700156556708},{"$f":"'Salary Worksheet'!$B$14*'Salary Calculations'!I31","v":5048.9701979043921},{"$f":"IF('Salary Worksheet'!$B$18=\"Yes\",'Salary Worksheet'!$B$9*'Salary Calculations'!I31,'Salary Worksheet'!$B$9*'Salary Calculations'!G31)","v":20892.290474087138},{"$f":"'Salary Worksheet'!$B$10*'Salary Calculations'!I31","v":6964.0968246957127},141545.26796194035,{"$f":"IF(ISERROR(A31),NA(),P30*(1+'Salary Worksheet'!$B$20))","v":174102.42061739281},32557.152655452461]
[{"$f":"IF(A31<'Salary Worksheet'!$B$6,A31+1,NA())","v":{"$error":"#N/A"}},{"$error":"#N/A"},{"$f":"IF(ISERROR(A32),NA(),'Salary Worksheet'!$B$15)","v":{"$error":"#N/A"}},{"$f":"'Salary Worksheet'!$B$11*'Salary Calculations'!B32","v":{"$error":"#N/A"}},{"$f":"'Salary Worksheet'!$B$12*'Salary Calculations'!B32","v":{"$error":"#N/A"}},{"$error":"#N/A"},{"$f":"IF(ISERROR(A32),NA(),G31*(1+'Salary Worksheet'!$B$20))","v":{"$error":"#N/A"}},{"$f":"IF(ISERROR(A32),NA(),H31*(1+'Salary Worksheet'!$B$20))","v":{"$error":"#N/A"}},{"$error":"#N/A"},{"$f":"'Salary Worksheet'!$B$8*'Salary Calculations'!I32","v":{"$error":"#N/A"}},{"$f":"'Salary Worksheet'!$B$13*'Salary Calculations'!I32","v":{"$error":"#N/A"}},{"$f":"'Salary Worksheet'!$B$14*'Salary Calculations'!I32","v":{"$error":"#N/A"}},{"$f":"IF('Salary Worksheet'!$B$18=\"Yes\",'Salary Worksheet'!$B$9*'Salary Calculations'!I32,'Salary Worksheet'!$B$9*'Salary Calculations'!G32)","v":{"$error":"#N/A"}},{"$f":"'Salary Worksheet'!$B$10*'Salary Calculations'!I32","v":{"$error":"#N/A"}},{"$error":"#N/A"},{"$f":"IF(ISERROR(A32),NA(),P31*(1+'Salary Worksheet'!$B$20))","v":{"$error":"#N/A"}},{"$error":"#N/A"}]
[{"$f":"IF(A32<'Salary Worksheet'!$B$6,A32+1,NA())","v":{"$error":"#N/A"}},{"$error":"#N/A"},{"$f":"IF(ISERROR(A33),NA(),'Salary Worksheet'!$B$15)","v":{"$error":"#N/A"}},{"$f":"'Salary Worksheet'!$B$11*'Salary Calculations'!B33","v":{"$error":"#N/A"}},{"$f":"'Salary Worksheet'!$B$12*'Salary Calculations'!B33","v":{"$error":"#N/A"}},{"$error":"#N/A"},{"$f":"IF(ISERROR(A33),NA(),G32*(1+'Salary Worksheet'!$B$20))","v":{"$error":"#N/A"}},{"$f":"IF(ISERROR(A33),NA(),H32*(1+'Salary Worksheet'!$B$20))","v":{"$error":"#N/A"}},{"$error":"#N/A"},{"$f":"'Salary Worksheet'!$B$8*'Salary Calculations'!I33","v":{"$error":"#N/A"}},{"$f":"'Salary Worksheet'!$B$13*'Salary Calculations'!I33","v":{"$error":"#N/A"}},{"$f":"'Salary Worksheet'!$B$14*'Salary Calculations'!I33","v":{"$error":"#N/A"}},{"$f":"IF('Salary Worksheet'!$B$18=\"Yes\",'Salary Worksheet'!$B$9*'Salary Calculations'!I33,'Salary Worksheet'!$B$9*'Salary Calculations'!G33)","v":{"$error":"#N/A"}},{"$f":"'Salary Worksheet'!$B$10*'Salary Calculations'!I33","v":{"$error":"#N/A"}},{"$error":"#N/A"},{"$f":"IF(ISERROR(A33),NA(),P32*(1+'Salary Worksheet'!$B$20))","v":{"$error":"#N/A"}},{"$error":"#N/A"}]
[{"$f":"IF(A33<'Salary Worksheet'!$B$6,A33+1,NA())","v":{"$error":"#N/A"}},{"$error":"#N/A"},{"$f":"IF(ISERROR(A34),NA(),'Salary Worksheet'!$B$15)","v":{"$error":"#N/A"}},{"$f":"'Salary Worksheet'!$B$11*'Salary Calculations'!B34","v":{"$error":"#N/A"}},{"$f":"'Salary Worksheet'!$B$12*'Salary Calculations'!B34","v":{"$error":"#N/A"}},{"$error":"#N/A"},{"$f":"IF(ISERROR(A34),NA(),G33*(1+'Salary Worksheet'!$B$20))","v":{"$error":"#N/A"}},{"$f":"IF(ISERROR(A34),NA(),H33*(1+'Salary Worksheet'!$B$20))","v":{"$error":"#N/A"}},{"$error":"#N/A"},{"$f":"'Salary Worksheet'!$B$8*'Salary Calculations'!I34","v":{"$error":"#N/A"}},{"$f":"'Salary Worksheet'!$B$13*'Salary Calculations'!I34","v":{"$error":"#N/A"}},{"$f":"'Salary Worksheet'!$B$14*'Salary Calculations'!I34","v":{"$error":"#N/A"}},{"$f":"IF('Salary Worksheet'!$B$18=\"Yes\",'Salary Worksheet'!$B$9*'Salary Calculations'!I34,'Salary Worksheet'!$B$9*'Salary Calculations'!G34)","v":{"$error":"#N/A"}},{"$f":"'Salary Worksheet'!$B$10*'Salary Calculations'!I34","v":{"$error":"#N/A"}},{"$error":"#N/A"},{"$f":"IF(ISERROR(A34),NA(),P33*(1+'Salary Worksheet'!$B$20))","v":{"$error":"#N/A"}},{"$error":"#N/A"}]
[{"$f":"IF(A34<'Salary Worksheet'!$B$6,A34+1,NA())","v":{"$error":"#N/A"}},{"$error":"#N/A"},{"$f":"IF(ISERROR(A35),NA(),'Salary Worksheet'!$B$15)","v":{"$error":"#N/A"}},{"$f":"'Salary Worksheet'!$B$11*'Salary Calculations'!B35","v":{"$error":"#N/A"}},{"$f":"'Salary Worksheet'!$B$12*'Salary Calculations'!B35","v":{"$error":"#N/A"}},{"$error":"#N/A"},{"$f":"IF(ISERROR(A35),NA(),G34*(1+'Salary Worksheet'!$B$20))","v":{"$error":"#N/A"}},{"$f":"IF(ISERROR(A35),NA(),H34*(1+'Salary Worksheet'!$B$20))","v":{"$error":"#N/A"}},{"$error":"#N/A"},{"$f":"'Salary Worksheet'!$B$8*'Salary Calculations'!I35","v":{"$error":"#N/A"}},{"$f":"'Salary Worksheet'!$B$13*'Salary Calculations'!I35","v":{"$error":"#N/A"}},{"$f":"'Salary Worksheet'!$B$14*'Salary Calculations'!I35","v":{"$error":"#N/A"}},{"$f":"IF('Salary Worksheet'!$B$18=\"Yes\",'Salary Worksheet'!$B$9*'Salary Calculations'!I35,'Salary Worksheet'!$B$9*'Salary Calculations'!G35)","v":{"$error":"#N/A"}},{"$f":"'Salary Worksheet'!$B$10*'Salary Calculations'!I35","v":{"$error":"#N/A"}},{"$error":"#N/A"},{"$f":"IF(ISERROR(A35),NA(),P34*(1+'Salary Worksheet'!$B$20))","v":{"$error":"#N/A"}},{"$error":"#N/A"}]
[{"$f":"IF(A35<'Salary Worksheet'!$B$6,A35+1,NA())","v":{"$error":"#N/A"}},{"$error":"#N/A"},{"$f":"IF(ISERROR(A36),NA(),'Salary Worksheet'!$B$15)","v":{"$error":"#N/A"}},{"$f":"'Salary Worksheet'!$B$11*'Salary Calculations'!B36","v":{"$error":"#N/A"}},{"$f":"'Salary Worksheet'!$B$12*'Salary Calculations'!B36","v":{"$error":"#N/A"}},{"$error":"#N/A"},{"$f":"IF(ISERROR(A36),NA(),G35*(1+'Salary Worksheet'!$B$20))","v":{"$error":"#N/A"}},{"$f":"IF(ISERROR(A36),NA(),H35*(1+'Salary Worksheet'!$B$20))","v":{"$error":"#N/A"}},{"$error":"#N/A"},{"$f":"'Salary Worksheet'!$B$8*'Salary Calculations'!I36","v":{"$error":"#N/A"}},{"$f":"'Salary Worksheet'!$B$13*'Salary Calculations'!I36","v":{"$error":"#N/A"}},{"$f":"'Salary Worksheet'!$B$14*'Salary Calculations'!I36","v":{"$error":"#N/A"}},{"$f":"IF('Salary Worksheet'!$B$18=\"Yes\",'Salary Worksheet'!$B$9*'Salary Calculations'!I36,'Salary Worksheet'!$B$9*'Salary Calculations'!G36)","v":{"$error":"#N/A"}},{"$f":"'Salary Worksheet'!$B$10*'Salary Calculations'!I36","v":{"$error":"#N/A"}},{"$error":"#N/A"},{"$f":"IF(ISERROR(A36),NA(),P35*(1+'Salary Worksheet'!$B$20))","v":{"$error":"#N/A"}},{"$error":"#N/A"}]
[{"$f":"IF(A36<'Salary Worksheet'!$B$6,A36+1,NA())","v":{"$error":"#N/A"}},{"$error":"#N/A"},{"$f":"IF(ISERROR(A37),NA(),'Salary Worksheet'!$B$15)","v":{"$error":"#N/A"}},{"$f":"'Salary Worksheet'!$B$11*'Salary Calculations'!B37","v":{"$error":"#N/A"}},{"$f":"'Salary Worksheet'!$B$12*'Salary Calculations'!B37","v":{"$error":"#N/A"}},{"$error":"#N/A"},{"$f":"IF(ISERROR(A37),NA(),G36*(1+'Salary Worksheet'!$B$20))","v":{"$error":"#N/A"}},{"$f":"IF(ISERROR(A37),NA(),H36*(1+'Salary Worksheet'!$B$20))","v":{"$error":"#N/A"}},{"$error":"#N/A"},{"$f":"'Salary Worksheet'!$B$8*'Salary Calculations'!I37","v":{"$error":"#N/A"}},{"$f":"'Salary Worksheet'!$B$13*'Salary Calculations'!I37","v":{"$error":"#N/A"}},{"$f":"'Salary Worksheet'!$B$14*'Salary Calculations'!I37","v":{"$error":"#N/A"}},{"$f":"IF('Salary Worksheet'!$B$18=\"Yes\",'Salary Worksheet'!$B$9*'Salary Calculations'!I37,'Salary Worksheet'!$B$9*'Salary Calculations'!G37)","v":{"$error":"#N/A"}},{"$f":"'Salary Worksheet'!$B$10*'Salary Calculations'!I37","v":{"$error":"#N/A"}},{"$error":"#N/A"},{"$f":"IF(ISERROR(A37),NA(),P36*(1+'Salary Worksheet'!$B$20))","v":{"$error":"#N/A"}},{"$error":"#N/A"}]
[{"$f":"IF(A37<'Salary Worksheet'!$B$6,A37+1,NA())","v":{"$error":"#N/A"}},{"$error":"#N/A"},{"$f":"IF(ISERROR(A38),NA(),'Salary Worksheet'!$B$15)","v":{"$error":"#N/A"}},{"$f":"'Salary Worksheet'!$B$11*'Salary Calculations'!B38","v":{"$error":"#N/A"}},{"$f":"'Salary Worksheet'!$B$12*'Salary Calculations'!B38","v":{"$error":"#N/A"}},{"$error":"#N/A"},{"$f":"IF(ISERROR(A38),NA(),G37*(1+'Salary Worksheet'!$B$20))","v":{"$error":"#N/A"}},{"$f":"IF(ISERROR(A38),NA(),H37*(1+'Salary Worksheet'!$B$20))","v":{"$error":"#N/A"}},{"$error":"#N/A"},{"$f":"'Salary Worksheet'!$B$8*'Salary Calculations'!I38","v":{"$error":"#N/A"}},{"$f":"'Salary Worksheet'!$B$13*'Salary Calculations'!I38","v":{"$error":"#N/A"}},{"$f":"'Salary Worksheet'!$B$14*'Salary Calculations'!I38","v":{"$error":"#N/A"}},{"$f":"IF('Salary Worksheet'!$B$18=\"Yes\",'Salary Worksheet'!$B$9*'Salary Calculations'!I38,'Salary Worksheet'!$B$9*'Salary Calculations'!G38)","v":{"$error":"#N/A"}},{"$f":"'Salary Worksheet'!$B$10*'Salary Calculations'!I38","v":{"$error":"#N/A"}},{"$error":"#N/A"},{"$f":"IF(ISERROR(A38),NA(),P37*(1+'Salary Worksheet'!$B$20))","v":{"$error":"#N/A"}},{"$error":"#N/A"}]
[{"$f":"IF(A38<'Salary Worksheet'!$B$6,A38+1,NA())","v":{"$error":"#N/A"}},{"$error":"#N/A"},{"$f":"IF(ISERROR(A39),NA(),'Salary Worksheet'!$B$15)","v":{"$error":"#N/A"}},{"$f":"'Salary Worksheet'!$B$11*'Salary Calculations'!B39","v":{"$error":"#N/A"}},{"$f":"'Salary Worksheet'!$B$12*'Salary Calculations'!B39","v":{"$error":"#N/A"}},{"$error":"#N/A"},{"$f":"IF(ISERROR(A39),NA(),G38*(1+'Salary Worksheet'!$B$20))","v":{"$error":"#N/A"}},{"$f":"IF(ISERROR(A39),NA(),H38*(1+'Salary Worksheet'!$B$20))","v":{"$error":"#N/A"}},{"$error":"#N/A"},{"$f":"'Salary Worksheet'!$B$8*'Salary Calculations'!I39","v":{"$error":"#N/A"}},{"$f":"'Salary Worksheet'!$B$13*'Salary Calculations'!I39","v":{"$error":"#N/A"}},{"$f":"'Salary Worksheet'!$B$14*'Salary Calculations'!I39","v":{"$error":"#N/A"}},{"$f":"IF('Salary Worksheet'!$B$18=\"Yes\",'Salary Worksheet'!$B$9*'Salary Calculations'!I39,'Salary Worksheet'!$B$9*'Salary Calculations'!G39)","v":{"$error":"#N/A"}},{"$f":"'Salary Worksheet'!$B$10*'Salary Calculations'!I39","v":{"$error":"#N/A"}},{"$error":"#N/A"},{"$f":"IF(ISERROR(A39),NA(),P38*(1+'Salary Worksheet'!$B$20))","v":{"$error":"#N/A"}},{"$error":"#N/A"}]
[{"$f":"IF(A39<'Salary Worksheet'!$B$6,A39+1,NA())","v":{"$error":"#N/A"}},{"$error":"#N/A"},{"$f":"IF(ISERROR(A40),NA(),'Salary Worksheet'!$B$15)","v":{"$error":"#N/A"}},{"$f":"'Salary Worksheet'!$B$11*'Salary Calculations'!B40","v":{"$error":"#N/A"}},{"$f":"'Salary Worksheet'!$B$12*'Salary Calculations'!B40","v":{"$error":"#N/A"}},{"$error":"#N/A"},{"$f":"IF(ISERROR(A40),NA(),G39*(1+'Salary Worksheet'!$B$20))","v":{"$error":"#N/A"}},{"$f":"IF(ISERROR(A40),NA(),H39*(1+'Salary Worksheet'!$B$20))","v":{"$error":"#N/A"}},{"$error":"#N/A"},{"$f":"'Salary Worksheet'!$B$8*'Salary Calculations'!I40","v":{"$error":"#N/A"}},{"$f":"'Salary Worksheet'!$B$13*'Salary Calculations'!I40","v":{"$error":"#N/A"}},{"$f":"'Salary Worksheet'!$B$14*'Salary Calculations'!I40","v":{"$error":"#N/A"}},{"$f":"IF('Salary Worksheet'!$B$18=\"Yes\",'Salary Worksheet'!$B$9*'Salary Calculations'!I40,'Salary Worksheet'!$B$9*'Salary Calculations'!G40)","v":{"$error":"#N/A"}},{"$f":"'Salary Worksheet'!$B$10*'Salary Calculations'!I40","v":{"$error":"#N/A"}},{"$error":"#N/A"},{"$f":"IF(ISERROR(A40),NA(),P39*(1+'Salary Worksheet'!$B$20))","v":{"$error":"#N/A"}},{"$error":"#N/A"}]
[{"$f":"IF(A40<'Salary Worksheet'!$B$6,A40+1,NA())","v":{"$error":"#N/A"}},{"$error":"#N/A"},{"$f":"IF(ISERROR(A41),NA(),'Salary Worksheet'!$B$15)","v":{"$error":"#N/A"}},{"$f":"'Salary Worksheet'!$B$11*'Salary Calculations'!B41","v":{"$error":"#N/A"}},{"$f":"'Salary Worksheet'!$B$12*'Salary Calculations'!B41","v":{"$error":"#N/A"}},{"$error":"#N/A"},{"$f":"IF(ISERROR(A41),NA(),G40*(1+'Salary Worksheet'!$B$20))","v":{"$error":"#N/A"}},{"$f":"IF(ISERROR(A41),NA(),H40*(1+'Salary Worksheet'!$B$20))","v":{"$error":"#N/A"}},{"$error":"#N/A"},{"$f":"'Salary Worksheet'!$B$8*'Salary Calculations'!I41","v":{"$error":"#N/A"}},{"$f":"'Salary Worksheet'!$B$13*'Salary Calculations'!I41","v":{"$error":"#N/A"}},{"$f":"'Salary Worksheet'!$B$14*'Salary Calculations'!I41","v":{"$error":"#N/A"}},{"$f":"IF('Salary Worksheet'!$B$18=\"Yes\",'Salary Worksheet'!$B$9*'Salary Calculations'!I41,'Salary Worksheet'!$B$9*'Salary Calculations'!G41)","v":{"$error":"#N/A"}},{"$f":"'Salary Worksheet'!$B$10*'Salary Calculations'!I41","v":{"$error":"#N/A"}},{"$error":"#N/A"},{"$f":"IF(ISERROR(A41),NA(),P40*(1+'Salary Worksheet'!$B$20))","v":{"$error":"#N/A"}},{"$error":"#N/A"}]
[{"$f":"IF(A41<'Salary Worksheet'!$B$6,A41+1,NA())","v":{"$error":"#N/A"}},{"$error":"#N/A"},{"$f":"IF(ISERROR(A42),NA(),'Salary Worksheet'!$B$15)","v":{"$error":"#N/A"}},{"$f":"'Salary Worksheet'!$B$11*'Salary Calculations'!B42","v":{"$error":"#N/A"}},{"$f":"'Salary Worksheet'!$B$12*'Salary Calculations'!B42","v":{"$error":"#N/A"}},{"$error":"#N/A"},{"$f":"IF(ISERROR(A42),NA(),G41*(1+'Salary Worksheet'!$B$20))","v":{"$error":"#N/A"}},{"$f":"IF(ISERROR(A42),NA(),H41*(1+'Salary Worksheet'!$B$20))","v":{"$error":"#N/A"}},{"$error":"#N/A"},{"$f":"'Salary Worksheet'!$B$8*'Salary Calculations'!I42","v":{"$error":"#N/A"}},{"$f":"'Salary Worksheet'!$B$13*'Salary Calculations'!I42","v":{"$error":"#N/A"}},{"$f":"'Salary Worksheet'!$B$14*'Salary Calculations'!I42","v":{"$error":"#N/A"}},{"$f":"IF('Salary Worksheet'!$B$18=\"Yes\",'Salary Worksheet'!$B$9*'Salary Calculations'!I42,'Salary Worksheet'!$B$9*'Salary Calculations'!G42)","v":{"$error":"#N/A"}},{"$f":"'Salary Worksheet'!$B$10*'Salary Calculations'!I42","v":{"$error":"#N/A"}},{"$error":"#N/A"},{"$f":"IF(ISERROR(A42),NA(),P41*(1+'Salary Worksheet'!$B$20))","v":{"$error":"#N/A"}},{"$error":"#N/A"}]
[{"$f":"IF(A42<'Salary Worksheet'!$B$6,A42+1,NA())","v":{"$error":"#N/A"}},{"$error":"#N/A"},{"$f":"IF(ISERROR(A43),NA(),'Salary Worksheet'!$B$15)","v":{"$error":"#N/A"}},{"$f":"'Salary Worksheet'!$B$11*'Salary Calculations'!B43","v":{"$error":"#N/A"}},{"$f":"'Salary Worksheet'!$B$12*'Salary Calculations'!B43","v":{"$error":"#N/A"}},{"$error":"#N/A"},{"$f":"IF(ISERROR(A43),NA(),G42*(1+'Salary Worksheet'!$B$20))","v":{"$error":"#N/A"}},{"$f":"IF(ISERROR(A43),NA(),H42*(1+'Salary Worksheet'!$B$20))","v":{"$error":"#N/A"}},{"$error":"#N/A"},{"$f":"'Salary Worksheet'!$B$8*'Salary Calculations'!I43","v":{"$error":"#N/A"}},{"$f":"'Salary Worksheet'!$B$13*'Salary Calculations'!I43","v":{"$error":"#N/A"}},{"$f":"'Salary Worksheet'!$B$14*'Salary Calculations'!I43","v":{"$error":"#N/A"}},{"$f":"IF('Salary Worksheet'!$B$18=\"Yes\",'Salary Worksheet'!$B$9*'Salary Calculations'!I43,'Salary Worksheet'!$B$9*'Salary Calculations'!G43)","v":{"$error":"#N/A"}},{"$f":"'Salary Worksheet'!$B$10*'Salary Calculations'!I43","v":{"$error":"#N/A"}},{"$error":"#N/A"},{"$f":"IF(ISERROR(A43),NA(),P42*(1+'Salary Worksheet'!$B$20))","v":{"$error":"#N/A"}},{"$error":"#N/A"}]
[{"$f":"IF(A43<'Salary Worksheet'!$B$6,A43+1,NA())","v":{"$error":"#N/A"}},{"$error":"#N/A"},{"$f":"IF(ISERROR(A44),NA(),'Salary Worksheet'!$B$15)","v":{"$error":"#N/A"}},{"$f":"'Salary Worksheet'!$B$11*'Salary Calculations'!B44","v":{"$error":"#N/A"}},{"$f":"'Salary Worksheet'!$B$12*'Salary Calculations'!B44","v":{"$error":"#N/A"}},{"$error":"#N/A"},{"$f":"IF(ISERROR(A44),NA(),G43*(1+'Salary Worksheet'!$B$20))","v":{"$error":"#N/A"}},{"$f":"IF(ISERROR(A44),NA(),H43*(1+'Salary Worksheet'!$B$20))","v":{"$error":"#N/A"}},{"$error":"#N/A"},{"$f":"'Salary Worksheet'!$B$8*'Salary Calculations'!I44","v":{"$error":"#N/A"}},{"$f":"'Salary Worksheet'!$B$13*'Salary Calculations'!I44","v":{"$error":"#N/A"}},{"$f":"'Salary Worksheet'!$B$14*'Salary Calculations'!I44","v":{"$error":"#N/A"}},{"$f":"IF('Salary Worksheet'!$B$18=\"Yes\",'Salary Worksheet'!$B$9*'Salary Calculations'!I44,'Salary Worksheet'!$B$9*'Salary Calculations'!G44)","v":{"$error":"#N/A"}},{"$f":"'Salary Worksheet'!$B$10*'Salary Calculations'!I44","v":{"$error":"#N/A"}},{"$error":"#N/A"},{"$f":"IF(ISERROR(A44),NA(),P43*(1+'Salary Worksheet'!$B$20))","v":{"$error":"#N/A"}},{"$error":"#N/A"}]
[{"$f":"IF(A44<'Salary Worksheet'!$B$6,A44+1,NA())","v":{"$error":"#N/A"}},{"$error":"#N/A"},{"$f":"IF(ISERROR(A45),NA(),'Salary Worksheet'!$B$15)","v":{"$error":"#N/A"}},{"$f":"'Salary Worksheet'!$B$11*'Salary Calculations'!B45","v":{"$error":"#N/A"}},{"$f":"'Salary Worksheet'!$B$12*'Salary Calculations'!B45","v":{"$error":"#N/A"}},{"$error":"#N/A"},{"$f":"IF(ISERROR(A45),NA(),G44*(1+'Salary Worksheet'!$B$20))","v":{"$error":"#N/A"}},{"$f":"IF(ISERROR(A45),NA(),H44*(1+'Salary Worksheet'!$B$20))","v":{"$error":"#N/A"}},{"$error":"#N/A"},{"$f":"'Salary Worksheet'!$B$8*'Salary Calculations'!I45","v":{"$error":"#N/A"}},{"$f":"'Salary Worksheet'!$B$13*'Salary Calculations'!I45","v":{"$error":"#N/A"}},{"$f":"'Salary Worksheet'!$B$14*'Salary Calculations'!I45","v":{"$error":"#N/A"}},{"$f":"IF('Salary Worksheet'!$B$18=\"Yes\",'Salary Worksheet'!$B$9*'Salary Calculations'!I45,'Salary Worksheet'!$B$9*'Salary Calculations'!G45)","v":{"$error":"#N/A"}},{"$f":"'Salary Worksheet'!$B$10*'Salary Calculations'!I45","v":{"$error":"#N/A"}},{"$error":"#N/A"},{"$f":"IF(ISERROR(A45),NA(),P44*(1+'Salary Worksheet'!$B$20))","v":{"$error":"#N/A"}},{"$error":"#N/A"}]
[{"$f":"IF(A45<'Salary Worksheet'!$B$6,A45+1,NA())","v":{"$error":"#N/A"}},{"$error":"#N/A"},{"$f":"IF(ISERROR(A46),NA(),'Salary Worksheet'!$B$15)","v":{"$error":"#N/A"}},{"$f":"'Salary Worksheet'!$B$11*'Salary Calculations'!B46","v":{"$error":"#N/A"}},{"$f":"'Salary Worksheet'!$B$12*'Salary Calculations'!B46","v":{"$error":"#N/A"}},{"$error":"#N/A"},{"$f":"IF(ISERROR(A46),NA(),G45*(1+'Salary Worksheet'!$B$20))","v":{"$error":"#N/A"}},{"$f":"IF(ISERROR(A46),NA(),H45*(1+'Salary Worksheet'!$B$20))","v":{"$error":"#N/A"}},{"$error":"#N/A"},{"$f":"'Salary Worksheet'!$B$8*'Salary Calculations'!I46","v":{"$error":"#N/A"}},{"$f":"'Salary Worksheet'!$B$13*'Salary Calculations'!I46","v":{"$error":"#N/A"}},{"$f":"'Salary Worksheet'!$B$14*'Salary Calculations'!I46","v":{"$error":"#N/A"}},{"$f":"IF('Salary Worksheet'!$B$18=\"Yes\",'Salary Worksheet'!$B$9*'Salary Calculations'!I46,'Salary Worksheet'!$B$9*'Salary Calculations'!G46)","v":{"$error":"#N/A"}},{"$f":"'Salary Worksheet'!$B$10*'Salary Calculations'!I46","v":{"$error":"#N/A"}},{"$error":"#N/A"},{"$f":"IF(ISERROR(A46),NA(),P45*(1+'Salary Worksheet'!$B$20))","v":{"$error":"#N/A"}},{"$error":"#N/A"}]
[{"$f":"IF(A46<'Salary Worksheet'!$B$6,A46+1,NA())","v":{"$error":"#N/A"}},{"$error":"#N/A"},{"$f":"IF(ISERROR(A47),NA(),'Salary Worksheet'!$B$15)","v":{"$error":"#N/A"}},{"$f":"'Salary Worksheet'!$B$11*'Salary Calculations'!B47","v":{"$error":"#N/A"}},{"$f":"'Salary Worksheet'!$B$12*'Salary Calculations'!B47","v":{"$error":"#N/A"}},{"$error":"#N/A"},{"$f":"IF(ISERROR(A47),NA(),G46*(1+'Salary Worksheet'!$B$20))","v":{"$error":"#N/A"}},{"$f":"IF(ISERROR(A47),NA(),H46*(1+'Salary Worksheet'!$B$20))","v":{"$error":"#N/A"}},{"$error":"#N/A"},{"$f":"'Salary Worksheet'!$B$8*'Salary Calculations'!I47","v":{"$error":"#N/A"}},{"$f":"'Salary Worksheet'!$B$13*'Salary Calculations'!I47","v":{"$error":"#N/A"}},{"$f":"'Salary Worksheet'!$B$14*'Salary Calculations'!I47","v":{"$error":"#N/A"}},{"$f":"IF('Salary Worksheet'!$B$18=\"Yes\",'Salary Worksheet'!$B$9*'Salary Calculations'!I47,'Salary Worksheet'!$B$9*'Salary Calculations'!G47)","v":{"$error":"#N/A"}},{"$f":"'Salary Worksheet'!$B$10*'Salary Calculations'!I47","v":{"$error":"#N/A"}},{"$error":"#N/A"},{"$f":"IF(ISERROR(A47),NA(),P46*(1+'Salary Worksheet'!$B$20))","v":{"$error":"#N/A"}},{"$error":"#N/A"}]
[{"$f":"IF(A47<'Salary Worksheet'!$B$6,A47+1,NA())","v":{"$error":"#N/A"}},{"$error":"#N/A"},{"$f":"IF(ISERROR(A48),NA(),'Salary Worksheet'!$B$15)","v":{"$error":"#N/A"}},{"$f":"'Salary Worksheet'!$B$11*'Salary Calculations'!B48","v":{"$error":"#N/A"}},{"$f":"'Salary Worksheet'!$B$12*'Salary Calculations'!B48","v":{"$error":"#N/A"}},{"$error":"#N/A"},{"$f":"IF(ISERROR(A48),NA(),G47*(1+'Salary Worksheet'!$B$20))","v":{"$error":"#N/A"}},{"$f":"IF(ISERROR(A48),NA(),H47*(1+'Salary Worksheet'!$B$20))","v":{"$error":"#N/A"}},{"$error":"#N/A"},{"$f":"'Salary Worksheet'!$B$8*'Salary Calculations'!I48","v":{"$error":"#N/A"}},{"$f":"'Salary Worksheet'!$B$13*'Salary Calculations'!I48","v":{"$error":"#N/A"}},{"$f":"'Salary Worksheet'!$B$14*'Salary Calculations'!I48","v":{"$error":"#N/A"}},{"$f":"IF('Salary Worksheet'!$B$18=\"Yes\",'Salary Worksheet'!$B$9*'Salary Calculations'!I48,'Salary Worksheet'!$B$9*'Salary Calculations'!G48)","v":{"$error":"#N/A"}},{"$f":"'Salary Worksheet'!$B$10*'Salary Calculations'!I48","v":{"$error":"#N/A"}},{"$error":"#N/A"},{"$f":"IF(ISERROR(A48),NA(),P47*(1+'Salary Worksheet'!$B$20))","v":{"$error":"#N/A"}},{"$error":"#N/A"}]
[{"$f":"IF(A48<'Salary Worksheet'!$B$6,A48+1,NA())","v":{"$error":"#N/A"}},{"$error":"#N/A"},{"$f":"IF(ISERROR(A49),NA(),'Salary Worksheet'!$B$15)","v":{"$error":"#N/A"}},{"$f":"'Salary Worksheet'!$B$11*'Salary Calculations'!B49","v":{"$error":"#N/A"}},{"$f":"'Salary Worksheet'!$B$12*'Salary Calculations'!B49","v":{"$error":"#N/A"}},{"$error":"#N/A"},{"$f":"IF(ISERROR(A49),NA(),G48*(1+'Salary Worksheet'!$B$20))","v":{"$error":"#N/A"}},{"$f":"IF(ISERROR(A49),NA(),H48*(1+'Salary Worksheet'!$B$20))","v":{"$error":"#N/A"}},{"$error":"#N/A"},{"$f":"'Salary Worksheet'!$B$8*'Salary Calculations'!I49","v":{"$error":"#N/A"}},{"$f":"'Salary Worksheet'!$B$13*'Salary Calculations'!I49","v":{"$error":"#N/A"}},{"$f":"'Salary Worksheet'!$B$14*'Salary Calculations'!I49","v":{"$error":"#N/A"}},{"$f":"IF('Salary Worksheet'!$B$18=\"Yes\",'Salary Worksheet'!$B$9*'Salary Calculations'!I49,'Salary Worksheet'!$B$9*'Salary Calculations'!G49)","v":{"$error":"#N/A"}},{"$f":"'Salary Worksheet'!$B$10*'Salary Calculations'!I49","v":{"$error":"#N/A"}},{"$error":"#N/A"},{"$f":"IF(ISERROR(A49),NA(),P48*(1+'Salary Worksheet'!$B$20))","v":{"$error":"#N/A"}},{"$error":"#N/A"}]
[{"$f":"IF(A49<'Salary Worksheet'!$B$6,A49+1,NA())","v":{"$error":"#N/A"}},{"$error":"#N/A"},{"$f":"IF(ISERROR(A50),NA(),'Salary Worksheet'!$B$15)","v":{"$error":"#N/A"}},{"$f":"'Salary Worksheet'!$B$11*'Salary Calculations'!B50","v":{"$error":"#N/A"}},{"$f":"'Salary Worksheet'!$B$12*'Salary Calculations'!B50","v":{"$error":"#N/A"}},{"$error":"#N/A"},{"$f":"IF(ISERROR(A50),NA(),G49*(1+'Salary Worksheet'!$B$20))","v":{"$error":"#N/A"}},{"$f":"IF(ISERROR(A50),NA(),H49*(1+'Salary Worksheet'!$B$20))","v":{"$error":"#N/A"}},{"$error":"#N/A"},{"$f":"'Salary Worksheet'!$B$8*'Salary Calculations'!I50","v":{"$error":"#N/A"}},{"$f":"'Salary Worksheet'!$B$13*'Salary Calculations'!I50","v":{"$error":"#N/A"}},{"$f":"'Salary Worksheet'!$B$14*'Salary Calculations'!I50","v":{"$error":"#N/A"}},{"$f":"IF('Salary Worksheet'!$B$18=\"Yes\",'Salary Worksheet'!$B$9*'Salary Calculations'!I50,'Salary Worksheet'!$B$9*'Salary Calculations'!G50)","v":{"$error":"#N/A"}},{"$f":"'Salary Worksheet'!$B$10*'Salary Calculations'!I50","v":{"$error":"#N/A"}},{"$error":"#N/A"},{"$f":"IF(ISERROR(A50),NA(),P49*(1+'Salary Worksheet'!$B$20))","v":{"$error":"#N/A"}},{"$error":"#N/A"}]
[{"$f":"IF(A50<'Salary Worksheet'!$B$6,A50+1,NA())","v":{"$error":"#N/A"}},{"$error":"#N/A"},{"$f":"IF(ISERROR(A51),NA(),'Salary Worksheet'!$B$15)","v":{"$error":"#N/A"}},{"$f":"'Salary Worksheet'!$B$11*'Salary Calculations'!B51","v":{"$error":"#N/A"}},{"$f":"'Salary Worksheet'!$B$12*'Salary Calculations'!B51","v":{"$error":"#N/A"}},{"$error":"#N/A"},{"$f":"IF(ISERROR(A51),NA(),G50*(1+'Salary Worksheet'!$B$20))","v":{"$error":"#N/A"}},{"$f":"IF(ISERROR(A51),NA(),H50*(1+'Salary Worksheet'!$B$20))","v":{"$error":"#N/A"}},{"$error":"#N/A"},{"$f":"'Salary Worksheet'!$B$8*'Salary Calculations'!I51","v":{"$error":"#N/A"}},{"$f":"'Salary Worksheet'!$B$13*'Salary Calculations'!I51","v":{"$error":"#N/A"}},{"$f":"'Salary Worksheet'!$B$14*'Salary Calculations'!I51","v":{"$error":"#N/A"}},{"$f":"IF('Salary Worksheet'!$B$18=\"Yes\",'Salary Worksheet'!$B$9*'Salary Calculations'!I51,'Salary Worksheet'!$B$9*'Salary Calculations'!G51)","v":{"$error":"#N/A"}},{"$f":"'Salary Worksheet'!$B$10*'Salary Calculations'!I51","v":{"$error":"#N/A"}},{"$error":"#N/A"},{"$f":"IF(ISERROR(A51),NA(),P50*(1+'Salary Worksheet'!$B$20))","v":{"$error":"#N/A"}},{"$error":"#N/A"}]
[{"$f":"IF(A51<'Salary Worksheet'!$B$6,A51+1,NA())","v":{"$error":"#N/A"}},{"$error":"#N/A"},{"$f":"IF(ISERROR(A52),NA(),'Salary Worksheet'!$B$15)","v":{"$error":"#N/A"}},{"$f":"'Salary Worksheet'!$B$11*'Salary Calculations'!B52","v":{"$error":"#N/A"}},{"$f":"'Salary Worksheet'!$B$12*'Salary Calculations'!B52","v":{"$error":"#N/A"}},{"$error":"#N/A"},{"$f":"IF(ISERROR(A52),NA(),G51*(1+'Salary Worksheet'!$B$20))","v":{"$error":"#N/A"}},{"$f":"IF(ISERROR(A52),NA(),H51*(1+'Salary Worksheet'!$B$20))","v":{"$error":"#N/A"}},{"$error":"#N/A"},{"$f":"'Salary Worksheet'!$B$8*'Salary Calculations'!I52","v":{"$error":"#N/A"}},{"$f":"'Salary Worksheet'!$B$13*'Salary Calculations'!I52","v":{"$error":"#N/A"}},{"$f":"'Salary Worksheet'!$B$14*'Salary Calculations'!I52","v":{"$error":"#N/A"}},{"$f":"IF('Salary Worksheet'!$B$18=\"Yes\",'Salary Worksheet'!$B$9*'Salary Calculations'!I52,'Salary Worksheet'!$B$9*'Salary Calculations'!G52)","v":{"$error":"#N/A"}},{"$f":"'Salary Worksheet'!$B$10*'Salary Calculations'!I52","v":{"$error":"#N/A"}},{"$error":"#N/A"},{"$f":"IF(ISERROR(A52),NA(),P51*(1+'Salary Worksheet'!$B$20))","v":{"$error":"#N/A"}},{"$error":"#N/A"}]
[{"$f":"IF(A52<'Salary Worksheet'!$B$6,A52+1,NA())","v":{"$error":"#N/A"}},{"$error":"#N/A"},{"$f":"IF(ISERROR(A53),NA(),'Salary Worksheet'!$B$15)","v":{"$error":"#N/A"}},{"$f":"'Salary Worksheet'!$B$11*'Salary Calculations'!B53","v":{"$error":"#N/A"}},{"$f":"'Salary Worksheet'!$B$12*'Salary Calculations'!B53","v":{"$error":"#N/A"}},{"$error":"#N/A"},{"$f":"IF(ISERROR(A53),NA(),G52*(1+'Salary Worksheet'!$B$20))","v":{"$error":"#N/A"}},{"$f":"IF(ISERROR(A53),NA(),H52*(1+'Salary Worksheet'!$B$20))","v":{"$error":"#N/A"}},{"$error":"#N/A"},{"$f":"'Salary Worksheet'!$B$8*'Salary Calculations'!I53","v":{"$error":"#N/A"}},{"$f":"'Salary Worksheet'!$B$13*'Salary Calculations'!I53","v":{"$error":"#N/A"}},{"$f":"'Salary Worksheet'!$B$14*'Salary Calculations'!I53","v":{"$error":"#N/A"}},{"$f":"IF('Salary Worksheet'!$B$18=\"Yes\",'Salary Worksheet'!$B$9*'Salary Calculations'!I53,'Salary Worksheet'!$B$9*'Salary Calculations'!G53)","v":{"$error":"#N/A"}},{"$f":"'Salary Worksheet'!$B$10*'Salary Calculations'!I53","v":{"$error":"#N/A"}},{"$error":"#N/A"},{"$f":"IF(ISERROR(A53),NA(),P52*(1+'Salary Worksheet'!$B$20))","v":{"$error":"#N/A"}},{"$error":"#N/A"}]
[{"$f":"IF(A53<'Salary Worksheet'!$B$6,A53+1,NA())","v":{"$error":"#N/A"}},{"$error":"#N/A"},{"$f":"IF(ISERROR(A54),NA(),'Salary Worksheet'!$B$15)","v":{"$error":"#N/A"}},{"$f":"'Salary Worksheet'!$B$11*'Salary Calculations'!B54","v":{"$error":"#N/A"}},{"$f":"'Salary Worksheet'!$B$12*'Salary Calculations'!B54","v":{"$error":"#N/A"}},{"$error":"#N/A"},{"$f":"IF(ISERROR(A54),NA(),G53*(1+'Salary Worksheet'!$B$20))","v":{"$error":"#N/A"}},{"$f":"IF(ISERROR(A54),NA(),H53*(1+'Salary Worksheet'!$B$20))","v":{"$error":"#N/A"}},{"$error":"#N/A"},{"$f":"'Salary Worksheet'!$B$8*'Salary Calculations'!I54","v":{"$error":"#N/A"}},{"$f":"'Salary Worksheet'!$B$13*'Salary Calculations'!I54","v":{"$error":"#N/A"}},{"$f":"'Salary Worksheet'!$B$14*'Salary Calculations'!I54","v":{"$error":"#N/A"}},{"$f":"IF('Salary Worksheet'!$B$18=\"Yes\",'Salary Worksheet'!$B$9*'Salary Calculations'!I54,'Salary Worksheet'!$B$9*'Salary Calculations'!G54)","v":{"$error":"#N/A"}},{"$f":"'Salary Worksheet'!$B$10*'Salary Calculations'!I54","v":{"$error":"#N/A"}},{"$error":"#N/A"},{"$f":"IF(ISERROR(A54),NA(),P53*(1+'Salary Worksheet'!$B$20))","v":{"$error":"#N/A"}},{"$error":"#N/A"}]
[{"$f":"IF(A54<'Salary Worksheet'!$B$6,A54+1,NA())","v":{"$error":"#N/A"}},{"$error":"#N/A"},{"$f":"IF(ISERROR(A55),NA(),'Salary Worksheet'!$B$15)","v":{"$error":"#N/A"}},{"$f":"'Salary Worksheet'!$B$11*'Salary Calculations'!B55","v":{"$error":"#N/A"}},{"$f":"'Salary Worksheet'!$B$12*'Salary Calculations'!B55","v":{"$error":"#N/A"}},{"$error":"#N/A"},{"$f":"IF(ISERROR(A55),NA(),G54*(1+'Salary Worksheet'!$B$20))","v":{"$error":"#N/A"}},{"$f":"IF(ISERROR(A55),NA(),H54*(1+'Salary Worksheet'!$B$20))","v":{"$error":"#N/A"}},{"$error":"#N/A"},{"$f":"'Salary Worksheet'!$B$8*'Salary Calculations'!I55","v":{"$error":"#N/A"}},{"$f":"'Salary Worksheet'!$B$13*'Salary Calculations'!I55","v":{"$error":"#N/A"}},{"$f":"'Salary Worksheet'!$B$14*'Salary Calculations'!I55","v":{"$error":"#N/A"}},{"$f":"IF('Salary Worksheet'!$B$18=\"Yes\",'Salary Worksheet'!$B$9*'Salary Calculations'!I55,'Salary Worksheet'!$B$9*'Salary Calculations'!G55)","v":{"$error":"#N/A"}},{"$f":"'Salary Worksheet'!$B$10*'Salary Calculations'!I55","v":{"$error":"#N/A"}},{"$error":"#N/A"},{"$f":"IF(ISERROR(A55),NA(),P54*(1+'Salary Worksheet'!$B$20))","v":{"$error":"#N/A"}},{"$error":"#N/A"}]
[{"$f":"IF(A55<'Salary Worksheet'!$B$6,A55+1,NA())","v":{"$error":"#N/A"}},{"$error":"#N/A"},{"$f":"IF(ISERROR(A56),NA(),'Salary Worksheet'!$B$15)","v":{"$error":"#N/A"}},{"$f":"'Salary Worksheet'!$B$11*'Salary Calculations'!B56","v":{"$error":"#N/A"}},{"$f":"'Salary Worksheet'!$B$12*'Salary Calculations'!B56","v":{"$error":"#N/A"}},{"$error":"#N/A"},{"$f":"IF(ISERROR(A56),NA(),G55*(1+'Salary Worksheet'!$B$20))","v":{"$error":"#N/A"}},{"$f":"IF(ISERROR(A56),NA(),H55*(1+'Salary Worksheet'!$B$20))","v":{"$error":"#N/A"}},{"$error":"#N/A"},{"$f":"'Salary Worksheet'!$B$8*'Salary Calculations'!I56","v":{"$error":"#N/A"}},{"$f":"'Salary Worksheet'!$B$13*'Salary Calculations'!I56","v":{"$error":"#N/A"}},{"$f":"'Salary Worksheet'!$B$14*'Salary Calculations'!I56","v":{"$error":"#N/A"}},{"$f":"IF('Salary Worksheet'!$B$18=\"Yes\",'Salary Worksheet'!$B$9*'Salary Calculations'!I56,'Salary Worksheet'!$B$9*'Salary Calculations'!G56)","v":{"$error":"#N/A"}},{"$f":"'Salary Worksheet'!$B$10*'Salary Calculations'!I56","v":{"$error":"#N/A"}},{"$error":"#N/A"},{"$f":"IF(ISERROR(A56),NA(),P55*(1+'Salary Worksheet'!$B$20))","v":{"$error":"#N/A"}},{"$error":"#N/A"}]
[{"$f":"IF(A56<'Salary Worksheet'!$B$6,A56+1,NA())","v":{"$error":"#N/A"}},{"$error":"#N/A"},{"$f":"IF(ISERROR(A57),NA(),'Salary Worksheet'!$B$15)","v":{"$error":"#N/A"}},{"$f":"'Salary Worksheet'!$B$11*'Salary Calculations'!B57","v":{"$error":"#N/A"}},{"$f":"'Salary Worksheet'!$B$12*'Salary Calculations'!B57","v":{"$error":"#N/A"}},{"$error":"#N/A"},{"$f":"IF(ISERROR(A57),NA(),G56*(1+'Salary Worksheet'!$B$20))","v":{"$error":"#N/A"}},{"$f":"IF(ISERROR(A57),NA(),H56*(1+'Salary Worksheet'!$B$20))","v":{"$error":"#N/A"}},{"$error":"#N/A"},{"$f":"'Salary Worksheet'!$B$8*'Salary Calculations'!I57","v":{"$error":"#N/A"}},{"$f":"'Salary Worksheet'!$B$13*'Salary Calculations'!I57","v":{"$error":"#N/A"}},{"$f":"'Salary Worksheet'!$B$14*'Salary Calculations'!I57","v":{"$error":"#N/A"}},{"$f":"IF('Salary Worksheet'!$B$18=\"Yes\",'Salary Worksheet'!$B$9*'Salary Calculations'!I57,'Salary Worksheet'!$B$9*'Salary Calculations'!G57)","v":{"$error":"#N/A"}},{"$f":"'Salary Worksheet'!$B$10*'Salary Calculations'!I57","v":{"$error":"#N/A"}},{"$error":"#N/A"},{"$f":"IF(ISERROR(A57),NA(),P56*(1+'Salary Worksheet'!$B$20))","v":{"$error":"#N/A"}},{"$error":"#N/A"}]
[{"$f":"IF(A57<'Salary Worksheet'!$B$6,A57+1,NA())","v":{"$error":"#N/A"}},{"$error":"#N/A"},{"$f":"IF(ISERROR(A58),NA(),'Salary Worksheet'!$B$15)","v":{"$error":"#N/A"}},{"$f":"'Salary Worksheet'!$B$11*'Salary Calculations'!B58","v":{"$error":"#N/A"}},{"$f":"'Salary Worksheet'!$B$12*'Salary Calculations'!B58","v":{"$error":"#N/A"}},{"$error":"#N/A"},{"$f":"IF(ISERROR(A58),NA(),G57*(1+'Salary Worksheet'!$B$20))","v":{"$error":"#N/A"}},{"$f":"IF(ISERROR(A58),NA(),H57*(1+'Salary Worksheet'!$B$20))","v":{"$error":"#N/A"}},{"$error":"#N/A"},{"$f":"'Salary Worksheet'!$B$8*'Salary Calculations'!I58","v":{"$error":"#N/A"}},{"$f":"'Salary Worksheet'!$B$13*'Salary Calculations'!I58","v":{"$error":"#N/A"}},{"$f":"'Salary Worksheet'!$B$14*'Salary Calculations'!I58","v":{"$error":"#N/A"}},{"$f":"IF('Salary Worksheet'!$B$18=\"Yes\",'Salary Worksheet'!$B$9*'Salary Calculations'!I58,'Salary Worksheet'!$B$9*'Salary Calculations'!G58)","v":{"$error":"#N/A"}},{"$f":"'Salary Worksheet'!$B$10*'Salary Calculations'!I58","v":{"$error":"#N/A"}},{"$error":"#N/A"},{"$f":"IF(ISERROR(A58),NA(),P57*(1+'Salary Worksheet'!$B$20))","v":{"$error":"#N/A"}},{"$error":"#N/A"}]
[{"$f":"IF(A58<'Salary Worksheet'!$B$6,A58+1,NA())","v":{"$error":"#N/A"}},{"$error":"#N/A"},{"$f":"IF(ISERROR(A59),NA(),'Salary Worksheet'!$B$15)","v":{"$error":"#N/A"}},{"$f":"'Salary Worksheet'!$B$11*'Salary Calculations'!B59","v":{"$error":"#N/A"}},{"$f":"'Salary Worksheet'!$B$12*'Salary Calculations'!B59","v":{"$error":"#N/A"}},{"$error":"#N/A"},{"$f":"IF(ISERROR(A59),NA(),G58*(1+'Salary Worksheet'!$B$20))","v":{"$error":"#N/A"}},{"$f":"IF(ISERROR(A59),NA(),H58*(1+'Salary Worksheet'!$B$20))","v":{"$error":"#N/A"}},{"$error":"#N/A"},{"$f":"'Salary Worksheet'!$B$8*'Salary Calculations'!I59","v":{"$error":"#N/A"}},{"$f":"'Salary Worksheet'!$B$13*'Salary Calculations'!I59","v":{"$error":"#N/A"}},{"$f":"'Salary Worksheet'!$B$14*'Salary Calculations'!I59","v":{"$error":"#N/A"}},{"$f":"IF('Salary Worksheet'!$B$18=\"Yes\",'Salary Worksheet'!$B$9*'Salary Calculations'!I59,'Salary Worksheet'!$B$9*'Salary Calculations'!G59)","v":{"$error":"#N/A"}},{"$f":"'Salary Worksheet'!$B$10*'Salary Calculations'!I59","v":{"$error":"#N/A"}},{"$error":"#N/A"},{"$f":"IF(ISERROR(A59),NA(),P58*(1+'Salary Worksheet'!$B$20))","v":{"$error":"#N/A"}},{"$error":"#N/A"}]
[{"$f":"IF(A59<'Salary Worksheet'!$B$6,A59+1,NA())","v":{"$error":"#N/A"}},{"$error":"#N/A"},{"$f":"IF(ISERROR(A60),NA(),'Salary Worksheet'!$B$15)","v":{"$error":"#N/A"}},{"$f":"'Salary Worksheet'!$B$11*'Salary Calculations'!B60","v":{"$error":"#N/A"}},{"$f":"'Salary Worksheet'!$B$12*'Salary Calculations'!B60","v":{"$error":"#N/A"}},{"$error":"#N/A"},{"$f":"IF(ISERROR(A60),NA(),G59*(1+'Salary Worksheet'!$B$20))","v":{"$error":"#N/A"}},{"$f":"IF(ISERROR(A60),NA(),H59*(1+'Salary Worksheet'!$B$20))","v":{"$error":"#N/A"}},{"$error":"#N/A"},{"$f":"'Salary Worksheet'!$B$8*'Salary Calculations'!I60","v":{"$error":"#N/A"}},{"$f":"'Salary Worksheet'!$B$13*'Salary Calculations'!I60","v":{"$error":"#N/A"}},{"$f":"'Salary Worksheet'!$B$14*'Salary Calculations'!I60","v":{"$error":"#N/A"}},{"$f":"IF('Salary Worksheet'!$B$18=\"Yes\",'Salary Worksheet'!$B$9*'Salary Calculations'!I60,'Salary Worksheet'!$B$9*'Salary Calculations'!G60)","v":{"$error":"#N/A"}},{"$f":"'Salary Worksheet'!$B$10*'Salary Calculations'!I60","v":{"$error":"#N/A"}},{"$error":"#N/A"},{"$f":"IF(ISERROR(A60),NA(),P59*(1+'Salary Worksheet'!$B$20))","v":{"$error":"#N/A"}},{"$error":"#N/A"}]
[{"$f":"IF(A60<'Salary Worksheet'!$B$6,A60+1,NA())","v":{"$error":"#N/A"}},{"$error":"#N/A"},{"$f":"IF(ISERROR(A61),NA(),'Salary Worksheet'!$B$15)","v":{"$error":"#N/A"}},{"$f":"'Salary Worksheet'!$B$11*'Salary Calculations'!B61","v":{"$error":"#N/A"}},{"$f":"'Salary Worksheet'!$B$12*'Salary Calculations'!B61","v":{"$error":"#N/A"}},{"$error":"#N/A"},{"$f":"IF(ISERROR(A61),NA(),G60*(1+'Salary Worksheet'!$B$20))","v":{"$error":"#N/A"}},{"$f":"IF(ISERROR(A61),NA(),H60*(1+'Salary Worksheet'!$B$20))","v":{"$error":"#N/A"}},{"$error":"#N/A"},{"$f":"'Salary Worksheet'!$B$8*'Salary Calculations'!I61","v":{"$error":"#N/A"}},{"$f":"'Salary Worksheet'!$B$13*'Salary Calculations'!I61","v":{"$error":"#N/A"}},{"$f":"'Salary Worksheet'!$B$14*'Salary Calculations'!I61","v":{"$error":"#N/A"}},{"$f":"IF('Salary Worksheet'!$B$18=\"Yes\",'Salary Worksheet'!$B$9*'Salary Calculations'!I61,'Salary Worksheet'!$B$9*'Salary Calculations'!G61)","v":{"$error":"#N/A"}},{"$f":"'Salary Worksheet'!$B$10*'Salary Calculations'!I61","v":{"$error":"#N/A"}},{"$error":"#N/A"},{"$f":"IF(ISERROR(A61),NA(),P60*(1+'Salary Worksheet'!$B$20))","v":{"$error":"#N/A"}},{"$error":"#N/A"}]
[{"$f":"IF(A61<'Salary Worksheet'!$B$6,A61+1,NA())","v":{"$error":"#N/A"}},{"$error":"#N/A"},{"$f":"IF(ISERROR(A62),NA(),'Salary Worksheet'!$B$15)","v":{"$error":"#N/A"}},{"$f":"'Salary Worksheet'!$B$11*'Salary Calculations'!B62","v":{"$error":"#N/A"}},{"$f":"'Salary Worksheet'!$B$12*'Salary Calculations'!B62","v":{"$error":"#N/A"}},{"$error":"#N/A"},{"$f":"IF(ISERROR(A62),NA(),G61*(1+'Salary Worksheet'!$B$20))","v":{"$error":"#N/A"}},{"$f":"IF(ISERROR(A62),NA(),H61*(1+'Salary Worksheet'!$B$20))","v":{"$error":"#N/A"}},{"$error":"#N/A"},{"$f":"'Salary Worksheet'!$B$8*'Salary Calculations'!I62","v":{"$error":"#N/A"}},{"$f":"'Salary Worksheet'!$B$13*'Salary Calculations'!I62","v":{"$error":"#N/A"}},{"$f":"'Salary Worksheet'!$B$14*'Salary Calculations'!I62","v":{"$error":"#N/A"}},{"$f":"IF('Salary Worksheet'!$B$18=\"Yes\",'Salary Worksheet'!$B$9*'Salary Calculations'!I62,'Salary Worksheet'!$B$9*'Salary Calculations'!G62)","v":{"$error":"#N/A"}},{"$f":"'Salary Worksheet'!$B$10*'Salary Calculations'!I62","v":{"$error":"#N/A"}},{"$error":"#N/A"},{"$f":"IF(ISERROR(A62),NA(),P61*(1+'Salary Worksheet'!$B$20))","v":{"$error":"#N/A"}},{"$error":"#N/A"}]
[{"$f":"IF(A62<'Salary Worksheet'!$B$6,A62+1,NA())","v":{"$error":"#N/A"}},{"$error":"#N/A"},{"$f":"IF(ISERROR(A63),NA(),'Salary Worksheet'!$B$15)","v":{"$error":"#N/A"}},{"$f":"'Salary Worksheet'!$B$11*'Salary Calculations'!B63","v":{"$error":"#N/A"}},{"$f":"'Salary Worksheet'!$B$12*'Salary Calculations'!B63","v":{"$error":"#N/A"}},{"$error":"#N/A"},{"$f":"IF(ISERROR(A63),NA(),G62*(1+'Salary Worksheet'!$B$20))","v":{"$error":"#N/A"}},{"$f":"IF(ISERROR(A63),NA(),H62*(1+'Salary Worksheet'!$B$20))","v":{"$error":"#N/A"}},{"$error":"#N/A"},{"$f":"'Salary Worksheet'!$B$8*'Salary Calculations'!I63","v":{"$error":"#N/A"}},{"$f":"'Salary Worksheet'!$B$13*'Salary Calculations'!I63","v":{"$error":"#N/A"}},{"$f":"'Salary Worksheet'!$B$14*'Salary Calculations'!I63","v":{"$error":"#N/A"}},{"$f":"IF('Salary Worksheet'!$B$18=\"Yes\",'Salary Worksheet'!$B$9*'Salary Calculations'!I63,'Salary Worksheet'!$B$9*'Salary Calculations'!G63)","v":{"$error":"#N/A"}},{"$f":"'Salary Worksheet'!$B$10*'Salary Calculations'!I63","v":{"$error":"#N/A"}},{"$error":"#N/A"},{"$f":"IF(ISERROR(A63),NA(),P62*(1+'Salary Worksheet'!$B$20))","v":{"$error":"#N/A"}},{"$error":"#N/A"}]
[{"$f":"IF(A63<'Salary Worksheet'!$B$6,A63+1,NA())","v":{"$error":"#N/A"}},{"$error":"#N/A"},{"$f":"IF(ISERROR(A64),NA(),'Salary Worksheet'!$B$15)","v":{"$error":"#N/A"}},{"$f":"'Salary Worksheet'!$B$11*'Salary Calculations'!B64","v":{"$error":"#N/A"}},{"$f":"'Salary Worksheet'!$B$12*'Salary Calculations'!B64","v":{"$error":"#N/A"}},{"$error":"#N/A"},{"$f":"IF(ISERROR(A64),NA(),G63*(1+'Salary Worksheet'!$B$20))","v":{"$error":"#N/A"}},{"$f":"IF(ISERROR(A64),NA(),H63*(1+'Salary Worksheet'!$B$20))","v":{"$error":"#N/A"}},{"$error":"#N/A"},{"$f":"'Salary Worksheet'!$B$8*'Salary Calculations'!I64","v":{"$error":"#N/A"}},{"$f":"'Salary Worksheet'!$B$13*'Salary Calculations'!I64","v":{"$error":"#N/A"}},{"$f":"'Salary Worksheet'!$B$14*'Salary Calculations'!I64","v":{"$error":"#N/A"}},{"$f":"IF('Salary Worksheet'!$B$18=\"Yes\",'Salary Worksheet'!$B$9*'Salary Calculations'!I64,'Salary Worksheet'!$B$9*'Salary Calculations'!G64)","v":{"$error":"#N/A"}},{"$f":"'Salary Worksheet'!$B$10*'Salary Calculations'!I64","v":{"$error":"#N/A"}},{"$error":"#N/A"},{"$f":"IF(ISERROR(A64),NA(),P63*(1+'Salary Worksheet'!$B$20))","v":{"$error":"#N/A"}},{"$error":"#N/A"}]
[{"$f":"IF(A64<'Salary Worksheet'!$B$6,A64+1,NA())","v":{"$error":"#N/A"}},{"$error":"#N/A"},{"$f":"IF(ISERROR(A65),NA(),'Salary Worksheet'!$B$15)","v":{"$error":"#N/A"}},{"$f":"'Salary Worksheet'!$B$11*'Salary Calculations'!B65","v":{"$error":"#N/A"}},{"$f":"'Salary Worksheet'!$B$12*'Salary Calculations'!B65","v":{"$error":"#N/A"}},{"$error":"#N/A"},{"$f":"IF(ISERROR(A65),NA(),G64*(1+'Salary Worksheet'!$B$20))","v":{"$error":"#N/A"}},{"$f":"IF(ISERROR(A65),NA(),H64*(1+'Salary Worksheet'!$B$20))","v":{"$error":"#N/A"}},{"$error":"#N/A"},{"$f":"'Salary Worksheet'!$B$8*'Salary Calculations'!I65","v":{"$error":"#N/A"}},{"$f":"'Salary Worksheet'!$B$13*'Salary Calculations'!I65","v":{"$error":"#N/A"}},{"$f":"'Salary Worksheet'!$B$14*'Salary Calculations'!I65","v":{"$error":"#N/A"}},{"$f":"IF('Salary Worksheet'!$B$18=\"Yes\",'Salary Worksheet'!$B$9*'Salary Calculations'!I65,'Salary Worksheet'!$B$9*'Salary Calculations'!G65)","v":{"$error":"#N/A"}},{"$f":"'Salary Worksheet'!$B$10*'Salary Calculations'!I65","v":{"$error":"#N/A"}},{"$error":"#N/A"},{"$f":"IF(ISERROR(A65),NA(),P64*(1+'Salary Worksheet'!$B$20))","v":{"$error":"#N/A"}},{"$error":"#N/A"}]
[{"$f":"IF(A65<'Salary Worksheet'!$B$6,A65+1,NA())","v":{"$error":"#N/A"}},{"$error":"#N/A"},{"$f":"IF(ISERROR(A66),NA(),'Salary Worksheet'!$B$15)","v":{"$error":"#N/A"}},{"$f":"'Salary Worksheet'!$B$11*'Salary Calculations'!B66","v":{"$error":"#N/A"}},{"$f":"'Salary Worksheet'!$B$12*'Salary Calculations'!B66","v":{"$error":"#N/A"}},{"$error":"#N/A"},{"$f":"IF(ISERROR(A66),NA(),G65*(1+'Salary Worksheet'!$B$20))","v":{"$error":"#N/A"}},{"$f":"IF(ISERROR(A66),NA(),H65*(1+'Salary Worksheet'!$B$20))","v":{"$error":"#N/A"}},{"$error":"#N/A"},{"$f":"'Salary Worksheet'!$B$8*'Salary Calculations'!I66","v":{"$error":"#N/A"}},{"$f":"'Salary Worksheet'!$B$13*'Salary Calculations'!I66","v":{"$error":"#N/A"}},{"$f":"'Salary Worksheet'!$B$14*'Salary Calculations'!I66","v":{"$error":"#N/A"}},{"$f":"IF('Salary Worksheet'!$B$18=\"Yes\",'Salary Worksheet'!$B$9*'Salary Calculations'!I66,'Salary Worksheet'!$B$9*'Salary Calculations'!G66)","v":{"$error":"#N/A"}},{"$f":"'Salary Worksheet'!$B$10*'Salary Calculations'!I66","v":{"$error":"#N/A"}},{"$error":"#N/A"},{"$f":"IF(ISERROR(A66),NA(),P65*(1+'Salary Worksheet'!$B$20))","v":{"$error":"#N/A"}},{"$error":"#N/A"}]
[{"$f":"IF(A66<'Salary Worksheet'!$B$6,A66+1,NA())","v":{"$error":"#N/A"}},{"$error":"#N/A"},{"$f":"IF(ISERROR(A67),NA(),'Salary Worksheet'!$B$15)","v":{"$error":"#N/A"}},{"$f":"'Salary Worksheet'!$B$11*'Salary Calculations'!B67","v":{"$error":"#N/A"}},{"$f":"'Salary Worksheet'!$B$12*'Salary Calculations'!B67","v":{"$error":"#N/A"}},{"$error":"#N/A"},{"$f":"IF(ISERROR(A67),NA(),G66*(1+'Salary Worksheet'!$B$20))","v":{"$error":"#N/A"}},{"$f":"IF(ISERROR(A67),NA(),H66*(1+'Salary Worksheet'!$B$20))","v":{"$error":"#N/A"}},{"$error":"#N/A"},{"$f":"'Salary Worksheet'!$B$8*'Salary Calculations'!I67","v":{"$error":"#N/A"}},{"$f":"'Salary Worksheet'!$B$13*'Salary Calculations'!I67","v":{"$error":"#N/A"}},{"$f":"'Salary Worksheet'!$B$14*'Salary Calculations'!I67","v":{"$error":"#N/A"}},{"$f":"IF('Salary Worksheet'!$B$18=\"Yes\",'Salary Worksheet'!$B$9*'Salary Calculations'!I67,'Salary Worksheet'!$B$9*'Salary Calculations'!G67)","v":{"$error":"#N/A"}},{"$f":"'Salary Worksheet'!$B$10*'Salary Calculations'!I67","v":{"$error":"#N/A"}},{"$error":"#N/A"},{"$f":"IF(ISERROR(A67),NA(),P66*(1+'Salary Worksheet'!$B$20))","v":{"$error":"#N/A"}},{"$error":"#N/A"}]
[{"$f":"IF(A67<'Salary Worksheet'!$B$6,A67+1,NA())","v":{"$error":"#N/A"}},{"$error":"#N/A"},{"$f":"IF(ISERROR(A68),NA(),'Salary Worksheet'!$B$15)","v":{"$error":"#N/A"}},{"$f":"'Salary Worksheet'!$B$11*'Salary Calculations'!B68","v":{"$error":"#N/A"}},{"$f":"'Salary Worksheet'!$B$12*'Salary Calculations'!B68","v":{"$error":"#N/A"}},{"$error":"#N/A"},{"$f":"IF(ISERROR(A68),NA(),G67*(1+'Salary Worksheet'!$B$20))","v":{"$error":"#N/A"}},{"$f":"IF(ISERROR(A68),NA(),H67*(1+'Salary Worksheet'!$B$20))","v":{"$error":"#N/A"}},{"$error":"#N/A"},{"$f":"'Salary Worksheet'!$B$8*'Salary Calculations'!I68","v":{"$error":"#N/A"}},{"$f":"'Salary Worksheet'!$B$13*'Salary Calculations'!I68","v":{"$error":"#N/A"}},{"$f":"'Salary Worksheet'!$B$14*'Salary Calculations'!I68","v":{"$error":"#N/A"}},{"$f":"IF('Salary Worksheet'!$B$18=\"Yes\",'Salary Worksheet'!$B$9*'Salary Calculations'!I68,'Salary Worksheet'!$B$9*'Salary Calculations'!G68)","v":{"$error":"#N/A"}},{"$f":"'Salary Worksheet'!$B$10*'Salary Calculations'!I68","v":{"$error":"#N/A"}},{"$f":"SUM(J68:N68)","v":{"$error":"#N/A"}},{"$f":"IF(ISERROR(A68),NA(),P67*(1+'Salary Worksheet'!$B$20))","v":{"$error":"#N/A"}},{"$error":"#N/A"}]
[{"$f":"IF(A68<'Salary Worksheet'!$B$6,A68+1,NA())","v":{"$error":"#N/A"}},{"$f":"IF(ISERROR(A69),NA(),F68+Q68)","v":{"$error":"#N/A"}},{"$f":"IF(ISERROR(A69),NA(),'Salary Worksheet'!$B$15)","v":{"$error":"#N/A"}},{"$f":"'Salary Worksheet'!$B$11*'Salary Calculations'!B69","v":{"$error":"#N/A"}},{"$f":"'Salary Worksheet'!$B$12*'Salary Calculations'!B69","v":{"$error":"#N/A"}},{"$error":"#N/A"},{"$f":"IF(ISERROR(A69),NA(),G68*(1+'Salary Worksheet'!$B$20))","v":{"$error":"#N/A"}},{"$f":"IF(ISERROR(A69),NA(),H68*(1+'Salary Worksheet'!$B$20))","v":{"$error":"#N/A"}},{"$error":"#N/A"},{"$f":"'Salary Worksheet'!$B$8*'Salary Calculations'!I69","v":{"$error":"#N/A"}},{"$f":"'Salary Worksheet'!$B$13*'Salary Calculations'!I69","v":{"$error":"#N/A"}},{"$f":"'Salary Worksheet'!$B$14*'Salary Calculations'!I69","v":{"$error":"#N/A"}},{"$f":"IF('Salary Worksheet'!$B$18=\"Yes\",'Salary Worksheet'!$B$9*'Salary Calculations'!I69,'Salary Worksheet'!$B$9*'Salary Calculations'!G69)","v":{"$error":"#N/A"}},{"$f":"'Salary Worksheet'!$B$10*'Salary Calculations'!I69","v":{"$error":"#N/A"}},{"$f":"SUM(J69:N69)","v":{"$error":"#N/A"}},{"$f":"IF(ISERROR(A69),NA(),P68*(1+'Salary Worksheet'!$B$20))","v":{"$error":"#N/A"}},{"$error":"#N/A"}]
[{"$f":"IF(A69<'Salary Worksheet'!$B$6,A69+1,NA())","v":{"$error":"#N/A"}},{"$f":"IF(ISERROR(A70),NA(),F69+Q69)","v":{"$error":"#N/A"}},{"$f":"IF(ISERROR(A70),NA(),'Salary Worksheet'!$B$15)","v":{"$error":"#N/A"}},{"$f":"'Salary Worksheet'!$B$11*'Salary Calculations'!B70","v":{"$error":"#N/A"}},{"$f":"'Salary Worksheet'!$B$12*'Salary Calculations'!B70","v":{"$error":"#N/A"}},{"$error":"#N/A"},{"$f":"IF(ISERROR(A70),NA(),G69*(1+'Salary Worksheet'!$B$20))","v":{"$error":"#N/A"}},{"$f":"IF(ISERROR(A70),NA(),H69*(1+'Salary Worksheet'!$B$20))","v":{"$error":"#N/A"}},{"$error":"#N/A"},{"$f":"'Salary Worksheet'!$B$8*'Salary Calculations'!I70","v":{"$error":"#N/A"}},{"$f":"'Salary Worksheet'!$B$13*'Salary Calculations'!I70","v":{"$error":"#N/A"}},{"$f":"'Salary Worksheet'!$B$14*'Salary Calculations'!I70","v":{"$error":"#N/A"}},{"$f":"IF('Salary Worksheet'!$B$18=\"Yes\",'Salary Worksheet'!$B$9*'Salary Calculations'!I70,'Salary Worksheet'!$B$9*'Salary Calculations'!G70)","v":{"$error":"#N/A"}},{"$f":"'Salary Worksheet'!$B$10*'Salary Calculations'!I70","v":{"$error":"#N/A"}},{"$f":"SUM(J70:N70)","v":{"$error":"#N/A"}},{"$f":"IF(ISERROR(A70),NA(),P69*(1+'Salary Worksheet'!$B$20))","v":{"$error":"#N/A"}},{"$error":"#N/A"}]