{"text_format":"1","workbook":"xlsx","n_sheets":6,"sheets":["Retirement Worksheet","Retirement Calculations","Salary Worksheet","Salary Calculations","Paystub Worksheet","Budget pro forma"],"not_rendered":{"charts":2,"images":0,"macros":1,"external_links":0,"defined_names":54,"comments":2,"pivot_tables":2},"unopened":[],"bounds":{"document_bytes":16777216,"sheet_cells":100000,"rows_first":2000,"rows_last":500,"rows_between":2000,"halvings":0,"cell_chars":16384,"cell_head_chars":4096},"cells_cut":0,"cells_raw":0,"read":"whole","date_system":"1900"}

{"sheet":"Retirement Worksheet","index":0,"n_rows":157,"n_cols":16,"rows_kept":157,"cut":false,"hidden":false,"merged":[[3,0,3,1],[17,2,17,15],[0,3,0,9],[19,3,19,6],[19,7,19,10],[19,11,19,12]]}
["RETIREMENT WORKSHEET",null,null,"Retirement Savings Requirement Graph"]
["DIRECTIONS: 1) Enter assumptions, 2) click 'Enter'->"]
[]
["Assumptions"]
["Life expectancy (# years old)",90]
["Retirement age (# years old)",65]
["Total Savings at Retirement Age ($)",3000000]
["Annual retirement savings withdrawal rate (%)",0.04]
["Federal Tax rate in retirement (%)",0.25]
["State Tax rate in retirement (%)",0.06]
["Annual investment fees (%)",2.5000000000000001E-3]
["Annual Social Security benfit at Retirement ($)",30000]
["Annual Military Pension at Retirement Age ($)",70000]
["Annual expenses ($)",150000]
["Annual inflation rate and income increases (%)",0.02]
["Annual return on investments (%)",0.05]
[]
[null,null,"Chart Detail"]
[]
[null,null,null,"Investments",null,null,null,"Income",null,null,null,"Taxes",null,null,"Expenses"]
[]
[null,null,{"$f":"'Retirement Calculations'!A2","v":"Age"},"Savings Balance",{"$f":"'Retirement Calculations'!C2","v":"Investment Fees"},{"$f":"'Retirement Calculations'!D2","v":"Return on Investments"},{"$f":"'Retirement Calculations'!E2","v":"Net Investments"},{"$f":"'Retirement Calculations'!G2","v":"Annual Withdrawal"},{"$f":"'Retirement Calculations'!H2","v":"Pension"},{"$f":"'Retirement Calculations'!I2","v":"SSA"},"Annual Income",{"$f":"'Retirement Calculations'!L2","v":"Federal Income Taxes"},{"$f":"'Retirement Calculations'!M2","v":"State Income Taxes"},{"$f":"'Retirement Calculations'!O2","v":"Income-Taxes"},{"$f":"'Retirement Calculations'!P2","v":"Annual Expenses"},{"$f":"'Retirement Calculations'!Q2","v":"Net Income"}]
[null,null,{"$f":"IFERROR('Retirement Calculations'!A3,\"\")","v":65},{"$f":"IFERROR('Retirement Calculations'!B3,\"\")","v":3000000},{"$f":"IFERROR('Retirement Calculations'!C3,\"\")","v":7500},{"$f":"IFERROR('Retirement Calculations'!D3,\"\")","v":150000},{"$f":"IFERROR('Retirement Calculations'!E3,\"\")","v":3142500},{"$f":"IFERROR('Retirement Calculations'!G3,\"\")","v":120000},{"$f":"IFERROR('Retirement Calculations'!H3,\"\")","v":70000},{"$f":"IFERROR('Retirement Calculations'!I3,\"\")","v":30000},{"$f":"IFERROR('Retirement Calculations'!J3,\"\")","v":220000},{"$f":"IFERROR('Retirement Calculations'!L3,\"\")","v":55000},{"$f":"IFERROR('Retirement Calculations'!M3,\"\")","v":13200},{"$f":"IFERROR('Retirement Calculations'!O3,\"\")","v":151800},{"$f":"IFERROR('Retirement Calculations'!P3,\"\")","v":150000},{"$f":"IFERROR('Retirement Calculations'!Q3,\"\")","v":1800}]
[null,null,{"$f":"IFERROR('Retirement Calculations'!A4,\"\")","v":66},{"$f":"IFERROR('Retirement Calculations'!B4,\"\")","v":3024300},{"$f":"IFERROR('Retirement Calculations'!C4,\"\")","v":7560.75},{"$f":"IFERROR('Retirement Calculations'!D4,\"\")","v":151215},{"$f":"IFERROR('Retirement Calculations'!E4,\"\")","v":3167954.25},{"$f":"IFERROR('Retirement Calculations'!G4,\"\")","v":120972},{"$f":"IFERROR('Retirement Calculations'!H4,\"\")","v":71400},{"$f":"IFERROR('Retirement Calculations'!I4,\"\")","v":30600},{"$f":"IFERROR('Retirement Calculations'!J4,\"\")","v":222972},{"$f":"IFERROR('Retirement Calculations'!L4,\"\")","v":55743},{"$f":"IFERROR('Retirement Calculations'!M4,\"\")","v":13378.32},{"$f":"IFERROR('Retirement Calculations'!O4,\"\")","v":153850.68},{"$f":"IFERROR('Retirement Calculations'!P4,\"\")","v":153000},{"$f":"IFERROR('Retirement Calculations'!Q4,\"\")","v":850.67999999999302}]
[null,null,{"$f":"IFERROR('Retirement Calculations'!A5,\"\")","v":67},{"$f":"IFERROR('Retirement Calculations'!B5,\"\")","v":3047832.93},{"$f":"IFERROR('Retirement Calculations'!C5,\"\")","v":7619.5823250000003},{"$f":"IFERROR('Retirement Calculations'!D5,\"\")","v":152391.6465},{"$f":"IFERROR('Retirement Calculations'!E5,\"\")","v":3192604.9941750001},{"$f":"IFERROR('Retirement Calculations'!G5,\"\")","v":121913.3172},{"$f":"IFERROR('Retirement Calculations'!H5,\"\")","v":72828},{"$f":"IFERROR('Retirement Calculations'!I5,\"\")","v":31212},{"$f":"IFERROR('Retirement Calculations'!J5,\"\")","v":225953.31719999999},{"$f":"IFERROR('Retirement Calculations'!L5,\"\")","v":56488.329299999998},{"$f":"IFERROR('Retirement Calculations'!M5,\"\")","v":13557.199031999999},{"$f":"IFERROR('Retirement Calculations'!O5,\"\")","v":155907.78886799997},{"$f":"IFERROR('Retirement Calculations'!P5,\"\")","v":156060},{"$f":"IFERROR('Retirement Calculations'!Q5,\"\")","v":-152.21113200002583}]
[null,null,{"$f":"IFERROR('Retirement Calculations'!A6,\"\")","v":68},{"$f":"IFERROR('Retirement Calculations'!B6,\"\")","v":3070539.465843},{"$f":"IFERROR('Retirement Calculations'!C6,\"\")","v":7676.3486646074998},{"$f":"IFERROR('Retirement Calculations'!D6,\"\")","v":153526.97329215001},{"$f":"IFERROR('Retirement Calculations'!E6,\"\")","v":3216390.0904705427},{"$f":"IFERROR('Retirement Calculations'!G6,\"\")","v":122821.57863372},{"$f":"IFERROR('Retirement Calculations'!H6,\"\")","v":74284.56},{"$f":"IFERROR('Retirement Calculations'!I6,\"\")","v":31836.240000000002},{"$f":"IFERROR('Retirement Calculations'!J6,\"\")","v":228942.37863371999},{"$f":"IFERROR('Retirement Calculations'!L6,\"\")","v":57235.594658429996},{"$f":"IFERROR('Retirement Calculations'!M6,\"\")","v":13736.542718023198},{"$f":"IFERROR('Retirement Calculations'!O6,\"\")","v":157970.24125726678},{"$f":"IFERROR('Retirement Calculations'!P6,\"\")","v":159181.20000000001},{"$f":"IFERROR('Retirement Calculations'!Q6,\"\")","v":-1210.9587427332299}]
[null,null,{"$f":"IFERROR('Retirement Calculations'!A7,\"\")","v":69},{"$f":"IFERROR('Retirement Calculations'!B7,\"\")","v":3092357.5530940895},{"$f":"IFERROR('Retirement Calculations'!C7,\"\")","v":7730.893882735224},{"$f":"IFERROR('Retirement Calculations'!D7,\"\")","v":154617.87765470447},{"$f":"IFERROR('Retirement Calculations'!E7,\"\")","v":3239244.5368660586},{"$f":"IFERROR('Retirement Calculations'!G7,\"\")","v":123694.30212376358},{"$f":"IFERROR('Retirement Calculations'!H7,\"\")","v":75770.251199999999},{"$f":"IFERROR('Retirement Calculations'!I7,\"\")","v":32472.964800000002},{"$f":"IFERROR('Retirement Calculations'!J7,\"\")","v":231937.51812376361},{"$f":"IFERROR('Retirement Calculations'!L7,\"\")","v":57984.379530940903},{"$f":"IFERROR('Retirement Calculations'!M7,\"\")","v":13916.251087425817},{"$f":"IFERROR('Retirement Calculations'!O7,\"\")","v":160036.88750539691},{"$f":"IFERROR('Retirement Calculations'!P7,\"\")","v":162364.82400000002},{"$f":"IFERROR('Retirement Calculations'!Q7,\"\")","v":-2327.9364946031128}]
[null,null,{"$f":"IFERROR('Retirement Calculations'!A8,\"\")","v":70},{"$f":"IFERROR('Retirement Calculations'!B8,\"\")","v":3113222.2982476917},{"$f":"IFERROR('Retirement Calculations'!C8,\"\")","v":7783.0557456192291},{"$f":"IFERROR('Retirement Calculations'!D8,\"\")","v":155661.1149123846},{"$f":"IFERROR('Retirement Calculations'!E8,\"\")","v":3261100.357414457},{"$f":"IFERROR('Retirement Calculations'!G8,\"\")","v":124528.89192990767},{"$f":"IFERROR('Retirement Calculations'!H8,\"\")","v":77285.656224000006},{"$f":"IFERROR('Retirement Calculations'!I8,\"\")","v":33122.424096000002},{"$f":"IFERROR('Retirement Calculations'!J8,\"\")","v":234936.97224990767},{"$f":"IFERROR('Retirement Calculations'!L8,\"\")","v":58734.243062476919},{"$f":"IFERROR('Retirement Calculations'!M8,\"\")","v":14096.218334994461},{"$f":"IFERROR('Retirement Calculations'!O8,\"\")","v":162106.5108524363},{"$f":"IFERROR('Retirement Calculations'!P8,\"\")","v":165612.12048000001},{"$f":"IFERROR('Retirement Calculations'!Q8,\"\")","v":-3505.6096275637101}]
[null,null,{"$f":"IFERROR('Retirement Calculations'!A9,\"\")","v":71},{"$f":"IFERROR('Retirement Calculations'!B9,\"\")","v":3133065.8558569858},{"$f":"IFERROR('Retirement Calculations'!C9,\"\")","v":7832.6646396424649},{"$f":"IFERROR('Retirement Calculations'!D9,\"\")","v":156653.2927928493},{"$f":"IFERROR('Retirement Calculations'!E9,\"\")","v":3281886.4840101926},{"$f":"IFERROR('Retirement Calculations'!G9,\"\")","v":125322.63423427944},{"$f":"IFERROR('Retirement Calculations'!H9,\"\")","v":78831.369348480002},{"$f":"IFERROR('Retirement Calculations'!I9,\"\")","v":33784.872577920003},{"$f":"IFERROR('Retirement Calculations'!J9,\"\")","v":237938.87616067944},{"$f":"IFERROR('Retirement Calculations'!L9,\"\")","v":59484.719040169861},{"$f":"IFERROR('Retirement Calculations'!M9,\"\")","v":14276.332569640766},{"$f":"IFERROR('Retirement Calculations'!O9,\"\")","v":164177.82455086883},{"$f":"IFERROR('Retirement Calculations'!P9,\"\")","v":168924.36288960002},{"$f":"IFERROR('Retirement Calculations'!Q9,\"\")","v":-4746.5383387311886}]
[null,null,{"$f":"IFERROR('Retirement Calculations'!A10,\"\")","v":72},{"$f":"IFERROR('Retirement Calculations'!B10,\"\")","v":3151817.3114371821},{"$f":"IFERROR('Retirement Calculations'!C10,\"\")","v":7879.5432785929552},{"$f":"IFERROR('Retirement Calculations'!D10,\"\")","v":157590.86557185912},{"$f":"IFERROR('Retirement Calculations'!E10,\"\")","v":3301528.6337304483},{"$f":"IFERROR('Retirement Calculations'!G10,\"\")","v":126072.69245748728},{"$f":"IFERROR('Retirement Calculations'!H10,\"\")","v":80407.996735449604},{"$f":"IFERROR('Retirement Calculations'!I10,\"\")","v":34460.570029478404},{"$f":"IFERROR('Retirement Calculations'!J10,\"\")","v":240941.25922241528},{"$f":"IFERROR('Retirement Calculations'!L10,\"\")","v":60235.314805603819},{"$f":"IFERROR('Retirement Calculations'!M10,\"\")","v":14456.475553344915},{"$f":"IFERROR('Retirement Calculations'!O10,\"\")","v":166249.46886346652},{"$f":"IFERROR('Retirement Calculations'!P10,\"\")","v":172302.85014739202},{"$f":"IFERROR('Retirement Calculations'!Q10,\"\")","v":-6053.381283925497}]
[null,null,{"$f":"IFERROR('Retirement Calculations'!A11,\"\")","v":73},{"$f":"IFERROR('Retirement Calculations'!B11,\"\")","v":3169402.5599890356},{"$f":"IFERROR('Retirement Calculations'!C11,\"\")","v":7923.506399972589},{"$f":"IFERROR('Retirement Calculations'!D11,\"\")","v":158470.1279994518},{"$f":"IFERROR('Retirement Calculations'!E11,\"\")","v":3319949.1815885152},{"$f":"IFERROR('Retirement Calculations'!G11,\"\")","v":126776.10239956142},{"$f":"IFERROR('Retirement Calculations'!H11,\"\")","v":82016.156670158598},{"$f":"IFERROR('Retirement Calculations'!I11,\"\")","v":35149.781430067975},{"$f":"IFERROR('Retirement Calculations'!J11,\"\")","v":243942.04049978801},{"$f":"IFERROR('Retirement Calculations'!L11,\"\")","v":60985.510124947003},{"$f":"IFERROR('Retirement Calculations'!M11,\"\")","v":14636.522429987281},{"$f":"IFERROR('Retirement Calculations'!O11,\"\")","v":168320.00794485374},{"$f":"IFERROR('Retirement Calculations'!P11,\"\")","v":175748.90715033986},{"$f":"IFERROR('Retirement Calculations'!Q11,\"\")","v":-7428.8992054861155}]
[null,null,{"$f":"IFERROR('Retirement Calculations'!A12,\"\")","v":74},{"$f":"IFERROR('Retirement Calculations'!B12,\"\")","v":3185744.1799834673},{"$f":"IFERROR('Retirement Calculations'!C12,\"\")","v":7964.3604499586681},{"$f":"IFERROR('Retirement Calculations'!D12,\"\")","v":159287.20899917337},{"$f":"IFERROR('Retirement Calculations'!E12,\"\")","v":3337067.028532682},{"$f":"IFERROR('Retirement Calculations'!G12,\"\")","v":127429.76719933869},{"$f":"IFERROR('Retirement Calculations'!H12,\"\")","v":83656.479803561771},{"$f":"IFERROR('Retirement Calculations'!I12,\"\")","v":35852.777058669337},{"$f":"IFERROR('Retirement Calculations'!J12,\"\")","v":246939.0240615698},{"$f":"IFERROR('Retirement Calculations'!L12,\"\")","v":61734.75601539245},{"$f":"IFERROR('Retirement Calculations'!M12,\"\")","v":14816.341443694188},{"$f":"IFERROR('Retirement Calculations'!O12,\"\")","v":170387.92660248314},{"$f":"IFERROR('Retirement Calculations'!P12,\"\")","v":179263.88529334666},{"$f":"IFERROR('Retirement Calculations'!Q12,\"\")","v":-8875.9586908635101}]
[null,null,{"$f":"IFERROR('Retirement Calculations'!A13,\"\")","v":75},{"$f":"IFERROR('Retirement Calculations'!B13,\"\")","v":3200761.3026424795},{"$f":"IFERROR('Retirement Calculations'!C13,\"\")","v":8001.9032566061987},{"$f":"IFERROR('Retirement Calculations'!D13,\"\")","v":160038.065132124},{"$f":"IFERROR('Retirement Calculations'!E13,\"\")","v":3352797.4645179971},{"$f":"IFERROR('Retirement Calculations'!G13,\"\")","v":128030.45210569918},{"$f":"IFERROR('Retirement Calculations'!H13,\"\")","v":85329.609399633002},{"$f":"IFERROR('Retirement Calculations'!I13,\"\")","v":36569.832599842724},{"$f":"IFERROR('Retirement Calculations'!J13,\"\")","v":249929.8941051749},{"$f":"IFERROR('Retirement Calculations'!L13,\"\")","v":62482.473526293725},{"$f":"IFERROR('Retirement Calculations'!M13,\"\")","v":14995.793646310492},{"$f":"IFERROR('Retirement Calculations'!O13,\"\")","v":172451.62693257068},{"$f":"IFERROR('Retirement Calculations'!P13,\"\")","v":182849.16299921359},{"$f":"IFERROR('Retirement Calculations'!Q13,\"\")","v":-10397.536066642904}]
[null,null,{"$f":"IFERROR('Retirement Calculations'!A14,\"\")","v":76},{"$f":"IFERROR('Retirement Calculations'!B14,\"\")","v":3214369.476345655},{"$f":"IFERROR('Retirement Calculations'!C14,\"\")","v":8035.9236908641378},{"$f":"IFERROR('Retirement Calculations'!D14,\"\")","v":160718.47381728276},{"$f":"IFERROR('Retirement Calculations'!E14,\"\")","v":3367052.0264720735},{"$f":"IFERROR('Retirement Calculations'!G14,\"\")","v":128574.77905382621},{"$f":"IFERROR('Retirement Calculations'!H14,\"\")","v":87036.201587625663},{"$f":"IFERROR('Retirement Calculations'!I14,\"\")","v":37301.229251839577},{"$f":"IFERROR('Retirement Calculations'!J14,\"\")","v":252912.20989329144},{"$f":"IFERROR('Retirement Calculations'!L14,\"\")","v":63228.052473322859},{"$f":"IFERROR('Retirement Calculations'!M14,\"\")","v":15174.732593597486},{"$f":"IFERROR('Retirement Calculations'!O14,\"\")","v":174509.42482637108},{"$f":"IFERROR('Retirement Calculations'!P14,\"\")","v":186506.14625919785},{"$f":"IFERROR('Retirement Calculations'!Q14,\"\")","v":-11996.721432826773}]
[null,null,{"$f":"IFERROR('Retirement Calculations'!A15,\"\")","v":77},{"$f":"IFERROR('Retirement Calculations'!B15,\"\")","v":3226480.5259854202},{"$f":"IFERROR('Retirement Calculations'!C15,\"\")","v":8066.2013149635504},{"$f":"IFERROR('Retirement Calculations'!D15,\"\")","v":161324.02629927103},{"$f":"IFERROR('Retirement Calculations'!E15,\"\")","v":3379738.3509697281},{"$f":"IFERROR('Retirement Calculations'!G15,\"\")","v":129059.22103941681},{"$f":"IFERROR('Retirement Calculations'!H15,\"\")","v":88776.925619378177},{"$f":"IFERROR('Retirement Calculations'!I15,\"\")","v":38047.253836876371},{"$f":"IFERROR('Retirement Calculations'!J15,\"\")","v":255883.40049567135},{"$f":"IFERROR('Retirement Calculations'!L15,\"\")","v":63970.850123917837},{"$f":"IFERROR('Retirement Calculations'!M15,\"\")","v":15353.004029740281},{"$f":"IFERROR('Retirement Calculations'!O15,\"\")","v":176559.54634201323},{"$f":"IFERROR('Retirement Calculations'!P15,\"\")","v":190236.26918438182},{"$f":"IFERROR('Retirement Calculations'!Q15,\"\")","v":-13676.722842368588}]
[null,null,{"$f":"IFERROR('Retirement Calculations'!A16,\"\")","v":78},{"$f":"IFERROR('Retirement Calculations'!B16,\"\")","v":3237002.4070879426},{"$f":"IFERROR('Retirement Calculations'!C16,\"\")","v":8092.5060177198566},{"$f":"IFERROR('Retirement Calculations'!D16,\"\")","v":161850.12035439714},{"$f":"IFERROR('Retirement Calculations'!E16,\"\")","v":3390760.0214246199},{"$f":"IFERROR('Retirement Calculations'!G16,\"\")","v":129480.09628351771},{"$f":"IFERROR('Retirement Calculations'!H16,\"\")","v":90552.464131765737},{"$f":"IFERROR('Retirement Calculations'!I16,\"\")","v":38808.198913613902},{"$f":"IFERROR('Retirement Calculations'!J16,\"\")","v":258840.75932889734},{"$f":"IFERROR('Retirement Calculations'!L16,\"\")","v":64710.189832224336},{"$f":"IFERROR('Retirement Calculations'!M16,\"\")","v":15530.44555973384},{"$f":"IFERROR('Retirement Calculations'!O16,\"\")","v":178600.12393693917},{"$f":"IFERROR('Retirement Calculations'!P16,\"\")","v":194040.99456806947},{"$f":"IFERROR('Retirement Calculations'!Q16,\"\")","v":-15440.870631130296}]
[null,null,{"$f":"IFERROR('Retirement Calculations'!A17,\"\")","v":79},{"$f":"IFERROR('Retirement Calculations'!B17,\"\")","v":3245839.0545099718},{"$f":"IFERROR('Retirement Calculations'!C17,\"\")","v":8114.5976362749298},{"$f":"IFERROR('Retirement Calculations'!D17,\"\")","v":162291.95272549859},{"$f":"IFERROR('Retirement Calculations'!E17,\"\")","v":3400016.4095991952},{"$f":"IFERROR('Retirement Calculations'!G17,\"\")","v":129833.56218039888},{"$f":"IFERROR('Retirement Calculations'!H17,\"\")","v":92363.513414401052},{"$f":"IFERROR('Retirement Calculations'!I17,\"\")","v":39584.36289188618},{"$f":"IFERROR('Retirement Calculations'!J17,\"\")","v":261781.43848668612},{"$f":"IFERROR('Retirement Calculations'!L17,\"\")","v":65445.35962167153},{"$f":"IFERROR('Retirement Calculations'!M17,\"\")","v":15706.886309201167},{"$f":"IFERROR('Retirement Calculations'!O17,\"\")","v":180629.19255581341},{"$f":"IFERROR('Retirement Calculations'!P17,\"\")","v":197921.81445943087},{"$f":"IFERROR('Retirement Calculations'!Q17,\"\")","v":-17292.621903617459}]
[null,null,{"$f":"IFERROR('Retirement Calculations'!A18,\"\")","v":80},{"$f":"IFERROR('Retirement Calculations'!B18,\"\")","v":3252890.2255151789},{"$f":"IFERROR('Retirement Calculations'!C18,\"\")","v":8132.2255637879471},{"$f":"IFERROR('Retirement Calculations'!D18,\"\")","v":162644.51127575897},{"$f":"IFERROR('Retirement Calculations'!E18,\"\")","v":3407402.51122715},{"$f":"IFERROR('Retirement Calculations'!G18,\"\")","v":130115.60902060715},{"$f":"IFERROR('Retirement Calculations'!H18,\"\")","v":94210.783682689071},{"$f":"IFERROR('Retirement Calculations'!I18,\"\")","v":40376.050149723902},{"$f":"IFERROR('Retirement Calculations'!J18,\"\")","v":264702.4428530201},{"$f":"IFERROR('Retirement Calculations'!L18,\"\")","v":66175.610713255024},{"$f":"IFERROR('Retirement Calculations'!M18,\"\")","v":15882.146571181205},{"$f":"IFERROR('Retirement Calculations'!O18,\"\")","v":182644.68556858387},{"$f":"IFERROR('Retirement Calculations'!P18,\"\")","v":201880.2507486195},{"$f":"IFERROR('Retirement Calculations'!Q18,\"\")","v":-19235.565180035628}]
[null,null,{"$f":"IFERROR('Retirement Calculations'!A19,\"\")","v":81},{"$f":"IFERROR('Retirement Calculations'!B19,\"\")","v":3258051.3370265071},{"$f":"IFERROR('Retirement Calculations'!C19,\"\")","v":8145.1283425662677},{"$f":"IFERROR('Retirement Calculations'!D19,\"\")","v":162902.56685132536},{"$f":"IFERROR('Retirement Calculations'!E19,\"\")","v":3412808.7755352664},{"$f":"IFERROR('Retirement Calculations'!G19,\"\")","v":130322.05348106028},{"$f":"IFERROR('Retirement Calculations'!H19,\"\")","v":96094.999356342858},{"$f":"IFERROR('Retirement Calculations'!I19,\"\")","v":41183.571152718381},{"$f":"IFERROR('Retirement Calculations'!J19,\"\")","v":267600.62399012153},{"$f":"IFERROR('Retirement Calculations'!L19,\"\")","v":66900.155997530383},{"$f":"IFERROR('Retirement Calculations'!M19,\"\")","v":16056.037439407291},{"$f":"IFERROR('Retirement Calculations'!O19,\"\")","v":184644.43055318386},{"$f":"IFERROR('Retirement Calculations'!P19,\"\")","v":205917.85576359188},{"$f":"IFERROR('Retirement Calculations'!Q19,\"\")","v":-21273.425210408022}]
[null,null,{"$f":"IFERROR('Retirement Calculations'!A20,\"\")","v":82},{"$f":"IFERROR('Retirement Calculations'!B20,\"\")","v":3261213.2968437984},{"$f":"IFERROR('Retirement Calculations'!C20,\"\")","v":8153.0332421094963},{"$f":"IFERROR('Retirement Calculations'!D20,\"\")","v":163060.66484218993},{"$f":"IFERROR('Retirement Calculations'!E20,\"\")","v":3416120.9284438784},{"$f":"IFERROR('Retirement Calculations'!G20,\"\")","v":130448.53187375194},{"$f":"IFERROR('Retirement Calculations'!H20,\"\")","v":98016.899343469719},{"$f":"IFERROR('Retirement Calculations'!I20,\"\")","v":42007.242575772747},{"$f":"IFERROR('Retirement Calculations'!J20,\"\")","v":270472.67379299441},{"$f":"IFERROR('Retirement Calculations'!L20,\"\")","v":67618.168448248602},{"$f":"IFERROR('Retirement Calculations'!M20,\"\")","v":16228.360427579664},{"$f":"IFERROR('Retirement Calculations'!O20,\"\")","v":186626.14491716615},{"$f":"IFERROR('Retirement Calculations'!P20,\"\")","v":210036.21287886373},{"$f":"IFERROR('Retirement Calculations'!Q20,\"\")","v":-23410.067961697583}]
[null,null,{"$f":"IFERROR('Retirement Calculations'!A21,\"\")","v":83},{"$f":"IFERROR('Retirement Calculations'!B21,\"\")","v":3262262.3286084291},{"$f":"IFERROR('Retirement Calculations'!C21,\"\")","v":8155.6558215210725},{"$f":"IFERROR('Retirement Calculations'!D21,\"\")","v":163113.11643042148},{"$f":"IFERROR('Retirement Calculations'!E21,\"\")","v":3417219.7892173291},{"$f":"IFERROR('Retirement Calculations'!G21,\"\")","v":130490.49314433716},{"$f":"IFERROR('Retirement Calculations'!H21,\"\")","v":99977.237330339121},{"$f":"IFERROR('Retirement Calculations'!I21,\"\")","v":42847.387427288202},{"$f":"IFERROR('Retirement Calculations'!J21,\"\")","v":273315.11790196452},{"$f":"IFERROR('Retirement Calculations'!L21,\"\")","v":68328.77947549113},{"$f":"IFERROR('Retirement Calculations'!M21,\"\")","v":16398.907074117869},{"$f":"IFERROR('Retirement Calculations'!O21,\"\")","v":188587.43135235552},{"$f":"IFERROR('Retirement Calculations'!P21,\"\")","v":214236.937136441},{"$f":"IFERROR('Retirement Calculations'!Q21,\"\")","v":-25649.505784085486}]
[null,null,{"$f":"IFERROR('Retirement Calculations'!A22,\"\")","v":84},{"$f":"IFERROR('Retirement Calculations'!B22,\"\")","v":3261079.7902889065},{"$f":"IFERROR('Retirement Calculations'!C22,\"\")","v":8152.6994757222665},{"$f":"IFERROR('Retirement Calculations'!D22,\"\")","v":163053.98951444533},{"$f":"IFERROR('Retirement Calculations'!E22,\"\")","v":3415981.0803276296},{"$f":"IFERROR('Retirement Calculations'!G22,\"\")","v":130443.19161155626},{"$f":"IFERROR('Retirement Calculations'!H22,\"\")","v":101976.78207694591},{"$f":"IFERROR('Retirement Calculations'!I22,\"\")","v":43704.33517583397},{"$f":"IFERROR('Retirement Calculations'!J22,\"\")","v":276124.30886433611},{"$f":"IFERROR('Retirement Calculations'!L22,\"\")","v":69031.077216084028},{"$f":"IFERROR('Retirement Calculations'!M22,\"\")","v":16567.458531860168},{"$f":"IFERROR('Retirement Calculations'!O22,\"\")","v":190525.77311639191},{"$f":"IFERROR('Retirement Calculations'!P22,\"\")","v":218521.67587916984},{"$f":"IFERROR('Retirement Calculations'!Q22,\"\")","v":-27995.902762777929}]
[null,null,{"$f":"IFERROR('Retirement Calculations'!A23,\"\")","v":85},{"$f":"IFERROR('Retirement Calculations'!B23,\"\")","v":3257541.9859532951},{"$f":"IFERROR('Retirement Calculations'!C23,\"\")","v":8143.8549648832377},{"$f":"IFERROR('Retirement Calculations'!D23,\"\")","v":162877.09929766477},{"$f":"IFERROR('Retirement Calculations'!E23,\"\")","v":3412275.2302860767},{"$f":"IFERROR('Retirement Calculations'!G23,\"\")","v":130301.6794381318},{"$f":"IFERROR('Retirement Calculations'!H23,\"\")","v":104016.31771848483},{"$f":"IFERROR('Retirement Calculations'!I23,\"\")","v":44578.421879350652},{"$f":"IFERROR('Retirement Calculations'!J23,\"\")","v":278896.41903596732},{"$f":"IFERROR('Retirement Calculations'!L23,\"\")","v":69724.104758991831},{"$f":"IFERROR('Retirement Calculations'!M23,\"\")","v":16733.785142158038},{"$f":"IFERROR('Retirement Calculations'!O23,\"\")","v":192438.52913481745},{"$f":"IFERROR('Retirement Calculations'!P23,\"\")","v":222892.10939675325},{"$f":"IFERROR('Retirement Calculations'!Q23,\"\")","v":-30453.5802619358}]
[null,null,{"$f":"IFERROR('Retirement Calculations'!A24,\"\")","v":86},{"$f":"IFERROR('Retirement Calculations'!B24,\"\")","v":3251519.9705860089},{"$f":"IFERROR('Retirement Calculations'!C24,\"\")","v":8128.7999264650225},{"$f":"IFERROR('Retirement Calculations'!D24,\"\")","v":162575.99852930044},{"$f":"IFERROR('Retirement Calculations'!E24,\"\")","v":3405967.1691888445},{"$f":"IFERROR('Retirement Calculations'!G24,\"\")","v":130060.79882344036},{"$f":"IFERROR('Retirement Calculations'!H24,\"\")","v":106096.64407285453},{"$f":"IFERROR('Retirement Calculations'!I24,\"\")","v":45469.990316937663},{"$f":"IFERROR('Retirement Calculations'!J24,\"\")","v":281627.43321323255},{"$f":"IFERROR('Retirement Calculations'!L24,\"\")","v":70406.858303308138},{"$f":"IFERROR('Retirement Calculations'!M24,\"\")","v":16897.645992793954},{"$f":"IFERROR('Retirement Calculations'!O24,\"\")","v":194322.92891713046},{"$f":"IFERROR('Retirement Calculations'!P24,\"\")","v":227349.95158468833},{"$f":"IFERROR('Retirement Calculations'!Q24,\"\")","v":-33027.022667557874}]
[null,null,{"$f":"IFERROR('Retirement Calculations'!A25,\"\")","v":87},{"$f":"IFERROR('Retirement Calculations'!B25,\"\")","v":3242879.3476978461},{"$f":"IFERROR('Retirement Calculations'!C25,\"\")","v":8107.1983692446156},{"$f":"IFERROR('Retirement Calculations'!D25,\"\")","v":162143.96738489231},{"$f":"IFERROR('Retirement Calculations'!E25,\"\")","v":3396916.1167134941},{"$f":"IFERROR('Retirement Calculations'!G25,\"\")","v":129715.17390791385},{"$f":"IFERROR('Retirement Calculations'!H25,\"\")","v":108218.57695431162},{"$f":"IFERROR('Retirement Calculations'!I25,\"\")","v":46379.390123276418},{"$f":"IFERROR('Retirement Calculations'!J25,\"\")","v":284313.14098550193},{"$f":"IFERROR('Retirement Calculations'!L25,\"\")","v":71078.285246375483},{"$f":"IFERROR('Retirement Calculations'!M25,\"\")","v":17058.788459130115},{"$f":"IFERROR('Retirement Calculations'!O25,\"\")","v":196176.06727999635},{"$f":"IFERROR('Retirement Calculations'!P25,\"\")","v":231896.95061638209},{"$f":"IFERROR('Retirement Calculations'!Q25,\"\")","v":-35720.883336385741}]
[null,null,{"$f":"IFERROR('Retirement Calculations'!A26,\"\")","v":88},{"$f":"IFERROR('Retirement Calculations'!B26,\"\")","v":3231480.0594691946},{"$f":"IFERROR('Retirement Calculations'!C26,\"\")","v":8078.7001486729869},{"$f":"IFERROR('Retirement Calculations'!D26,\"\")","v":161574.00297345975},{"$f":"IFERROR('Retirement Calculations'!E26,\"\")","v":3384975.3622939815},{"$f":"IFERROR('Retirement Calculations'!G26,\"\")","v":129259.20237876779},{"$f":"IFERROR('Retirement Calculations'!H26,\"\")","v":110382.94849339785},{"$f":"IFERROR('Retirement Calculations'!I26,\"\")","v":47306.97792574195},{"$f":"IFERROR('Retirement Calculations'!J26,\"\")","v":286949.12879790756},{"$f":"IFERROR('Retirement Calculations'!L26,\"\")","v":71737.282199476889},{"$f":"IFERROR('Retirement Calculations'!M26,\"\")","v":17216.947727874453},{"$f":"IFERROR('Retirement Calculations'!O26,\"\")","v":197994.89887055621},{"$f":"IFERROR('Retirement Calculations'!P26,\"\")","v":236534.88962870973},{"$f":"IFERROR('Retirement Calculations'!Q26,\"\")","v":-38539.990758153523}]
[null,null,{"$f":"IFERROR('Retirement Calculations'!A27,\"\")","v":89},{"$f":"IFERROR('Retirement Calculations'!B27,\"\")","v":3217176.1691570599},{"$f":"IFERROR('Retirement Calculations'!C27,\"\")","v":8042.9404228926496},{"$f":"IFERROR('Retirement Calculations'!D27,\"\")","v":160858.80845785301},{"$f":"IFERROR('Retirement Calculations'!E27,\"\")","v":3369992.0371920201},{"$f":"IFERROR('Retirement Calculations'!G27,\"\")","v":128687.04676628239},{"$f":"IFERROR('Retirement Calculations'!H27,\"\")","v":112590.60746326581},{"$f":"IFERROR('Retirement Calculations'!I27,\"\")","v":48253.117484256793},{"$f":"IFERROR('Retirement Calculations'!J27,\"\")","v":289530.77171380498},{"$f":"IFERROR('Retirement Calculations'!L27,\"\")","v":72382.692928451244},{"$f":"IFERROR('Retirement Calculations'!M27,\"\")","v":17371.846302828297},{"$f":"IFERROR('Retirement Calculations'!O27,\"\")","v":199776.23248252543},{"$f":"IFERROR('Retirement Calculations'!P27,\"\")","v":241265.58742128394},{"$f":"IFERROR('Retirement Calculations'!Q27,\"\")","v":-41489.354938758508}]
[null,null,{"$f":"IFERROR('Retirement Calculations'!A28,\"\")","v":90},{"$f":"IFERROR('Retirement Calculations'!B28,\"\")","v":3199815.635486979},{"$f":"IFERROR('Retirement Calculations'!C28,\"\")","v":7999.5390887174481},{"$f":"IFERROR('Retirement Calculations'!D28,\"\")","v":159990.78177434896},{"$f":"IFERROR('Retirement Calculations'!E28,\"\")","v":3351806.8781726104},{"$f":"IFERROR('Retirement Calculations'!G28,\"\")","v":127992.62541947917},{"$f":"IFERROR('Retirement Calculations'!H28,\"\")","v":114842.41961253113},{"$f":"IFERROR('Retirement Calculations'!I28,\"\")","v":49218.179833941926},{"$f":"IFERROR('Retirement Calculations'!J28,\"\")","v":292053.22486595222},{"$f":"IFERROR('Retirement Calculations'!L28,\"\")","v":73013.306216488054},{"$f":"IFERROR('Retirement Calculations'!M28,\"\")","v":17523.193491957132},{"$f":"IFERROR('Retirement Calculations'!O28,\"\")","v":201516.72515750703},{"$f":"IFERROR('Retirement Calculations'!P28,\"\")","v":246090.89916970962},{"$f":"IFERROR('Retirement Calculations'!Q28,\"\")","v":-44574.174012202595}]
[null,null,{"$f":"IFERROR('Retirement Calculations'!A29,\"\")","v":""},{"$f":"IFERROR('Retirement Calculations'!B29,\"\")","v":""},{"$f":"IFERROR('Retirement Calculations'!C29,\"\")","v":""},{"$f":"IFERROR('Retirement Calculations'!D29,\"\")","v":""},{"$f":"IFERROR('Retirement Calculations'!E29,\"\")","v":""},{"$f":"IFERROR('Retirement Calculations'!G29,\"\")","v":""},{"$f":"IFERROR('Retirement Calculations'!H29,\"\")","v":""},{"$f":"IFERROR('Retirement Calculations'!I29,\"\")","v":""},{"$f":"IFERROR('Retirement Calculations'!J29,\"\")","v":""},{"$f":"IFERROR('Retirement Calculations'!L29,\"\")","v":""},{"$f":"IFERROR('Retirement Calculations'!M29,\"\")","v":""},{"$f":"IFERROR('Retirement Calculations'!O29,\"\")","v":""},{"$f":"IFERROR('Retirement Calculations'!P29,\"\")","v":""},{"$f":"IFERROR('Retirement Calculations'!Q29,\"\")","v":""}]
[null,null,{"$f":"IFERROR('Retirement Calculations'!A30,\"\")","v":""},{"$f":"IFERROR('Retirement Calculations'!B30,\"\")","v":""},{"$f":"IFERROR('Retirement Calculations'!C30,\"\")","v":""},{"$f":"IFERROR('Retirement Calculations'!D30,\"\")","v":""},{"$f":"IFERROR('Retirement Calculations'!E30,\"\")","v":""},{"$f":"IFERROR('Retirement Calculations'!G30,\"\")","v":""},{"$f":"IFERROR('Retirement Calculations'!H30,\"\")","v":""},{"$f":"IFERROR('Retirement Calculations'!I30,\"\")","v":""},{"$f":"IFERROR('Retirement Calculations'!J30,\"\")","v":""},{"$f":"IFERROR('Retirement Calculations'!L30,\"\")","v":""},{"$f":"IFERROR('Retirement Calculations'!M30,\"\")","v":""},{"$f":"IFERROR('Retirement Calculations'!O30,\"\")","v":""},{"$f":"IFERROR('Retirement Calculations'!P30,\"\")","v":""},{"$f":"IFERROR('Retirement Calculations'!Q30,\"\")","v":""}]
[null,null,{"$f":"IFERROR('Retirement Calculations'!A31,\"\")","v":""},{"$f":"IFERROR('Retirement Calculations'!B31,\"\")","v":""},{"$f":"IFERROR('Retirement Calculations'!C31,\"\")","v":""},{"$f":"IFERROR('Retirement Calculations'!D31,\"\")","v":""},{"$f":"IFERROR('Retirement Calculations'!E31,\"\")","v":""},{"$f":"IFERROR('Retirement Calculations'!G31,\"\")","v":""},{"$f":"IFERROR('Retirement Calculations'!H31,\"\")","v":""},{"$f":"IFERROR('Retirement Calculations'!I31,\"\")","v":""},{"$f":"IFERROR('Retirement Calculations'!J31,\"\")","v":""},{"$f":"IFERROR('Retirement Calculations'!L31,\"\")","v":""},{"$f":"IFERROR('Retirement Calculations'!M31,\"\")","v":""},{"$f":"IFERROR('Retirement Calculations'!O31,\"\")","v":""},{"$f":"IFERROR('Retirement Calculations'!P31,\"\")","v":""},{"$f":"IFERROR('Retirement Calculations'!Q31,\"\")","v":""}]
[null,null,{"$f":"IFERROR('Retirement Calculations'!A32,\"\")","v":""},{"$f":"IFERROR('Retirement Calculations'!B32,\"\")","v":""},{"$f":"IFERROR('Retirement Calculations'!C32,\"\")","v":""},{"$f":"IFERROR('Retirement Calculations'!D32,\"\")","v":""},{"$f":"IFERROR('Retirement Calculations'!E32,\"\")","v":""},{"$f":"IFERROR('Retirement Calculations'!G32,\"\")","v":""},{"$f":"IFERROR('Retirement Calculations'!H32,\"\")","v":""},{"$f":"IFERROR('Retirement Calculations'!I32,\"\")","v":""},{"$f":"IFERROR('Retirement Calculations'!J32,\"\")","v":""},{"$f":"IFERROR('Retirement Calculations'!L32,\"\")","v":""},{"$f":"IFERROR('Retirement Calculations'!M32,\"\")","v":""},{"$f":"IFERROR('Retirement Calculations'!O32,\"\")","v":""},{"$f":"IFERROR('Retirement Calculations'!P32,\"\")","v":""},{"$f":"IFERROR('Retirement Calculations'!Q32,\"\")","v":""}]
[null,null,{"$f":"IFERROR('Retirement Calculations'!A33,\"\")","v":""},{"$f":"IFERROR('Retirement Calculations'!B33,\"\")","v":""},{"$f":"IFERROR('Retirement Calculations'!C33,\"\")","v":""},{"$f":"IFERROR('Retirement Calculations'!D33,\"\")","v":""},{"$f":"IFERROR('Retirement Calculations'!E33,\"\")","v":""},{"$f":"IFERROR('Retirement Calculations'!G33,\"\")","v":""},{"$f":"IFERROR('Retirement Calculations'!H33,\"\")","v":""},{"$f":"IFERROR('Retirement Calculations'!I33,\"\")","v":""},{"$f":"IFERROR('Retirement Calculations'!J33,\"\")","v":""},{"$f":"IFERROR('Retirement Calculations'!L33,\"\")","v":""},{"$f":"IFERROR('Retirement Calculations'!M33,\"\")","v":""},{"$f":"IFERROR('Retirement Calculations'!O33,\"\")","v":""},{"$f":"IFERROR('Retirement Calculations'!P33,\"\")","v":""},{"$f":"IFERROR('Retirement Calculations'!Q33,\"\")","v":""}]
[null,null,{"$f":"IFERROR('Retirement Calculations'!A34,\"\")","v":""},{"$f":"IFERROR('Retirement Calculations'!B34,\"\")","v":""},{"$f":"IFERROR('Retirement Calculations'!C34,\"\")","v":""},{"$f":"IFERROR('Retirement Calculations'!D34,\"\")","v":""},{"$f":"IFERROR('Retirement Calculations'!E34,\"\")","v":""},{"$f":"IFERROR('Retirement Calculations'!G34,\"\")","v":""},{"$f":"IFERROR('Retirement Calculations'!H34,\"\")","v":""},{"$f":"IFERROR('Retirement Calculations'!I34,\"\")","v":""},{"$f":"IFERROR('Retirement Calculations'!J34,\"\")","v":""},{"$f":"IFERROR('Retirement Calculations'!L34,\"\")","v":""},{"$f":"IFERROR('Retirement Calculations'!M34,\"\")","v":""},{"$f":"IFERROR('Retirement Calculations'!O34,\"\")","v":""},{"$f":"IFERROR('Retirement Calculations'!P34,\"\")","v":""},{"$f":"IFERROR('Retirement Calculations'!Q34,\"\")","v":""}]
[null,null,{"$f":"IFERROR('Retirement Calculations'!A35,\"\")","v":""},{"$f":"IFERROR('Retirement Calculations'!B35,\"\")","v":""},{"$f":"IFERROR('Retirement Calculations'!C35,\"\")","v":""},{"$f":"IFERROR('Retirement Calculations'!D35,\"\")","v":""},{"$f":"IFERROR('Retirement Calculations'!E35,\"\")","v":""},{"$f":"IFERROR('Retirement Calculations'!G35,\"\")","v":""},{"$f":"IFERROR('Retirement Calculations'!H35,\"\")","v":""},{"$f":"IFERROR('Retirement Calculations'!I35,\"\")","v":""},{"$f":"IFERROR('Retirement Calculations'!J35,\"\")","v":""},{"$f":"IFERROR('Retirement Calculations'!L35,\"\")","v":""},{"$f":"IFERROR('Retirement Calculations'!M35,\"\")","v":""},{"$f":"IFERROR('Retirement Calculations'!O35,\"\")","v":""},{"$f":"IFERROR('Retirement Calculations'!P35,\"\")","v":""},{"$f":"IFERROR('Retirement Calculations'!Q35,\"\")","v":""}]
[null,null,{"$f":"IFERROR('Retirement Calculations'!A36,\"\")","v":""},{"$f":"IFERROR('Retirement Calculations'!B36,\"\")","v":""},{"$f":"IFERROR('Retirement Calculations'!C36,\"\")","v":""},{"$f":"IFERROR('Retirement Calculations'!D36,\"\")","v":""},{"$f":"IFERROR('Retirement Calculations'!E36,\"\")","v":""},{"$f":"IFERROR('Retirement Calculations'!G36,\"\")","v":""},{"$f":"IFERROR('Retirement Calculations'!H36,\"\")","v":""},{"$f":"IFERROR('Retirement Calculations'!I36,\"\")","v":""},{"$f":"IFERROR('Retirement Calculations'!J36,\"\")","v":""},{"$f":"IFERROR('Retirement Calculations'!L36,\"\")","v":""},{"$f":"IFERROR('Retirement Calculations'!M36,\"\")","v":""},{"$f":"IFERROR('Retirement Calculations'!O36,\"\")","v":""},{"$f":"IFERROR('Retirement Calculations'!P36,\"\")","v":""},{"$f":"IFERROR('Retirement Calculations'!Q36,\"\")","v":""}]
[null,null,{"$f":"IFERROR('Retirement Calculations'!A37,\"\")","v":""},{"$f":"IFERROR('Retirement Calculations'!B37,\"\")","v":""},{"$f":"IFERROR('Retirement Calculations'!C37,\"\")","v":""},{"$f":"IFERROR('Retirement Calculations'!D37,\"\")","v":""},{"$f":"IFERROR('Retirement Calculations'!E37,\"\")","v":""},{"$f":"IFERROR('Retirement Calculations'!G37,\"\")","v":""},{"$f":"IFERROR('Retirement Calculations'!H37,\"\")","v":""},{"$f":"IFERROR('Retirement Calculations'!I37,\"\")","v":""},{"$f":"IFERROR('Retirement Calculations'!J37,\"\")","v":""},{"$f":"IFERROR('Retirement Calculations'!L37,\"\")","v":""},{"$f":"IFERROR('Retirement Calculations'!M37,\"\")","v":""},{"$f":"IFERROR('Retirement Calculations'!O37,\"\")","v":""},{"$f":"IFERROR('Retirement Calculations'!P37,\"\")","v":""},{"$f":"IFERROR('Retirement Calculations'!Q37,\"\")","v":""}]
[null,null,{"$f":"IFERROR('Retirement Calculations'!A38,\"\")","v":""},{"$f":"IFERROR('Retirement Calculations'!B38,\"\")","v":""},{"$f":"IFERROR('Retirement Calculations'!C38,\"\")","v":""},{"$f":"IFERROR('Retirement Calculations'!D38,\"\")","v":""},{"$f":"IFERROR('Retirement Calculations'!E38,\"\")","v":""},{"$f":"IFERROR('Retirement Calculations'!G38,\"\")","v":""},{"$f":"IFERROR('Retirement Calculations'!H38,\"\")","v":""},{"$f":"IFERROR('Retirement Calculations'!I38,\"\")","v":""},{"$f":"IFERROR('Retirement Calculations'!J38,\"\")","v":""},{"$f":"IFERROR('Retirement Calculations'!L38,\"\")","v":""},{"$f":"IFERROR('Retirement Calculations'!M38,\"\")","v":""},{"$f":"IFERROR('Retirement Calculations'!O38,\"\")","v":""},{"$f":"IFERROR('Retirement Calculations'!P38,\"\")","v":""},{"$f":"IFERROR('Retirement Calculations'!Q38,\"\")","v":""}]
[null,null,{"$f":"IFERROR('Retirement Calculations'!A39,\"\")","v":""},{"$f":"IFERROR('Retirement Calculations'!B39,\"\")","v":""},{"$f":"IFERROR('Retirement Calculations'!C39,\"\")","v":""},{"$f":"IFERROR('Retirement Calculations'!D39,\"\")","v":""},{"$f":"IFERROR('Retirement Calculations'!E39,\"\")","v":""},{"$f":"IFERROR('Retirement Calculations'!G39,\"\")","v":""},{"$f":"IFERROR('Retirement Calculations'!H39,\"\")","v":""},{"$f":"IFERROR('Retirement Calculations'!I39,\"\")","v":""},{"$f":"IFERROR('Retirement Calculations'!J39,\"\")","v":""},{"$f":"IFERROR('Retirement Calculations'!L39,\"\")","v":""},{"$f":"IFERROR('Retirement Calculations'!M39,\"\")","v":""},{"$f":"IFERROR('Retirement Calculations'!O39,\"\")","v":""},{"$f":"IFERROR('Retirement Calculations'!P39,\"\")","v":""},{"$f":"IFERROR('Retirement Calculations'!Q39,\"\")","v":""}]
[null,null,{"$f":"IFERROR('Retirement Calculations'!A40,\"\")","v":""},{"$f":"IFERROR('Retirement Calculations'!B40,\"\")","v":""},{"$f":"IFERROR('Retirement Calculations'!C40,\"\")","v":""},{"$f":"IFERROR('Retirement Calculations'!D40,\"\")","v":""},{"$f":"IFERROR('Retirement Calculations'!E40,\"\")","v":""},{"$f":"IFERROR('Retirement Calculations'!G40,\"\")","v":""},{"$f":"IFERROR('Retirement Calculations'!H40,\"\")","v":""},{"$f":"IFERROR('Retirement Calculations'!I40,\"\")","v":""},{"$f":"IFERROR('Retirement Calculations'!J40,\"\")","v":""},{"$f":"IFERROR('Retirement Calculations'!L40,\"\")","v":""},{"$f":"IFERROR('Retirement Calculations'!M40,\"\")","v":""},{"$f":"IFERROR('Retirement Calculations'!O40,\"\")","v":""},{"$f":"IFERROR('Retirement Calculations'!P40,\"\")","v":""},{"$f":"IFERROR('Retirement Calculations'!Q40,\"\")","v":""}]
[null,null,{"$f":"IFERROR('Retirement Calculations'!A41,\"\")","v":""},{"$f":"IFERROR('Retirement Calculations'!B41,\"\")","v":""},{"$f":"IFERROR('Retirement Calculations'!C41,\"\")","v":""},{"$f":"IFERROR('Retirement Calculations'!D41,\"\")","v":""},{"$f":"IFERROR('Retirement Calculations'!E41,\"\")","v":""},{"$f":"IFERROR('Retirement Calculations'!G41,\"\")","v":""},{"$f":"IFERROR('Retirement Calculations'!H41,\"\")","v":""},{"$f":"IFERROR('Retirement Calculations'!I41,\"\")","v":""},{"$f":"IFERROR('Retirement Calculations'!J41,\"\")","v":""},{"$f":"IFERROR('Retirement Calculations'!L41,\"\")","v":""},{"$f":"IFERROR('Retirement Calculations'!M41,\"\")","v":""},{"$f":"IFERROR('Retirement Calculations'!O41,\"\")","v":""},{"$f":"IFERROR('Retirement Calculations'!P41,\"\")","v":""},{"$f":"IFERROR('Retirement Calculations'!Q41,\"\")","v":""}]
[null,null,{"$f":"IFERROR('Retirement Calculations'!A42,\"\")","v":""},{"$f":"IFERROR('Retirement Calculations'!B42,\"\")","v":""},{"$f":"IFERROR('Retirement Calculations'!C42,\"\")","v":""},{"$f":"IFERROR('Retirement Calculations'!D42,\"\")","v":""},{"$f":"IFERROR('Retirement Calculations'!E42,\"\")","v":""},{"$f":"IFERROR('Retirement Calculations'!G42,\"\")","v":""},{"$f":"IFERROR('Retirement Calculations'!H42,\"\")","v":""},{"$f":"IFERROR('Retirement Calculations'!I42,\"\")","v":""},{"$f":"IFERROR('Retirement Calculations'!J42,\"\")","v":""},{"$f":"IFERROR('Retirement Calculations'!L42,\"\")","v":""},{"$f":"IFERROR('Retirement Calculations'!M42,\"\")","v":""},{"$f":"IFERROR('Retirement Calculations'!O42,\"\")","v":""},{"$f":"IFERROR('Retirement Calculations'!P42,\"\")","v":""},{"$f":"IFERROR('Retirement Calculations'!Q42,\"\")","v":""}]
[null,null,{"$f":"IFERROR('Retirement Calculations'!A43,\"\")","v":""},{"$f":"IFERROR('Retirement Calculations'!B43,\"\")","v":""},{"$f":"IFERROR('Retirement Calculations'!C43,\"\")","v":""},{"$f":"IFERROR('Retirement Calculations'!D43,\"\")","v":""},{"$f":"IFERROR('Retirement Calculations'!E43,\"\")","v":""},{"$f":"IFERROR('Retirement Calculations'!G43,\"\")","v":""},{"$f":"IFERROR('Retirement Calculations'!H43,\"\")","v":""},{"$f":"IFERROR('Retirement Calculations'!I43,\"\")","v":""},{"$f":"IFERROR('Retirement Calculations'!J43,\"\")","v":""},{"$f":"IFERROR('Retirement Calculations'!L43,\"\")","v":""},{"$f":"IFERROR('Retirement Calculations'!M43,\"\")","v":""},{"$f":"IFERROR('Retirement Calculations'!O43,\"\")","v":""},{"$f":"IFERROR('Retirement Calculations'!P43,\"\")","v":""},{"$f":"IFERROR('Retirement Calculations'!Q43,\"\")","v":""}]
[null,null,{"$f":"IFERROR('Retirement Calculations'!A44,\"\")","v":""},{"$f":"IFERROR('Retirement Calculations'!B44,\"\")","v":""},{"$f":"IFERROR('Retirement Calculations'!C44,\"\")","v":""},{"$f":"IFERROR('Retirement Calculations'!D44,\"\")","v":""},{"$f":"IFERROR('Retirement Calculations'!E44,\"\")","v":""},{"$f":"IFERROR('Retirement Calculations'!G44,\"\")","v":""},{"$f":"IFERROR('Retirement Calculations'!H44,\"\")","v":""},{"$f":"IFERROR('Retirement Calculations'!I44,\"\")","v":""},{"$f":"IFERROR('Retirement Calculations'!J44,\"\")","v":""},{"$f":"IFERROR('Retirement Calculations'!L44,\"\")","v":""},{"$f":"IFERROR('Retirement Calculations'!M44,\"\")","v":""},{"$f":"IFERROR('Retirement Calculations'!O44,\"\")","v":""},{"$f":"IFERROR('Retirement Calculations'!P44,\"\")","v":""},{"$f":"IFERROR('Retirement Calculations'!Q44,\"\")","v":""}]
[null,null,{"$f":"IFERROR('Retirement Calculations'!A45,\"\")","v":""},{"$f":"IFERROR('Retirement Calculations'!B45,\"\")","v":""},{"$f":"IFERROR('Retirement Calculations'!C45,\"\")","v":""},{"$f":"IFERROR('Retirement Calculations'!D45,\"\")","v":""},{"$f":"IFERROR('Retirement Calculations'!E45,\"\")","v":""},{"$f":"IFERROR('Retirement Calculations'!G45,\"\")","v":""},{"$f":"IFERROR('Retirement Calculations'!H45,\"\")","v":""},{"$f":"IFERROR('Retirement Calculations'!I45,\"\")","v":""},{"$f":"IFERROR('Retirement Calculations'!J45,\"\")","v":""},{"$f":"IFERROR('Retirement Calculations'!L45,\"\")","v":""},{"$f":"IFERROR('Retirement Calculations'!M45,\"\")","v":""},{"$f":"IFERROR('Retirement Calculations'!O45,\"\")","v":""},{"$f":"IFERROR('Retirement Calculations'!P45,\"\")","v":""},{"$f":"IFERROR('Retirement Calculations'!Q45,\"\")","v":""}]
[null,null,{"$f":"IFERROR('Retirement Calculations'!A46,\"\")","v":""},{"$f":"IFERROR('Retirement Calculations'!B46,\"\")","v":""},{"$f":"IFERROR('Retirement Calculations'!C46,\"\")","v":""},{"$f":"IFERROR('Retirement Calculations'!D46,\"\")","v":""},{"$f":"IFERROR('Retirement Calculations'!E46,\"\")","v":""},{"$f":"IFERROR('Retirement Calculations'!G46,\"\")","v":""},{"$f":"IFERROR('Retirement Calculations'!H46,\"\")","v":""},{"$f":"IFERROR('Retirement Calculations'!I46,\"\")","v":""},{"$f":"IFERROR('Retirement Calculations'!J46,\"\")","v":""},{"$f":"IFERROR('Retirement Calculations'!L46,\"\")","v":""},{"$f":"IFERROR('Retirement Calculations'!M46,\"\")","v":""},{"$f":"IFERROR('Retirement Calculations'!O46,\"\")","v":""},{"$f":"IFERROR('Retirement Calculations'!P46,\"\")","v":""},{"$f":"IFERROR('Retirement Calculations'!Q46,\"\")","v":""}]
[null,null,{"$f":"IFERROR('Retirement Calculations'!A47,\"\")","v":""},{"$f":"IFERROR('Retirement Calculations'!B47,\"\")","v":""},{"$f":"IFERROR('Retirement Calculations'!C47,\"\")","v":""},{"$f":"IFERROR('Retirement Calculations'!D47,\"\")","v":""},{"$f":"IFERROR('Retirement Calculations'!E47,\"\")","v":""},{"$f":"IFERROR('Retirement Calculations'!G47,\"\")","v":""},{"$f":"IFERROR('Retirement Calculations'!H47,\"\")","v":""},{"$f":"IFERROR('Retirement Calculations'!I47,\"\")","v":""},{"$f":"IFERROR('Retirement Calculations'!J47,\"\")","v":""},{"$f":"IFERROR('Retirement Calculations'!L47,\"\")","v":""},{"$f":"IFERROR('Retirement Calculations'!M47,\"\")","v":""},{"$f":"IFERROR('Retirement Calculations'!O47,\"\")","v":""},{"$f":"IFERROR('Retirement Calculations'!P47,\"\")","v":""},{"$f":"IFERROR('Retirement Calculations'!Q47,\"\")","v":""}]
[null,null,{"$f":"IFERROR('Retirement Calculations'!A48,\"\")","v":""},{"$f":"IFERROR('Retirement Calculations'!B48,\"\")","v":""},{"$f":"IFERROR('Retirement Calculations'!C48,\"\")","v":""},{"$f":"IFERROR('Retirement Calculations'!D48,\"\")","v":""},{"$f":"IFERROR('Retirement Calculations'!E48,\"\")","v":""},{"$f":"IFERROR('Retirement Calculations'!G48,\"\")","v":""},{"$f":"IFERROR('Retirement Calculations'!H48,\"\")","v":""},{"$f":"IFERROR('Retirement Calculations'!I48,\"\")","v":""},{"$f":"IFERROR('Retirement Calculations'!J48,\"\")","v":""},{"$f":"IFERROR('Retirement Calculations'!L48,\"\")","v":""},{"$f":"IFERROR('Retirement Calculations'!M48,\"\")","v":""},{"$f":"IFERROR('Retirement Calculations'!O48,\"\")","v":""},{"$f":"IFERROR('Retirement Calculations'!P48,\"\")","v":""},{"$f":"IFERROR('Retirement Calculations'!Q48,\"\")","v":""}]
[null,null,{"$f":"IFERROR('Retirement Calculations'!A49,\"\")","v":""},{"$f":"IFERROR('Retirement Calculations'!B49,\"\")","v":""},{"$f":"IFERROR('Retirement Calculations'!C49,\"\")","v":""},{"$f":"IFERROR('Retirement Calculations'!D49,\"\")","v":""},{"$f":"IFERROR('Retirement Calculations'!E49,\"\")","v":""},{"$f":"IFERROR('Retirement Calculations'!G49,\"\")","v":""},{"$f":"IFERROR('Retirement Calculations'!H49,\"\")","v":""},{"$f":"IFERROR('Retirement Calculations'!I49,\"\")","v":""},{"$f":"IFERROR('Retirement Calculations'!J49,\"\")","v":""},{"$f":"IFERROR('Retirement Calculations'!L49,\"\")","v":""},{"$f":"IFERROR('Retirement Calculations'!M49,\"\")","v":""},{"$f":"IFERROR('Retirement Calculations'!O49,\"\")","v":""},{"$f":"IFERROR('Retirement Calculations'!P49,\"\")","v":""},{"$f":"IFERROR('Retirement Calculations'!Q49,\"\")","v":""}]
[null,null,{"$f":"IFERROR('Retirement Calculations'!A50,\"\")","v":""},{"$f":"IFERROR('Retirement Calculations'!B50,\"\")","v":""},{"$f":"IFERROR('Retirement Calculations'!C50,\"\")","v":""},{"$f":"IFERROR('Retirement Calculations'!D50,\"\")","v":""},{"$f":"IFERROR('Retirement Calculations'!E50,\"\")","v":""},{"$f":"IFERROR('Retirement Calculations'!G50,\"\")","v":""},{"$f":"IFERROR('Retirement Calculations'!H50,\"\")","v":""},{"$f":"IFERROR('Retirement Calculations'!I50,\"\")","v":""},{"$f":"IFERROR('Retirement Calculations'!J50,\"\")","v":""},{"$f":"IFERROR('Retirement Calculations'!L50,\"\")","v":""},{"$f":"IFERROR('Retirement Calculations'!M50,\"\")","v":""},{"$f":"IFERROR('Retirement Calculations'!O50,\"\")","v":""},{"$f":"IFERROR('Retirement Calculations'!P50,\"\")","v":""},{"$f":"IFERROR('Retirement Calculations'!Q50,\"\")","v":""}]
[null,null,{"$f":"IFERROR('Retirement Calculations'!A51,\"\")","v":""},{"$f":"IFERROR('Retirement Calculations'!B51,\"\")","v":""},{"$f":"IFERROR('Retirement Calculations'!C51,\"\")","v":""},{"$f":"IFERROR('Retirement Calculations'!D51,\"\")","v":""},{"$f":"IFERROR('Retirement Calculations'!E51,\"\")","v":""},{"$f":"IFERROR('Retirement Calculations'!G51,\"\")","v":""},{"$f":"IFERROR('Retirement Calculations'!H51,\"\")","v":""},{"$f":"IFERROR('Retirement Calculations'!I51,\"\")","v":""},{"$f":"IFERROR('Retirement Calculations'!J51,\"\")","v":""},{"$f":"IFERROR('Retirement Calculations'!L51,\"\")","v":""},{"$f":"IFERROR('Retirement Calculations'!M51,\"\")","v":""},{"$f":"IFERROR('Retirement Calculations'!O51,\"\")","v":""},{"$f":"IFERROR('Retirement Calculations'!P51,\"\")","v":""},{"$f":"IFERROR('Retirement Calculations'!Q51,\"\")","v":""}]
[null,null,{"$f":"IFERROR('Retirement Calculations'!A52,\"\")","v":""},{"$f":"IFERROR('Retirement Calculations'!B52,\"\")","v":""},{"$f":"IFERROR('Retirement Calculations'!C52,\"\")","v":""},{"$f":"IFERROR('Retirement Calculations'!D52,\"\")","v":""},{"$f":"IFERROR('Retirement Calculations'!E52,\"\")","v":""},{"$f":"IFERROR('Retirement Calculations'!G52,\"\")","v":""},{"$f":"IFERROR('Retirement Calculations'!H52,\"\")","v":""},{"$f":"IFERROR('Retirement Calculations'!I52,\"\")","v":""},{"$f":"IFERROR('Retirement Calculations'!J52,\"\")","v":""},{"$f":"IFERROR('Retirement Calculations'!L52,\"\")","v":""},{"$f":"IFERROR('Retirement Calculations'!M52,\"\")","v":""},{"$f":"IFERROR('Retirement Calculations'!O52,\"\")","v":""},{"$f":"IFERROR('Retirement Calculations'!P52,\"\")","v":""},{"$f":"IFERROR('Retirement Calculations'!Q52,\"\")","v":""}]
[null,null,{"$f":"IFERROR('Retirement Calculations'!A53,\"\")","v":""},{"$f":"IFERROR('Retirement Calculations'!B53,\"\")","v":""},{"$f":"IFERROR('Retirement Calculations'!C53,\"\")","v":""},{"$f":"IFERROR('Retirement Calculations'!D53,\"\")","v":""},{"$f":"IFERROR('Retirement Calculations'!E53,\"\")","v":""},{"$f":"IFERROR('Retirement Calculations'!G53,\"\")","v":""},{"$f":"IFERROR('Retirement Calculations'!H53,\"\")","v":""},{"$f":"IFERROR('Retirement Calculations'!I53,\"\")","v":""},{"$f":"IFERROR('Retirement Calculations'!J53,\"\")","v":""},{"$f":"IFERROR('Retirement Calculations'!L53,\"\")","v":""},{"$f":"IFERROR('Retirement Calculations'!M53,\"\")","v":""},{"$f":"IFERROR('Retirement Calculations'!O53,\"\")","v":""},{"$f":"IFERROR('Retirement Calculations'!P53,\"\")","v":""},{"$f":"IFERROR('Retirement Calculations'!Q53,\"\")","v":""}]
[null,null,{"$f":"IFERROR('Retirement Calculations'!A54,\"\")","v":""},{"$f":"IFERROR('Retirement Calculations'!B54,\"\")","v":""},{"$f":"IFERROR('Retirement Calculations'!C54,\"\")","v":""},{"$f":"IFERROR('Retirement Calculations'!D54,\"\")","v":""},{"$f":"IFERROR('Retirement Calculations'!E54,\"\")","v":""},{"$f":"IFERROR('Retirement Calculations'!G54,\"\")","v":""},{"$f":"IFERROR('Retirement Calculations'!H54,\"\")","v":""},{"$f":"IFERROR('Retirement Calculations'!I54,\"\")","v":""},{"$f":"IFERROR('Retirement Calculations'!J54,\"\")","v":""},{"$f":"IFERROR('Retirement Calculations'!L54,\"\")","v":""},{"$f":"IFERROR('Retirement Calculations'!M54,\"\")","v":""},{"$f":"IFERROR('Retirement Calculations'!O54,\"\")","v":""},{"$f":"IFERROR('Retirement Calculations'!P54,\"\")","v":""},{"$f":"IFERROR('Retirement Calculations'!Q54,\"\")","v":""}]
[null,null,{"$f":"IFERROR('Retirement Calculations'!A55,\"\")","v":""},{"$f":"IFERROR('Retirement Calculations'!B55,\"\")","v":""},{"$f":"IFERROR('Retirement Calculations'!C55,\"\")","v":""},{"$f":"IFERROR('Retirement Calculations'!D55,\"\")","v":""},{"$f":"IFERROR('Retirement Calculations'!E55,\"\")","v":""},{"$f":"IFERROR('Retirement Calculations'!G55,\"\")","v":""},{"$f":"IFERROR('Retirement Calculations'!H55,\"\")","v":""},{"$f":"IFERROR('Retirement Calculations'!I55,\"\")","v":""},{"$f":"IFERROR('Retirement Calculations'!J55,\"\")","v":""},{"$f":"IFERROR('Retirement Calculations'!L55,\"\")","v":""},{"$f":"IFERROR('Retirement Calculations'!M55,\"\")","v":""},{"$f":"IFERROR('Retirement Calculations'!O55,\"\")","v":""},{"$f":"IFERROR('Retirement Calculations'!P55,\"\")","v":""},{"$f":"IFERROR('Retirement Calculations'!Q55,\"\")","v":""}]
[null,null,{"$f":"IFERROR('Retirement Calculations'!A56,\"\")","v":""},{"$f":"IFERROR('Retirement Calculations'!B56,\"\")","v":""},{"$f":"IFERROR('Retirement Calculations'!C56,\"\")","v":""},{"$f":"IFERROR('Retirement Calculations'!D56,\"\")","v":""},{"$f":"IFERROR('Retirement Calculations'!E56,\"\")","v":""},{"$f":"IFERROR('Retirement Calculations'!G56,\"\")","v":""},{"$f":"IFERROR('Retirement Calculations'!H56,\"\")","v":""},{"$f":"IFERROR('Retirement Calculations'!I56,\"\")","v":""},{"$f":"IFERROR('Retirement Calculations'!J56,\"\")","v":""},{"$f":"IFERROR('Retirement Calculations'!L56,\"\")","v":""},{"$f":"IFERROR('Retirement Calculations'!M56,\"\")","v":""},{"$f":"IFERROR('Retirement Calculations'!O56,\"\")","v":""},{"$f":"IFERROR('Retirement Calculations'!P56,\"\")","v":""},{"$f":"IFERROR('Retirement Calculations'!Q56,\"\")","v":""}]
[null,null,{"$f":"IFERROR('Retirement Calculations'!A57,\"\")","v":""},{"$f":"IFERROR('Retirement Calculations'!B57,\"\")","v":""},{"$f":"IFERROR('Retirement Calculations'!C57,\"\")","v":""},{"$f":"IFERROR('Retirement Calculations'!D57,\"\")","v":""},{"$f":"IFERROR('Retirement Calculations'!E57,\"\")","v":""},{"$f":"IFERROR('Retirement Calculations'!G57,\"\")","v":""},{"$f":"IFERROR('Retirement Calculations'!H57,\"\")","v":""},{"$f":"IFERROR('Retirement Calculations'!I57,\"\")","v":""},{"$f":"IFERROR('Retirement Calculations'!J57,\"\")","v":""},{"$f":"IFERROR('Retirement Calculations'!L57,\"\")","v":""},{"$f":"IFERROR('Retirement Calculations'!M57,\"\")","v":""},{"$f":"IFERROR('Retirement Calculations'!O57,\"\")","v":""},{"$f":"IFERROR('Retirement Calculations'!P57,\"\")","v":""},{"$f":"IFERROR('Retirement Calculations'!Q57,\"\")","v":""}]
[null,null,{"$f":"IFERROR('Retirement Calculations'!A58,\"\")","v":""},{"$f":"IFERROR('Retirement Calculations'!B58,\"\")","v":""},{"$f":"IFERROR('Retirement Calculations'!C58,\"\")","v":""},{"$f":"IFERROR('Retirement Calculations'!D58,\"\")","v":""},{"$f":"IFERROR('Retirement Calculations'!E58,\"\")","v":""},{"$f":"IFERROR('Retirement Calculations'!G58,\"\")","v":""},{"$f":"IFERROR('Retirement Calculations'!H58,\"\")","v":""},{"$f":"IFERROR('Retirement Calculations'!I58,\"\")","v":""},{"$f":"IFERROR('Retirement Calculations'!J58,\"\")","v":""},{"$f":"IFERROR('Retirement Calculations'!L58,\"\")","v":""},{"$f":"IFERROR('Retirement Calculations'!M58,\"\")","v":""},{"$f":"IFERROR('Retirement Calculations'!O58,\"\")","v":""},{"$f":"IFERROR('Retirement Calculations'!P58,\"\")","v":""},{"$f":"IFERROR('Retirement Calculations'!Q58,\"\")","v":""}]
[null,null,{"$f":"IFERROR('Retirement Calculations'!A59,\"\")","v":""},{"$f":"IFERROR('Retirement Calculations'!B59,\"\")","v":""},{"$f":"IFERROR('Retirement Calculations'!C59,\"\")","v":""},{"$f":"IFERROR('Retirement Calculations'!D59,\"\")","v":""},{"$f":"IFERROR('Retirement Calculations'!E59,\"\")","v":""},{"$f":"IFERROR('Retirement Calculations'!G59,\"\")","v":""},{"$f":"IFERROR('Retirement Calculations'!H59,\"\")","v":""},{"$f":"IFERROR('Retirement Calculations'!I59,\"\")","v":""},{"$f":"IFERROR('Retirement Calculations'!J59,\"\")","v":""},{"$f":"IFERROR('Retirement Calculations'!L59,\"\")","v":""},{"$f":"IFERROR('Retirement Calculations'!M59,\"\")","v":""},{"$f":"IFERROR('Retirement Calculations'!O59,\"\")","v":""},{"$f":"IFERROR('Retirement Calculations'!P59,\"\")","v":""},{"$f":"IFERROR('Retirement Calculations'!Q59,\"\")","v":""}]
[null,null,{"$f":"IFERROR('Retirement Calculations'!A60,\"\")","v":""},{"$f":"IFERROR('Retirement Calculations'!B60,\"\")","v":""},{"$f":"IFERROR('Retirement Calculations'!C60,\"\")","v":""},{"$f":"IFERROR('Retirement Calculations'!D60,\"\")","v":""},{"$f":"IFERROR('Retirement Calculations'!E60,\"\")","v":""},{"$f":"IFERROR('Retirement Calculations'!G60,\"\")","v":""},{"$f":"IFERROR('Retirement Calculations'!H60,\"\")","v":""},{"$f":"IFERROR('Retirement Calculations'!I60,\"\")","v":""},{"$f":"IFERROR('Retirement Calculations'!J60,\"\")","v":""},{"$f":"IFERROR('Retirement Calculations'!L60,\"\")","v":""},{"$f":"IFERROR('Retirement Calculations'!M60,\"\")","v":""},{"$f":"IFERROR('Retirement Calculations'!O60,\"\")","v":""},{"$f":"IFERROR('Retirement Calculations'!P60,\"\")","v":""},{"$f":"IFERROR('Retirement Calculations'!Q60,\"\")","v":""}]
[null,null,{"$f":"IFERROR('Retirement Calculations'!A61,\"\")","v":""},{"$f":"IFERROR('Retirement Calculations'!B61,\"\")","v":""},{"$f":"IFERROR('Retirement Calculations'!C61,\"\")","v":""},{"$f":"IFERROR('Retirement Calculations'!D61,\"\")","v":""},{"$f":"IFERROR('Retirement Calculations'!E61,\"\")","v":""},{"$f":"IFERROR('Retirement Calculations'!G61,\"\")","v":""},{"$f":"IFERROR('Retirement Calculations'!H61,\"\")","v":""},{"$f":"IFERROR('Retirement Calculations'!I61,\"\")","v":""},{"$f":"IFERROR('Retirement Calculations'!J61,\"\")","v":""},{"$f":"IFERROR('Retirement Calculations'!L61,\"\")","v":""},{"$f":"IFERROR('Retirement Calculations'!M61,\"\")","v":""},{"$f":"IFERROR('Retirement Calculations'!O61,\"\")","v":""},{"$f":"IFERROR('Retirement Calculations'!P61,\"\")","v":""},{"$f":"IFERROR('Retirement Calculations'!Q61,\"\")","v":""}]
[null,null,{"$f":"IFERROR('Retirement Calculations'!A62,\"\")","v":""},{"$f":"IFERROR('Retirement Calculations'!B62,\"\")","v":""},{"$f":"IFERROR('Retirement Calculations'!C62,\"\")","v":""},{"$f":"IFERROR('Retirement Calculations'!D62,\"\")","v":""},{"$f":"IFERROR('Retirement Calculations'!E62,\"\")","v":""},{"$f":"IFERROR('Retirement Calculations'!G62,\"\")","v":""},{"$f":"IFERROR('Retirement Calculations'!H62,\"\")","v":""},{"$f":"IFERROR('Retirement Calculations'!I62,\"\")","v":""},{"$f":"IFERROR('Retirement Calculations'!J62,\"\")","v":""},{"$f":"IFERROR('Retirement Calculations'!L62,\"\")","v":""},{"$f":"IFERROR('Retirement Calculations'!M62,\"\")","v":""},{"$f":"IFERROR('Retirement Calculations'!O62,\"\")","v":""},{"$f":"IFERROR('Retirement Calculations'!P62,\"\")","v":""},{"$f":"IFERROR('Retirement Calculations'!Q62,\"\")","v":""}]
[null,null,{"$f":"IFERROR('Retirement Calculations'!A63,\"\")","v":""},{"$f":"IFERROR('Retirement Calculations'!B63,\"\")","v":""},{"$f":"IFERROR('Retirement Calculations'!C63,\"\")","v":""},{"$f":"IFERROR('Retirement Calculations'!D63,\"\")","v":""},{"$f":"IFERROR('Retirement Calculations'!E63,\"\")","v":""},{"$f":"IFERROR('Retirement Calculations'!G63,\"\")","v":""},{"$f":"IFERROR('Retirement Calculations'!H63,\"\")","v":""},{"$f":"IFERROR('Retirement Calculations'!I63,\"\")","v":""},{"$f":"IFERROR('Retirement Calculations'!J63,\"\")","v":""},{"$f":"IFERROR('Retirement Calculations'!L63,\"\")","v":""},{"$f":"IFERROR('Retirement Calculations'!M63,\"\")","v":""},{"$f":"IFERROR('Retirement Calculations'!O63,\"\")","v":""},{"$f":"IFERROR('Retirement Calculations'!P63,\"\")","v":""},{"$f":"IFERROR('Retirement Calculations'!Q63,\"\")","v":""}]
[null,null,{"$f":"IFERROR('Retirement Calculations'!A64,\"\")","v":""},{"$f":"IFERROR('Retirement Calculations'!B64,\"\")","v":""},{"$f":"IFERROR('Retirement Calculations'!C64,\"\")","v":""},{"$f":"IFERROR('Retirement Calculations'!D64,\"\")","v":""},{"$f":"IFERROR('Retirement Calculations'!E64,\"\")","v":""},{"$f":"IFERROR('Retirement Calculations'!G64,\"\")","v":""},{"$f":"IFERROR('Retirement Calculations'!H64,\"\")","v":""},{"$f":"IFERROR('Retirement Calculations'!I64,\"\")","v":""},{"$f":"IFERROR('Retirement Calculations'!J64,\"\")","v":""},{"$f":"IFERROR('Retirement Calculations'!L64,\"\")","v":""},{"$f":"IFERROR('Retirement Calculations'!M64,\"\")","v":""},{"$f":"IFERROR('Retirement Calculations'!O64,\"\")","v":""},{"$f":"IFERROR('Retirement Calculations'!P64,\"\")","v":""},{"$f":"IFERROR('Retirement Calculations'!Q64,\"\")","v":""}]
[null,null,{"$f":"IFERROR('Retirement Calculations'!A65,\"\")","v":""},{"$f":"IFERROR('Retirement Calculations'!B65,\"\")","v":""},{"$f":"IFERROR('Retirement Calculations'!C65,\"\")","v":""},{"$f":"IFERROR('Retirement Calculations'!D65,\"\")","v":""},{"$f":"IFERROR('Retirement Calculations'!E65,\"\")","v":""},{"$f":"IFERROR('Retirement Calculations'!G65,\"\")","v":""},{"$f":"IFERROR('Retirement Calculations'!H65,\"\")","v":""},{"$f":"IFERROR('Retirement Calculations'!I65,\"\")","v":""},{"$f":"IFERROR('Retirement Calculations'!J65,\"\")","v":""},{"$f":"IFERROR('Retirement Calculations'!L65,\"\")","v":""},{"$f":"IFERROR('Retirement Calculations'!M65,\"\")","v":""},{"$f":"IFERROR('Retirement Calculations'!O65,\"\")","v":""},{"$f":"IFERROR('Retirement Calculations'!P65,\"\")","v":""},{"$f":"IFERROR('Retirement Calculations'!Q65,\"\")","v":""}]
[null,null,{"$f":"IFERROR('Retirement Calculations'!A66,\"\")","v":""},{"$f":"IFERROR('Retirement Calculations'!B66,\"\")","v":""},{"$f":"IFERROR('Retirement Calculations'!C66,\"\")","v":""},{"$f":"IFERROR('Retirement Calculations'!D66,\"\")","v":""},{"$f":"IFERROR('Retirement Calculations'!E66,\"\")","v":""},{"$f":"IFERROR('Retirement Calculations'!G66,\"\")","v":""},{"$f":"IFERROR('Retirement Calculations'!H66,\"\")","v":""},{"$f":"IFERROR('Retirement Calculations'!I66,\"\")","v":""},{"$f":"IFERROR('Retirement Calculations'!J66,\"\")","v":""},{"$f":"IFERROR('Retirement Calculations'!L66,\"\")","v":""},{"$f":"IFERROR('Retirement Calculations'!M66,\"\")","v":""},{"$f":"IFERROR('Retirement Calculations'!O66,\"\")","v":""},{"$f":"IFERROR('Retirement Calculations'!P66,\"\")","v":""},{"$f":"IFERROR('Retirement Calculations'!Q66,\"\")","v":""}]
[null,null,{"$f":"IFERROR('Retirement Calculations'!A67,\"\")","v":""},{"$f":"IFERROR('Retirement Calculations'!B67,\"\")","v":""},{"$f":"IFERROR('Retirement Calculations'!C67,\"\")","v":""},{"$f":"IFERROR('Retirement Calculations'!D67,\"\")","v":""},{"$f":"IFERROR('Retirement Calculations'!E67,\"\")","v":""},{"$f":"IFERROR('Retirement Calculations'!G67,\"\")","v":""},{"$f":"IFERROR('Retirement Calculations'!H67,\"\")","v":""},{"$f":"IFERROR('Retirement Calculations'!I67,\"\")","v":""},{"$f":"IFERROR('Retirement Calculations'!J67,\"\")","v":""},{"$f":"IFERROR('Retirement Calculations'!L67,\"\")","v":""},{"$f":"IFERROR('Retirement Calculations'!M67,\"\")","v":""},{"$f":"IFERROR('Retirement Calculations'!O67,\"\")","v":""},{"$f":"IFERROR('Retirement Calculations'!P67,\"\")","v":""},{"$f":"IFERROR('Retirement Calculations'!Q67,\"\")","v":""}]
[null,null,{"$f":"IFERROR('Retirement Calculations'!A68,\"\")","v":""},{"$f":"IFERROR('Retirement Calculations'!B68,\"\")","v":""},{"$f":"IFERROR('Retirement Calculations'!C68,\"\")","v":""},{"$f":"IFERROR('Retirement Calculations'!D68,\"\")","v":""},{"$f":"IFERROR('Retirement Calculations'!E68,\"\")","v":""},{"$f":"IFERROR('Retirement Calculations'!G68,\"\")","v":""},{"$f":"IFERROR('Retirement Calculations'!H68,\"\")","v":""},{"$f":"IFERROR('Retirement Calculations'!I68,\"\")","v":""},{"$f":"IFERROR('Retirement Calculations'!J68,\"\")","v":""},{"$f":"IFERROR('Retirement Calculations'!L68,\"\")","v":""},{"$f":"IFERROR('Retirement Calculations'!M68,\"\")","v":""},{"$f":"IFERROR('Retirement Calculations'!O68,\"\")","v":""},{"$f":"IFERROR('Retirement Calculations'!P68,\"\")","v":""},{"$f":"IFERROR('Retirement Calculations'!Q68,\"\")","v":""}]
[null,null,{"$f":"IFERROR('Retirement Calculations'!A69,\"\")","v":""},{"$f":"IFERROR('Retirement Calculations'!B69,\"\")","v":""},{"$f":"IFERROR('Retirement Calculations'!C69,\"\")","v":""},{"$f":"IFERROR('Retirement Calculations'!D69,\"\")","v":""},{"$f":"IFERROR('Retirement Calculations'!E69,\"\")","v":""},{"$f":"IFERROR('Retirement Calculations'!G69,\"\")","v":""},{"$f":"IFERROR('Retirement Calculations'!H69,\"\")","v":""},{"$f":"IFERROR('Retirement Calculations'!I69,\"\")","v":""},{"$f":"IFERROR('Retirement Calculations'!J69,\"\")","v":""},{"$f":"IFERROR('Retirement Calculations'!L69,\"\")","v":""},{"$f":"IFERROR('Retirement Calculations'!M69,\"\")","v":""},{"$f":"IFERROR('Retirement Calculations'!O69,\"\")","v":""},{"$f":"IFERROR('Retirement Calculations'!P69,\"\")","v":""},{"$f":"IFERROR('Retirement Calculations'!Q69,\"\")","v":""}]
[null,null,{"$f":"IFERROR('Retirement Calculations'!A70,\"\")","v":""},{"$f":"IFERROR('Retirement Calculations'!B70,\"\")","v":""},{"$f":"IFERROR('Retirement Calculations'!C70,\"\")","v":""},{"$f":"IFERROR('Retirement Calculations'!D70,\"\")","v":""},{"$f":"IFERROR('Retirement Calculations'!E70,\"\")","v":""},{"$f":"IFERROR('Retirement Calculations'!G70,\"\")","v":""},{"$f":"IFERROR('Retirement Calculations'!H70,\"\")","v":""},{"$f":"IFERROR('Retirement Calculations'!I70,\"\")","v":""},{"$f":"IFERROR('Retirement Calculations'!J70,\"\")","v":""},{"$f":"IFERROR('Retirement Calculations'!L70,\"\")","v":""},{"$f":"IFERROR('Retirement Calculations'!M70,\"\")","v":""},{"$f":"IFERROR('Retirement Calculations'!O70,\"\")","v":""},{"$f":"IFERROR('Retirement Calculations'!P70,\"\")","v":""},{"$f":"IFERROR('Retirement Calculations'!Q70,\"\")","v":""}]
[null,null,{"$f":"IFERROR('Retirement Calculations'!A71,\"\")","v":""},{"$f":"IFERROR('Retirement Calculations'!B71,\"\")","v":""},{"$f":"IFERROR('Retirement Calculations'!C71,\"\")","v":""},{"$f":"IFERROR('Retirement Calculations'!D71,\"\")","v":""},{"$f":"IFERROR('Retirement Calculations'!E71,\"\")","v":""},{"$f":"IFERROR('Retirement Calculations'!G71,\"\")","v":""},{"$f":"IFERROR('Retirement Calculations'!H71,\"\")","v":""},{"$f":"IFERROR('Retirement Calculations'!I71,\"\")","v":""},{"$f":"IFERROR('Retirement Calculations'!J71,\"\")","v":""},{"$f":"IFERROR('Retirement Calculations'!L71,\"\")","v":""},{"$f":"IFERROR('Retirement Calculations'!M71,\"\")","v":""},{"$f":"IFERROR('Retirement Calculations'!O71,\"\")","v":""},{"$f":"IFERROR('Retirement Calculations'!P71,\"\")","v":""},{"$f":"IFERROR('Retirement Calculations'!Q71,\"\")","v":""}]
[null,null,{"$f":"IFERROR('Retirement Calculations'!A72,\"\")","v":""},{"$f":"IFERROR('Retirement Calculations'!B72,\"\")","v":""},{"$f":"IFERROR('Retirement Calculations'!C72,\"\")","v":""},{"$f":"IFERROR('Retirement Calculations'!D72,\"\")","v":""},{"$f":"IFERROR('Retirement Calculations'!E72,\"\")","v":""},{"$f":"IFERROR('Retirement Calculations'!G72,\"\")","v":""},{"$f":"IFERROR('Retirement Calculations'!H72,\"\")","v":""},{"$f":"IFERROR('Retirement Calculations'!I72,\"\")","v":""},{"$f":"IFERROR('Retirement Calculations'!J72,\"\")","v":""},{"$f":"IFERROR('Retirement Calculations'!L72,\"\")","v":""},{"$f":"IFERROR('Retirement Calculations'!M72,\"\")","v":""},{"$f":"IFERROR('Retirement Calculations'!O72,\"\")","v":""},{"$f":"IFERROR('Retirement Calculations'!P72,\"\")","v":""},{"$f":"IFERROR('Retirement Calculations'!Q72,\"\")","v":""}]
[null,null,{"$f":"IFERROR('Retirement Calculations'!A73,\"\")","v":""},{"$f":"IFERROR('Retirement Calculations'!B73,\"\")","v":""},{"$f":"IFERROR('Retirement Calculations'!C73,\"\")","v":""},{"$f":"IFERROR('Retirement Calculations'!D73,\"\")","v":""},{"$f":"IFERROR('Retirement Calculations'!E73,\"\")","v":""},{"$f":"IFERROR('Retirement Calculations'!G73,\"\")","v":""},{"$f":"IFERROR('Retirement Calculations'!H73,\"\")","v":""},{"$f":"IFERROR('Retirement Calculations'!I73,\"\")","v":""},{"$f":"IFERROR('Retirement Calculations'!J73,\"\")","v":""},{"$f":"IFERROR('Retirement Calculations'!L73,\"\")","v":""},{"$f":"IFERROR('Retirement Calculations'!M73,\"\")","v":""},{"$f":"IFERROR('Retirement Calculations'!O73,\"\")","v":""},{"$f":"IFERROR('Retirement Calculations'!P73,\"\")","v":""},{"$f":"IFERROR('Retirement Calculations'!Q73,\"\")","v":""}]
[null,null,{"$f":"IFERROR('Retirement Calculations'!A74,\"\")","v":""},{"$f":"IFERROR('Retirement Calculations'!B74,\"\")","v":""},{"$f":"IFERROR('Retirement Calculations'!C74,\"\")","v":""},{"$f":"IFERROR('Retirement Calculations'!D74,\"\")","v":""},{"$f":"IFERROR('Retirement Calculations'!E74,\"\")","v":""},{"$f":"IFERROR('Retirement Calculations'!G74,\"\")","v":""},{"$f":"IFERROR('Retirement Calculations'!H74,\"\")","v":""},{"$f":"IFERROR('Retirement Calculations'!I74,\"\")","v":""},{"$f":"IFERROR('Retirement Calculations'!J74,\"\")","v":""},{"$f":"IFERROR('Retirement Calculations'!L74,\"\")","v":""},{"$f":"IFERROR('Retirement Calculations'!M74,\"\")","v":""},{"$f":"IFERROR('Retirement Calculations'!O74,\"\")","v":""},{"$f":"IFERROR('Retirement Calculations'!P74,\"\")","v":""},{"$f":"IFERROR('Retirement Calculations'!Q74,\"\")","v":""}]
[null,null,{"$f":"IFERROR('Retirement Calculations'!A75,\"\")","v":""},{"$f":"IFERROR('Retirement Calculations'!B75,\"\")","v":""},{"$f":"IFERROR('Retirement Calculations'!C75,\"\")","v":""},{"$f":"IFERROR('Retirement Calculations'!D75,\"\")","v":""},{"$f":"IFERROR('Retirement Calculations'!E75,\"\")","v":""},{"$f":"IFERROR('Retirement Calculations'!G75,\"\")","v":""},{"$f":"IFERROR('Retirement Calculations'!H75,\"\")","v":""},{"$f":"IFERROR('Retirement Calculations'!I75,\"\")","v":""},{"$f":"IFERROR('Retirement Calculations'!J75,\"\")","v":""},{"$f":"IFERROR('Retirement Calculations'!L75,\"\")","v":""},{"$f":"IFERROR('Retirement Calculations'!M75,\"\")","v":""},{"$f":"IFERROR('Retirement Calculations'!O75,\"\")","v":""},{"$f":"IFERROR('Retirement Calculations'!P75,\"\")","v":""},{"$f":"IFERROR('Retirement Calculations'!Q75,\"\")","v":""}]
[null,null,{"$f":"IFERROR('Retirement Calculations'!A76,\"\")","v":""},{"$f":"IFERROR('Retirement Calculations'!B76,\"\")","v":""},{"$f":"IFERROR('Retirement Calculations'!C76,\"\")","v":""},{"$f":"IFERROR('Retirement Calculations'!D76,\"\")","v":""},{"$f":"IFERROR('Retirement Calculations'!E76,\"\")","v":""},{"$f":"IFERROR('Retirement Calculations'!G76,\"\")","v":""},{"$f":"IFERROR('Retirement Calculations'!H76,\"\")","v":""},{"$f":"IFERROR('Retirement Calculations'!I76,\"\")","v":""},{"$f":"IFERROR('Retirement Calculations'!J76,\"\")","v":""},{"$f":"IFERROR('Retirement Calculations'!L76,\"\")","v":""},{"$f":"IFERROR('Retirement Calculations'!M76,\"\")","v":""},{"$f":"IFERROR('Retirement Calculations'!O76,\"\")","v":""},{"$f":"IFERROR('Retirement Calculations'!P76,\"\")","v":""},{"$f":"IFERROR('Retirement Calculations'!Q76,\"\")","v":""}]
[null,null,{"$f":"IFERROR('Retirement Calculations'!A77,\"\")","v":""},{"$f":"IFERROR('Retirement Calculations'!B77,\"\")","v":""},{"$f":"IFERROR('Retirement Calculations'!C77,\"\")","v":""},{"$f":"IFERROR('Retirement Calculations'!D77,\"\")","v":""},{"$f":"IFERROR('Retirement Calculations'!E77,\"\")","v":""},{"$f":"IFERROR('Retirement Calculations'!G77,\"\")","v":""},{"$f":"IFERROR('Retirement Calculations'!H77,\"\")","v":""},{"$f":"IFERROR('Retirement Calculations'!I77,\"\")","v":""},{"$f":"IFERROR('Retirement Calculations'!J77,\"\")","v":""},{"$f":"IFERROR('Retirement Calculations'!L77,\"\")","v":""},{"$f":"IFERROR('Retirement Calculations'!M77,\"\")","v":""},{"$f":"IFERROR('Retirement Calculations'!O77,\"\")","v":""},{"$f":"IFERROR('Retirement Calculations'!P77,\"\")","v":""},{"$f":"IFERROR('Retirement Calculations'!Q77,\"\")","v":""}]
[null,null,{"$f":"IFERROR('Retirement Calculations'!A78,\"\")","v":""},{"$f":"IFERROR('Retirement Calculations'!B78,\"\")","v":""},{"$f":"IFERROR('Retirement Calculations'!C78,\"\")","v":""},{"$f":"IFERROR('Retirement Calculations'!D78,\"\")","v":""},{"$f":"IFERROR('Retirement Calculations'!E78,\"\")","v":""},{"$f":"IFERROR('Retirement Calculations'!G78,\"\")","v":""},{"$f":"IFERROR('Retirement Calculations'!H78,\"\")","v":""},{"$f":"IFERROR('Retirement Calculations'!I78,\"\")","v":""},{"$f":"IFERROR('Retirement Calculations'!J78,\"\")","v":""},{"$f":"IFERROR('Retirement Calculations'!L78,\"\")","v":""},{"$f":"IFERROR('Retirement Calculations'!M78,\"\")","v":""},{"$f":"IFERROR('Retirement Calculations'!O78,\"\")","v":""},{"$f":"IFERROR('Retirement Calculations'!P78,\"\")","v":""},{"$f":"IFERROR('Retirement Calculations'!Q78,\"\")","v":""}]
[null,null,{"$f":"IFERROR('Retirement Calculations'!A79,\"\")","v":""},{"$f":"IFERROR('Retirement Calculations'!B79,\"\")","v":""},{"$f":"IFERROR('Retirement Calculations'!C79,\"\")","v":""},{"$f":"IFERROR('Retirement Calculations'!D79,\"\")","v":""},{"$f":"IFERROR('Retirement Calculations'!E79,\"\")","v":""},{"$f":"IFERROR('Retirement Calculations'!G79,\"\")","v":""},{"$f":"IFERROR('Retirement Calculations'!H79,\"\")","v":""},{"$f":"IFERROR('Retirement Calculations'!I79,\"\")","v":""},{"$f":"IFERROR('Retirement Calculations'!J79,\"\")","v":""},{"$f":"IFERROR('Retirement Calculations'!L79,\"\")","v":""},{"$f":"IFERROR('Retirement Calculations'!M79,\"\")","v":""},{"$f":"IFERROR('Retirement Calculations'!O79,\"\")","v":""},{"$f":"IFERROR('Retirement Calculations'!P79,\"\")","v":""},{"$f":"IFERROR('Retirement Calculations'!Q79,\"\")","v":""}]
[null,null,{"$f":"IFERROR('Retirement Calculations'!A80,\"\")","v":""},{"$f":"IFERROR('Retirement Calculations'!B80,\"\")","v":""},{"$f":"IFERROR('Retirement Calculations'!C80,\"\")","v":""},{"$f":"IFERROR('Retirement Calculations'!D80,\"\")","v":""},{"$f":"IFERROR('Retirement Calculations'!E80,\"\")","v":""},{"$f":"IFERROR('Retirement Calculations'!G80,\"\")","v":""},{"$f":"IFERROR('Retirement Calculations'!H80,\"\")","v":""},{"$f":"IFERROR('Retirement Calculations'!I80,\"\")","v":""},{"$f":"IFERROR('Retirement Calculations'!J80,\"\")","v":""},{"$f":"IFERROR('Retirement Calculations'!L80,\"\")","v":""},{"$f":"IFERROR('Retirement Calculations'!M80,\"\")","v":""},{"$f":"IFERROR('Retirement Calculations'!O80,\"\")","v":""},{"$f":"IFERROR('Retirement Calculations'!P80,\"\")","v":""},{"$f":"IFERROR('Retirement Calculations'!Q80,\"\")","v":""}]
[null,null,{"$f":"IFERROR('Retirement Calculations'!A81,\"\")","v":""},{"$f":"IFERROR('Retirement Calculations'!B81,\"\")","v":""},{"$f":"IFERROR('Retirement Calculations'!C81,\"\")","v":""},{"$f":"IFERROR('Retirement Calculations'!D81,\"\")","v":""},{"$f":"IFERROR('Retirement Calculations'!E81,\"\")","v":""},{"$f":"IFERROR('Retirement Calculations'!G81,\"\")","v":""},{"$f":"IFERROR('Retirement Calculations'!H81,\"\")","v":""},{"$f":"IFERROR('Retirement Calculations'!I81,\"\")","v":""},{"$f":"IFERROR('Retirement Calculations'!J81,\"\")","v":""},{"$f":"IFERROR('Retirement Calculations'!L81,\"\")","v":""},{"$f":"IFERROR('Retirement Calculations'!M81,\"\")","v":""},{"$f":"IFERROR('Retirement Calculations'!O81,\"\")","v":""},{"$f":"IFERROR('Retirement Calculations'!P81,\"\")","v":""},{"$f":"IFERROR('Retirement Calculations'!Q81,\"\")","v":""}]
[null,null,{"$f":"IFERROR('Retirement Calculations'!A82,\"\")","v":""},{"$f":"IFERROR('Retirement Calculations'!B82,\"\")","v":""},{"$f":"IFERROR('Retirement Calculations'!C82,\"\")","v":""},{"$f":"IFERROR('Retirement Calculations'!D82,\"\")","v":""},{"$f":"IFERROR('Retirement Calculations'!E82,\"\")","v":""},{"$f":"IFERROR('Retirement Calculations'!G82,\"\")","v":""},{"$f":"IFERROR('Retirement Calculations'!H82,\"\")","v":""},{"$f":"IFERROR('Retirement Calculations'!I82,\"\")","v":""},{"$f":"IFERROR('Retirement Calculations'!J82,\"\")","v":""},{"$f":"IFERROR('Retirement Calculations'!L82,\"\")","v":""},{"$f":"IFERROR('Retirement Calculations'!M82,\"\")","v":""},{"$f":"IFERROR('Retirement Calculations'!O82,\"\")","v":""},{"$f":"IFERROR('Retirement Calculations'!P82,\"\")","v":""},{"$f":"IFERROR('Retirement Calculations'!Q82,\"\")","v":""}]
[null,null,{"$f":"IFERROR('Retirement Calculations'!A83,\"\")","v":""},{"$f":"IFERROR('Retirement Calculations'!B83,\"\")","v":""},{"$f":"IFERROR('Retirement Calculations'!C83,\"\")","v":""},{"$f":"IFERROR('Retirement Calculations'!D83,\"\")","v":""},{"$f":"IFERROR('Retirement Calculations'!E83,\"\")","v":""},{"$f":"IFERROR('Retirement Calculations'!G83,\"\")","v":""},{"$f":"IFERROR('Retirement Calculations'!H83,\"\")","v":""},{"$f":"IFERROR('Retirement Calculations'!I83,\"\")","v":""},{"$f":"IFERROR('Retirement Calculations'!J83,\"\")","v":""},{"$f":"IFERROR('Retirement Calculations'!L83,\"\")","v":""},{"$f":"IFERROR('Retirement Calculations'!M83,\"\")","v":""},{"$f":"IFERROR('Retirement Calculations'!O83,\"\")","v":""},{"$f":"IFERROR('Retirement Calculations'!P83,\"\")","v":""},{"$f":"IFERROR('Retirement Calculations'!Q83,\"\")","v":""}]
[null,null,{"$f":"IFERROR('Retirement Calculations'!A84,\"\")","v":""},{"$f":"IFERROR('Retirement Calculations'!B84,\"\")","v":""},{"$f":"IFERROR('Retirement Calculations'!C84,\"\")","v":""},{"$f":"IFERROR('Retirement Calculations'!D84,\"\")","v":""},{"$f":"IFERROR('Retirement Calculations'!E84,\"\")","v":""},{"$f":"IFERROR('Retirement Calculations'!G84,\"\")","v":""},{"$f":"IFERROR('Retirement Calculations'!H84,\"\")","v":""},{"$f":"IFERROR('Retirement Calculations'!I84,\"\")","v":""},{"$f":"IFERROR('Retirement Calculations'!J84,\"\")","v":""},{"$f":"IFERROR('Retirement Calculations'!L84,\"\")","v":""},{"$f":"IFERROR('Retirement Calculations'!M84,\"\")","v":""},{"$f":"IFERROR('Retirement Calculations'!O84,\"\")","v":""},{"$f":"IFERROR('Retirement Calculations'!P84,\"\")","v":""},{"$f":"IFERROR('Retirement Calculations'!Q84,\"\")","v":""}]
[null,null,{"$f":"IFERROR('Retirement Calculations'!A85,\"\")","v":""},{"$f":"IFERROR('Retirement Calculations'!B85,\"\")","v":""},{"$f":"IFERROR('Retirement Calculations'!C85,\"\")","v":""},{"$f":"IFERROR('Retirement Calculations'!D85,\"\")","v":""},{"$f":"IFERROR('Retirement Calculations'!E85,\"\")","v":""},{"$f":"IFERROR('Retirement Calculations'!G85,\"\")","v":""},{"$f":"IFERROR('Retirement Calculations'!H85,\"\")","v":""},{"$f":"IFERROR('Retirement Calculations'!I85,\"\")","v":""},{"$f":"IFERROR('Retirement Calculations'!J85,\"\")","v":""},{"$f":"IFERROR('Retirement Calculations'!L85,\"\")","v":""},{"$f":"IFERROR('Retirement Calculations'!M85,\"\")","v":""},{"$f":"IFERROR('Retirement Calculations'!O85,\"\")","v":""},{"$f":"IFERROR('Retirement Calculations'!P85,\"\")","v":""},{"$f":"IFERROR('Retirement Calculations'!Q85,\"\")","v":""}]
[null,null,{"$f":"IFERROR('Retirement Calculations'!A86,\"\")","v":""},{"$f":"IFERROR('Retirement Calculations'!B86,\"\")","v":""},{"$f":"IFERROR('Retirement Calculations'!C86,\"\")","v":""},{"$f":"IFERROR('Retirement Calculations'!D86,\"\")","v":""},{"$f":"IFERROR('Retirement Calculations'!E86,\"\")","v":""},{"$f":"IFERROR('Retirement Calculations'!G86,\"\")","v":""},{"$f":"IFERROR('Retirement Calculations'!H86,\"\")","v":""},{"$f":"IFERROR('Retirement Calculations'!I86,\"\")","v":""},{"$f":"IFERROR('Retirement Calculations'!J86,\"\")","v":""},{"$f":"IFERROR('Retirement Calculations'!L86,\"\")","v":""},{"$f":"IFERROR('Retirement Calculations'!M86,\"\")","v":""},{"$f":"IFERROR('Retirement Calculations'!O86,\"\")","v":""},{"$f":"IFERROR('Retirement Calculations'!P86,\"\")","v":""},{"$f":"IFERROR('Retirement Calculations'!Q86,\"\")","v":""}]
[null,null,{"$f":"IFERROR('Retirement Calculations'!A87,\"\")","v":""},{"$f":"IFERROR('Retirement Calculations'!B87,\"\")","v":""},{"$f":"IFERROR('Retirement Calculations'!C87,\"\")","v":""},{"$f":"IFERROR('Retirement Calculations'!D87,\"\")","v":""},{"$f":"IFERROR('Retirement Calculations'!E87,\"\")","v":""},{"$f":"IFERROR('Retirement Calculations'!G87,\"\")","v":""},{"$f":"IFERROR('Retirement Calculations'!H87,\"\")","v":""},{"$f":"IFERROR('Retirement Calculations'!I87,\"\")","v":""},{"$f":"IFERROR('Retirement Calculations'!J87,\"\")","v":""},{"$f":"IFERROR('Retirement Calculations'!L87,\"\")","v":""},{"$f":"IFERROR('Retirement Calculations'!M87,\"\")","v":""},{"$f":"IFERROR('Retirement Calculations'!O87,\"\")","v":""},{"$f":"IFERROR('Retirement Calculations'!P87,\"\")","v":""},{"$f":"IFERROR('Retirement Calculations'!Q87,\"\")","v":""}]
[null,null,{"$f":"IFERROR('Retirement Calculations'!A88,\"\")","v":""},{"$f":"IFERROR('Retirement Calculations'!B88,\"\")","v":""},{"$f":"IFERROR('Retirement Calculations'!C88,\"\")","v":""},{"$f":"IFERROR('Retirement Calculations'!D88,\"\")","v":""},{"$f":"IFERROR('Retirement Calculations'!E88,\"\")","v":""},{"$f":"IFERROR('Retirement Calculations'!G88,\"\")","v":""},{"$f":"IFERROR('Retirement Calculations'!H88,\"\")","v":""},{"$f":"IFERROR('Retirement Calculations'!I88,\"\")","v":""},{"$f":"IFERROR('Retirement Calculations'!J88,\"\")","v":""},{"$f":"IFERROR('Retirement Calculations'!L88,\"\")","v":""},{"$f":"IFERROR('Retirement Calculations'!M88,\"\")","v":""},{"$f":"IFERROR('Retirement Calculations'!O88,\"\")","v":""},{"$f":"IFERROR('Retirement Calculations'!P88,\"\")","v":""},{"$f":"IFERROR('Retirement Calculations'!Q88,\"\")","v":""}]
[null,null,{"$f":"IFERROR('Retirement Calculations'!A89,\"\")","v":""},{"$f":"IFERROR('Retirement Calculations'!B89,\"\")","v":""},{"$f":"IFERROR('Retirement Calculations'!C89,\"\")","v":""},{"$f":"IFERROR('Retirement Calculations'!D89,\"\")","v":""},{"$f":"IFERROR('Retirement Calculations'!E89,\"\")","v":""},{"$f":"IFERROR('Retirement Calculations'!G89,\"\")","v":""},{"$f":"IFERROR('Retirement Calculations'!H89,\"\")","v":""},{"$f":"IFERROR('Retirement Calculations'!I89,\"\")","v":""},{"$f":"IFERROR('Retirement Calculations'!J89,\"\")","v":""},{"$f":"IFERROR('Retirement Calculations'!L89,\"\")","v":""},{"$f":"IFERROR('Retirement Calculations'!M89,\"\")","v":""},{"$f":"IFERROR('Retirement Calculations'!O89,\"\")","v":""},{"$f":"IFERROR('Retirement Calculations'!P89,\"\")","v":""},{"$f":"IFERROR('Retirement Calculations'!Q89,\"\")","v":""}]
[null,null,{"$f":"IFERROR('Retirement Calculations'!A90,\"\")","v":""},{"$f":"IFERROR('Retirement Calculations'!B90,\"\")","v":""},{"$f":"IFERROR('Retirement Calculations'!C90,\"\")","v":""},{"$f":"IFERROR('Retirement Calculations'!D90,\"\")","v":""},{"$f":"IFERROR('Retirement Calculations'!E90,\"\")","v":""},{"$f":"IFERROR('Retirement Calculations'!G90,\"\")","v":""},{"$f":"IFERROR('Retirement Calculations'!H90,\"\")","v":""},{"$f":"IFERROR('Retirement Calculations'!I90,\"\")","v":""},{"$f":"IFERROR('Retirement Calculations'!J90,\"\")","v":""},{"$f":"IFERROR('Retirement Calculations'!L90,\"\")","v":""},{"$f":"IFERROR('Retirement Calculations'!M90,\"\")","v":""},{"$f":"IFERROR('Retirement Calculations'!O90,\"\")","v":""},{"$f":"IFERROR('Retirement Calculations'!P90,\"\")","v":""},{"$f":"IFERROR('Retirement Calculations'!Q90,\"\")","v":""}]
[null,null,{"$f":"IFERROR('Retirement Calculations'!A91,\"\")","v":""},{"$f":"IFERROR('Retirement Calculations'!B91,\"\")","v":""},{"$f":"IFERROR('Retirement Calculations'!C91,\"\")","v":""},{"$f":"IFERROR('Retirement Calculations'!D91,\"\")","v":""},{"$f":"IFERROR('Retirement Calculations'!E91,\"\")","v":""},{"$f":"IFERROR('Retirement Calculations'!G91,\"\")","v":""},{"$f":"IFERROR('Retirement Calculations'!H91,\"\")","v":""},{"$f":"IFERROR('Retirement Calculations'!I91,\"\")","v":""},{"$f":"IFERROR('Retirement Calculations'!J91,\"\")","v":""},{"$f":"IFERROR('Retirement Calculations'!L91,\"\")","v":""},{"$f":"IFERROR('Retirement Calculations'!M91,\"\")","v":""},{"$f":"IFERROR('Retirement Calculations'!O91,\"\")","v":""},{"$f":"IFERROR('Retirement Calculations'!P91,\"\")","v":""},{"$f":"IFERROR('Retirement Calculations'!Q91,\"\")","v":""}]
[null,null,{"$f":"IFERROR('Retirement Calculations'!A92,\"\")","v":""},{"$f":"IFERROR('Retirement Calculations'!B92,\"\")","v":""},{"$f":"IFERROR('Retirement Calculations'!C92,\"\")","v":""},{"$f":"IFERROR('Retirement Calculations'!D92,\"\")","v":""},{"$f":"IFERROR('Retirement Calculations'!E92,\"\")","v":""},{"$f":"IFERROR('Retirement Calculations'!G92,\"\")","v":""},{"$f":"IFERROR('Retirement Calculations'!H92,\"\")","v":""},{"$f":"IFERROR('Retirement Calculations'!I92,\"\")","v":""},{"$f":"IFERROR('Retirement Calculations'!J92,\"\")","v":""},{"$f":"IFERROR('Retirement Calculations'!L92,\"\")","v":""},{"$f":"IFERROR('Retirement Calculations'!M92,\"\")","v":""},{"$f":"IFERROR('Retirement Calculations'!O92,\"\")","v":""},{"$f":"IFERROR('Retirement Calculations'!P92,\"\")","v":""},{"$f":"IFERROR('Retirement Calculations'!Q92,\"\")","v":""}]
[null,null,{"$f":"IFERROR('Retirement Calculations'!A93,\"\")","v":""},{"$f":"IFERROR('Retirement Calculations'!B93,\"\")","v":""},{"$f":"IFERROR('Retirement Calculations'!C93,\"\")","v":""},{"$f":"IFERROR('Retirement Calculations'!D93,\"\")","v":""},{"$f":"IFERROR('Retirement Calculations'!E93,\"\")","v":""},{"$f":"IFERROR('Retirement Calculations'!G93,\"\")","v":""},{"$f":"IFERROR('Retirement Calculations'!H93,\"\")","v":""},{"$f":"IFERROR('Retirement Calculations'!I93,\"\")","v":""},{"$f":"IFERROR('Retirement Calculations'!J93,\"\")","v":""},{"$f":"IFERROR('Retirement Calculations'!L93,\"\")","v":""},{"$f":"IFERROR('Retirement Calculations'!M93,\"\")","v":""},{"$f":"IFERROR('Retirement Calculations'!O93,\"\")","v":""},{"$f":"IFERROR('Retirement Calculations'!P93,\"\")","v":""},{"$f":"IFERROR('Retirement Calculations'!Q93,\"\")","v":""}]
[null,null,{"$f":"IFERROR('Retirement Calculations'!A94,\"\")","v":""},{"$f":"IFERROR('Retirement Calculations'!B94,\"\")","v":""},{"$f":"IFERROR('Retirement Calculations'!C94,\"\")","v":""},{"$f":"IFERROR('Retirement Calculations'!D94,\"\")","v":""},{"$f":"IFERROR('Retirement Calculations'!E94,\"\")","v":""},{"$f":"IFERROR('Retirement Calculations'!G94,\"\")","v":""},{"$f":"IFERROR('Retirement Calculations'!H94,\"\")","v":""},{"$f":"IFERROR('Retirement Calculations'!I94,\"\")","v":""},{"$f":"IFERROR('Retirement Calculations'!J94,\"\")","v":""},{"$f":"IFERROR('Retirement Calculations'!L94,\"\")","v":""},{"$f":"IFERROR('Retirement Calculations'!M94,\"\")","v":""},{"$f":"IFERROR('Retirement Calculations'!O94,\"\")","v":""},{"$f":"IFERROR('Retirement Calculations'!P94,\"\")","v":""},{"$f":"IFERROR('Retirement Calculations'!Q94,\"\")","v":""}]
[null,null,{"$f":"IFERROR('Retirement Calculations'!A95,\"\")","v":""},{"$f":"IFERROR('Retirement Calculations'!B95,\"\")","v":""},{"$f":"IFERROR('Retirement Calculations'!C95,\"\")","v":""},{"$f":"IFERROR('Retirement Calculations'!D95,\"\")","v":""},{"$f":"IFERROR('Retirement Calculations'!E95,\"\")","v":""},{"$f":"IFERROR('Retirement Calculations'!G95,\"\")","v":""},{"$f":"IFERROR('Retirement Calculations'!H95,\"\")","v":""},{"$f":"IFERROR('Retirement Calculations'!I95,\"\")","v":""},{"$f":"IFERROR('Retirement Calculations'!J95,\"\")","v":""},{"$f":"IFERROR('Retirement Calculations'!L95,\"\")","v":""},{"$f":"IFERROR('Retirement Calculations'!M95,\"\")","v":""},{"$f":"IFERROR('Retirement Calculations'!O95,\"\")","v":""},{"$f":"IFERROR('Retirement Calculations'!P95,\"\")","v":""},{"$f":"IFERROR('Retirement Calculations'!Q95,\"\")","v":""}]
[null,null,{"$f":"IFERROR('Retirement Calculations'!A96,\"\")","v":""},{"$f":"IFERROR('Retirement Calculations'!B96,\"\")","v":""},{"$f":"IFERROR('Retirement Calculations'!C96,\"\")","v":""},{"$f":"IFERROR('Retirement Calculations'!D96,\"\")","v":""},{"$f":"IFERROR('Retirement Calculations'!E96,\"\")","v":""},{"$f":"IFERROR('Retirement Calculations'!G96,\"\")","v":""},{"$f":"IFERROR('Retirement Calculations'!H96,\"\")","v":""},{"$f":"IFERROR('Retirement Calculations'!I96,\"\")","v":""},{"$f":"IFERROR('Retirement Calculations'!J96,\"\")","v":""},{"$f":"IFERROR('Retirement Calculations'!L96,\"\")","v":""},{"$f":"IFERROR('Retirement Calculations'!M96,\"\")","v":""},{"$f":"IFERROR('Retirement Calculations'!O96,\"\")","v":""},{"$f":"IFERROR('Retirement Calculations'!P96,\"\")","v":""},{"$f":"IFERROR('Retirement Calculations'!Q96,\"\")","v":""}]
[null,null,{"$f":"IFERROR('Retirement Calculations'!A97,\"\")","v":""},{"$f":"IFERROR('Retirement Calculations'!B97,\"\")","v":""},{"$f":"IFERROR('Retirement Calculations'!C97,\"\")","v":""},{"$f":"IFERROR('Retirement Calculations'!D97,\"\")","v":""},{"$f":"IFERROR('Retirement Calculations'!E97,\"\")","v":""},{"$f":"IFERROR('Retirement Calculations'!G97,\"\")","v":""},{"$f":"IFERROR('Retirement Calculations'!H97,\"\")","v":""},{"$f":"IFERROR('Retirement Calculations'!I97,\"\")","v":""},{"$f":"IFERROR('Retirement Calculations'!J97,\"\")","v":""},{"$f":"IFERROR('Retirement Calculations'!L97,\"\")","v":""},{"$f":"IFERROR('Retirement Calculations'!M97,\"\")","v":""},{"$f":"IFERROR('Retirement Calculations'!O97,\"\")","v":""},{"$f":"IFERROR('Retirement Calculations'!P97,\"\")","v":""},{"$f":"IFERROR('Retirement Calculations'!Q97,\"\")","v":""}]
[null,null,{"$f":"IFERROR('Retirement Calculations'!A98,\"\")","v":""},{"$f":"IFERROR('Retirement Calculations'!B98,\"\")","v":""},{"$f":"IFERROR('Retirement Calculations'!C98,\"\")","v":""},{"$f":"IFERROR('Retirement Calculations'!D98,\"\")","v":""},{"$f":"IFERROR('Retirement Calculations'!E98,\"\")","v":""},{"$f":"IFERROR('Retirement Calculations'!G98,\"\")","v":""},{"$f":"IFERROR('Retirement Calculations'!H98,\"\")","v":""},{"$f":"IFERROR('Retirement Calculations'!I98,\"\")","v":""},{"$f":"IFERROR('Retirement Calculations'!J98,\"\")","v":""},{"$f":"IFERROR('Retirement Calculations'!L98,\"\")","v":""},{"$f":"IFERROR('Retirement Calculations'!M98,\"\")","v":""},{"$f":"IFERROR('Retirement Calculations'!O98,\"\")","v":""},{"$f":"IFERROR('Retirement Calculations'!P98,\"\")","v":""},{"$f":"IFERROR('Retirement Calculations'!Q98,\"\")","v":""}]
[null,null,{"$f":"IFERROR('Retirement Calculations'!A99,\"\")","v":""},{"$f":"IFERROR('Retirement Calculations'!B99,\"\")","v":""},{"$f":"IFERROR('Retirement Calculations'!C99,\"\")","v":""},{"$f":"IFERROR('Retirement Calculations'!D99,\"\")","v":""},{"$f":"IFERROR('Retirement Calculations'!E99,\"\")","v":""},{"$f":"IFERROR('Retirement Calculations'!G99,\"\")","v":""},{"$f":"IFERROR('Retirement Calculations'!H99,\"\")","v":""},{"$f":"IFERROR('Retirement Calculations'!I99,\"\")","v":""},{"$f":"IFERROR('Retirement Calculations'!J99,\"\")","v":""},{"$f":"IFERROR('Retirement Calculations'!L99,\"\")","v":""},{"$f":"IFERROR('Retirement Calculations'!M99,\"\")","v":""},{"$f":"IFERROR('Retirement Calculations'!O99,\"\")","v":""},{"$f":"IFERROR('Retirement Calculations'!P99,\"\")","v":""},{"$f":"IFERROR('Retirement Calculations'!Q99,\"\")","v":""}]
[null,null,{"$f":"IFERROR('Retirement Calculations'!A100,\"\")","v":""},{"$f":"IFERROR('Retirement Calculations'!B100,\"\")","v":""},{"$f":"IFERROR('Retirement Calculations'!C100,\"\")","v":""},{"$f":"IFERROR('Retirement Calculations'!D100,\"\")","v":""},{"$f":"IFERROR('Retirement Calculations'!E100,\"\")","v":""},{"$f":"IFERROR('Retirement Calculations'!G100,\"\")","v":""},{"$f":"IFERROR('Retirement Calculations'!H100,\"\")","v":""},{"$f":"IFERROR('Retirement Calculations'!I100,\"\")","v":""},{"$f":"IFERROR('Retirement Calculations'!J100,\"\")","v":""},{"$f":"IFERROR('Retirement Calculations'!L100,\"\")","v":""},{"$f":"IFERROR('Retirement Calculations'!M100,\"\")","v":""},{"$f":"IFERROR('Retirement Calculations'!O100,\"\")","v":""},{"$f":"IFERROR('Retirement Calculations'!P100,\"\")","v":""},{"$f":"IFERROR('Retirement Calculations'!Q100,\"\")","v":""}]
[null,null,{"$f":"IFERROR('Retirement Calculations'!A101,\"\")","v":""},{"$f":"IFERROR('Retirement Calculations'!B101,\"\")","v":""},{"$f":"IFERROR('Retirement Calculations'!C101,\"\")","v":""},{"$f":"IFERROR('Retirement Calculations'!D101,\"\")","v":""},{"$f":"IFERROR('Retirement Calculations'!E101,\"\")","v":""},{"$f":"IFERROR('Retirement Calculations'!G101,\"\")","v":""},{"$f":"IFERROR('Retirement Calculations'!H101,\"\")","v":""},{"$f":"IFERROR('Retirement Calculations'!I101,\"\")","v":""},{"$f":"IFERROR('Retirement Calculations'!J101,\"\")","v":""},{"$f":"IFERROR('Retirement Calculations'!L101,\"\")","v":""},{"$f":"IFERROR('Retirement Calculations'!M101,\"\")","v":""},{"$f":"IFERROR('Retirement Calculations'!O101,\"\")","v":""},{"$f":"IFERROR('Retirement Calculations'!P101,\"\")","v":""},{"$f":"IFERROR('Retirement Calculations'!Q101,\"\")","v":""}]
[null,null,{"$f":"IFERROR('Retirement Calculations'!A102,\"\")","v":""},{"$f":"IFERROR('Retirement Calculations'!B102,\"\")","v":""},{"$f":"IFERROR('Retirement Calculations'!C102,\"\")","v":""},{"$f":"IFERROR('Retirement Calculations'!D102,\"\")","v":""},{"$f":"IFERROR('Retirement Calculations'!E102,\"\")","v":""},{"$f":"IFERROR('Retirement Calculations'!G102,\"\")","v":""},{"$f":"IFERROR('Retirement Calculations'!H102,\"\")","v":""},{"$f":"IFERROR('Retirement Calculations'!I102,\"\")","v":""},{"$f":"IFERROR('Retirement Calculations'!J102,\"\")","v":""},{"$f":"IFERROR('Retirement Calculations'!L102,\"\")","v":""},{"$f":"IFERROR('Retirement Calculations'!M102,\"\")","v":""},{"$f":"IFERROR('Retirement Calculations'!O102,\"\")","v":""},{"$f":"IFERROR('Retirement Calculations'!P102,\"\")","v":""},{"$f":"IFERROR('Retirement Calculations'!Q102,\"\")","v":""}]
[null,null,{"$f":"IFERROR('Retirement Calculations'!A103,\"\")","v":""},{"$f":"IFERROR('Retirement Calculations'!B103,\"\")","v":""},{"$f":"IFERROR('Retirement Calculations'!C103,\"\")","v":""},{"$f":"IFERROR('Retirement Calculations'!D103,\"\")","v":""},{"$f":"IFERROR('Retirement Calculations'!E103,\"\")","v":""},{"$f":"IFERROR('Retirement Calculations'!G103,\"\")","v":""},{"$f":"IFERROR('Retirement Calculations'!H103,\"\")","v":""},{"$f":"IFERROR('Retirement Calculations'!I103,\"\")","v":""},{"$f":"IFERROR('Retirement Calculations'!J103,\"\")","v":""},{"$f":"IFERROR('Retirement Calculations'!L103,\"\")","v":""},{"$f":"IFERROR('Retirement Calculations'!M103,\"\")","v":""},{"$f":"IFERROR('Retirement Calculations'!O103,\"\")","v":""},{"$f":"IFERROR('Retirement Calculations'!P103,\"\")","v":""},{"$f":"IFERROR('Retirement Calculations'!Q103,\"\")","v":""}]
[null,null,{"$f":"IFERROR('Retirement Calculations'!A104,\"\")","v":""},{"$f":"IFERROR('Retirement Calculations'!B104,\"\")","v":""},{"$f":"IFERROR('Retirement Calculations'!C104,\"\")","v":""},{"$f":"IFERROR('Retirement Calculations'!D104,\"\")","v":""},{"$f":"IFERROR('Retirement Calculations'!E104,\"\")","v":""},{"$f":"IFERROR('Retirement Calculations'!G104,\"\")","v":""},{"$f":"IFERROR('Retirement Calculations'!H104,\"\")","v":""},{"$f":"IFERROR('Retirement Calculations'!I104,\"\")","v":""},{"$f":"IFERROR('Retirement Calculations'!J104,\"\")","v":""},{"$f":"IFERROR('Retirement Calculations'!L104,\"\")","v":""},{"$f":"IFERROR('Retirement Calculations'!M104,\"\")","v":""},{"$f":"IFERROR('Retirement Calculations'!O104,\"\")","v":""},{"$f":"IFERROR('Retirement Calculations'!P104,\"\")","v":""},{"$f":"IFERROR('Retirement Calculations'!Q104,\"\")","v":""}]
[null,null,{"$f":"IFERROR('Retirement Calculations'!A105,\"\")","v":""},{"$f":"IFERROR('Retirement Calculations'!B105,\"\")","v":""},{"$f":"IFERROR('Retirement Calculations'!C105,\"\")","v":""},{"$f":"IFERROR('Retirement Calculations'!D105,\"\")","v":""},{"$f":"IFERROR('Retirement Calculations'!E105,\"\")","v":""},{"$f":"IFERROR('Retirement Calculations'!G105,\"\")","v":""},{"$f":"IFERROR('Retirement Calculations'!H105,\"\")","v":""},{"$f":"IFERROR('Retirement Calculations'!I105,\"\")","v":""},{"$f":"IFERROR('Retirement Calculations'!J105,\"\")","v":""},{"$f":"IFERROR('Retirement Calculations'!L105,\"\")","v":""},{"$f":"IFERROR('Retirement Calculations'!M105,\"\")","v":""},{"$f":"IFERROR('Retirement Calculations'!O105,\"\")","v":""},{"$f":"IFERROR('Retirement Calculations'!P105,\"\")","v":""},{"$f":"IFERROR('Retirement Calculations'!Q105,\"\")","v":""}]
[null,null,{"$f":"IFERROR('Retirement Calculations'!A106,\"\")","v":""},{"$f":"IFERROR('Retirement Calculations'!B106,\"\")","v":""},{"$f":"IFERROR('Retirement Calculations'!C106,\"\")","v":""},{"$f":"IFERROR('Retirement Calculations'!D106,\"\")","v":""},{"$f":"IFERROR('Retirement Calculations'!E106,\"\")","v":""},{"$f":"IFERROR('Retirement Calculations'!G106,\"\")","v":""},{"$f":"IFERROR('Retirement Calculations'!H106,\"\")","v":""},{"$f":"IFERROR('Retirement Calculations'!I106,\"\")","v":""},{"$f":"IFERROR('Retirement Calculations'!J106,\"\")","v":""},{"$f":"IFERROR('Retirement Calculations'!L106,\"\")","v":""},{"$f":"IFERROR('Retirement Calculations'!M106,\"\")","v":""},{"$f":"IFERROR('Retirement Calculations'!O106,\"\")","v":""},{"$f":"IFERROR('Retirement Calculations'!P106,\"\")","v":""},{"$f":"IFERROR('Retirement Calculations'!Q106,\"\")","v":""}]
[null,null,{"$f":"IFERROR('Retirement Calculations'!A107,\"\")","v":""},{"$f":"IFERROR('Retirement Calculations'!B107,\"\")","v":""},{"$f":"IFERROR('Retirement Calculations'!C107,\"\")","v":""},{"$f":"IFERROR('Retirement Calculations'!D107,\"\")","v":""},{"$f":"IFERROR('Retirement Calculations'!E107,\"\")","v":""},{"$f":"IFERROR('Retirement Calculations'!G107,\"\")","v":""},{"$f":"IFERROR('Retirement Calculations'!H107,\"\")","v":""},{"$f":"IFERROR('Retirement Calculations'!I107,\"\")","v":""},{"$f":"IFERROR('Retirement Calculations'!J107,\"\")","v":""},{"$f":"IFERROR('Retirement Calculations'!L107,\"\")","v":""},{"$f":"IFERROR('Retirement Calculations'!M107,\"\")","v":""},{"$f":"IFERROR('Retirement Calculations'!O107,\"\")","v":""},{"$f":"IFERROR('Retirement Calculations'!P107,\"\")","v":""},{"$f":"IFERROR('Retirement Calculations'!Q107,\"\")","v":""}]
[]
[]
[null,null,"Row Labels","Sum of Savings Balance","Sum of Annual Income"]
[null,null,65,3000000,220000]
[null,null,66,3024300,222972]
[null,null,67,3047832.93,225953.31719999999]
[null,null,68,3070539.465843,228942.37863371999]
[null,null,69,3092357.5530940895,231937.51812376361]
[null,null,70,3113222.2982476917,234936.97224990767]
[null,null,71,3133065.8558569858,237938.87616067944]
[null,null,72,3151817.3114371821,240941.25922241528]
[null,null,73,3169402.5599890356,243942.04049978801]
[null,null,74,3185744.1799834673,246939.0240615698]
[null,null,75,3200761.3026424795,249929.8941051749]
[null,null,76,3214369.476345655,252912.20989329144]
[null,null,77,3226480.5259854202,255883.40049567135]
[null,null,78,3237002.4070879426,258840.75932889734]
[null,null,79,3245839.0545099718,261781.43848668612]
[null,null,80,3252890.2255151789,264702.4428530201]
[null,null,81,3258051.3370265071,267600.62399012153]
[null,null,82,3261213.2968437984,270472.67379299441]
[null,null,83,3262262.3286084291,273315.11790196452]
[null,null,84,3261079.7902889065,276124.30886433611]
[null,null,85,3257541.9859532951,278896.41903596732]
[null,null,86,3251519.9705860089,281627.43321323255]
[null,null,87,3242879.3476978461,284313.14098550193]
[null,null,88,3231480.0594691946,286949.12879790756]
[null,null,89,3217176.1691570599,289530.77171380498]
[null,null,90,3199815.635486979,292053.22486595222]
[null,null,"Grand Total",82808645.067656115,6679436.3744763685]

{"sheet":"Retirement Calculations","index":1,"n_rows":107,"n_cols":17,"rows_kept":107,"cut":false,"hidden":true,"merged":[[0,1,0,4],[0,11,0,12],[0,6,0,9]]}
[null,"Investments",null,null,null,null,"Annual Income",null,null,null,null,"Taxes"]
["Age","Savings","Investment Fees","Return on Investments","Net Investments",null,"Annual Withdrawal","Pension","SSA","Total Income",null,"Federal Income Taxes","State Income Taxes",null,"Income-Taxes","Annual Expenses","Net Income"]
[{"$f":"'Retirement Worksheet'!B6","v":65},{"$f":"'Retirement Worksheet'!B7","v":3000000},{"$f":"B3*'Retirement Worksheet'!$B$11","v":7500},{"$f":"B3*'Retirement Worksheet'!$B$16","v":150000},{"$f":"B3-C3+D3","v":3142500},null,{"$f":"B3*'Retirement Worksheet'!$B$8","v":120000},{"$f":"'Retirement Worksheet'!$B$13","v":70000},{"$f":"'Retirement Worksheet'!B12","v":30000},{"$f":"SUM(G3:I3)","v":220000},null,{"$f":"SUM('Retirement Calculations'!G3:I3)*'Retirement Worksheet'!$B$9","v":55000},{"$f":"SUM(G3:I3)*'Retirement Worksheet'!$B$10","v":13200},null,{"$f":"SUM(G3:I3)-SUM(L3:M3)","v":151800},{"$f":"'Retirement Worksheet'!$B$14","v":150000},{"$f":"O3-P3","v":1800}]
[{"$f":"IF(A3<'Retirement Worksheet'!$B$5,A3+1,NA())","v":66},{"$f":"IF(ISERROR(A4),NA(),E3-G3+Q3)","v":3024300},{"$f":"B4*'Retirement Worksheet'!$B$11","v":7560.75},{"$f":"B4*'Retirement Worksheet'!$B$16","v":151215},{"$f":"B4-C4+D4","v":3167954.25},null,{"$f":"B4*'Retirement Worksheet'!$B$8","v":120972},{"$f":"IF(ISERROR(A4),NA(),H3*(1+'Retirement Worksheet'!$B$15))","v":71400},{"$f":"IF(ISERROR(A4),NA(),I3*(1+'Retirement Worksheet'!$B$15))","v":30600},{"$f":"SUM(G4:I4)","v":222972},null,{"$f":"SUM('Retirement Calculations'!G4:I4)*'Retirement Worksheet'!$B$9","v":55743},{"$f":"SUM(G4:I4)*'Retirement Worksheet'!$B$10","v":13378.32},null,{"$f":"SUM(G4:I4)-SUM(L4:M4)","v":153850.68},{"$f":"IF(ISERROR(A4),NA(),P3*(1+'Retirement Worksheet'!$B$15))","v":153000},{"$f":"O4-P4","v":850.67999999999302}]
[{"$f":"IF(A4<'Retirement Worksheet'!$B$5,A4+1,NA())","v":67},{"$f":"IF(ISERROR(A5),NA(),E4-G4+Q4)","v":3047832.93},{"$f":"B5*'Retirement Worksheet'!$B$11","v":7619.5823250000003},{"$f":"B5*'Retirement Worksheet'!$B$16","v":152391.6465},{"$f":"B5-C5+D5","v":3192604.9941750001},null,{"$f":"B5*'Retirement Worksheet'!$B$8","v":121913.3172},{"$f":"IF(ISERROR(A5),NA(),H4*(1+'Retirement Worksheet'!$B$15))","v":72828},{"$f":"IF(ISERROR(A5),NA(),I4*(1+'Retirement Worksheet'!$B$15))","v":31212},225953.31719999999,null,{"$f":"SUM('Retirement Calculations'!G5:I5)*'Retirement Worksheet'!$B$9","v":56488.329299999998},{"$f":"SUM(G5:I5)*'Retirement Worksheet'!$B$10","v":13557.199031999999},null,{"$f":"SUM(G5:I5)-SUM(L5:M5)","v":155907.78886799997},{"$f":"IF(ISERROR(A5),NA(),P4*(1+'Retirement Worksheet'!$B$15))","v":156060},{"$f":"O5-P5","v":-152.21113200002583}]
[{"$f":"IF(A5<'Retirement Worksheet'!$B$5,A5+1,NA())","v":68},3070539.465843,{"$f":"B6*'Retirement Worksheet'!$B$11","v":7676.3486646074998},{"$f":"B6*'Retirement Worksheet'!$B$16","v":153526.97329215001},{"$f":"B6-C6+D6","v":3216390.0904705427},null,{"$f":"B6*'Retirement Worksheet'!$B$8","v":122821.57863372},{"$f":"IF(ISERROR(A6),NA(),H5*(1+'Retirement Worksheet'!$B$15))","v":74284.56},{"$f":"IF(ISERROR(A6),NA(),I5*(1+'Retirement Worksheet'!$B$15))","v":31836.240000000002},228942.37863371999,null,{"$f":"SUM('Retirement Calculations'!G6:I6)*'Retirement Worksheet'!$B$9","v":57235.594658429996},{"$f":"SUM(G6:I6)*'Retirement Worksheet'!$B$10","v":13736.542718023198},null,{"$f":"SUM(G6:I6)-SUM(L6:M6)","v":157970.24125726678},{"$f":"IF(ISERROR(A6),NA(),P5*(1+'Retirement Worksheet'!$B$15))","v":159181.20000000001},{"$f":"O6-P6","v":-1210.9587427332299}]
[{"$f":"IF(A6<'Retirement Worksheet'!$B$5,A6+1,NA())","v":69},3092357.5530940895,{"$f":"B7*'Retirement Worksheet'!$B$11","v":7730.893882735224},{"$f":"B7*'Retirement Worksheet'!$B$16","v":154617.87765470447},{"$f":"B7-C7+D7","v":3239244.5368660586},null,{"$f":"B7*'Retirement Worksheet'!$B$8","v":123694.30212376358},{"$f":"IF(ISERROR(A7),NA(),H6*(1+'Retirement Worksheet'!$B$15))","v":75770.251199999999},{"$f":"IF(ISERROR(A7),NA(),I6*(1+'Retirement Worksheet'!$B$15))","v":32472.964800000002},231937.51812376361,null,{"$f":"SUM('Retirement Calculations'!G7:I7)*'Retirement Worksheet'!$B$9","v":57984.379530940903},{"$f":"SUM(G7:I7)*'Retirement Worksheet'!$B$10","v":13916.251087425817},null,{"$f":"SUM(G7:I7)-SUM(L7:M7)","v":160036.88750539691},{"$f":"IF(ISERROR(A7),NA(),P6*(1+'Retirement Worksheet'!$B$15))","v":162364.82400000002},{"$f":"O7-P7","v":-2327.9364946031128}]
[{"$f":"IF(A7<'Retirement Worksheet'!$B$5,A7+1,NA())","v":70},3113222.2982476917,{"$f":"B8*'Retirement Worksheet'!$B$11","v":7783.0557456192291},{"$f":"B8*'Retirement Worksheet'!$B$16","v":155661.1149123846},3261100.357414457,null,{"$f":"B8*'Retirement Worksheet'!$B$8","v":124528.89192990767},{"$f":"IF(ISERROR(A8),NA(),H7*(1+'Retirement Worksheet'!$B$15))","v":77285.656224000006},{"$f":"IF(ISERROR(A8),NA(),I7*(1+'Retirement Worksheet'!$B$15))","v":33122.424096000002},234936.97224990767,null,{"$f":"SUM('Retirement Calculations'!G8:I8)*'Retirement Worksheet'!$B$9","v":58734.243062476919},{"$f":"SUM(G8:I8)*'Retirement Worksheet'!$B$10","v":14096.218334994461},null,162106.5108524363,{"$f":"IF(ISERROR(A8),NA(),P7*(1+'Retirement Worksheet'!$B$15))","v":165612.12048000001},-3505.6096275637101]
[{"$f":"IF(A8<'Retirement Worksheet'!$B$5,A8+1,NA())","v":71},3133065.8558569858,{"$f":"B9*'Retirement Worksheet'!$B$11","v":7832.6646396424649},{"$f":"B9*'Retirement Worksheet'!$B$16","v":156653.2927928493},3281886.4840101926,null,{"$f":"B9*'Retirement Worksheet'!$B$8","v":125322.63423427944},{"$f":"IF(ISERROR(A9),NA(),H8*(1+'Retirement Worksheet'!$B$15))","v":78831.369348480002},{"$f":"IF(ISERROR(A9),NA(),I8*(1+'Retirement Worksheet'!$B$15))","v":33784.872577920003},237938.87616067944,null,{"$f":"SUM('Retirement Calculations'!G9:I9)*'Retirement Worksheet'!$B$9","v":59484.719040169861},{"$f":"SUM(G9:I9)*'Retirement Worksheet'!$B$10","v":14276.332569640766},null,164177.82455086883,{"$f":"IF(ISERROR(A9),NA(),P8*(1+'Retirement Worksheet'!$B$15))","v":168924.36288960002},-4746.5383387311886]
[{"$f":"IF(A9<'Retirement Worksheet'!$B$5,A9+1,NA())","v":72},3151817.3114371821,{"$f":"B10*'Retirement Worksheet'!$B$11","v":7879.5432785929552},{"$f":"B10*'Retirement Worksheet'!$B$16","v":157590.86557185912},3301528.6337304483,null,{"$f":"B10*'Retirement Worksheet'!$B$8","v":126072.69245748728},{"$f":"IF(ISERROR(A10),NA(),H9*(1+'Retirement Worksheet'!$B$15))","v":80407.996735449604},{"$f":"IF(ISERROR(A10),NA(),I9*(1+'Retirement Worksheet'!$B$15))","v":34460.570029478404},240941.25922241528,null,{"$f":"SUM('Retirement Calculations'!G10:I10)*'Retirement Worksheet'!$B$9","v":60235.314805603819},{"$f":"SUM(G10:I10)*'Retirement Worksheet'!$B$10","v":14456.475553344915},null,166249.46886346652,{"$f":"IF(ISERROR(A10),NA(),P9*(1+'Retirement Worksheet'!$B$15))","v":172302.85014739202},-6053.381283925497]
[{"$f":"IF(A10<'Retirement Worksheet'!$B$5,A10+1,NA())","v":73},3169402.5599890356,{"$f":"B11*'Retirement Worksheet'!$B$11","v":7923.506399972589},{"$f":"B11*'Retirement Worksheet'!$B$16","v":158470.1279994518},3319949.1815885152,null,{"$f":"B11*'Retirement Worksheet'!$B$8","v":126776.10239956142},{"$f":"IF(ISERROR(A11),NA(),H10*(1+'Retirement Worksheet'!$B$15))","v":82016.156670158598},{"$f":"IF(ISERROR(A11),NA(),I10*(1+'Retirement Worksheet'!$B$15))","v":35149.781430067975},243942.04049978801,null,{"$f":"SUM('Retirement Calculations'!G11:I11)*'Retirement Worksheet'!$B$9","v":60985.510124947003},{"$f":"SUM(G11:I11)*'Retirement Worksheet'!$B$10","v":14636.522429987281},null,168320.00794485374,{"$f":"IF(ISERROR(A11),NA(),P10*(1+'Retirement Worksheet'!$B$15))","v":175748.90715033986},-7428.8992054861155]
[{"$f":"IF(A11<'Retirement Worksheet'!$B$5,A11+1,NA())","v":74},3185744.1799834673,{"$f":"B12*'Retirement Worksheet'!$B$11","v":7964.3604499586681},{"$f":"B12*'Retirement Worksheet'!$B$16","v":159287.20899917337},3337067.028532682,null,{"$f":"B12*'Retirement Worksheet'!$B$8","v":127429.76719933869},{"$f":"IF(ISERROR(A12),NA(),H11*(1+'Retirement Worksheet'!$B$15))","v":83656.479803561771},{"$f":"IF(ISERROR(A12),NA(),I11*(1+'Retirement Worksheet'!$B$15))","v":35852.777058669337},246939.0240615698,null,{"$f":"SUM('Retirement Calculations'!G12:I12)*'Retirement Worksheet'!$B$9","v":61734.75601539245},{"$f":"SUM(G12:I12)*'Retirement Worksheet'!$B$10","v":14816.341443694188},null,170387.92660248314,{"$f":"IF(ISERROR(A12),NA(),P11*(1+'Retirement Worksheet'!$B$15))","v":179263.88529334666},-8875.9586908635101]
[{"$f":"IF(A12<'Retirement Worksheet'!$B$5,A12+1,NA())","v":75},3200761.3026424795,{"$f":"B13*'Retirement Worksheet'!$B$11","v":8001.9032566061987},{"$f":"B13*'Retirement Worksheet'!$B$16","v":160038.065132124},3352797.4645179971,null,{"$f":"B13*'Retirement Worksheet'!$B$8","v":128030.45210569918},{"$f":"IF(ISERROR(A13),NA(),H12*(1+'Retirement Worksheet'!$B$15))","v":85329.609399633002},{"$f":"IF(ISERROR(A13),NA(),I12*(1+'Retirement Worksheet'!$B$15))","v":36569.832599842724},249929.8941051749,null,{"$f":"SUM('Retirement Calculations'!G13:I13)*'Retirement Worksheet'!$B$9","v":62482.473526293725},{"$f":"SUM(G13:I13)*'Retirement Worksheet'!$B$10","v":14995.793646310492},null,172451.62693257068,{"$f":"IF(ISERROR(A13),NA(),P12*(1+'Retirement Worksheet'!$B$15))","v":182849.16299921359},-10397.536066642904]
[{"$f":"IF(A13<'Retirement Worksheet'!$B$5,A13+1,NA())","v":76},3214369.476345655,{"$f":"B14*'Retirement Worksheet'!$B$11","v":8035.9236908641378},{"$f":"B14*'Retirement Worksheet'!$B$16","v":160718.47381728276},3367052.0264720735,null,{"$f":"B14*'Retirement Worksheet'!$B$8","v":128574.77905382621},{"$f":"IF(ISERROR(A14),NA(),H13*(1+'Retirement Worksheet'!$B$15))","v":87036.201587625663},{"$f":"IF(ISERROR(A14),NA(),I13*(1+'Retirement Worksheet'!$B$15))","v":37301.229251839577},252912.20989329144,null,{"$f":"SUM('Retirement Calculations'!G14:I14)*'Retirement Worksheet'!$B$9","v":63228.052473322859},{"$f":"SUM(G14:I14)*'Retirement Worksheet'!$B$10","v":15174.732593597486},null,174509.42482637108,{"$f":"IF(ISERROR(A14),NA(),P13*(1+'Retirement Worksheet'!$B$15))","v":186506.14625919785},-11996.721432826773]
[{"$f":"IF(A14<'Retirement Worksheet'!$B$5,A14+1,NA())","v":77},3226480.5259854202,{"$f":"B15*'Retirement Worksheet'!$B$11","v":8066.2013149635504},{"$f":"B15*'Retirement Worksheet'!$B$16","v":161324.02629927103},3379738.3509697281,null,{"$f":"B15*'Retirement Worksheet'!$B$8","v":129059.22103941681},{"$f":"IF(ISERROR(A15),NA(),H14*(1+'Retirement Worksheet'!$B$15))","v":88776.925619378177},{"$f":"IF(ISERROR(A15),NA(),I14*(1+'Retirement Worksheet'!$B$15))","v":38047.253836876371},255883.40049567135,null,{"$f":"SUM('Retirement Calculations'!G15:I15)*'Retirement Worksheet'!$B$9","v":63970.850123917837},{"$f":"SUM(G15:I15)*'Retirement Worksheet'!$B$10","v":15353.004029740281},null,176559.54634201323,{"$f":"IF(ISERROR(A15),NA(),P14*(1+'Retirement Worksheet'!$B$15))","v":190236.26918438182},-13676.722842368588]
[{"$f":"IF(A15<'Retirement Worksheet'!$B$5,A15+1,NA())","v":78},3237002.4070879426,{"$f":"B16*'Retirement Worksheet'!$B$11","v":8092.5060177198566},{"$f":"B16*'Retirement Worksheet'!$B$16","v":161850.12035439714},3390760.0214246199,null,{"$f":"B16*'Retirement Worksheet'!$B$8","v":129480.09628351771},{"$f":"IF(ISERROR(A16),NA(),H15*(1+'Retirement Worksheet'!$B$15))","v":90552.464131765737},{"$f":"IF(ISERROR(A16),NA(),I15*(1+'Retirement Worksheet'!$B$15))","v":38808.198913613902},258840.75932889734,null,{"$f":"SUM('Retirement Calculations'!G16:I16)*'Retirement Worksheet'!$B$9","v":64710.189832224336},{"$f":"SUM(G16:I16)*'Retirement Worksheet'!$B$10","v":15530.44555973384},null,178600.12393693917,{"$f":"IF(ISERROR(A16),NA(),P15*(1+'Retirement Worksheet'!$B$15))","v":194040.99456806947},-15440.870631130296]
[{"$f":"IF(A16<'Retirement Worksheet'!$B$5,A16+1,NA())","v":79},3245839.0545099718,{"$f":"B17*'Retirement Worksheet'!$B$11","v":8114.5976362749298},{"$f":"B17*'Retirement Worksheet'!$B$16","v":162291.95272549859},3400016.4095991952,null,{"$f":"B17*'Retirement Worksheet'!$B$8","v":129833.56218039888},{"$f":"IF(ISERROR(A17),NA(),H16*(1+'Retirement Worksheet'!$B$15))","v":92363.513414401052},{"$f":"IF(ISERROR(A17),NA(),I16*(1+'Retirement Worksheet'!$B$15))","v":39584.36289188618},261781.43848668612,null,{"$f":"SUM('Retirement Calculations'!G17:I17)*'Retirement Worksheet'!$B$9","v":65445.35962167153},{"$f":"SUM(G17:I17)*'Retirement Worksheet'!$B$10","v":15706.886309201167},null,180629.19255581341,{"$f":"IF(ISERROR(A17),NA(),P16*(1+'Retirement Worksheet'!$B$15))","v":197921.81445943087},-17292.621903617459]
[{"$f":"IF(A17<'Retirement Worksheet'!$B$5,A17+1,NA())","v":80},3252890.2255151789,{"$f":"B18*'Retirement Worksheet'!$B$11","v":8132.2255637879471},{"$f":"B18*'Retirement Worksheet'!$B$16","v":162644.51127575897},3407402.51122715,null,{"$f":"B18*'Retirement Worksheet'!$B$8","v":130115.60902060715},{"$f":"IF(ISERROR(A18),NA(),H17*(1+'Retirement Worksheet'!$B$15))","v":94210.783682689071},{"$f":"IF(ISERROR(A18),NA(),I17*(1+'Retirement Worksheet'!$B$15))","v":40376.050149723902},264702.4428530201,null,{"$f":"SUM('Retirement Calculations'!G18:I18)*'Retirement Worksheet'!$B$9","v":66175.610713255024},{"$f":"SUM(G18:I18)*'Retirement Worksheet'!$B$10","v":15882.146571181205},null,182644.68556858387,{"$f":"IF(ISERROR(A18),NA(),P17*(1+'Retirement Worksheet'!$B$15))","v":201880.2507486195},-19235.565180035628]
[{"$f":"IF(A18<'Retirement Worksheet'!$B$5,A18+1,NA())","v":81},3258051.3370265071,{"$f":"B19*'Retirement Worksheet'!$B$11","v":8145.1283425662677},{"$f":"B19*'Retirement Worksheet'!$B$16","v":162902.56685132536},3412808.7755352664,null,{"$f":"B19*'Retirement Worksheet'!$B$8","v":130322.05348106028},{"$f":"IF(ISERROR(A19),NA(),H18*(1+'Retirement Worksheet'!$B$15))","v":96094.999356342858},{"$f":"IF(ISERROR(A19),NA(),I18*(1+'Retirement Worksheet'!$B$15))","v":41183.571152718381},267600.62399012153,null,{"$f":"SUM('Retirement Calculations'!G19:I19)*'Retirement Worksheet'!$B$9","v":66900.155997530383},{"$f":"SUM(G19:I19)*'Retirement Worksheet'!$B$10","v":16056.037439407291},null,184644.43055318386,{"$f":"IF(ISERROR(A19),NA(),P18*(1+'Retirement Worksheet'!$B$15))","v":205917.85576359188},-21273.425210408022]
[{"$f":"IF(A19<'Retirement Worksheet'!$B$5,A19+1,NA())","v":82},3261213.2968437984,{"$f":"B20*'Retirement Worksheet'!$B$11","v":8153.0332421094963},{"$f":"B20*'Retirement Worksheet'!$B$16","v":163060.66484218993},3416120.9284438784,null,{"$f":"B20*'Retirement Worksheet'!$B$8","v":130448.53187375194},{"$f":"IF(ISERROR(A20),NA(),H19*(1+'Retirement Worksheet'!$B$15))","v":98016.899343469719},{"$f":"IF(ISERROR(A20),NA(),I19*(1+'Retirement Worksheet'!$B$15))","v":42007.242575772747},270472.67379299441,null,{"$f":"SUM('Retirement Calculations'!G20:I20)*'Retirement Worksheet'!$B$9","v":67618.168448248602},{"$f":"SUM(G20:I20)*'Retirement Worksheet'!$B$10","v":16228.360427579664},null,186626.14491716615,{"$f":"IF(ISERROR(A20),NA(),P19*(1+'Retirement Worksheet'!$B$15))","v":210036.21287886373},-23410.067961697583]
[{"$f":"IF(A20<'Retirement Worksheet'!$B$5,A20+1,NA())","v":83},3262262.3286084291,{"$f":"B21*'Retirement Worksheet'!$B$11","v":8155.6558215210725},{"$f":"B21*'Retirement Worksheet'!$B$16","v":163113.11643042148},3417219.7892173291,null,{"$f":"B21*'Retirement Worksheet'!$B$8","v":130490.49314433716},{"$f":"IF(ISERROR(A21),NA(),H20*(1+'Retirement Worksheet'!$B$15))","v":99977.237330339121},{"$f":"IF(ISERROR(A21),NA(),I20*(1+'Retirement Worksheet'!$B$15))","v":42847.387427288202},273315.11790196452,null,{"$f":"SUM('Retirement Calculations'!G21:I21)*'Retirement Worksheet'!$B$9","v":68328.77947549113},{"$f":"SUM(G21:I21)*'Retirement Worksheet'!$B$10","v":16398.907074117869},null,188587.43135235552,{"$f":"IF(ISERROR(A21),NA(),P20*(1+'Retirement Worksheet'!$B$15))","v":214236.937136441},-25649.505784085486]
[{"$f":"IF(A21<'Retirement Worksheet'!$B$5,A21+1,NA())","v":84},3261079.7902889065,{"$f":"B22*'Retirement Worksheet'!$B$11","v":8152.6994757222665},{"$f":"B22*'Retirement Worksheet'!$B$16","v":163053.98951444533},3415981.0803276296,null,{"$f":"B22*'Retirement Worksheet'!$B$8","v":130443.19161155626},{"$f":"IF(ISERROR(A22),NA(),H21*(1+'Retirement Worksheet'!$B$15))","v":101976.78207694591},{"$f":"IF(ISERROR(A22),NA(),I21*(1+'Retirement Worksheet'!$B$15))","v":43704.33517583397},276124.30886433611,null,{"$f":"SUM('Retirement Calculations'!G22:I22)*'Retirement Worksheet'!$B$9","v":69031.077216084028},{"$f":"SUM(G22:I22)*'Retirement Worksheet'!$B$10","v":16567.458531860168},null,190525.77311639191,{"$f":"IF(ISERROR(A22),NA(),P21*(1+'Retirement Worksheet'!$B$15))","v":218521.67587916984},-27995.902762777929]
[{"$f":"IF(A22<'Retirement Worksheet'!$B$5,A22+1,NA())","v":85},3257541.9859532951,{"$f":"B23*'Retirement Worksheet'!$B$11","v":8143.8549648832377},{"$f":"B23*'Retirement Worksheet'!$B$16","v":162877.09929766477},3412275.2302860767,null,{"$f":"B23*'Retirement Worksheet'!$B$8","v":130301.6794381318},{"$f":"IF(ISERROR(A23),NA(),H22*(1+'Retirement Worksheet'!$B$15))","v":104016.31771848483},{"$f":"IF(ISERROR(A23),NA(),I22*(1+'Retirement Worksheet'!$B$15))","v":44578.421879350652},278896.41903596732,null,{"$f":"SUM('Retirement Calculations'!G23:I23)*'Retirement Worksheet'!$B$9","v":69724.104758991831},{"$f":"SUM(G23:I23)*'Retirement Worksheet'!$B$10","v":16733.785142158038},null,192438.52913481745,{"$f":"IF(ISERROR(A23),NA(),P22*(1+'Retirement Worksheet'!$B$15))","v":222892.10939675325},-30453.5802619358]
[{"$f":"IF(A23<'Retirement Worksheet'!$B$5,A23+1,NA())","v":86},3251519.9705860089,{"$f":"B24*'Retirement Worksheet'!$B$11","v":8128.7999264650225},{"$f":"B24*'Retirement Worksheet'!$B$16","v":162575.99852930044},3405967.1691888445,null,{"$f":"B24*'Retirement Worksheet'!$B$8","v":130060.79882344036},{"$f":"IF(ISERROR(A24),NA(),H23*(1+'Retirement Worksheet'!$B$15))","v":106096.64407285453},{"$f":"IF(ISERROR(A24),NA(),I23*(1+'Retirement Worksheet'!$B$15))","v":45469.990316937663},281627.43321323255,null,{"$f":"SUM('Retirement Calculations'!G24:I24)*'Retirement Worksheet'!$B$9","v":70406.858303308138},{"$f":"SUM(G24:I24)*'Retirement Worksheet'!$B$10","v":16897.645992793954},null,194322.92891713046,{"$f":"IF(ISERROR(A24),NA(),P23*(1+'Retirement Worksheet'!$B$15))","v":227349.95158468833},-33027.022667557874]
[{"$f":"IF(A24<'Retirement Worksheet'!$B$5,A24+1,NA())","v":87},3242879.3476978461,{"$f":"B25*'Retirement Worksheet'!$B$11","v":8107.1983692446156},{"$f":"B25*'Retirement Worksheet'!$B$16","v":162143.96738489231},3396916.1167134941,null,{"$f":"B25*'Retirement Worksheet'!$B$8","v":129715.17390791385},{"$f":"IF(ISERROR(A25),NA(),H24*(1+'Retirement Worksheet'!$B$15))","v":108218.57695431162},{"$f":"IF(ISERROR(A25),NA(),I24*(1+'Retirement Worksheet'!$B$15))","v":46379.390123276418},284313.14098550193,null,{"$f":"SUM('Retirement Calculations'!G25:I25)*'Retirement Worksheet'!$B$9","v":71078.285246375483},{"$f":"SUM(G25:I25)*'Retirement Worksheet'!$B$10","v":17058.788459130115},null,196176.06727999635,{"$f":"IF(ISERROR(A25),NA(),P24*(1+'Retirement Worksheet'!$B$15))","v":231896.95061638209},-35720.883336385741]
[{"$f":"IF(A25<'Retirement Worksheet'!$B$5,A25+1,NA())","v":88},3231480.0594691946,{"$f":"B26*'Retirement Worksheet'!$B$11","v":8078.7001486729869},{"$f":"B26*'Retirement Worksheet'!$B$16","v":161574.00297345975},3384975.3622939815,null,{"$f":"B26*'Retirement Worksheet'!$B$8","v":129259.20237876779},{"$f":"IF(ISERROR(A26),NA(),H25*(1+'Retirement Worksheet'!$B$15))","v":110382.94849339785},{"$f":"IF(ISERROR(A26),NA(),I25*(1+'Retirement Worksheet'!$B$15))","v":47306.97792574195},286949.12879790756,null,{"$f":"SUM('Retirement Calculations'!G26:I26)*'Retirement Worksheet'!$B$9","v":71737.282199476889},{"$f":"SUM(G26:I26)*'Retirement Worksheet'!$B$10","v":17216.947727874453},null,197994.89887055621,{"$f":"IF(ISERROR(A26),NA(),P25*(1+'Retirement Worksheet'!$B$15))","v":236534.88962870973},-38539.990758153523]
[{"$f":"IF(A26<'Retirement Worksheet'!$B$5,A26+1,NA())","v":89},3217176.1691570599,{"$f":"B27*'Retirement Worksheet'!$B$11","v":8042.9404228926496},{"$f":"B27*'Retirement Worksheet'!$B$16","v":160858.80845785301},3369992.0371920201,null,{"$f":"B27*'Retirement Worksheet'!$B$8","v":128687.04676628239},{"$f":"IF(ISERROR(A27),NA(),H26*(1+'Retirement Worksheet'!$B$15))","v":112590.60746326581},{"$f":"IF(ISERROR(A27),NA(),I26*(1+'Retirement Worksheet'!$B$15))","v":48253.117484256793},289530.77171380498,null,{"$f":"SUM('Retirement Calculations'!G27:I27)*'Retirement Worksheet'!$B$9","v":72382.692928451244},{"$f":"SUM(G27:I27)*'Retirement Worksheet'!$B$10","v":17371.846302828297},null,199776.23248252543,{"$f":"IF(ISERROR(A27),NA(),P26*(1+'Retirement Worksheet'!$B$15))","v":241265.58742128394},-41489.354938758508]
[{"$f":"IF(A27<'Retirement Worksheet'!$B$5,A27+1,NA())","v":90},3199815.635486979,{"$f":"B28*'Retirement Worksheet'!$B$11","v":7999.5390887174481},{"$f":"B28*'Retirement Worksheet'!$B$16","v":159990.78177434896},3351806.8781726104,null,{"$f":"B28*'Retirement Worksheet'!$B$8","v":127992.62541947917},{"$f":"IF(ISERROR(A28),NA(),H27*(1+'Retirement Worksheet'!$B$15))","v":114842.41961253113},{"$f":"IF(ISERROR(A28),NA(),I27*(1+'Retirement Worksheet'!$B$15))","v":49218.179833941926},292053.22486595222,null,{"$f":"SUM('Retirement Calculations'!G28:I28)*'Retirement Worksheet'!$B$9","v":73013.306216488054},{"$f":"SUM(G28:I28)*'Retirement Worksheet'!$B$10","v":17523.193491957132},null,201516.72515750703,{"$f":"IF(ISERROR(A28),NA(),P27*(1+'Retirement Worksheet'!$B$15))","v":246090.89916970962},-44574.174012202595]
[{"$f":"IF(A28<'Retirement Worksheet'!$B$5,A28+1,NA())","v":{"$error":"#N/A"}},{"$error":"#N/A"},{"$f":"B29*'Retirement Worksheet'!$B$11","v":{"$error":"#N/A"}},{"$f":"B29*'Retirement Worksheet'!$B$16","v":{"$error":"#N/A"}},{"$error":"#N/A"},null,{"$f":"B29*'Retirement Worksheet'!$B$8","v":{"$error":"#N/A"}},{"$f":"IF(ISERROR(A29),NA(),H28*(1+'Retirement Worksheet'!$B$15))","v":{"$error":"#N/A"}},{"$f":"IF(ISERROR(A29),NA(),I28*(1+'Retirement Worksheet'!$B$15))","v":{"$error":"#N/A"}},{"$error":"#N/A"},null,{"$f":"SUM('Retirement Calculations'!G29:I29)*'Retirement Worksheet'!$B$9","v":{"$error":"#N/A"}},{"$f":"SUM(G29:I29)*'Retirement Worksheet'!$B$10","v":{"$error":"#N/A"}},null,{"$error":"#N/A"},{"$f":"IF(ISERROR(A29),NA(),P28*(1+'Retirement Worksheet'!$B$15))","v":{"$error":"#N/A"}},{"$error":"#N/A"}]
[{"$f":"IF(A29<'Retirement Worksheet'!$B$5,A29+1,NA())","v":{"$error":"#N/A"}},{"$error":"#N/A"},{"$f":"B30*'Retirement Worksheet'!$B$11","v":{"$error":"#N/A"}},{"$f":"B30*'Retirement Worksheet'!$B$16","v":{"$error":"#N/A"}},{"$error":"#N/A"},null,{"$f":"B30*'Retirement Worksheet'!$B$8","v":{"$error":"#N/A"}},{"$f":"IF(ISERROR(A30),NA(),H29*(1+'Retirement Worksheet'!$B$15))","v":{"$error":"#N/A"}},{"$f":"IF(ISERROR(A30),NA(),I29*(1+'Retirement Worksheet'!$B$15))","v":{"$error":"#N/A"}},{"$error":"#N/A"},null,{"$f":"SUM('Retirement Calculations'!G30:I30)*'Retirement Worksheet'!$B$9","v":{"$error":"#N/A"}},{"$f":"SUM(G30:I30)*'Retirement Worksheet'!$B$10","v":{"$error":"#N/A"}},null,{"$error":"#N/A"},{"$f":"IF(ISERROR(A30),NA(),P29*(1+'Retirement Worksheet'!$B$15))","v":{"$error":"#N/A"}},{"$error":"#N/A"}]
[{"$f":"IF(A30<'Retirement Worksheet'!$B$5,A30+1,NA())","v":{"$error":"#N/A"}},{"$error":"#N/A"},{"$f":"B31*'Retirement Worksheet'!$B$11","v":{"$error":"#N/A"}},{"$f":"B31*'Retirement Worksheet'!$B$16","v":{"$error":"#N/A"}},{"$error":"#N/A"},null,{"$f":"B31*'Retirement Worksheet'!$B$8","v":{"$error":"#N/A"}},{"$f":"IF(ISERROR(A31),NA(),H30*(1+'Retirement Worksheet'!$B$15))","v":{"$error":"#N/A"}},{"$f":"IF(ISERROR(A31),NA(),I30*(1+'Retirement Worksheet'!$B$15))","v":{"$error":"#N/A"}},{"$error":"#N/A"},null,{"$f":"SUM('Retirement Calculations'!G31:I31)*'Retirement Worksheet'!$B$9","v":{"$error":"#N/A"}},{"$f":"SUM(G31:I31)*'Retirement Worksheet'!$B$10","v":{"$error":"#N/A"}},null,{"$error":"#N/A"},{"$f":"IF(ISERROR(A31),NA(),P30*(1+'Retirement Worksheet'!$B$15))","v":{"$error":"#N/A"}},{"$error":"#N/A"}]
[{"$f":"IF(A31<'Retirement Worksheet'!$B$5,A31+1,NA())","v":{"$error":"#N/A"}},{"$error":"#N/A"},{"$f":"B32*'Retirement Worksheet'!$B$11","v":{"$error":"#N/A"}},{"$f":"B32*'Retirement Worksheet'!$B$16","v":{"$error":"#N/A"}},{"$error":"#N/A"},null,{"$f":"B32*'Retirement Worksheet'!$B$8","v":{"$error":"#N/A"}},{"$f":"IF(ISERROR(A32),NA(),H31*(1+'Retirement Worksheet'!$B$15))","v":{"$error":"#N/A"}},{"$f":"IF(ISERROR(A32),NA(),I31*(1+'Retirement Worksheet'!$B$15))","v":{"$error":"#N/A"}},{"$error":"#N/A"},null,{"$f":"SUM('Retirement Calculations'!G32:I32)*'Retirement Worksheet'!$B$9","v":{"$error":"#N/A"}},{"$f":"SUM(G32:I32)*'Retirement Worksheet'!$B$10","v":{"$error":"#N/A"}},null,{"$error":"#N/A"},{"$f":"IF(ISERROR(A32),NA(),P31*(1+'Retirement Worksheet'!$B$15))","v":{"$error":"#N/A"}},{"$error":"#N/A"}]
[{"$f":"IF(A32<'Retirement Worksheet'!$B$5,A32+1,NA())","v":{"$error":"#N/A"}},{"$error":"#N/A"},{"$f":"B33*'Retirement Worksheet'!$B$11","v":{"$error":"#N/A"}},{"$f":"B33*'Retirement Worksheet'!$B$16","v":{"$error":"#N/A"}},{"$error":"#N/A"},null,{"$f":"B33*'Retirement Worksheet'!$B$8","v":{"$error":"#N/A"}},{"$f":"IF(ISERROR(A33),NA(),H32*(1+'Retirement Worksheet'!$B$15))","v":{"$error":"#N/A"}},{"$f":"IF(ISERROR(A33),NA(),I32*(1+'Retirement Worksheet'!$B$15))","v":{"$error":"#N/A"}},{"$error":"#N/A"},null,{"$f":"SUM('Retirement Calculations'!G33:I33)*'Retirement Worksheet'!$B$9","v":{"$error":"#N/A"}},{"$f":"SUM(G33:I33)*'Retirement Worksheet'!$B$10","v":{"$error":"#N/A"}},null,{"$error":"#N/A"},{"$f":"IF(ISERROR(A33),NA(),P32*(1+'Retirement Worksheet'!$B$15))","v":{"$error":"#N/A"}},{"$error":"#N/A"}]
[{"$f":"IF(A33<'Retirement Worksheet'!$B$5,A33+1,NA())","v":{"$error":"#N/A"}},{"$error":"#N/A"},{"$f":"B34*'Retirement Worksheet'!$B$11","v":{"$error":"#N/A"}},{"$f":"B34*'Retirement Worksheet'!$B$16","v":{"$error":"#N/A"}},{"$error":"#N/A"},null,{"$f":"B34*'Retirement Worksheet'!$B$8","v":{"$error":"#N/A"}},{"$f":"IF(ISERROR(A34),NA(),H33*(1+'Retirement Worksheet'!$B$15))","v":{"$error":"#N/A"}},{"$f":"IF(ISERROR(A34),NA(),I33*(1+'Retirement Worksheet'!$B$15))","v":{"$error":"#N/A"}},{"$error":"#N/A"},null,{"$f":"SUM('Retirement Calculations'!G34:I34)*'Retirement Worksheet'!$B$9","v":{"$error":"#N/A"}},{"$f":"SUM(G34:I34)*'Retirement Worksheet'!$B$10","v":{"$error":"#N/A"}},null,{"$error":"#N/A"},{"$f":"IF(ISERROR(A34),NA(),P33*(1+'Retirement Worksheet'!$B$15))","v":{"$error":"#N/A"}},{"$error":"#N/A"}]
[{"$f":"IF(A34<'Retirement Worksheet'!$B$5,A34+1,NA())","v":{"$error":"#N/A"}},{"$error":"#N/A"},{"$f":"B35*'Retirement Worksheet'!$B$11","v":{"$error":"#N/A"}},{"$f":"B35*'Retirement Worksheet'!$B$16","v":{"$error":"#N/A"}},{"$error":"#N/A"},null,{"$f":"B35*'Retirement Worksheet'!$B$8","v":{"$error":"#N/A"}},{"$f":"IF(ISERROR(A35),NA(),H34*(1+'Retirement Worksheet'!$B$15))","v":{"$error":"#N/A"}},{"$f":"IF(ISERROR(A35),NA(),I34*(1+'Retirement Worksheet'!$B$15))","v":{"$error":"#N/A"}},{"$error":"#N/A"},null,{"$f":"SUM('Retirement Calculations'!G35:I35)*'Retirement Worksheet'!$B$9","v":{"$error":"#N/A"}},{"$f":"SUM(G35:I35)*'Retirement Worksheet'!$B$10","v":{"$error":"#N/A"}},null,{"$error":"#N/A"},{"$f":"IF(ISERROR(A35),NA(),P34*(1+'Retirement Worksheet'!$B$15))","v":{"$error":"#N/A"}},{"$error":"#N/A"}]
[{"$f":"IF(A35<'Retirement Worksheet'!$B$5,A35+1,NA())","v":{"$error":"#N/A"}},{"$error":"#N/A"},{"$f":"B36*'Retirement Worksheet'!$B$11","v":{"$error":"#N/A"}},{"$f":"B36*'Retirement Worksheet'!$B$16","v":{"$error":"#N/A"}},{"$error":"#N/A"},null,{"$f":"B36*'Retirement Worksheet'!$B$8","v":{"$error":"#N/A"}},{"$f":"IF(ISERROR(A36),NA(),H35*(1+'Retirement Worksheet'!$B$15))","v":{"$error":"#N/A"}},{"$f":"IF(ISERROR(A36),NA(),I35*(1+'Retirement Worksheet'!$B$15))","v":{"$error":"#N/A"}},{"$error":"#N/A"},null,{"$f":"SUM('Retirement Calculations'!G36:I36)*'Retirement Worksheet'!$B$9","v":{"$error":"#N/A"}},{"$f":"SUM(G36:I36)*'Retirement Worksheet'!$B$10","v":{"$error":"#N/A"}},null,{"$error":"#N/A"},{"$f":"IF(ISERROR(A36),NA(),P35*(1+'Retirement Worksheet'!$B$15))","v":{"$error":"#N/A"}},{"$error":"#N/A"}]
[{"$f":"IF(A36<'Retirement Worksheet'!$B$5,A36+1,NA())","v":{"$error":"#N/A"}},{"$error":"#N/A"},{"$f":"B37*'Retirement Worksheet'!$B$11","v":{"$error":"#N/A"}},{"$f":"B37*'Retirement Worksheet'!$B$16","v":{"$error":"#N/A"}},{"$error":"#N/A"},null,{"$f":"B37*'Retirement Worksheet'!$B$8","v":{"$error":"#N/A"}},{"$f":"IF(ISERROR(A37),NA(),H36*(1+'Retirement Worksheet'!$B$15))","v":{"$error":"#N/A"}},{"$f":"IF(ISERROR(A37),NA(),I36*(1+'Retirement Worksheet'!$B$15))","v":{"$error":"#N/A"}},{"$error":"#N/A"},null,{"$f":"SUM('Retirement Calculations'!G37:I37)*'Retirement Worksheet'!$B$9","v":{"$error":"#N/A"}},{"$f":"SUM(G37:I37)*'Retirement Worksheet'!$B$10","v":{"$error":"#N/A"}},null,{"$error":"#N/A"},{"$f":"IF(ISERROR(A37),NA(),P36*(1+'Retirement Worksheet'!$B$15))","v":{"$error":"#N/A"}},{"$error":"#N/A"}]
[{"$f":"IF(A37<'Retirement Worksheet'!$B$5,A37+1,NA())","v":{"$error":"#N/A"}},{"$error":"#N/A"},{"$f":"B38*'Retirement Worksheet'!$B$11","v":{"$error":"#N/A"}},{"$f":"B38*'Retirement Worksheet'!$B$16","v":{"$error":"#N/A"}},{"$error":"#N/A"},null,{"$f":"B38*'Retirement Worksheet'!$B$8","v":{"$error":"#N/A"}},{"$f":"IF(ISERROR(A38),NA(),H37*(1+'Retirement Worksheet'!$B$15))","v":{"$error":"#N/A"}},{"$f":"IF(ISERROR(A38),NA(),I37*(1+'Retirement Worksheet'!$B$15))","v":{"$error":"#N/A"}},{"$error":"#N/A"},null,{"$f":"SUM('Retirement Calculations'!G38:I38)*'Retirement Worksheet'!$B$9","v":{"$error":"#N/A"}},{"$f":"SUM(G38:I38)*'Retirement Worksheet'!$B$10","v":{"$error":"#N/A"}},null,{"$error":"#N/A"},{"$f":"IF(ISERROR(A38),NA(),P37*(1+'Retirement Worksheet'!$B$15))","v":{"$error":"#N/A"}},{"$error":"#N/A"}]
[{"$f":"IF(A38<'Retirement Worksheet'!$B$5,A38+1,NA())","v":{"$error":"#N/A"}},{"$error":"#N/A"},{"$f":"B39*'Retirement Worksheet'!$B$11","v":{"$error":"#N/A"}},{"$f":"B39*'Retirement Worksheet'!$B$16","v":{"$error":"#N/A"}},{"$error":"#N/A"},null,{"$f":"B39*'Retirement Worksheet'!$B$8","v":{"$error":"#N/A"}},{"$f":"IF(ISERROR(A39),NA(),H38*(1+'Retirement Worksheet'!$B$15))","v":{"$error":"#N/A"}},{"$f":"IF(ISERROR(A39),NA(),I38*(1+'Retirement Worksheet'!$B$15))","v":{"$error":"#N/A"}},{"$error":"#N/A"},null,{"$f":"SUM('Retirement Calculations'!G39:I39)*'Retirement Worksheet'!$B$9","v":{"$error":"#N/A"}},{"$f":"SUM(G39:I39)*'Retirement Worksheet'!$B$10","v":{"$error":"#N/A"}},null,{"$error":"#N/A"},{"$f":"IF(ISERROR(A39),NA(),P38*(1+'Retirement Worksheet'!$B$15))","v":{"$error":"#N/A"}},{"$error":"#N/A"}]
[{"$f":"IF(A39<'Retirement Worksheet'!$B$5,A39+1,NA())","v":{"$error":"#N/A"}},{"$error":"#N/A"},{"$f":"B40*'Retirement Worksheet'!$B$11","v":{"$error":"#N/A"}},{"$f":"B40*'Retirement Worksheet'!$B$16","v":{"$error":"#N/A"}},{"$error":"#N/A"},null,{"$f":"B40*'Retirement Worksheet'!$B$8","v":{"$error":"#N/A"}},{"$f":"IF(ISERROR(A40),NA(),H39*(1+'Retirement Worksheet'!$B$15))","v":{"$error":"#N/A"}},{"$f":"IF(ISERROR(A40),NA(),I39*(1+'Retirement Worksheet'!$B$15))","v":{"$error":"#N/A"}},{"$error":"#N/A"},null,{"$f":"SUM('Retirement Calculations'!G40:I40)*'Retirement Worksheet'!$B$9","v":{"$error":"#N/A"}},{"$f":"SUM(G40:I40)*'Retirement Worksheet'!$B$10","v":{"$error":"#N/A"}},null,{"$error":"#N/A"},{"$f":"IF(ISERROR(A40),NA(),P39*(1+'Retirement Worksheet'!$B$15))","v":{"$error":"#N/A"}},{"$error":"#N/A"}]
[{"$f":"IF(A40<'Retirement Worksheet'!$B$5,A40+1,NA())","v":{"$error":"#N/A"}},{"$error":"#N/A"},{"$f":"B41*'Retirement Worksheet'!$B$11","v":{"$error":"#N/A"}},{"$f":"B41*'Retirement Worksheet'!$B$16","v":{"$error":"#N/A"}},{"$error":"#N/A"},null,{"$f":"B41*'Retirement Worksheet'!$B$8","v":{"$error":"#N/A"}},{"$f":"IF(ISERROR(A41),NA(),H40*(1+'Retirement Worksheet'!$B$15))","v":{"$error":"#N/A"}},{"$f":"IF(ISERROR(A41),NA(),I40*(1+'Retirement Worksheet'!$B$15))","v":{"$error":"#N/A"}},{"$error":"#N/A"},null,{"$f":"SUM('Retirement Calculations'!G41:I41)*'Retirement Worksheet'!$B$9","v":{"$error":"#N/A"}},{"$f":"SUM(G41:I41)*'Retirement Worksheet'!$B$10","v":{"$error":"#N/A"}},null,{"$error":"#N/A"},{"$f":"IF(ISERROR(A41),NA(),P40*(1+'Retirement Worksheet'!$B$15))","v":{"$error":"#N/A"}},{"$error":"#N/A"}]
[{"$f":"IF(A41<'Retirement Worksheet'!$B$5,A41+1,NA())","v":{"$error":"#N/A"}},{"$error":"#N/A"},{"$f":"B42*'Retirement Worksheet'!$B$11","v":{"$error":"#N/A"}},{"$f":"B42*'Retirement Worksheet'!$B$16","v":{"$error":"#N/A"}},{"$error":"#N/A"},null,{"$f":"B42*'Retirement Worksheet'!$B$8","v":{"$error":"#N/A"}},{"$f":"IF(ISERROR(A42),NA(),H41*(1+'Retirement Worksheet'!$B$15))","v":{"$error":"#N/A"}},{"$f":"IF(ISERROR(A42),NA(),I41*(1+'Retirement Worksheet'!$B$15))","v":{"$error":"#N/A"}},{"$error":"#N/A"},null,{"$f":"SUM('Retirement Calculations'!G42:I42)*'Retirement Worksheet'!$B$9","v":{"$error":"#N/A"}},{"$f":"SUM(G42:I42)*'Retirement Worksheet'!$B$10","v":{"$error":"#N/A"}},null,{"$error":"#N/A"},{"$f":"IF(ISERROR(A42),NA(),P41*(1+'Retirement Worksheet'!$B$15))","v":{"$error":"#N/A"}},{"$error":"#N/A"}]
[{"$f":"IF(A42<'Retirement Worksheet'!$B$5,A42+1,NA())","v":{"$error":"#N/A"}},{"$error":"#N/A"},{"$f":"B43*'Retirement Worksheet'!$B$11","v":{"$error":"#N/A"}},{"$f":"B43*'Retirement Worksheet'!$B$16","v":{"$error":"#N/A"}},{"$error":"#N/A"},null,{"$f":"B43*'Retirement Worksheet'!$B$8","v":{"$error":"#N/A"}},{"$f":"IF(ISERROR(A43),NA(),H42*(1+'Retirement Worksheet'!$B$15))","v":{"$error":"#N/A"}},{"$f":"IF(ISERROR(A43),NA(),I42*(1+'Retirement Worksheet'!$B$15))","v":{"$error":"#N/A"}},{"$error":"#N/A"},null,{"$f":"SUM('Retirement Calculations'!G43:I43)*'Retirement Worksheet'!$B$9","v":{"$error":"#N/A"}},{"$f":"SUM(G43:I43)*'Retirement Worksheet'!$B$10","v":{"$error":"#N/A"}},null,{"$error":"#N/A"},{"$f":"IF(ISERROR(A43),NA(),P42*(1+'Retirement Worksheet'!$B$15))","v":{"$error":"#N/A"}},{"$error":"#N/A"}]
[{"$f":"IF(A43<'Retirement Worksheet'!$B$5,A43+1,NA())","v":{"$error":"#N/A"}},{"$error":"#N/A"},{"$f":"B44*'Retirement Worksheet'!$B$11","v":{"$error":"#N/A"}},{"$f":"B44*'Retirement Worksheet'!$B$16","v":{"$error":"#N/A"}},{"$error":"#N/A"},null,{"$f":"B44*'Retirement Worksheet'!$B$8","v":{"$error":"#N/A"}},{"$f":"IF(ISERROR(A44),NA(),H43*(1+'Retirement Worksheet'!$B$15))","v":{"$error":"#N/A"}},{"$f":"IF(ISERROR(A44),NA(),I43*(1+'Retirement Worksheet'!$B$15))","v":{"$error":"#N/A"}},{"$error":"#N/A"},null,{"$f":"SUM('Retirement Calculations'!G44:I44)*'Retirement Worksheet'!$B$9","v":{"$error":"#N/A"}},{"$f":"SUM(G44:I44)*'Retirement Worksheet'!$B$10","v":{"$error":"#N/A"}},null,{"$error":"#N/A"},{"$f":"IF(ISERROR(A44),NA(),P43*(1+'Retirement Worksheet'!$B$15))","v":{"$error":"#N/A"}},{"$error":"#N/A"}]
[{"$f":"IF(A44<'Retirement Worksheet'!$B$5,A44+1,NA())","v":{"$error":"#N/A"}},{"$error":"#N/A"},{"$f":"B45*'Retirement Worksheet'!$B$11","v":{"$error":"#N/A"}},{"$f":"B45*'Retirement Worksheet'!$B$16","v":{"$error":"#N/A"}},{"$error":"#N/A"},null,{"$f":"B45*'Retirement Worksheet'!$B$8","v":{"$error":"#N/A"}},{"$f":"IF(ISERROR(A45),NA(),H44*(1+'Retirement Worksheet'!$B$15))","v":{"$error":"#N/A"}},{"$f":"IF(ISERROR(A45),NA(),I44*(1+'Retirement Worksheet'!$B$15))","v":{"$error":"#N/A"}},{"$error":"#N/A"},null,{"$f":"SUM('Retirement Calculations'!G45:I45)*'Retirement Worksheet'!$B$9","v":{"$error":"#N/A"}},{"$f":"SUM(G45:I45)*'Retirement Worksheet'!$B$10","v":{"$error":"#N/A"}},null,{"$error":"#N/A"},{"$f":"IF(ISERROR(A45),NA(),P44*(1+'Retirement Worksheet'!$B$15))","v":{"$error":"#N/A"}},{"$error":"#N/A"}]
[{"$f":"IF(A45<'Retirement Worksheet'!$B$5,A45+1,NA())","v":{"$error":"#N/A"}},{"$error":"#N/A"},{"$f":"B46*'Retirement Worksheet'!$B$11","v":{"$error":"#N/A"}},{"$f":"B46*'Retirement Worksheet'!$B$16","v":{"$error":"#N/A"}},{"$error":"#N/A"},null,{"$f":"B46*'Retirement Worksheet'!$B$8","v":{"$error":"#N/A"}},{"$f":"IF(ISERROR(A46),NA(),H45*(1+'Retirement Worksheet'!$B$15))","v":{"$error":"#N/A"}},{"$f":"IF(ISERROR(A46),NA(),I45*(1+'Retirement Worksheet'!$B$15))","v":{"$error":"#N/A"}},{"$error":"#N/A"},null,{"$f":"SUM('Retirement Calculations'!G46:I46)*'Retirement Worksheet'!$B$9","v":{"$error":"#N/A"}},{"$f":"SUM(G46:I46)*'Retirement Worksheet'!$B$10","v":{"$error":"#N/A"}},null,{"$error":"#N/A"},{"$f":"IF(ISERROR(A46),NA(),P45*(1+'Retirement Worksheet'!$B$15))","v":{"$error":"#N/A"}},{"$error":"#N/A"}]
[{"$f":"IF(A46<'Retirement Worksheet'!$B$5,A46+1,NA())","v":{"$error":"#N/A"}},{"$error":"#N/A"},{"$f":"B47*'Retirement Worksheet'!$B$11","v":{"$error":"#N/A"}},{"$f":"B47*'Retirement Worksheet'!$B$16","v":{"$error":"#N/A"}},{"$error":"#N/A"},null,{"$f":"B47*'Retirement Worksheet'!$B$8","v":{"$error":"#N/A"}},{"$f":"IF(ISERROR(A47),NA(),H46*(1+'Retirement Worksheet'!$B$15))","v":{"$error":"#N/A"}},{"$f":"IF(ISERROR(A47),NA(),I46*(1+'Retirement Worksheet'!$B$15))","v":{"$error":"#N/A"}},{"$error":"#N/A"},null,{"$f":"SUM('Retirement Calculations'!G47:I47)*'Retirement Worksheet'!$B$9","v":{"$error":"#N/A"}},{"$f":"SUM(G47:I47)*'Retirement Worksheet'!$B$10","v":{"$error":"#N/A"}},null,{"$error":"#N/A"},{"$f":"IF(ISERROR(A47),NA(),P46*(1+'Retirement Worksheet'!$B$15))","v":{"$error":"#N/A"}},{"$error":"#N/A"}]
[{"$f":"IF(A47<'Retirement Worksheet'!$B$5,A47+1,NA())","v":{"$error":"#N/A"}},{"$error":"#N/A"},{"$f":"B48*'Retirement Worksheet'!$B$11","v":{"$error":"#N/A"}},{"$f":"B48*'Retirement Worksheet'!$B$16","v":{"$error":"#N/A"}},{"$error":"#N/A"},null,{"$f":"B48*'Retirement Worksheet'!$B$8","v":{"$error":"#N/A"}},{"$f":"IF(ISERROR(A48),NA(),H47*(1+'Retirement Worksheet'!$B$15))","v":{"$error":"#N/A"}},{"$f":"IF(ISERROR(A48),NA(),I47*(1+'Retirement Worksheet'!$B$15))","v":{"$error":"#N/A"}},{"$error":"#N/A"},null,{"$f":"SUM('Retirement Calculations'!G48:I48)*'Retirement Worksheet'!$B$9","v":{"$error":"#N/A"}},{"$f":"SUM(G48:I48)*'Retirement Worksheet'!$B$10","v":{"$error":"#N/A"}},null,{"$error":"#N/A"},{"$f":"IF(ISERROR(A48),NA(),P47*(1+'Retirement Worksheet'!$B$15))","v":{"$error":"#N/A"}},{"$error":"#N/A"}]
[{"$f":"IF(A48<'Retirement Worksheet'!$B$5,A48+1,NA())","v":{"$error":"#N/A"}},{"$error":"#N/A"},{"$f":"B49*'Retirement Worksheet'!$B$11","v":{"$error":"#N/A"}},{"$f":"B49*'Retirement Worksheet'!$B$16","v":{"$error":"#N/A"}},{"$error":"#N/A"},null,{"$f":"B49*'Retirement Worksheet'!$B$8","v":{"$error":"#N/A"}},{"$f":"IF(ISERROR(A49),NA(),H48*(1+'Retirement Worksheet'!$B$15))","v":{"$error":"#N/A"}},{"$f":"IF(ISERROR(A49),NA(),I48*(1+'Retirement Worksheet'!$B$15))","v":{"$error":"#N/A"}},{"$error":"#N/A"},null,{"$f":"SUM('Retirement Calculations'!G49:I49)*'Retirement Worksheet'!$B$9","v":{"$error":"#N/A"}},{"$f":"SUM(G49:I49)*'Retirement Worksheet'!$B$10","v":{"$error":"#N/A"}},null,{"$error":"#N/A"},{"$f":"IF(ISERROR(A49),NA(),P48*(1+'Retirement Worksheet'!$B$15))","v":{"$error":"#N/A"}},{"$error":"#N/A"}]
[{"$f":"IF(A49<'Retirement Worksheet'!$B$5,A49+1,NA())","v":{"$error":"#N/A"}},{"$error":"#N/A"},{"$f":"B50*'Retirement Worksheet'!$B$11","v":{"$error":"#N/A"}},{"$f":"B50*'Retirement Worksheet'!$B$16","v":{"$error":"#N/A"}},{"$error":"#N/A"},null,{"$f":"B50*'Retirement Worksheet'!$B$8","v":{"$error":"#N/A"}},{"$f":"IF(ISERROR(A50),NA(),H49*(1+'Retirement Worksheet'!$B$15))","v":{"$error":"#N/A"}},{"$f":"IF(ISERROR(A50),NA(),I49*(1+'Retirement Worksheet'!$B$15))","v":{"$error":"#N/A"}},{"$error":"#N/A"},null,{"$f":"SUM('Retirement Calculations'!G50:I50)*'Retirement Worksheet'!$B$9","v":{"$error":"#N/A"}},{"$f":"SUM(G50:I50)*'Retirement Worksheet'!$B$10","v":{"$error":"#N/A"}},null,{"$error":"#N/A"},{"$f":"IF(ISERROR(A50),NA(),P49*(1+'Retirement Worksheet'!$B$15))","v":{"$error":"#N/A"}},{"$error":"#N/A"}]
[{"$f":"IF(A50<'Retirement Worksheet'!$B$5,A50+1,NA())","v":{"$error":"#N/A"}},{"$error":"#N/A"},{"$f":"B51*'Retirement Worksheet'!$B$11","v":{"$error":"#N/A"}},{"$f":"B51*'Retirement Worksheet'!$B$16","v":{"$error":"#N/A"}},{"$error":"#N/A"},null,{"$f":"B51*'Retirement Worksheet'!$B$8","v":{"$error":"#N/A"}},{"$f":"IF(ISERROR(A51),NA(),H50*(1+'Retirement Worksheet'!$B$15))","v":{"$error":"#N/A"}},{"$f":"IF(ISERROR(A51),NA(),I50*(1+'Retirement Worksheet'!$B$15))","v":{"$error":"#N/A"}},{"$error":"#N/A"},null,{"$f":"SUM('Retirement Calculations'!G51:I51)*'Retirement Worksheet'!$B$9","v":{"$error":"#N/A"}},{"$f":"SUM(G51:I51)*'Retirement Worksheet'!$B$10","v":{"$error":"#N/A"}},null,{"$error":"#N/A"},{"$f":"IF(ISERROR(A51),NA(),P50*(1+'Retirement Worksheet'!$B$15))","v":{"$error":"#N/A"}},{"$error":"#N/A"}]
[{"$f":"IF(A51<'Retirement Worksheet'!$B$5,A51+1,NA())","v":{"$error":"#N/A"}},{"$error":"#N/A"},{"$f":"B52*'Retirement Worksheet'!$B$11","v":{"$error":"#N/A"}},{"$f":"B52*'Retirement Worksheet'!$B$16","v":{"$error":"#N/A"}},{"$error":"#N/A"},null,{"$f":"B52*'Retirement Worksheet'!$B$8","v":{"$error":"#N/A"}},{"$f":"IF(ISERROR(A52),NA(),H51*(1+'Retirement Worksheet'!$B$15))","v":{"$error":"#N/A"}},{"$f":"IF(ISERROR(A52),NA(),I51*(1+'Retirement Worksheet'!$B$15))","v":{"$error":"#N/A"}},{"$error":"#N/A"},null,{"$f":"SUM('Retirement Calculations'!G52:I52)*'Retirement Worksheet'!$B$9","v":{"$error":"#N/A"}},{"$f":"SUM(G52:I52)*'Retirement Worksheet'!$B$10","v":{"$error":"#N/A"}},null,{"$error":"#N/A"},{"$f":"IF(ISERROR(A52),NA(),P51*(1+'Retirement Worksheet'!$B$15))","v":{"$error":"#N/A"}},{"$error":"#N/A"}]
[{"$f":"IF(A52<'Retirement Worksheet'!$B$5,A52+1,NA())","v":{"$error":"#N/A"}},{"$error":"#N/A"},{"$f":"B53*'Retirement Worksheet'!$B$11","v":{"$error":"#N/A"}},{"$f":"B53*'Retirement Worksheet'!$B$16","v":{"$error":"#N/A"}},{"$error":"#N/A"},null,{"$f":"B53*'Retirement Worksheet'!$B$8","v":{"$error":"#N/A"}},{"$f":"IF(ISERROR(A53),NA(),H52*(1+'Retirement Worksheet'!$B$15))","v":{"$error":"#N/A"}},{"$f":"IF(ISERROR(A53),NA(),I52*(1+'Retirement Worksheet'!$B$15))","v":{"$error":"#N/A"}},{"$error":"#N/A"},null,{"$f":"SUM('Retirement Calculations'!G53:I53)*'Retirement Worksheet'!$B$9","v":{"$error":"#N/A"}},{"$f":"SUM(G53:I53)*'Retirement Worksheet'!$B$10","v":{"$error":"#N/A"}},null,{"$error":"#N/A"},{"$f":"IF(ISERROR(A53),NA(),P52*(1+'Retirement Worksheet'!$B$15))","v":{"$error":"#N/A"}},{"$error":"#N/A"}]
[{"$f":"IF(A53<'Retirement Worksheet'!$B$5,A53+1,NA())","v":{"$error":"#N/A"}},{"$error":"#N/A"},{"$f":"B54*'Retirement Worksheet'!$B$11","v":{"$error":"#N/A"}},{"$f":"B54*'Retirement Worksheet'!$B$16","v":{"$error":"#N/A"}},{"$error":"#N/A"},null,{"$f":"B54*'Retirement Worksheet'!$B$8","v":{"$error":"#N/A"}},{"$f":"IF(ISERROR(A54),NA(),H53*(1+'Retirement Worksheet'!$B$15))","v":{"$error":"#N/A"}},{"$f":"IF(ISERROR(A54),NA(),I53*(1+'Retirement Worksheet'!$B$15))","v":{"$error":"#N/A"}},{"$error":"#N/A"},null,{"$f":"SUM('Retirement Calculations'!G54:I54)*'Retirement Worksheet'!$B$9","v":{"$error":"#N/A"}},{"$f":"SUM(G54:I54)*'Retirement Worksheet'!$B$10","v":{"$error":"#N/A"}},null,{"$error":"#N/A"},{"$f":"IF(ISERROR(A54),NA(),P53*(1+'Retirement Worksheet'!$B$15))","v":{"$error":"#N/A"}},{"$error":"#N/A"}]
[{"$f":"IF(A54<'Retirement Worksheet'!$B$5,A54+1,NA())","v":{"$error":"#N/A"}},{"$error":"#N/A"},{"$f":"B55*'Retirement Worksheet'!$B$11","v":{"$error":"#N/A"}},{"$f":"B55*'Retirement Worksheet'!$B$16","v":{"$error":"#N/A"}},{"$error":"#N/A"},null,{"$f":"B55*'Retirement Worksheet'!$B$8","v":{"$error":"#N/A"}},{"$f":"IF(ISERROR(A55),NA(),H54*(1+'Retirement Worksheet'!$B$15))","v":{"$error":"#N/A"}},{"$f":"IF(ISERROR(A55),NA(),I54*(1+'Retirement Worksheet'!$B$15))","v":{"$error":"#N/A"}},{"$error":"#N/A"},null,{"$f":"SUM('Retirement Calculations'!G55:I55)*'Retirement Worksheet'!$B$9","v":{"$error":"#N/A"}},{"$f":"SUM(G55:I55)*'Retirement Worksheet'!$B$10","v":{"$error":"#N/A"}},null,{"$error":"#N/A"},{"$f":"IF(ISERROR(A55),NA(),P54*(1+'Retirement Worksheet'!$B$15))","v":{"$error":"#N/A"}},{"$error":"#N/A"}]
[{"$f":"IF(A55<'Retirement Worksheet'!$B$5,A55+1,NA())","v":{"$error":"#N/A"}},{"$error":"#N/A"},{"$f":"B56*'Retirement Worksheet'!$B$11","v":{"$error":"#N/A"}},{"$f":"B56*'Retirement Worksheet'!$B$16","v":{"$error":"#N/A"}},{"$error":"#N/A"},null,{"$f":"B56*'Retirement Worksheet'!$B$8","v":{"$error":"#N/A"}},{"$f":"IF(ISERROR(A56),NA(),H55*(1+'Retirement Worksheet'!$B$15))","v":{"$error":"#N/A"}},{"$f":"IF(ISERROR(A56),NA(),I55*(1+'Retirement Worksheet'!$B$15))","v":{"$error":"#N/A"}},{"$error":"#N/A"},null,{"$f":"SUM('Retirement Calculations'!G56:I56)*'Retirement Worksheet'!$B$9","v":{"$error":"#N/A"}},{"$f":"SUM(G56:I56)*'Retirement Worksheet'!$B$10","v":{"$error":"#N/A"}},null,{"$error":"#N/A"},{"$f":"IF(ISERROR(A56),NA(),P55*(1+'Retirement Worksheet'!$B$15))","v":{"$error":"#N/A"}},{"$error":"#N/A"}]
[{"$f":"IF(A56<'Retirement Worksheet'!$B$5,A56+1,NA())","v":{"$error":"#N/A"}},{"$error":"#N/A"},{"$f":"B57*'Retirement Worksheet'!$B$11","v":{"$error":"#N/A"}},{"$f":"B57*'Retirement Worksheet'!$B$16","v":{"$error":"#N/A"}},{"$error":"#N/A"},null,{"$f":"B57*'Retirement Worksheet'!$B$8","v":{"$error":"#N/A"}},{"$f":"IF(ISERROR(A57),NA(),H56*(1+'Retirement Worksheet'!$B$15))","v":{"$error":"#N/A"}},{"$f":"IF(ISERROR(A57),NA(),I56*(1+'Retirement Worksheet'!$B$15))","v":{"$error":"#N/A"}},{"$error":"#N/A"},null,{"$f":"SUM('Retirement Calculations'!G57:I57)*'Retirement Worksheet'!$B$9","v":{"$error":"#N/A"}},{"$f":"SUM(G57:I57)*'Retirement Worksheet'!$B$10","v":{"$error":"#N/A"}},null,{"$error":"#N/A"},{"$f":"IF(ISERROR(A57),NA(),P56*(1+'Retirement Worksheet'!$B$15))","v":{"$error":"#N/A"}},{"$error":"#N/A"}]
[{"$f":"IF(A57<'Retirement Worksheet'!$B$5,A57+1,NA())","v":{"$error":"#N/A"}},{"$error":"#N/A"},{"$f":"B58*'Retirement Worksheet'!$B$11","v":{"$error":"#N/A"}},{"$f":"B58*'Retirement Worksheet'!$B$16","v":{"$error":"#N/A"}},{"$error":"#N/A"},null,{"$f":"B58*'Retirement Worksheet'!$B$8","v":{"$error":"#N/A"}},{"$f":"IF(ISERROR(A58),NA(),H57*(1+'Retirement Worksheet'!$B$15))","v":{"$error":"#N/A"}},{"$f":"IF(ISERROR(A58),NA(),I57*(1+'Retirement Worksheet'!$B$15))","v":{"$error":"#N/A"}},{"$error":"#N/A"},null,{"$f":"SUM('Retirement Calculations'!G58:I58)*'Retirement Worksheet'!$B$9","v":{"$error":"#N/A"}},{"$f":"SUM(G58:I58)*'Retirement Worksheet'!$B$10","v":{"$error":"#N/A"}},null,{"$error":"#N/A"},{"$f":"IF(ISERROR(A58),NA(),P57*(1+'Retirement Worksheet'!$B$15))","v":{"$error":"#N/A"}},{"$error":"#N/A"}]
[{"$f":"IF(A58<'Retirement Worksheet'!$B$5,A58+1,NA())","v":{"$error":"#N/A"}},{"$error":"#N/A"},{"$f":"B59*'Retirement Worksheet'!$B$11","v":{"$error":"#N/A"}},{"$f":"B59*'Retirement Worksheet'!$B$16","v":{"$error":"#N/A"}},{"$error":"#N/A"},null,{"$f":"B59*'Retirement Worksheet'!$B$8","v":{"$error":"#N/A"}},{"$f":"IF(ISERROR(A59),NA(),H58*(1+'Retirement Worksheet'!$B$15))","v":{"$error":"#N/A"}},{"$f":"IF(ISERROR(A59),NA(),I58*(1+'Retirement Worksheet'!$B$15))","v":{"$error":"#N/A"}},{"$error":"#N/A"},null,{"$f":"SUM('Retirement Calculations'!G59:I59)*'Retirement Worksheet'!$B$9","v":{"$error":"#N/A"}},{"$f":"SUM(G59:I59)*'Retirement Worksheet'!$B$10","v":{"$error":"#N/A"}},null,{"$error":"#N/A"},{"$f":"IF(ISERROR(A59),NA(),P58*(1+'Retirement Worksheet'!$B$15))","v":{"$error":"#N/A"}},{"$error":"#N/A"}]
[{"$f":"IF(A59<'Retirement Worksheet'!$B$5,A59+1,NA())","v":{"$error":"#N/A"}},{"$error":"#N/A"},{"$f":"B60*'Retirement Worksheet'!$B$11","v":{"$error":"#N/A"}},{"$f":"B60*'Retirement Worksheet'!$B$16","v":{"$error":"#N/A"}},{"$error":"#N/A"},null,{"$f":"B60*'Retirement Worksheet'!$B$8","v":{"$error":"#N/A"}},{"$f":"IF(ISERROR(A60),NA(),H59*(1+'Retirement Worksheet'!$B$15))","v":{"$error":"#N/A"}},{"$f":"IF(ISERROR(A60),NA(),I59*(1+'Retirement Worksheet'!$B$15))","v":{"$error":"#N/A"}},{"$error":"#N/A"},null,{"$f":"SUM('Retirement Calculations'!G60:I60)*'Retirement Worksheet'!$B$9","v":{"$error":"#N/A"}},{"$f":"SUM(G60:I60)*'Retirement Worksheet'!$B$10","v":{"$error":"#N/A"}},null,{"$error":"#N/A"},{"$f":"IF(ISERROR(A60),NA(),P59*(1+'Retirement Worksheet'!$B$15))","v":{"$error":"#N/A"}},{"$error":"#N/A"}]
[{"$f":"IF(A60<'Retirement Worksheet'!$B$5,A60+1,NA())","v":{"$error":"#N/A"}},{"$error":"#N/A"},{"$f":"B61*'Retirement Worksheet'!$B$11","v":{"$error":"#N/A"}},{"$f":"B61*'Retirement Worksheet'!$B$16","v":{"$error":"#N/A"}},{"$error":"#N/A"},null,{"$f":"B61*'Retirement Worksheet'!$B$8","v":{"$error":"#N/A"}},{"$f":"IF(ISERROR(A61),NA(),H60*(1+'Retirement Worksheet'!$B$15))","v":{"$error":"#N/A"}},{"$f":"IF(ISERROR(A61),NA(),I60*(1+'Retirement Worksheet'!$B$15))","v":{"$error":"#N/A"}},{"$error":"#N/A"},null,{"$f":"SUM('Retirement Calculations'!G61:I61)*'Retirement Worksheet'!$B$9","v":{"$error":"#N/A"}},{"$f":"SUM(G61:I61)*'Retirement Worksheet'!$B$10","v":{"$error":"#N/A"}},null,{"$error":"#N/A"},{"$f":"IF(ISERROR(A61),NA(),P60*(1+'Retirement Worksheet'!$B$15))","v":{"$error":"#N/A"}},{"$error":"#N/A"}]
[{"$f":"IF(A61<'Retirement Worksheet'!$B$5,A61+1,NA())","v":{"$error":"#N/A"}},{"$error":"#N/A"},{"$f":"B62*'Retirement Worksheet'!$B$11","v":{"$error":"#N/A"}},{"$f":"B62*'Retirement Worksheet'!$B$16","v":{"$error":"#N/A"}},{"$error":"#N/A"},null,{"$f":"B62*'Retirement Worksheet'!$B$8","v":{"$error":"#N/A"}},{"$f":"IF(ISERROR(A62),NA(),H61*(1+'Retirement Worksheet'!$B$15))","v":{"$error":"#N/A"}},{"$f":"IF(ISERROR(A62),NA(),I61*(1+'Retirement Worksheet'!$B$15))","v":{"$error":"#N/A"}},{"$error":"#N/A"},null,{"$f":"SUM('Retirement Calculations'!G62:I62)*'Retirement Worksheet'!$B$9","v":{"$error":"#N/A"}},{"$f":"SUM(G62:I62)*'Retirement Worksheet'!$B$10","v":{"$error":"#N/A"}},null,{"$error":"#N/A"},{"$f":"IF(ISERROR(A62),NA(),P61*(1+'Retirement Worksheet'!$B$15))","v":{"$error":"#N/A"}},{"$error":"#N/A"}]
[{"$f":"IF(A62<'Retirement Worksheet'!$B$5,A62+1,NA())","v":{"$error":"#N/A"}},{"$error":"#N/A"},{"$f":"B63*'Retirement Worksheet'!$B$11","v":{"$error":"#N/A"}},{"$f":"B63*'Retirement Worksheet'!$B$16","v":{"$error":"#N/A"}},{"$error":"#N/A"},null,{"$f":"B63*'Retirement Worksheet'!$B$8","v":{"$error":"#N/A"}},{"$f":"IF(ISERROR(A63),NA(),H62*(1+'Retirement Worksheet'!$B$15))","v":{"$error":"#N/A"}},{"$f":"IF(ISERROR(A63),NA(),I62*(1+'Retirement Worksheet'!$B$15))","v":{"$error":"#N/A"}},{"$error":"#N/A"},null,{"$f":"SUM('Retirement Calculations'!G63:I63)*'Retirement Worksheet'!$B$9","v":{"$error":"#N/A"}},{"$f":"SUM(G63:I63)*'Retirement Worksheet'!$B$10","v":{"$error":"#N/A"}},null,{"$error":"#N/A"},{"$f":"IF(ISERROR(A63),NA(),P62*(1+'Retirement Worksheet'!$B$15))","v":{"$error":"#N/A"}},{"$error":"#N/A"}]
[{"$f":"IF(A63<'Retirement Worksheet'!$B$5,A63+1,NA())","v":{"$error":"#N/A"}},{"$error":"#N/A"},{"$f":"B64*'Retirement Worksheet'!$B$11","v":{"$error":"#N/A"}},{"$f":"B64*'Retirement Worksheet'!$B$16","v":{"$error":"#N/A"}},{"$error":"#N/A"},null,{"$f":"B64*'Retirement Worksheet'!$B$8","v":{"$error":"#N/A"}},{"$f":"IF(ISERROR(A64),NA(),H63*(1+'Retirement Worksheet'!$B$15))","v":{"$error":"#N/A"}},{"$f":"IF(ISERROR(A64),NA(),I63*(1+'Retirement Worksheet'!$B$15))","v":{"$error":"#N/A"}},{"$error":"#N/A"},null,{"$f":"SUM('Retirement Calculations'!G64:I64)*'Retirement Worksheet'!$B$9","v":{"$error":"#N/A"}},{"$f":"SUM(G64:I64)*'Retirement Worksheet'!$B$10","v":{"$error":"#N/A"}},null,{"$error":"#N/A"},{"$f":"IF(ISERROR(A64),NA(),P63*(1+'Retirement Worksheet'!$B$15))","v":{"$error":"#N/A"}},{"$error":"#N/A"}]
[{"$f":"IF(A64<'Retirement Worksheet'!$B$5,A64+1,NA())","v":{"$error":"#N/A"}},{"$error":"#N/A"},{"$f":"B65*'Retirement Worksheet'!$B$11","v":{"$error":"#N/A"}},{"$f":"B65*'Retirement Worksheet'!$B$16","v":{"$error":"#N/A"}},{"$error":"#N/A"},null,{"$f":"B65*'Retirement Worksheet'!$B$8","v":{"$error":"#N/A"}},{"$f":"IF(ISERROR(A65),NA(),H64*(1+'Retirement Worksheet'!$B$15))","v":{"$error":"#N/A"}},{"$f":"IF(ISERROR(A65),NA(),I64*(1+'Retirement Worksheet'!$B$15))","v":{"$error":"#N/A"}},{"$error":"#N/A"},null,{"$f":"SUM('Retirement Calculations'!G65:I65)*'Retirement Worksheet'!$B$9","v":{"$error":"#N/A"}},{"$f":"SUM(G65:I65)*'Retirement Worksheet'!$B$10","v":{"$error":"#N/A"}},null,{"$error":"#N/A"},{"$f":"IF(ISERROR(A65),NA(),P64*(1+'Retirement Worksheet'!$B$15))","v":{"$error":"#N/A"}},{"$error":"#N/A"}]
[{"$f":"IF(A65<'Retirement Worksheet'!$B$5,A65+1,NA())","v":{"$error":"#N/A"}},{"$error":"#N/A"},{"$f":"B66*'Retirement Worksheet'!$B$11","v":{"$error":"#N/A"}},{"$f":"B66*'Retirement Worksheet'!$B$16","v":{"$error":"#N/A"}},{"$error":"#N/A"},null,{"$f":"B66*'Retirement Worksheet'!$B$8","v":{"$error":"#N/A"}},{"$f":"IF(ISERROR(A66),NA(),H65*(1+'Retirement Worksheet'!$B$15))","v":{"$error":"#N/A"}},{"$f":"IF(ISERROR(A66),NA(),I65*(1+'Retirement Worksheet'!$B$15))","v":{"$error":"#N/A"}},{"$error":"#N/A"},null,{"$f":"SUM('Retirement Calculations'!G66:I66)*'Retirement Worksheet'!$B$9","v":{"$error":"#N/A"}},{"$f":"SUM(G66:I66)*'Retirement Worksheet'!$B$10","v":{"$error":"#N/A"}},null,{"$error":"#N/A"},{"$f":"IF(ISERROR(A66),NA(),P65*(1+'Retirement Worksheet'!$B$15))","v":{"$error":"#N/A"}},{"$error":"#N/A"}]
[{"$f":"IF(A66<'Retirement Worksheet'!$B$5,A66+1,NA())","v":{"$error":"#N/A"}},{"$error":"#N/A"},{"$f":"B67*'Retirement Worksheet'!$B$11","v":{"$error":"#N/A"}},{"$f":"B67*'Retirement Worksheet'!$B$16","v":{"$error":"#N/A"}},{"$error":"#N/A"},null,{"$f":"B67*'Retirement Worksheet'!$B$8","v":{"$error":"#N/A"}},{"$f":"IF(ISERROR(A67),NA(),H66*(1+'Retirement Worksheet'!$B$15))","v":{"$error":"#N/A"}},{"$f":"IF(ISERROR(A67),NA(),I66*(1+'Retirement Worksheet'!$B$15))","v":{"$error":"#N/A"}},{"$error":"#N/A"},null,{"$f":"SUM('Retirement Calculations'!G67:I67)*'Retirement Worksheet'!$B$9","v":{"$error":"#N/A"}},{"$f":"SUM(G67:I67)*'Retirement Worksheet'!$B$10","v":{"$error":"#N/A"}},null,{"$error":"#N/A"},{"$f":"IF(ISERROR(A67),NA(),P66*(1+'Retirement Worksheet'!$B$15))","v":{"$error":"#N/A"}},{"$error":"#N/A"}]
[{"$f":"IF(A67<'Retirement Worksheet'!$B$5,A67+1,NA())","v":{"$error":"#N/A"}},{"$error":"#N/A"},{"$f":"B68*'Retirement Worksheet'!$B$11","v":{"$error":"#N/A"}},{"$f":"B68*'Retirement Worksheet'!$B$16","v":{"$error":"#N/A"}},{"$error":"#N/A"},null,{"$f":"B68*'Retirement Worksheet'!$B$8","v":{"$error":"#N/A"}},{"$f":"IF(ISERROR(A68),NA(),H67*(1+'Retirement Worksheet'!$B$15))","v":{"$error":"#N/A"}},{"$f":"IF(ISERROR(A68),NA(),I67*(1+'Retirement Worksheet'!$B$15))","v":{"$error":"#N/A"}},{"$f":"SUM(G68:I68)","v":{"$error":"#N/A"}},null,{"$f":"SUM('Retirement Calculations'!G68:I68)*'Retirement Worksheet'!$B$9","v":{"$error":"#N/A"}},{"$f":"SUM(G68:I68)*'Retirement Worksheet'!$B$10","v":{"$error":"#N/A"}},null,{"$error":"#N/A"},{"$f":"IF(ISERROR(A68),NA(),P67*(1+'Retirement Worksheet'!$B$15))","v":{"$error":"#N/A"}},{"$error":"#N/A"}]
[{"$f":"IF(A68<'Retirement Worksheet'!$B$5,A68+1,NA())","v":{"$error":"#N/A"}},{"$f":"IF(ISERROR(A69),NA(),E68-G68+Q68)","v":{"$error":"#N/A"}},{"$f":"B69*'Retirement Worksheet'!$B$11","v":{"$error":"#N/A"}},{"$f":"B69*'Retirement Worksheet'!$B$16","v":{"$error":"#N/A"}},{"$error":"#N/A"},null,{"$f":"B69*'Retirement Worksheet'!$B$8","v":{"$error":"#N/A"}},{"$f":"IF(ISERROR(A69),NA(),H68*(1+'Retirement Worksheet'!$B$15))","v":{"$error":"#N/A"}},{"$f":"IF(ISERROR(A69),NA(),I68*(1+'Retirement Worksheet'!$B$15))","v":{"$error":"#N/A"}},{"$error":"#N/A"},null,{"$f":"SUM('Retirement Calculations'!G69:I69)*'Retirement Worksheet'!$B$9","v":{"$error":"#N/A"}},{"$f":"SUM(G69:I69)*'Retirement Worksheet'!$B$10","v":{"$error":"#N/A"}},null,{"$error":"#N/A"},{"$f":"IF(ISERROR(A69),NA(),P68*(1+'Retirement Worksheet'!$B$15))","v":{"$error":"#N/A"}},{"$error":"#N/A"}]
[{"$f":"IF(A69<'Retirement Worksheet'!$B$5,A69+1,NA())","v":{"$error":"#N/A"}},{"$error":"#N/A"},{"$f":"B70*'Retirement Worksheet'!$B$11","v":{"$error":"#N/A"}},{"$f":"B70*'Retirement Worksheet'!$B$16","v":{"$error":"#N/A"}},{"$error":"#N/A"},null,{"$f":"B70*'Retirement Worksheet'!$B$8","v":{"$error":"#N/A"}},{"$f":"IF(ISERROR(A70),NA(),H69*(1+'Retirement Worksheet'!$B$15))","v":{"$error":"#N/A"}},{"$f":"IF(ISERROR(A70),NA(),I69*(1+'Retirement Worksheet'!$B$15))","v":{"$error":"#N/A"}},{"$error":"#N/A"},null,{"$f":"SUM('Retirement Calculations'!G70:I70)*'Retirement Worksheet'!$B$9","v":{"$error":"#N/A"}},{"$f":"SUM(G70:I70)*'Retirement Worksheet'!$B$10","v":{"$error":"#N/A"}},null,{"$error":"#N/A"},{"$f":"IF(ISERROR(A70),NA(),P69*(1+'Retirement Worksheet'!$B$15))","v":{"$error":"#N/A"}},{"$error":"#N/A"}]
[{"$f":"IF(A70<'Retirement Worksheet'!$B$5,A70+1,NA())","v":{"$error":"#N/A"}},{"$error":"#N/A"},{"$f":"B71*'Retirement Worksheet'!$B$11","v":{"$error":"#N/A"}},{"$f":"B71*'Retirement Worksheet'!$B$16","v":{"$error":"#N/A"}},{"$f":"B71-C71+D71","v":{"$error":"#N/A"}},null,{"$f":"B71*'Retirement Worksheet'!$B$8","v":{"$error":"#N/A"}},{"$f":"IF(ISERROR(A71),NA(),H70*(1+'Retirement Worksheet'!$B$15))","v":{"$error":"#N/A"}},{"$f":"IF(ISERROR(A71),NA(),I70*(1+'Retirement Worksheet'!$B$15))","v":{"$error":"#N/A"}},{"$error":"#N/A"},null,{"$f":"SUM('Retirement Calculations'!G71:I71)*'Retirement Worksheet'!$B$9","v":{"$error":"#N/A"}},{"$f":"SUM(G71:I71)*'Retirement Worksheet'!$B$10","v":{"$error":"#N/A"}},null,{"$f":"SUM(G71:I71)-SUM(L71:M71)","v":{"$error":"#N/A"}},{"$f":"IF(ISERROR(A71),NA(),P70*(1+'Retirement Worksheet'!$B$15))","v":{"$error":"#N/A"}},{"$f":"O71-P71","v":{"$error":"#N/A"}}]
[{"$f":"IF(A71<'Retirement Worksheet'!$B$5,A71+1,NA())","v":{"$error":"#N/A"}},{"$error":"#N/A"},{"$f":"B72*'Retirement Worksheet'!$B$11","v":{"$error":"#N/A"}},{"$f":"B72*'Retirement Worksheet'!$B$16","v":{"$error":"#N/A"}},{"$error":"#N/A"},null,{"$f":"B72*'Retirement Worksheet'!$B$8","v":{"$error":"#N/A"}},{"$f":"IF(ISERROR(A72),NA(),H71*(1+'Retirement Worksheet'!$B$15))","v":{"$error":"#N/A"}},{"$f":"IF(ISERROR(A72),NA(),I71*(1+'Retirement Worksheet'!$B$15))","v":{"$error":"#N/A"}},{"$error":"#N/A"},null,{"$f":"SUM('Retirement Calculations'!G72:I72)*'Retirement Worksheet'!$B$9","v":{"$error":"#N/A"}},{"$f":"SUM(G72:I72)*'Retirement Worksheet'!$B$10","v":{"$error":"#N/A"}},null,{"$error":"#N/A"},{"$f":"IF(ISERROR(A72),NA(),P71*(1+'Retirement Worksheet'!$B$15))","v":{"$error":"#N/A"}},{"$error":"#N/A"}]
[{"$f":"IF(A72<'Retirement Worksheet'!$B$5,A72+1,NA())","v":{"$error":"#N/A"}},{"$error":"#N/A"},{"$f":"B73*'Retirement Worksheet'!$B$11","v":{"$error":"#N/A"}},{"$f":"B73*'Retirement Worksheet'!$B$16","v":{"$error":"#N/A"}},{"$error":"#N/A"},null,{"$f":"B73*'Retirement Worksheet'!$B$8","v":{"$error":"#N/A"}},{"$f":"IF(ISERROR(A73),NA(),H72*(1+'Retirement Worksheet'!$B$15))","v":{"$error":"#N/A"}},{"$f":"IF(ISERROR(A73),NA(),I72*(1+'Retirement Worksheet'!$B$15))","v":{"$error":"#N/A"}},{"$error":"#N/A"},null,{"$f":"SUM('Retirement Calculations'!G73:I73)*'Retirement Worksheet'!$B$9","v":{"$error":"#N/A"}},{"$f":"SUM(G73:I73)*'Retirement Worksheet'!$B$10","v":{"$error":"#N/A"}},null,{"$error":"#N/A"},{"$f":"IF(ISERROR(A73),NA(),P72*(1+'Retirement Worksheet'!$B$15))","v":{"$error":"#N/A"}},{"$error":"#N/A"}]
[{"$f":"IF(A73<'Retirement Worksheet'!$B$5,A73+1,NA())","v":{"$error":"#N/A"}},{"$error":"#N/A"},{"$f":"B74*'Retirement Worksheet'!$B$11","v":{"$error":"#N/A"}},{"$f":"B74*'Retirement Worksheet'!$B$16","v":{"$error":"#N/A"}},{"$error":"#N/A"},null,{"$f":"B74*'Retirement Worksheet'!$B$8","v":{"$error":"#N/A"}},{"$f":"IF(ISERROR(A74),NA(),H73*(1+'Retirement Worksheet'!$B$15))","v":{"$error":"#N/A"}},{"$f":"IF(ISERROR(A74),NA(),I73*(1+'Retirement Worksheet'!$B$15))","v":{"$error":"#N/A"}},{"$error":"#N/A"},null,{"$f":"SUM('Retirement Calculations'!G74:I74)*'Retirement Worksheet'!$B$9","v":{"$error":"#N/A"}},{"$f":"SUM(G74:I74)*'Retirement Worksheet'!$B$10","v":{"$error":"#N/A"}},null,{"$error":"#N/A"},{"$f":"IF(ISERROR(A74),NA(),P73*(1+'Retirement Worksheet'!$B$15))","v":{"$error":"#N/A"}},{"$error":"#N/A"}]
[{"$f":"IF(A74<'Retirement Worksheet'!$B$5,A74+1,NA())","v":{"$error":"#N/A"}},{"$error":"#N/A"},{"$f":"B75*'Retirement Worksheet'!$B$11","v":{"$error":"#N/A"}},{"$f":"B75*'Retirement Worksheet'!$B$16","v":{"$error":"#N/A"}},{"$error":"#N/A"},null,{"$f":"B75*'Retirement Worksheet'!$B$8","v":{"$error":"#N/A"}},{"$f":"IF(ISERROR(A75),NA(),H74*(1+'Retirement Worksheet'!$B$15))","v":{"$error":"#N/A"}},{"$f":"IF(ISERROR(A75),NA(),I74*(1+'Retirement Worksheet'!$B$15))","v":{"$error":"#N/A"}},{"$error":"#N/A"},null,{"$f":"SUM('Retirement Calculations'!G75:I75)*'Retirement Worksheet'!$B$9","v":{"$error":"#N/A"}},{"$f":"SUM(G75:I75)*'Retirement Worksheet'!$B$10","v":{"$error":"#N/A"}},null,{"$error":"#N/A"},{"$f":"IF(ISERROR(A75),NA(),P74*(1+'Retirement Worksheet'!$B$15))","v":{"$error":"#N/A"}},{"$error":"#N/A"}]
[{"$f":"IF(A75<'Retirement Worksheet'!$B$5,A75+1,NA())","v":{"$error":"#N/A"}},{"$error":"#N/A"},{"$f":"B76*'Retirement Worksheet'!$B$11","v":{"$error":"#N/A"}},{"$f":"B76*'Retirement Worksheet'!$B$16","v":{"$error":"#N/A"}},{"$error":"#N/A"},null,{"$f":"B76*'Retirement Worksheet'!$B$8","v":{"$error":"#N/A"}},{"$f":"IF(ISERROR(A76),NA(),H75*(1+'Retirement Worksheet'!$B$15))","v":{"$error":"#N/A"}},{"$f":"IF(ISERROR(A76),NA(),I75*(1+'Retirement Worksheet'!$B$15))","v":{"$error":"#N/A"}},{"$error":"#N/A"},null,{"$f":"SUM('Retirement Calculations'!G76:I76)*'Retirement Worksheet'!$B$9","v":{"$error":"#N/A"}},{"$f":"SUM(G76:I76)*'Retirement Worksheet'!$B$10","v":{"$error":"#N/A"}},null,{"$error":"#N/A"},{"$f":"IF(ISERROR(A76),NA(),P75*(1+'Retirement Worksheet'!$B$15))","v":{"$error":"#N/A"}},{"$error":"#N/A"}]
[{"$f":"IF(A76<'Retirement Worksheet'!$B$5,A76+1,NA())","v":{"$error":"#N/A"}},{"$error":"#N/A"},{"$f":"B77*'Retirement Worksheet'!$B$11","v":{"$error":"#N/A"}},{"$f":"B77*'Retirement Worksheet'!$B$16","v":{"$error":"#N/A"}},{"$error":"#N/A"},null,{"$f":"B77*'Retirement Worksheet'!$B$8","v":{"$error":"#N/A"}},{"$f":"IF(ISERROR(A77),NA(),H76*(1+'Retirement Worksheet'!$B$15))","v":{"$error":"#N/A"}},{"$f":"IF(ISERROR(A77),NA(),I76*(1+'Retirement Worksheet'!$B$15))","v":{"$error":"#N/A"}},{"$error":"#N/A"},null,{"$f":"SUM('Retirement Calculations'!G77:I77)*'Retirement Worksheet'!$B$9","v":{"$error":"#N/A"}},{"$f":"SUM(G77:I77)*'Retirement Worksheet'!$B$10","v":{"$error":"#N/A"}},null,{"$error":"#N/A"},{"$f":"IF(ISERROR(A77),NA(),P76*(1+'Retirement Worksheet'!$B$15))","v":{"$error":"#N/A"}},{"$error":"#N/A"}]
[{"$f":"IF(A77<'Retirement Worksheet'!$B$5,A77+1,NA())","v":{"$error":"#N/A"}},{"$error":"#N/A"},{"$f":"B78*'Retirement Worksheet'!$B$11","v":{"$error":"#N/A"}},{"$f":"B78*'Retirement Worksheet'!$B$16","v":{"$error":"#N/A"}},{"$error":"#N/A"},null,{"$f":"B78*'Retirement Worksheet'!$B$8","v":{"$error":"#N/A"}},{"$f":"IF(ISERROR(A78),NA(),H77*(1+'Retirement Worksheet'!$B$15))","v":{"$error":"#N/A"}},{"$f":"IF(ISERROR(A78),NA(),I77*(1+'Retirement Worksheet'!$B$15))","v":{"$error":"#N/A"}},{"$error":"#N/A"},null,{"$f":"SUM('Retirement Calculations'!G78:I78)*'Retirement Worksheet'!$B$9","v":{"$error":"#N/A"}},{"$f":"SUM(G78:I78)*'Retirement Worksheet'!$B$10","v":{"$error":"#N/A"}},null,{"$error":"#N/A"},{"$f":"IF(ISERROR(A78),NA(),P77*(1+'Retirement Worksheet'!$B$15))","v":{"$error":"#N/A"}},{"$error":"#N/A"}]
[{"$f":"IF(A78<'Retirement Worksheet'!$B$5,A78+1,NA())","v":{"$error":"#N/A"}},{"$error":"#N/A"},{"$f":"B79*'Retirement Worksheet'!$B$11","v":{"$error":"#N/A"}},{"$f":"B79*'Retirement Worksheet'!$B$16","v":{"$error":"#N/A"}},{"$error":"#N/A"},null,{"$f":"B79*'Retirement Worksheet'!$B$8","v":{"$error":"#N/A"}},{"$f":"IF(ISERROR(A79),NA(),H78*(1+'Retirement Worksheet'!$B$15))","v":{"$error":"#N/A"}},{"$f":"IF(ISERROR(A79),NA(),I78*(1+'Retirement Worksheet'!$B$15))","v":{"$error":"#N/A"}},{"$error":"#N/A"},null,{"$f":"SUM('Retirement Calculations'!G79:I79)*'Retirement Worksheet'!$B$9","v":{"$error":"#N/A"}},{"$f":"SUM(G79:I79)*'Retirement Worksheet'!$B$10","v":{"$error":"#N/A"}},null,{"$error":"#N/A"},{"$f":"IF(ISERROR(A79),NA(),P78*(1+'Retirement Worksheet'!$B$15))","v":{"$error":"#N/A"}},{"$error":"#N/A"}]
[{"$f":"IF(A79<'Retirement Worksheet'!$B$5,A79+1,NA())","v":{"$error":"#N/A"}},{"$error":"#N/A"},{"$f":"B80*'Retirement Worksheet'!$B$11","v":{"$error":"#N/A"}},{"$f":"B80*'Retirement Worksheet'!$B$16","v":{"$error":"#N/A"}},{"$error":"#N/A"},null,{"$f":"B80*'Retirement Worksheet'!$B$8","v":{"$error":"#N/A"}},{"$f":"IF(ISERROR(A80),NA(),H79*(1+'Retirement Worksheet'!$B$15))","v":{"$error":"#N/A"}},{"$f":"IF(ISERROR(A80),NA(),I79*(1+'Retirement Worksheet'!$B$15))","v":{"$error":"#N/A"}},{"$error":"#N/A"},null,{"$f":"SUM('Retirement Calculations'!G80:I80)*'Retirement Worksheet'!$B$9","v":{"$error":"#N/A"}},{"$f":"SUM(G80:I80)*'Retirement Worksheet'!$B$10","v":{"$error":"#N/A"}},null,{"$error":"#N/A"},{"$f":"IF(ISERROR(A80),NA(),P79*(1+'Retirement Worksheet'!$B$15))","v":{"$error":"#N/A"}},{"$error":"#N/A"}]
[{"$f":"IF(A80<'Retirement Worksheet'!$B$5,A80+1,NA())","v":{"$error":"#N/A"}},{"$error":"#N/A"},{"$f":"B81*'Retirement Worksheet'!$B$11","v":{"$error":"#N/A"}},{"$f":"B81*'Retirement Worksheet'!$B$16","v":{"$error":"#N/A"}},{"$error":"#N/A"},null,{"$f":"B81*'Retirement Worksheet'!$B$8","v":{"$error":"#N/A"}},{"$f":"IF(ISERROR(A81),NA(),H80*(1+'Retirement Worksheet'!$B$15))","v":{"$error":"#N/A"}},{"$f":"IF(ISERROR(A81),NA(),I80*(1+'Retirement Worksheet'!$B$15))","v":{"$error":"#N/A"}},{"$error":"#N/A"},null,{"$f":"SUM('Retirement Calculations'!G81:I81)*'Retirement Worksheet'!$B$9","v":{"$error":"#N/A"}},{"$f":"SUM(G81:I81)*'Retirement Worksheet'!$B$10","v":{"$error":"#N/A"}},null,{"$error":"#N/A"},{"$f":"IF(ISERROR(A81),NA(),P80*(1+'Retirement Worksheet'!$B$15))","v":{"$error":"#N/A"}},{"$error":"#N/A"}]
[{"$f":"IF(A81<'Retirement Worksheet'!$B$5,A81+1,NA())","v":{"$error":"#N/A"}},{"$error":"#N/A"},{"$f":"B82*'Retirement Worksheet'!$B$11","v":{"$error":"#N/A"}},{"$f":"B82*'Retirement Worksheet'!$B$16","v":{"$error":"#N/A"}},{"$error":"#N/A"},null,{"$f":"B82*'Retirement Worksheet'!$B$8","v":{"$error":"#N/A"}},{"$f":"IF(ISERROR(A82),NA(),H81*(1+'Retirement Worksheet'!$B$15))","v":{"$error":"#N/A"}},{"$f":"IF(ISERROR(A82),NA(),I81*(1+'Retirement Worksheet'!$B$15))","v":{"$error":"#N/A"}},{"$error":"#N/A"},null,{"$f":"SUM('Retirement Calculations'!G82:I82)*'Retirement Worksheet'!$B$9","v":{"$error":"#N/A"}},{"$f":"SUM(G82:I82)*'Retirement Worksheet'!$B$10","v":{"$error":"#N/A"}},null,{"$error":"#N/A"},{"$f":"IF(ISERROR(A82),NA(),P81*(1+'Retirement Worksheet'!$B$15))","v":{"$error":"#N/A"}},{"$error":"#N/A"}]
[{"$f":"IF(A82<'Retirement Worksheet'!$B$5,A82+1,NA())","v":{"$error":"#N/A"}},{"$error":"#N/A"},{"$f":"B83*'Retirement Worksheet'!$B$11","v":{"$error":"#N/A"}},{"$f":"B83*'Retirement Worksheet'!$B$16","v":{"$error":"#N/A"}},{"$error":"#N/A"},null,{"$f":"B83*'Retirement Worksheet'!$B$8","v":{"$error":"#N/A"}},{"$f":"IF(ISERROR(A83),NA(),H82*(1+'Retirement Worksheet'!$B$15))","v":{"$error":"#N/A"}},{"$f":"IF(ISERROR(A83),NA(),I82*(1+'Retirement Worksheet'!$B$15))","v":{"$error":"#N/A"}},{"$error":"#N/A"},null,{"$f":"SUM('Retirement Calculations'!G83:I83)*'Retirement Worksheet'!$B$9","v":{"$error":"#N/A"}},{"$f":"SUM(G83:I83)*'Retirement Worksheet'!$B$10","v":{"$error":"#N/A"}},null,{"$error":"#N/A"},{"$f":"IF(ISERROR(A83),NA(),P82*(1+'Retirement Worksheet'!$B$15))","v":{"$error":"#N/A"}},{"$error":"#N/A"}]
[{"$f":"IF(A83<'Retirement Worksheet'!$B$5,A83+1,NA())","v":{"$error":"#N/A"}},{"$error":"#N/A"},{"$f":"B84*'Retirement Worksheet'!$B$11","v":{"$error":"#N/A"}},{"$f":"B84*'Retirement Worksheet'!$B$16","v":{"$error":"#N/A"}},{"$error":"#N/A"},null,{"$f":"B84*'Retirement Worksheet'!$B$8","v":{"$error":"#N/A"}},{"$f":"IF(ISERROR(A84),NA(),H83*(1+'Retirement Worksheet'!$B$15))","v":{"$error":"#N/A"}},{"$f":"IF(ISERROR(A84),NA(),I83*(1+'Retirement Worksheet'!$B$15))","v":{"$error":"#N/A"}},{"$error":"#N/A"},null,{"$f":"SUM('Retirement Calculations'!G84:I84)*'Retirement Worksheet'!$B$9","v":{"$error":"#N/A"}},{"$f":"SUM(G84:I84)*'Retirement Worksheet'!$B$10","v":{"$error":"#N/A"}},null,{"$error":"#N/A"},{"$f":"IF(ISERROR(A84),NA(),P83*(1+'Retirement Worksheet'!$B$15))","v":{"$error":"#N/A"}},{"$error":"#N/A"}]
[{"$f":"IF(A84<'Retirement Worksheet'!$B$5,A84+1,NA())","v":{"$error":"#N/A"}},{"$error":"#N/A"},{"$f":"B85*'Retirement Worksheet'!$B$11","v":{"$error":"#N/A"}},{"$f":"B85*'Retirement Worksheet'!$B$16","v":{"$error":"#N/A"}},{"$error":"#N/A"},null,{"$f":"B85*'Retirement Worksheet'!$B$8","v":{"$error":"#N/A"}},{"$f":"IF(ISERROR(A85),NA(),H84*(1+'Retirement Worksheet'!$B$15))","v":{"$error":"#N/A"}},{"$f":"IF(ISERROR(A85),NA(),I84*(1+'Retirement Worksheet'!$B$15))","v":{"$error":"#N/A"}},{"$error":"#N/A"},null,{"$f":"SUM('Retirement Calculations'!G85:I85)*'Retirement Worksheet'!$B$9","v":{"$error":"#N/A"}},{"$f":"SUM(G85:I85)*'Retirement Worksheet'!$B$10","v":{"$error":"#N/A"}},null,{"$error":"#N/A"},{"$f":"IF(ISERROR(A85),NA(),P84*(1+'Retirement Worksheet'!$B$15))","v":{"$error":"#N/A"}},{"$error":"#N/A"}]
[{"$f":"IF(A85<'Retirement Worksheet'!$B$5,A85+1,NA())","v":{"$error":"#N/A"}},{"$error":"#N/A"},{"$f":"B86*'Retirement Worksheet'!$B$11","v":{"$error":"#N/A"}},{"$f":"B86*'Retirement Worksheet'!$B$16","v":{"$error":"#N/A"}},{"$error":"#N/A"},null,{"$f":"B86*'Retirement Worksheet'!$B$8","v":{"$error":"#N/A"}},{"$f":"IF(ISERROR(A86),NA(),H85*(1+'Retirement Worksheet'!$B$15))","v":{"$error":"#N/A"}},{"$f":"IF(ISERROR(A86),NA(),I85*(1+'Retirement Worksheet'!$B$15))","v":{"$error":"#N/A"}},{"$error":"#N/A"},null,{"$f":"SUM('Retirement Calculations'!G86:I86)*'Retirement Worksheet'!$B$9","v":{"$error":"#N/A"}},{"$f":"SUM(G86:I86)*'Retirement Worksheet'!$B$10","v":{"$error":"#N/A"}},null,{"$error":"#N/A"},{"$f":"IF(ISERROR(A86),NA(),P85*(1+'Retirement Worksheet'!$B$15))","v":{"$error":"#N/A"}},{"$error":"#N/A"}]
[{"$f":"IF(A86<'Retirement Worksheet'!$B$5,A86+1,NA())","v":{"$error":"#N/A"}},{"$error":"#N/A"},{"$f":"B87*'Retirement Worksheet'!$B$11","v":{"$error":"#N/A"}},{"$f":"B87*'Retirement Worksheet'!$B$16","v":{"$error":"#N/A"}},{"$error":"#N/A"},null,{"$f":"B87*'Retirement Worksheet'!$B$8","v":{"$error":"#N/A"}},{"$f":"IF(ISERROR(A87),NA(),H86*(1+'Retirement Worksheet'!$B$15))","v":{"$error":"#N/A"}},{"$f":"IF(ISERROR(A87),NA(),I86*(1+'Retirement Worksheet'!$B$15))","v":{"$error":"#N/A"}},{"$error":"#N/A"},null,{"$f":"SUM('Retirement Calculations'!G87:I87)*'Retirement Worksheet'!$B$9","v":{"$error":"#N/A"}},{"$f":"SUM(G87:I87)*'Retirement Worksheet'!$B$10","v":{"$error":"#N/A"}},null,{"$error":"#N/A"},{"$f":"IF(ISERROR(A87),NA(),P86*(1+'Retirement Worksheet'!$B$15))","v":{"$error":"#N/A"}},{"$error":"#N/A"}]
[{"$f":"IF(A87<'Retirement Worksheet'!$B$5,A87+1,NA())","v":{"$error":"#N/A"}},{"$error":"#N/A"},{"$f":"B88*'Retirement Worksheet'!$B$11","v":{"$error":"#N/A"}},{"$f":"B88*'Retirement Worksheet'!$B$16","v":{"$error":"#N/A"}},{"$error":"#N/A"},null,{"$f":"B88*'Retirement Worksheet'!$B$8","v":{"$error":"#N/A"}},{"$f":"IF(ISERROR(A88),NA(),H87*(1+'Retirement Worksheet'!$B$15))","v":{"$error":"#N/A"}},{"$f":"IF(ISERROR(A88),NA(),I87*(1+'Retirement Worksheet'!$B$15))","v":{"$error":"#N/A"}},{"$error":"#N/A"},null,{"$f":"SUM('Retirement Calculations'!G88:I88)*'Retirement Worksheet'!$B$9","v":{"$error":"#N/A"}},{"$f":"SUM(G88:I88)*'Retirement Worksheet'!$B$10","v":{"$error":"#N/A"}},null,{"$error":"#N/A"},{"$f":"IF(ISERROR(A88),NA(),P87*(1+'Retirement Worksheet'!$B$15))","v":{"$error":"#N/A"}},{"$error":"#N/A"}]
[{"$f":"IF(A88<'Retirement Worksheet'!$B$5,A88+1,NA())","v":{"$error":"#N/A"}},{"$error":"#N/A"},{"$f":"B89*'Retirement Worksheet'!$B$11","v":{"$error":"#N/A"}},{"$f":"B89*'Retirement Worksheet'!$B$16","v":{"$error":"#N/A"}},{"$error":"#N/A"},null,{"$f":"B89*'Retirement Worksheet'!$B$8","v":{"$error":"#N/A"}},{"$f":"IF(ISERROR(A89),NA(),H88*(1+'Retirement Worksheet'!$B$15))","v":{"$error":"#N/A"}},{"$f":"IF(ISERROR(A89),NA(),I88*(1+'Retirement Worksheet'!$B$15))","v":{"$error":"#N/A"}},{"$error":"#N/A"},null,{"$f":"SUM('Retirement Calculations'!G89:I89)*'Retirement Worksheet'!$B$9","v":{"$error":"#N/A"}},{"$f":"SUM(G89:I89)*'Retirement Worksheet'!$B$10","v":{"$error":"#N/A"}},null,{"$error":"#N/A"},{"$f":"IF(ISERROR(A89),NA(),P88*(1+'Retirement Worksheet'!$B$15))","v":{"$error":"#N/A"}},{"$error":"#N/A"}]
[{"$f":"IF(A89<'Retirement Worksheet'!$B$5,A89+1,NA())","v":{"$error":"#N/A"}},{"$error":"#N/A"},{"$f":"B90*'Retirement Worksheet'!$B$11","v":{"$error":"#N/A"}},{"$f":"B90*'Retirement Worksheet'!$B$16","v":{"$error":"#N/A"}},{"$error":"#N/A"},null,{"$f":"B90*'Retirement Worksheet'!$B$8","v":{"$error":"#N/A"}},{"$f":"IF(ISERROR(A90),NA(),H89*(1+'Retirement Worksheet'!$B$15))","v":{"$error":"#N/A"}},{"$f":"IF(ISERROR(A90),NA(),I89*(1+'Retirement Worksheet'!$B$15))","v":{"$error":"#N/A"}},{"$error":"#N/A"},null,{"$f":"SUM('Retirement Calculations'!G90:I90)*'Retirement Worksheet'!$B$9","v":{"$error":"#N/A"}},{"$f":"SUM(G90:I90)*'Retirement Worksheet'!$B$10","v":{"$error":"#N/A"}},null,{"$error":"#N/A"},{"$f":"IF(ISERROR(A90),NA(),P89*(1+'Retirement Worksheet'!$B$15))","v":{"$error":"#N/A"}},{"$error":"#N/A"}]
[{"$f":"IF(A90<'Retirement Worksheet'!$B$5,A90+1,NA())","v":{"$error":"#N/A"}},{"$error":"#N/A"},{"$f":"B91*'Retirement Worksheet'!$B$11","v":{"$error":"#N/A"}},{"$f":"B91*'Retirement Worksheet'!$B$16","v":{"$error":"#N/A"}},{"$error":"#N/A"},null,{"$f":"B91*'Retirement Worksheet'!$B$8","v":{"$error":"#N/A"}},{"$f":"IF(ISERROR(A91),NA(),H90*(1+'Retirement Worksheet'!$B$15))","v":{"$error":"#N/A"}},{"$f":"IF(ISERROR(A91),NA(),I90*(1+'Retirement Worksheet'!$B$15))","v":{"$error":"#N/A"}},{"$error":"#N/A"},null,{"$f":"SUM('Retirement Calculations'!G91:I91)*'Retirement Worksheet'!$B$9","v":{"$error":"#N/A"}},{"$f":"SUM(G91:I91)*'Retirement Worksheet'!$B$10","v":{"$error":"#N/A"}},null,{"$error":"#N/A"},{"$f":"IF(ISERROR(A91),NA(),P90*(1+'Retirement Worksheet'!$B$15))","v":{"$error":"#N/A"}},{"$error":"#N/A"}]
[{"$f":"IF(A91<'Retirement Worksheet'!$B$5,A91+1,NA())","v":{"$error":"#N/A"}},{"$error":"#N/A"},{"$f":"B92*'Retirement Worksheet'!$B$11","v":{"$error":"#N/A"}},{"$f":"B92*'Retirement Worksheet'!$B$16","v":{"$error":"#N/A"}},{"$error":"#N/A"},null,{"$f":"B92*'Retirement Worksheet'!$B$8","v":{"$error":"#N/A"}},{"$f":"IF(ISERROR(A92),NA(),H91*(1+'Retirement Worksheet'!$B$15))","v":{"$error":"#N/A"}},{"$f":"IF(ISERROR(A92),NA(),I91*(1+'Retirement Worksheet'!$B$15))","v":{"$error":"#N/A"}},{"$error":"#N/A"},null,{"$f":"SUM('Retirement Calculations'!G92:I92)*'Retirement Worksheet'!$B$9","v":{"$error":"#N/A"}},{"$f":"SUM(G92:I92)*'Retirement Worksheet'!$B$10","v":{"$error":"#N/A"}},null,{"$error":"#N/A"},{"$f":"IF(ISERROR(A92),NA(),P91*(1+'Retirement Worksheet'!$B$15))","v":{"$error":"#N/A"}},{"$error":"#N/A"}]
[{"$f":"IF(A92<'Retirement Worksheet'!$B$5,A92+1,NA())","v":{"$error":"#N/A"}},{"$error":"#N/A"},{"$f":"B93*'Retirement Worksheet'!$B$11","v":{"$error":"#N/A"}},{"$f":"B93*'Retirement Worksheet'!$B$16","v":{"$error":"#N/A"}},{"$error":"#N/A"},null,{"$f":"B93*'Retirement Worksheet'!$B$8","v":{"$error":"#N/A"}},{"$f":"IF(ISERROR(A93),NA(),H92*(1+'Retirement Worksheet'!$B$15))","v":{"$error":"#N/A"}},{"$f":"IF(ISERROR(A93),NA(),I92*(1+'Retirement Worksheet'!$B$15))","v":{"$error":"#N/A"}},{"$error":"#N/A"},null,{"$f":"SUM('Retirement Calculations'!G93:I93)*'Retirement Worksheet'!$B$9","v":{"$error":"#N/A"}},{"$f":"SUM(G93:I93)*'Retirement Worksheet'!$B$10","v":{"$error":"#N/A"}},null,{"$error":"#N/A"},{"$f":"IF(ISERROR(A93),NA(),P92*(1+'Retirement Worksheet'!$B$15))","v":{"$error":"#N/A"}},{"$error":"#N/A"}]
[{"$f":"IF(A93<'Retirement Worksheet'!$B$5,A93+1,NA())","v":{"$error":"#N/A"}},{"$error":"#N/A"},{"$f":"B94*'Retirement Worksheet'!$B$11","v":{"$error":"#N/A"}},{"$f":"B94*'Retirement Worksheet'!$B$16","v":{"$error":"#N/A"}},{"$error":"#N/A"},null,{"$f":"B94*'Retirement Worksheet'!$B$8","v":{"$error":"#N/A"}},{"$f":"IF(ISERROR(A94),NA(),H93*(1+'Retirement Worksheet'!$B$15))","v":{"$error":"#N/A"}},{"$f":"IF(ISERROR(A94),NA(),I93*(1+'Retirement Worksheet'!$B$15))","v":{"$error":"#N/A"}},{"$error":"#N/A"},null,{"$f":"SUM('Retirement Calculations'!G94:I94)*'Retirement Worksheet'!$B$9","v":{"$error":"#N/A"}},{"$f":"SUM(G94:I94)*'Retirement Worksheet'!$B$10","v":{"$error":"#N/A"}},null,{"$error":"#N/A"},{"$f":"IF(ISERROR(A94),NA(),P93*(1+'Retirement Worksheet'!$B$15))","v":{"$error":"#N/A"}},{"$error":"#N/A"}]
[{"$f":"IF(A94<'Retirement Worksheet'!$B$5,A94+1,NA())","v":{"$error":"#N/A"}},{"$error":"#N/A"},{"$f":"B95*'Retirement Worksheet'!$B$11","v":{"$error":"#N/A"}},{"$f":"B95*'Retirement Worksheet'!$B$16","v":{"$error":"#N/A"}},{"$error":"#N/A"},null,{"$f":"B95*'Retirement Worksheet'!$B$8","v":{"$error":"#N/A"}},{"$f":"IF(ISERROR(A95),NA(),H94*(1+'Retirement Worksheet'!$B$15))","v":{"$error":"#N/A"}},{"$f":"IF(ISERROR(A95),NA(),I94*(1+'Retirement Worksheet'!$B$15))","v":{"$error":"#N/A"}},{"$error":"#N/A"},null,{"$f":"SUM('Retirement Calculations'!G95:I95)*'Retirement Worksheet'!$B$9","v":{"$error":"#N/A"}},{"$f":"SUM(G95:I95)*'Retirement Worksheet'!$B$10","v":{"$error":"#N/A"}},null,{"$error":"#N/A"},{"$f":"IF(ISERROR(A95),NA(),P94*(1+'Retirement Worksheet'!$B$15))","v":{"$error":"#N/A"}},{"$error":"#N/A"}]
[{"$f":"IF(A95<'Retirement Worksheet'!$B$5,A95+1,NA())","v":{"$error":"#N/A"}},{"$error":"#N/A"},{"$f":"B96*'Retirement Worksheet'!$B$11","v":{"$error":"#N/A"}},{"$f":"B96*'Retirement Worksheet'!$B$16","v":{"$error":"#N/A"}},{"$error":"#N/A"},null,{"$f":"B96*'Retirement Worksheet'!$B$8","v":{"$error":"#N/A"}},{"$f":"IF(ISERROR(A96),NA(),H95*(1+'Retirement Worksheet'!$B$15))","v":{"$error":"#N/A"}},{"$f":"IF(ISERROR(A96),NA(),I95*(1+'Retirement Worksheet'!$B$15))","v":{"$error":"#N/A"}},{"$error":"#N/A"},null,{"$f":"SUM('Retirement Calculations'!G96:I96)*'Retirement Worksheet'!$B$9","v":{"$error":"#N/A"}},{"$f":"SUM(G96:I96)*'Retirement Worksheet'!$B$10","v":{"$error":"#N/A"}},null,{"$error":"#N/A"},{"$f":"IF(ISERROR(A96),NA(),P95*(1+'Retirement Worksheet'!$B$15))","v":{"$error":"#N/A"}},{"$error":"#N/A"}]
[{"$f":"IF(A96<'Retirement Worksheet'!$B$5,A96+1,NA())","v":{"$error":"#N/A"}},{"$error":"#N/A"},{"$f":"B97*'Retirement Worksheet'!$B$11","v":{"$error":"#N/A"}},{"$f":"B97*'Retirement Worksheet'!$B$16","v":{"$error":"#N/A"}},{"$error":"#N/A"},null,{"$f":"B97*'Retirement Worksheet'!$B$8","v":{"$error":"#N/A"}},{"$f":"IF(ISERROR(A97),NA(),H96*(1+'Retirement Worksheet'!$B$15))","v":{"$error":"#N/A"}},{"$f":"IF(ISERROR(A97),NA(),I96*(1+'Retirement Worksheet'!$B$15))","v":{"$error":"#N/A"}},{"$error":"#N/A"},null,{"$f":"SUM('Retirement Calculations'!G97:I97)*'Retirement Worksheet'!$B$9","v":{"$error":"#N/A"}},{"$f":"SUM(G97:I97)*'Retirement Worksheet'!$B$10","v":{"$error":"#N/A"}},null,{"$error":"#N/A"},{"$f":"IF(ISERROR(A97),NA(),P96*(1+'Retirement Worksheet'!$B$15))","v":{"$error":"#N/A"}},{"$error":"#N/A"}]
[{"$f":"IF(A97<'Retirement Worksheet'!$B$5,A97+1,NA())","v":{"$error":"#N/A"}},{"$error":"#N/A"},{"$f":"B98*'Retirement Worksheet'!$B$11","v":{"$error":"#N/A"}},{"$f":"B98*'Retirement Worksheet'!$B$16","v":{"$error":"#N/A"}},{"$error":"#N/A"},null,{"$f":"B98*'Retirement Worksheet'!$B$8","v":{"$error":"#N/A"}},{"$f":"IF(ISERROR(A98),NA(),H97*(1+'Retirement Worksheet'!$B$15))","v":{"$error":"#N/A"}},{"$f":"IF(ISERROR(A98),NA(),I97*(1+'Retirement Worksheet'!$B$15))","v":{"$error":"#N/A"}},{"$error":"#N/A"},null,{"$f":"SUM('Retirement Calculations'!G98:I98)*'Retirement Worksheet'!$B$9","v":{"$error":"#N/A"}},{"$f":"SUM(G98:I98)*'Retirement Worksheet'!$B$10","v":{"$error":"#N/A"}},null,{"$error":"#N/A"},{"$f":"IF(ISERROR(A98),NA(),P97*(1+'Retirement Worksheet'!$B$15))","v":{"$error":"#N/A"}},{"$error":"#N/A"}]
[{"$f":"IF(A98<'Retirement Worksheet'!$B$5,A98+1,NA())","v":{"$error":"#N/A"}},{"$error":"#N/A"},{"$f":"B99*'Retirement Worksheet'!$B$11","v":{"$error":"#N/A"}},{"$f":"B99*'Retirement Worksheet'!$B$16","v":{"$error":"#N/A"}},{"$error":"#N/A"},null,{"$f":"B99*'Retirement Worksheet'!$B$8","v":{"$error":"#N/A"}},{"$f":"IF(ISERROR(A99),NA(),H98*(1+'Retirement Worksheet'!$B$15))","v":{"$error":"#N/A"}},{"$f":"IF(ISERROR(A99),NA(),I98*(1+'Retirement Worksheet'!$B$15))","v":{"$error":"#N/A"}},{"$error":"#N/A"},null,{"$f":"SUM('Retirement Calculations'!G99:I99)*'Retirement Worksheet'!$B$9","v":{"$error":"#N/A"}},{"$f":"SUM(G99:I99)*'Retirement Worksheet'!$B$10","v":{"$error":"#N/A"}},null,{"$error":"#N/A"},{"$f":"IF(ISERROR(A99),NA(),P98*(1+'Retirement Worksheet'!$B$15))","v":{"$error":"#N/A"}},{"$error":"#N/A"}]
[{"$f":"IF(A99<'Retirement Worksheet'!$B$5,A99+1,NA())","v":{"$error":"#N/A"}},{"$error":"#N/A"},{"$f":"B100*'Retirement Worksheet'!$B$11","v":{"$error":"#N/A"}},{"$f":"B100*'Retirement Worksheet'!$B$16","v":{"$error":"#N/A"}},{"$error":"#N/A"},null,{"$f":"B100*'Retirement Worksheet'!$B$8","v":{"$error":"#N/A"}},{"$f":"IF(ISERROR(A100),NA(),H99*(1+'Retirement Worksheet'!$B$15))","v":{"$error":"#N/A"}},{"$f":"IF(ISERROR(A100),NA(),I99*(1+'Retirement Worksheet'!$B$15))","v":{"$error":"#N/A"}},{"$error":"#N/A"},null,{"$f":"SUM('Retirement Calculations'!G100:I100)*'Retirement Worksheet'!$B$9","v":{"$error":"#N/A"}},{"$f":"SUM(G100:I100)*'Retirement Worksheet'!$B$10","v":{"$error":"#N/A"}},null,{"$error":"#N/A"},{"$f":"IF(ISERROR(A100),NA(),P99*(1+'Retirement Worksheet'!$B$15))","v":{"$error":"#N/A"}},{"$error":"#N/A"}]
[{"$f":"IF(A100<'Retirement Worksheet'!$B$5,A100+1,NA())","v":{"$error":"#N/A"}},{"$error":"#N/A"},{"$f":"B101*'Retirement Worksheet'!$B$11","v":{"$error":"#N/A"}},{"$f":"B101*'Retirement Worksheet'!$B$16","v":{"$error":"#N/A"}},{"$error":"#N/A"},null,{"$f":"B101*'Retirement Worksheet'!$B$8","v":{"$error":"#N/A"}},{"$f":"IF(ISERROR(A101),NA(),H100*(1+'Retirement Worksheet'!$B$15))","v":{"$error":"#N/A"}},{"$f":"IF(ISERROR(A101),NA(),I100*(1+'Retirement Worksheet'!$B$15))","v":{"$error":"#N/A"}},{"$error":"#N/A"},null,{"$f":"SUM('Retirement Calculations'!G101:I101)*'Retirement Worksheet'!$B$9","v":{"$error":"#N/A"}},{"$f":"SUM(G101:I101)*'Retirement Worksheet'!$B$10","v":{"$error":"#N/A"}},null,{"$error":"#N/A"},{"$f":"IF(ISERROR(A101),NA(),P100*(1+'Retirement Worksheet'!$B$15))","v":{"$error":"#N/A"}},{"$error":"#N/A"}]
[{"$f":"IF(A101<'Retirement Worksheet'!$B$5,A101+1,NA())","v":{"$error":"#N/A"}},{"$error":"#N/A"},{"$f":"B102*'Retirement Worksheet'!$B$11","v":{"$error":"#N/A"}},{"$f":"B102*'Retirement Worksheet'!$B$16","v":{"$error":"#N/A"}},{"$error":"#N/A"},null,{"$f":"B102*'Retirement Worksheet'!$B$8","v":{"$error":"#N/A"}},{"$f":"IF(ISERROR(A102),NA(),H101*(1+'Retirement Worksheet'!$B$15))","v":{"$error":"#N/A"}},{"$f":"IF(ISERROR(A102),NA(),I101*(1+'Retirement Worksheet'!$B$15))","v":{"$error":"#N/A"}},{"$error":"#N/A"},null,{"$f":"SUM('Retirement Calculations'!G102:I102)*'Retirement Worksheet'!$B$9","v":{"$error":"#N/A"}},{"$f":"SUM(G102:I102)*'Retirement Worksheet'!$B$10","v":{"$error":"#N/A"}},null,{"$error":"#N/A"},{"$f":"IF(ISERROR(A102),NA(),P101*(1+'Retirement Worksheet'!$B$15))","v":{"$error":"#N/A"}},{"$error":"#N/A"}]
[{"$f":"IF(A102<'Retirement Worksheet'!$B$5,A102+1,NA())","v":{"$error":"#N/A"}},{"$error":"#N/A"},{"$f":"B103*'Retirement Worksheet'!$B$11","v":{"$error":"#N/A"}},{"$f":"B103*'Retirement Worksheet'!$B$16","v":{"$error":"#N/A"}},{"$error":"#N/A"},null,{"$f":"B103*'Retirement Worksheet'!$B$8","v":{"$error":"#N/A"}},{"$f":"IF(ISERROR(A103),NA(),H102*(1+'Retirement Worksheet'!$B$15))","v":{"$error":"#N/A"}},{"$f":"IF(ISERROR(A103),NA(),I102*(1+'Retirement Worksheet'!$B$15))","v":{"$error":"#N/A"}},{"$error":"#N/A"},null,{"$f":"SUM('Retirement Calculations'!G103:I103)*'Retirement Worksheet'!$B$9","v":{"$error":"#N/A"}},{"$f":"SUM(G103:I103)*'Retirement Worksheet'!$B$10","v":{"$error":"#N/A"}},null,{"$error":"#N/A"},{"$f":"IF(ISERROR(A103),NA(),P102*(1+'Retirement Worksheet'!$B$15))","v":{"$error":"#N/A"}},{"$error":"#N/A"}]
[{"$f":"IF(A103<'Retirement Worksheet'!$B$5,A103+1,NA())","v":{"$error":"#N/A"}},{"$error":"#N/A"},{"$f":"B104*'Retirement Worksheet'!$B$11","v":{"$error":"#N/A"}},{"$f":"B104*'Retirement Worksheet'!$B$16","v":{"$error":"#N/A"}},{"$error":"#N/A"},null,{"$f":"B104*'Retirement Worksheet'!$B$8","v":{"$error":"#N/A"}},{"$f":"IF(ISERROR(A104),NA(),H103*(1+'Retirement Worksheet'!$B$15))","v":{"$error":"#N/A"}},{"$f":"IF(ISERROR(A104),NA(),I103*(1+'Retirement Worksheet'!$B$15))","v":{"$error":"#N/A"}},{"$error":"#N/A"},null,{"$f":"SUM('Retirement Calculations'!G104:I104)*'Retirement Worksheet'!$B$9","v":{"$error":"#N/A"}},{"$f":"SUM(G104:I104)*'Retirement Worksheet'!$B$10","v":{"$error":"#N/A"}},null,{"$error":"#N/A"},{"$f":"IF(ISERROR(A104),NA(),P103*(1+'Retirement Worksheet'!$B$15))","v":{"$error":"#N/A"}},{"$error":"#N/A"}]
[{"$f":"IF(A104<'Retirement Worksheet'!$B$5,A104+1,NA())","v":{"$error":"#N/A"}},{"$error":"#N/A"},{"$f":"B105*'Retirement Worksheet'!$B$11","v":{"$error":"#N/A"}},{"$f":"B105*'Retirement Worksheet'!$B$16","v":{"$error":"#N/A"}},{"$error":"#N/A"},null,{"$f":"B105*'Retirement Worksheet'!$B$8","v":{"$error":"#N/A"}},{"$f":"IF(ISERROR(A105),NA(),H104*(1+'Retirement Worksheet'!$B$15))","v":{"$error":"#N/A"}},{"$f":"IF(ISERROR(A105),NA(),I104*(1+'Retirement Worksheet'!$B$15))","v":{"$error":"#N/A"}},{"$error":"#N/A"},null,{"$f":"SUM('Retirement Calculations'!G105:I105)*'Retirement Worksheet'!$B$9","v":{"$error":"#N/A"}},{"$f":"SUM(G105:I105)*'Retirement Worksheet'!$B$10","v":{"$error":"#N/A"}},null,{"$error":"#N/A"},{"$f":"IF(ISERROR(A105),NA(),P104*(1+'Retirement Worksheet'!$B$15))","v":{"$error":"#N/A"}},{"$error":"#N/A"}]
[{"$f":"IF(A105<'Retirement Worksheet'!$B$5,A105+1,NA())","v":{"$error":"#N/A"}},{"$error":"#N/A"},{"$f":"B106*'Retirement Worksheet'!$B$11","v":{"$error":"#N/A"}},{"$f":"B106*'Retirement Worksheet'!$B$16","v":{"$error":"#N/A"}},{"$error":"#N/A"},null,{"$f":"B106*'Retirement Worksheet'!$B$8","v":{"$error":"#N/A"}},{"$f":"IF(ISERROR(A106),NA(),H105*(1+'Retirement Worksheet'!$B$15))","v":{"$error":"#N/A"}},{"$f":"IF(ISERROR(A106),NA(),I105*(1+'Retirement Worksheet'!$B$15))","v":{"$error":"#N/A"}},{"$error":"#N/A"},null,{"$f":"SUM('Retirement Calculations'!G106:I106)*'Retirement Worksheet'!$B$9","v":{"$error":"#N/A"}},{"$f":"SUM(G106:I106)*'Retirement Worksheet'!$B$10","v":{"$error":"#N/A"}},null,{"$error":"#N/A"},{"$f":"IF(ISERROR(A106),NA(),P105*(1+'Retirement Worksheet'!$B$15))","v":{"$error":"#N/A"}},{"$error":"#N/A"}]
[{"$f":"IF(A106<'Retirement Worksheet'!$B$5,A106+1,NA())","v":{"$error":"#N/A"}},{"$error":"#N/A"},{"$f":"B107*'Retirement Worksheet'!$B$11","v":{"$error":"#N/A"}},{"$f":"B107*'Retirement Worksheet'!$B$16","v":{"$error":"#N/A"}},{"$error":"#N/A"},null,{"$f":"B107*'Retirement Worksheet'!$B$8","v":{"$error":"#N/A"}},{"$f":"IF(ISERROR(A107),NA(),H106*(1+'Retirement Worksheet'!$B$15))","v":{"$error":"#N/A"}},{"$f":"IF(ISERROR(A107),NA(),I106*(1+'Retirement Worksheet'!$B$15))","v":{"$error":"#N/A"}},{"$error":"#N/A"},null,{"$f":"SUM('Retirement Calculations'!G107:I107)*'Retirement Worksheet'!$B$9","v":{"$error":"#N/A"}},{"$f":"SUM(G107:I107)*'Retirement Worksheet'!$B$10","v":{"$error":"#N/A"}},null,{"$error":"#N/A"},{"$f":"IF(ISERROR(A107),NA(),P106*(1+'Retirement Worksheet'!$B$15))","v":{"$error":"#N/A"}},{"$error":"#N/A"}]

{"sheet":"Salary Worksheet","index":2,"n_rows":93,"n_cols":26,"rows_kept":93,"cut":false,"hidden":false,"merged":[[3,0,3,1],[23,9,23,11],[23,12,23,17],[0,3,0,11],[23,4,23,8]]}
["SALARY WORKSHEET",null,null,"Salary Requirement Graph"]
["DIRECTIONS: 1) Enter assumptions, 2) click 'Enter'->"]
[]
["Assumptions"]
["Current age (# years old)",56]
["Projected Retirement age (# years old)",65]
["Current Savings Available ($)",2000000]
["Federal Tax rate (%)",0.25]
["State Tax rate (%)",0.06]
["Local Tax rate (%)",0.02]
["Annual investment fees (%)",2.5000000000000001E-3]
["Annual return on investments (%)",0.05]
["Social Security tax rate (%)",6.2E-2]
["Medicare tax rate (%)",1.4500000000000001E-2]
["Required Savings upon retirement ($)",3000000]
["Projected Annual Salary at Current Age ($)",300000]
["Annual Military Pension ($)",30000]
["Military Pension Taxed by State?","Yes",null,null,null,null,null,null,null,null,null,null,null,null,null,null,null,null,null,null,null,"Row Labels","Sum of Savings","Sum of Savings Requirement","Sum of Salary","Sum of Net Income"]
["Annual expenses ($)",150000,null,null,null,null,null,null,null,null,null,null,null,null,null,null,null,null,null,null,null,56,2000000,3000000,300000,45855]
["Annual inflation rate and income increases (%)",0.02,null,null,null,null,null,null,null,null,null,null,null,null,null,null,null,null,null,null,null,57,2140855,3000000,306000,46772.100000000006]
[null,null,null,null,null,null,null,null,null,null,null,null,null,null,null,null,null,null,null,null,null,58,2289317.7124999999,3000000,312120,47707.541999999987]
[null,null,null,"Chart Detail",null,null,null,null,null,null,null,null,null,null,null,null,null,null,null,null,null,59,2445767.8458437501,3000000,318362.40000000002,48661.692840000003]
[null,null,null,null,null,null,null,null,null,null,null,null,null,null,null,null,null,null,null,null,null,60,2610603.5113613284,3000000,324729.64800000004,49634.926696800016]
[null,null,null,null,"Investments",null,null,null,null,"Income",null,null,"Deductions",null,null,null,null,null,"Expenses",null,null,61,2784242.1048477916,3000000,331224.24096000002,50627.625230735983]
[null,null,null,{"$f":"'Salary Calculations'!A2","v":"Age"},{"$f":"'Salary Calculations'!B2","v":"Savings"},{"$f":"'Salary Calculations'!C2","v":"Savings Requirement"},{"$f":"'Salary Calculations'!D2","v":"Investment Fees"},{"$f":"'Salary Calculations'!E2","v":"Return on Investments"},{"$f":"'Salary Calculations'!F2","v":"Net Investments"},{"$f":"'Salary Calculations'!G2","v":"Salary"},{"$f":"'Salary Calculations'!H2","v":"Pension"},{"$f":"'Salary Calculations'!I2","v":"Total Income"},{"$f":"'Salary Calculations'!J2","v":"Federal Taxes"},{"$f":"'Salary Calculations'!K2","v":"Social Security"},{"$f":"'Salary Calculations'!L2","v":"Medicare"},{"$f":"'Salary Calculations'!M2","v":"State Taxes"},{"$f":"'Salary Calculations'!N2","v":"Local Taxes"},{"$f":"'Salary Calculations'!O2","v":"Total Deductions"},{"$f":"'Salary Calculations'!P2","v":"Expenses"},{"$f":"'Salary Calculations'!Q2","v":"Net Income"},null,62,2967121.2300587981,3000000,337848.72577920003,51640.177735350735]
[null,null,null,{"$f":"IFERROR('Salary Calculations'!A3,\"\")","v":56},{"$f":"IFERROR('Salary Calculations'!B3,\"\")","v":2000000},{"$f":"IFERROR('Salary Calculations'!C3,\"\")","v":3000000},{"$f":"IFERROR('Salary Calculations'!D3,\"\")","v":5000},{"$f":"IFERROR('Salary Calculations'!E3,\"\")","v":100000},{"$f":"IFERROR('Salary Calculations'!F3,\"\")","v":2095000},{"$f":"IFERROR('Salary Calculations'!G3,\"\")","v":300000},{"$f":"IFERROR('Salary Calculations'!H3,\"\")","v":30000},{"$f":"IFERROR('Salary Calculations'!I3,\"\")","v":330000},{"$f":"IFERROR('Salary Calculations'!J3,\"\")","v":82500},{"$f":"IFERROR('Salary Calculations'!K3,\"\")","v":20460},{"$f":"IFERROR('Salary Calculations'!L3,\"\")","v":4785},{"$f":"IFERROR('Salary Calculations'!M3,\"\")","v":19800},{"$f":"IFERROR('Salary Calculations'!N3,\"\")","v":6600},{"$f":"IFERROR('Salary Calculations'!O3,\"\")","v":134145},{"$f":"IFERROR('Salary Calculations'!P3,\"\")","v":150000},{"$f":"IFERROR('Salary Calculations'!Q3,\"\")","v":45855},null,63,3159699.6662219418,3000000,344605.70029478404,52672.981290057767]
[null,null,null,{"$f":"IFERROR('Salary Calculations'!A4,\"\")","v":57},{"$f":"IFERROR('Salary Calculations'!B4,\"\")","v":2140855},{"$f":"IFERROR('Salary Calculations'!C4,\"\")","v":3000000},{"$f":"IFERROR('Salary Calculations'!D4,\"\")","v":5352.1374999999998},{"$f":"IFERROR('Salary Calculations'!E4,\"\")","v":107042.75},{"$f":"IFERROR('Salary Calculations'!F4,\"\")","v":2242545.6124999998},{"$f":"IFERROR('Salary Calculations'!G4,\"\")","v":306000},{"$f":"IFERROR('Salary Calculations'!H4,\"\")","v":30600},{"$f":"IFERROR('Salary Calculations'!I4,\"\")","v":336600},{"$f":"IFERROR('Salary Calculations'!J4,\"\")","v":84150},{"$f":"IFERROR('Salary Calculations'!K4,\"\")","v":20869.2},{"$f":"IFERROR('Salary Calculations'!L4,\"\")","v":4880.7},{"$f":"IFERROR('Salary Calculations'!M4,\"\")","v":20196},{"$f":"IFERROR('Salary Calculations'!N4,\"\")","v":6732},{"$f":"IFERROR('Salary Calculations'!O4,\"\")","v":136827.9},{"$f":"IFERROR('Salary Calculations'!P4,\"\")","v":153000},{"$f":"IFERROR('Salary Calculations'!Q4,\"\")","v":46772.100000000006},null,64,3362458.3816575417,3000000,351497.81430067972,53726.440915858897]
[null,null,null,{"$f":"IFERROR('Salary Calculations'!A5,\"\")","v":58},{"$f":"IFERROR('Salary Calculations'!B5,\"\")","v":2289317.7124999999},{"$f":"IFERROR('Salary Calculations'!C5,\"\")","v":3000000},{"$f":"IFERROR('Salary Calculations'!D5,\"\")","v":5723.2942812499996},{"$f":"IFERROR('Salary Calculations'!E5,\"\")","v":114465.885625},{"$f":"IFERROR('Salary Calculations'!F5,\"\")","v":2398060.3038437502},{"$f":"IFERROR('Salary Calculations'!G5,\"\")","v":312120},{"$f":"IFERROR('Salary Calculations'!H5,\"\")","v":31212},{"$f":"IFERROR('Salary Calculations'!I5,\"\")","v":343332},{"$f":"IFERROR('Salary Calculations'!J5,\"\")","v":85833},{"$f":"IFERROR('Salary Calculations'!K5,\"\")","v":21286.583999999999},{"$f":"IFERROR('Salary Calculations'!L5,\"\")","v":4978.3140000000003},{"$f":"IFERROR('Salary Calculations'!M5,\"\")","v":20599.919999999998},{"$f":"IFERROR('Salary Calculations'!N5,\"\")","v":6866.64},{"$f":"IFERROR('Salary Calculations'!O5,\"\")","v":139564.45800000001},{"$f":"IFERROR('Salary Calculations'!P5,\"\")","v":156060},{"$f":"IFERROR('Salary Calculations'!Q5,\"\")","v":47707.541999999987},null,65,3575901.5957021341,3000000,358527.77058669331,54800.96973417612]
[null,null,null,{"$f":"IFERROR('Salary Calculations'!A6,\"\")","v":59},{"$f":"IFERROR('Salary Calculations'!B6,\"\")","v":2445767.8458437501},{"$f":"IFERROR('Salary Calculations'!C6,\"\")","v":3000000},{"$f":"IFERROR('Salary Calculations'!D6,\"\")","v":6114.4196146093755},{"$f":"IFERROR('Salary Calculations'!E6,\"\")","v":122288.39229218751},{"$f":"IFERROR('Salary Calculations'!F6,\"\")","v":2561941.8185213283},{"$f":"IFERROR('Salary Calculations'!G6,\"\")","v":318362.40000000002},{"$f":"IFERROR('Salary Calculations'!H6,\"\")","v":31836.240000000002},{"$f":"IFERROR('Salary Calculations'!I6,\"\")","v":350198.64},{"$f":"IFERROR('Salary Calculations'!J6,\"\")","v":87549.66},{"$f":"IFERROR('Salary Calculations'!K6,\"\")","v":21712.31568},{"$f":"IFERROR('Salary Calculations'!L6,\"\")","v":5077.8802800000003},{"$f":"IFERROR('Salary Calculations'!M6,\"\")","v":21011.918399999999},{"$f":"IFERROR('Salary Calculations'!N6,\"\")","v":7003.9728000000005},{"$f":"IFERROR('Salary Calculations'!O6,\"\")","v":142355.74716},{"$f":"IFERROR('Salary Calculations'!P6,\"\")","v":159181.20000000001},{"$f":"IFERROR('Salary Calculations'!Q6,\"\")","v":48661.692840000003},null,"Grand Total",27335967.048193283,30000000,3284916.2999213566,502099.45644297951]
[null,null,null,{"$f":"IFERROR('Salary Calculations'!A7,\"\")","v":60},{"$f":"IFERROR('Salary Calculations'!B7,\"\")","v":2610603.5113613284},{"$f":"IFERROR('Salary Calculations'!C7,\"\")","v":3000000},{"$f":"IFERROR('Salary Calculations'!D7,\"\")","v":6526.5087784033212},{"$f":"IFERROR('Salary Calculations'!E7,\"\")","v":130530.17556806642},{"$f":"IFERROR('Salary Calculations'!F7,\"\")","v":2734607.1781509914},{"$f":"IFERROR('Salary Calculations'!G7,\"\")","v":324729.64800000004},{"$f":"IFERROR('Salary Calculations'!H7,\"\")","v":32472.964800000002},{"$f":"IFERROR('Salary Calculations'!I7,\"\")","v":357202.61280000006},{"$f":"IFERROR('Salary Calculations'!J7,\"\")","v":89300.653200000015},{"$f":"IFERROR('Salary Calculations'!K7,\"\")","v":22146.561993600004},{"$f":"IFERROR('Salary Calculations'!L7,\"\")","v":5179.4378856000012},{"$f":"IFERROR('Salary Calculations'!M7,\"\")","v":21432.156768000004},{"$f":"IFERROR('Salary Calculations'!N7,\"\")","v":7144.0522560000018},{"$f":"IFERROR('Salary Calculations'!O7,\"\")","v":145202.86210320002},{"$f":"IFERROR('Salary Calculations'!P7,\"\")","v":162364.82400000002},{"$f":"IFERROR('Salary Calculations'!Q7,\"\")","v":49634.926696800016}]
[null,null,null,{"$f":"IFERROR('Salary Calculations'!A8,\"\")","v":61},{"$f":"IFERROR('Salary Calculations'!B8,\"\")","v":2784242.1048477916},{"$f":"IFERROR('Salary Calculations'!C8,\"\")","v":3000000},{"$f":"IFERROR('Salary Calculations'!D8,\"\")","v":6960.6052621194794},{"$f":"IFERROR('Salary Calculations'!E8,\"\")","v":139212.10524238957},{"$f":"IFERROR('Salary Calculations'!F8,\"\")","v":2916493.604828062},{"$f":"IFERROR('Salary Calculations'!G8,\"\")","v":331224.24096000002},{"$f":"IFERROR('Salary Calculations'!H8,\"\")","v":33122.424096000002},{"$f":"IFERROR('Salary Calculations'!I8,\"\")","v":364346.665056},{"$f":"IFERROR('Salary Calculations'!J8,\"\")","v":91086.666264},{"$f":"IFERROR('Salary Calculations'!K8,\"\")","v":22589.493233472},{"$f":"IFERROR('Salary Calculations'!L8,\"\")","v":5283.0266433120005},{"$f":"IFERROR('Salary Calculations'!M8,\"\")","v":21860.799903359999},{"$f":"IFERROR('Salary Calculations'!N8,\"\")","v":7286.9333011199997},{"$f":"IFERROR('Salary Calculations'!O8,\"\")","v":148106.919345264},{"$f":"IFERROR('Salary Calculations'!P8,\"\")","v":165612.12048000001},{"$f":"IFERROR('Salary Calculations'!Q8,\"\")","v":50627.625230735983}]
[null,null,null,{"$f":"IFERROR('Salary Calculations'!A9,\"\")","v":62},{"$f":"IFERROR('Salary Calculations'!B9,\"\")","v":2967121.2300587981},{"$f":"IFERROR('Salary Calculations'!C9,\"\")","v":3000000},{"$f":"IFERROR('Salary Calculations'!D9,\"\")","v":7417.8030751469951},{"$f":"IFERROR('Salary Calculations'!E9,\"\")","v":148356.06150293991},{"$f":"IFERROR('Salary Calculations'!F9,\"\")","v":3108059.4884865913},{"$f":"IFERROR('Salary Calculations'!G9,\"\")","v":337848.72577920003},{"$f":"IFERROR('Salary Calculations'!H9,\"\")","v":33784.872577920003},{"$f":"IFERROR('Salary Calculations'!I9,\"\")","v":371633.59835712006},{"$f":"IFERROR('Salary Calculations'!J9,\"\")","v":92908.399589280016},{"$f":"IFERROR('Salary Calculations'!K9,\"\")","v":23041.283098141444},{"$f":"IFERROR('Salary Calculations'!L9,\"\")","v":5388.6871761782413},{"$f":"IFERROR('Salary Calculations'!M9,\"\")","v":22298.015901427203},{"$f":"IFERROR('Salary Calculations'!N9,\"\")","v":7432.6719671424016},{"$f":"IFERROR('Salary Calculations'!O9,\"\")","v":151069.05773216931},{"$f":"IFERROR('Salary Calculations'!P9,\"\")","v":168924.36288960002},{"$f":"IFERROR('Salary Calculations'!Q9,\"\")","v":51640.177735350735}]
[null,null,null,{"$f":"IFERROR('Salary Calculations'!A10,\"\")","v":63},{"$f":"IFERROR('Salary Calculations'!B10,\"\")","v":3159699.6662219418},{"$f":"IFERROR('Salary Calculations'!C10,\"\")","v":3000000},{"$f":"IFERROR('Salary Calculations'!D10,\"\")","v":7899.2491655548547},{"$f":"IFERROR('Salary Calculations'!E10,\"\")","v":157984.98331109711},{"$f":"IFERROR('Salary Calculations'!F10,\"\")","v":3309785.400367484},{"$f":"IFERROR('Salary Calculations'!G10,\"\")","v":344605.70029478404},{"$f":"IFERROR('Salary Calculations'!H10,\"\")","v":34460.570029478404},{"$f":"IFERROR('Salary Calculations'!I10,\"\")","v":379066.27032426244},{"$f":"IFERROR('Salary Calculations'!J10,\"\")","v":94766.56758106561},{"$f":"IFERROR('Salary Calculations'!K10,\"\")","v":23502.108760104271},{"$f":"IFERROR('Salary Calculations'!L10,\"\")","v":5496.4609197018053},{"$f":"IFERROR('Salary Calculations'!M10,\"\")","v":22743.976219455744},{"$f":"IFERROR('Salary Calculations'!N10,\"\")","v":7581.325406485249},{"$f":"IFERROR('Salary Calculations'!O10,\"\")","v":154090.43888681266},{"$f":"IFERROR('Salary Calculations'!P10,\"\")","v":172302.85014739202},{"$f":"IFERROR('Salary Calculations'!Q10,\"\")","v":52672.981290057767}]
[null,null,null,{"$f":"IFERROR('Salary Calculations'!A11,\"\")","v":64},{"$f":"IFERROR('Salary Calculations'!B11,\"\")","v":3362458.3816575417},{"$f":"IFERROR('Salary Calculations'!C11,\"\")","v":3000000},{"$f":"IFERROR('Salary Calculations'!D11,\"\")","v":8406.1459541438544},{"$f":"IFERROR('Salary Calculations'!E11,\"\")","v":168122.91908287711},{"$f":"IFERROR('Salary Calculations'!F11,\"\")","v":3522175.1547862752},{"$f":"IFERROR('Salary Calculations'!G11,\"\")","v":351497.81430067972},{"$f":"IFERROR('Salary Calculations'!H11,\"\")","v":35149.781430067975},{"$f":"IFERROR('Salary Calculations'!I11,\"\")","v":386647.59573074768},{"$f":"IFERROR('Salary Calculations'!J11,\"\")","v":96661.89893268692},{"$f":"IFERROR('Salary Calculations'!K11,\"\")","v":23972.150935306356},{"$f":"IFERROR('Salary Calculations'!L11,\"\")","v":5606.3901380958414},{"$f":"IFERROR('Salary Calculations'!M11,\"\")","v":23198.855743844859},{"$f":"IFERROR('Salary Calculations'!N11,\"\")","v":7732.9519146149541},{"$f":"IFERROR('Salary Calculations'!O11,\"\")","v":157172.24766454892},{"$f":"IFERROR('Salary Calculations'!P11,\"\")","v":175748.90715033986},{"$f":"IFERROR('Salary Calculations'!Q11,\"\")","v":53726.440915858897}]
[null,null,null,{"$f":"IFERROR('Salary Calculations'!A12,\"\")","v":65},{"$f":"IFERROR('Salary Calculations'!B12,\"\")","v":3575901.5957021341},{"$f":"IFERROR('Salary Calculations'!C12,\"\")","v":3000000},{"$f":"IFERROR('Salary Calculations'!D12,\"\")","v":8939.7539892553359},{"$f":"IFERROR('Salary Calculations'!E12,\"\")","v":178795.0797851067},{"$f":"IFERROR('Salary Calculations'!F12,\"\")","v":3745756.9214979853},{"$f":"IFERROR('Salary Calculations'!G12,\"\")","v":358527.77058669331},{"$f":"IFERROR('Salary Calculations'!H12,\"\")","v":35852.777058669337},{"$f":"IFERROR('Salary Calculations'!I12,\"\")","v":394380.54764536268},{"$f":"IFERROR('Salary Calculations'!J12,\"\")","v":98595.136911340669},{"$f":"IFERROR('Salary Calculations'!K12,\"\")","v":24451.593954012485},{"$f":"IFERROR('Salary Calculations'!L12,\"\")","v":5718.5179408577587},{"$f":"IFERROR('Salary Calculations'!M12,\"\")","v":23662.832858721758},{"$f":"IFERROR('Salary Calculations'!N12,\"\")","v":7887.6109529072537},{"$f":"IFERROR('Salary Calculations'!O12,\"\")","v":160315.6926178399},{"$f":"IFERROR('Salary Calculations'!P12,\"\")","v":179263.88529334666},{"$f":"IFERROR('Salary Calculations'!Q12,\"\")","v":54800.96973417612}]
[null,null,null,{"$f":"IFERROR('Salary Calculations'!A13,\"\")","v":""},{"$f":"IFERROR('Salary Calculations'!B13,\"\")","v":""},{"$f":"IFERROR('Salary Calculations'!C13,\"\")","v":""},{"$f":"IFERROR('Salary Calculations'!D13,\"\")","v":""},{"$f":"IFERROR('Salary Calculations'!E13,\"\")","v":""},{"$f":"IFERROR('Salary Calculations'!F13,\"\")","v":""},{"$f":"IFERROR('Salary Calculations'!G13,\"\")","v":""},{"$f":"IFERROR('Salary Calculations'!H13,\"\")","v":""},{"$f":"IFERROR('Salary Calculations'!I13,\"\")","v":""},{"$f":"IFERROR('Salary Calculations'!J13,\"\")","v":""},{"$f":"IFERROR('Salary Calculations'!K13,\"\")","v":""},{"$f":"IFERROR('Salary Calculations'!L13,\"\")","v":""},{"$f":"IFERROR('Salary Calculations'!M13,\"\")","v":""},{"$f":"IFERROR('Salary Calculations'!N13,\"\")","v":""},{"$f":"IFERROR('Salary Calculations'!O13,\"\")","v":""},{"$f":"IFERROR('Salary Calculations'!P13,\"\")","v":""},{"$f":"IFERROR('Salary Calculations'!Q13,\"\")","v":""}]
[null,null,null,{"$f":"IFERROR('Salary Calculations'!A14,\"\")","v":""},{"$f":"IFERROR('Salary Calculations'!B14,\"\")","v":""},{"$f":"IFERROR('Salary Calculations'!C14,\"\")","v":""},{"$f":"IFERROR('Salary Calculations'!D14,\"\")","v":""},{"$f":"IFERROR('Salary Calculations'!E14,\"\")","v":""},{"$f":"IFERROR('Salary Calculations'!F14,\"\")","v":""},{"$f":"IFERROR('Salary Calculations'!G14,\"\")","v":""},{"$f":"IFERROR('Salary Calculations'!H14,\"\")","v":""},{"$f":"IFERROR('Salary Calculations'!I14,\"\")","v":""},{"$f":"IFERROR('Salary Calculations'!J14,\"\")","v":""},{"$f":"IFERROR('Salary Calculations'!K14,\"\")","v":""},{"$f":"IFERROR('Salary Calculations'!L14,\"\")","v":""},{"$f":"IFERROR('Salary Calculations'!M14,\"\")","v":""},{"$f":"IFERROR('Salary Calculations'!N14,\"\")","v":""},{"$f":"IFERROR('Salary Calculations'!O14,\"\")","v":""},{"$f":"IFERROR('Salary Calculations'!P14,\"\")","v":""},{"$f":"IFERROR('Salary Calculations'!Q14,\"\")","v":""}]
[null,null,null,{"$f":"IFERROR('Salary Calculations'!A15,\"\")","v":""},{"$f":"IFERROR('Salary Calculations'!B15,\"\")","v":""},{"$f":"IFERROR('Salary Calculations'!C15,\"\")","v":""},{"$f":"IFERROR('Salary Calculations'!D15,\"\")","v":""},{"$f":"IFERROR('Salary Calculations'!E15,\"\")","v":""},{"$f":"IFERROR('Salary Calculations'!F15,\"\")","v":""},{"$f":"IFERROR('Salary Calculations'!G15,\"\")","v":""},{"$f":"IFERROR('Salary Calculations'!H15,\"\")","v":""},{"$f":"IFERROR('Salary Calculations'!I15,\"\")","v":""},{"$f":"IFERROR('Salary Calculations'!J15,\"\")","v":""},{"$f":"IFERROR('Salary Calculations'!K15,\"\")","v":""},{"$f":"IFERROR('Salary Calculations'!L15,\"\")","v":""},{"$f":"IFERROR('Salary Calculations'!M15,\"\")","v":""},{"$f":"IFERROR('Salary Calculations'!N15,\"\")","v":""},{"$f":"IFERROR('Salary Calculations'!O15,\"\")","v":""},{"$f":"IFERROR('Salary Calculations'!P15,\"\")","v":""},{"$f":"IFERROR('Salary Calculations'!Q15,\"\")","v":""}]
[null,null,null,{"$f":"IFERROR('Salary Calculations'!A16,\"\")","v":""},{"$f":"IFERROR('Salary Calculations'!B16,\"\")","v":""},{"$f":"IFERROR('Salary Calculations'!C16,\"\")","v":""},{"$f":"IFERROR('Salary Calculations'!D16,\"\")","v":""},{"$f":"IFERROR('Salary Calculations'!E16,\"\")","v":""},{"$f":"IFERROR('Salary Calculations'!F16,\"\")","v":""},{"$f":"IFERROR('Salary Calculations'!G16,\"\")","v":""},{"$f":"IFERROR('Salary Calculations'!H16,\"\")","v":""},{"$f":"IFERROR('Salary Calculations'!I16,\"\")","v":""},{"$f":"IFERROR('Salary Calculations'!J16,\"\")","v":""},{"$f":"IFERROR('Salary Calculations'!K16,\"\")","v":""},{"$f":"IFERROR('Salary Calculations'!L16,\"\")","v":""},{"$f":"IFERROR('Salary Calculations'!M16,\"\")","v":""},{"$f":"IFERROR('Salary Calculations'!N16,\"\")","v":""},{"$f":"IFERROR('Salary Calculations'!O16,\"\")","v":""},{"$f":"IFERROR('Salary Calculations'!P16,\"\")","v":""},{"$f":"IFERROR('Salary Calculations'!Q16,\"\")","v":""}]
[null,null,null,{"$f":"IFERROR('Salary Calculations'!A17,\"\")","v":""},{"$f":"IFERROR('Salary Calculations'!B17,\"\")","v":""},{"$f":"IFERROR('Salary Calculations'!C17,\"\")","v":""},{"$f":"IFERROR('Salary Calculations'!D17,\"\")","v":""},{"$f":"IFERROR('Salary Calculations'!E17,\"\")","v":""},{"$f":"IFERROR('Salary Calculations'!F17,\"\")","v":""},{"$f":"IFERROR('Salary Calculations'!G17,\"\")","v":""},{"$f":"IFERROR('Salary Calculations'!H17,\"\")","v":""},{"$f":"IFERROR('Salary Calculations'!I17,\"\")","v":""},{"$f":"IFERROR('Salary Calculations'!J17,\"\")","v":""},{"$f":"IFERROR('Salary Calculations'!K17,\"\")","v":""},{"$f":"IFERROR('Salary Calculations'!L17,\"\")","v":""},{"$f":"IFERROR('Salary Calculations'!M17,\"\")","v":""},{"$f":"IFERROR('Salary Calculations'!N17,\"\")","v":""},{"$f":"IFERROR('Salary Calculations'!O17,\"\")","v":""},{"$f":"IFERROR('Salary Calculations'!P17,\"\")","v":""},{"$f":"IFERROR('Salary Calculations'!Q17,\"\")","v":""}]
[null,null,null,{"$f":"IFERROR('Salary Calculations'!A18,\"\")","v":""},{"$f":"IFERROR('Salary Calculations'!B18,\"\")","v":""},{"$f":"IFERROR('Salary Calculations'!C18,\"\")","v":""},{"$f":"IFERROR('Salary Calculations'!D18,\"\")","v":""},{"$f":"IFERROR('Salary Calculations'!E18,\"\")","v":""},{"$f":"IFERROR('Salary Calculations'!F18,\"\")","v":""},{"$f":"IFERROR('Salary Calculations'!G18,\"\")","v":""},{"$f":"IFERROR('Salary Calculations'!H18,\"\")","v":""},{"$f":"IFERROR('Salary Calculations'!I18,\"\")","v":""},{"$f":"IFERROR('Salary Calculations'!J18,\"\")","v":""},{"$f":"IFERROR('Salary Calculations'!K18,\"\")","v":""},{"$f":"IFERROR('Salary Calculations'!L18,\"\")","v":""},{"$f":"IFERROR('Salary Calculations'!M18,\"\")","v":""},{"$f":"IFERROR('Salary Calculations'!N18,\"\")","v":""},{"$f":"IFERROR('Salary Calculations'!O18,\"\")","v":""},{"$f":"IFERROR('Salary Calculations'!P18,\"\")","v":""},{"$f":"IFERROR('Salary Calculations'!Q18,\"\")","v":""}]
[null,null,null,{"$f":"IFERROR('Salary Calculations'!A19,\"\")","v":""},{"$f":"IFERROR('Salary Calculations'!B19,\"\")","v":""},{"$f":"IFERROR('Salary Calculations'!C19,\"\")","v":""},{"$f":"IFERROR('Salary Calculations'!D19,\"\")","v":""},{"$f":"IFERROR('Salary Calculations'!E19,\"\")","v":""},{"$f":"IFERROR('Salary Calculations'!F19,\"\")","v":""},{"$f":"IFERROR('Salary Calculations'!G19,\"\")","v":""},{"$f":"IFERROR('Salary Calculations'!H19,\"\")","v":""},{"$f":"IFERROR('Salary Calculations'!I19,\"\")","v":""},{"$f":"IFERROR('Salary Calculations'!J19,\"\")","v":""},{"$f":"IFERROR('Salary Calculations'!K19,\"\")","v":""},{"$f":"IFERROR('Salary Calculations'!L19,\"\")","v":""},{"$f":"IFERROR('Salary Calculations'!M19,\"\")","v":""},{"$f":"IFERROR('Salary Calculations'!N19,\"\")","v":""},{"$f":"IFERROR('Salary Calculations'!O19,\"\")","v":""},{"$f":"IFERROR('Salary Calculations'!P19,\"\")","v":""},{"$f":"IFERROR('Salary Calculations'!Q19,\"\")","v":""}]
[null,null,null,{"$f":"IFERROR('Salary Calculations'!A20,\"\")","v":""},{"$f":"IFERROR('Salary Calculations'!B20,\"\")","v":""},{"$f":"IFERROR('Salary Calculations'!C20,\"\")","v":""},{"$f":"IFERROR('Salary Calculations'!D20,\"\")","v":""},{"$f":"IFERROR('Salary Calculations'!E20,\"\")","v":""},{"$f":"IFERROR('Salary Calculations'!F20,\"\")","v":""},{"$f":"IFERROR('Salary Calculations'!G20,\"\")","v":""},{"$f":"IFERROR('Salary Calculations'!H20,\"\")","v":""},{"$f":"IFERROR('Salary Calculations'!I20,\"\")","v":""},{"$f":"IFERROR('Salary Calculations'!J20,\"\")","v":""},{"$f":"IFERROR('Salary Calculations'!K20,\"\")","v":""},{"$f":"IFERROR('Salary Calculations'!L20,\"\")","v":""},{"$f":"IFERROR('Salary Calculations'!M20,\"\")","v":""},{"$f":"IFERROR('Salary Calculations'!N20,\"\")","v":""},{"$f":"IFERROR('Salary Calculations'!O20,\"\")","v":""},{"$f":"IFERROR('Salary Calculations'!P20,\"\")","v":""},{"$f":"IFERROR('Salary Calculations'!Q20,\"\")","v":""}]
[null,null,null,{"$f":"IFERROR('Salary Calculations'!A21,\"\")","v":""},{"$f":"IFERROR('Salary Calculations'!B21,\"\")","v":""},{"$f":"IFERROR('Salary Calculations'!C21,\"\")","v":""},{"$f":"IFERROR('Salary Calculations'!D21,\"\")","v":""},{"$f":"IFERROR('Salary Calculations'!E21,\"\")","v":""},{"$f":"IFERROR('Salary Calculations'!F21,\"\")","v":""},{"$f":"IFERROR('Salary Calculations'!G21,\"\")","v":""},{"$f":"IFERROR('Salary Calculations'!H21,\"\")","v":""},{"$f":"IFERROR('Salary Calculations'!I21,\"\")","v":""},{"$f":"IFERROR('Salary Calculations'!J21,\"\")","v":""},{"$f":"IFERROR('Salary Calculations'!K21,\"\")","v":""},{"$f":"IFERROR('Salary Calculations'!L21,\"\")","v":""},{"$f":"IFERROR('Salary Calculations'!M21,\"\")","v":""},{"$f":"IFERROR('Salary Calculations'!N21,\"\")","v":""},{"$f":"IFERROR('Salary Calculations'!O21,\"\")","v":""},{"$f":"IFERROR('Salary Calculations'!P21,\"\")","v":""},{"$f":"IFERROR('Salary Calculations'!Q21,\"\")","v":""}]
[null,null,null,{"$f":"IFERROR('Salary Calculations'!A22,\"\")","v":""},{"$f":"IFERROR('Salary Calculations'!B22,\"\")","v":""},{"$f":"IFERROR('Salary Calculations'!C22,\"\")","v":""},{"$f":"IFERROR('Salary Calculations'!D22,\"\")","v":""},{"$f":"IFERROR('Salary Calculations'!E22,\"\")","v":""},{"$f":"IFERROR('Salary Calculations'!F22,\"\")","v":""},{"$f":"IFERROR('Salary Calculations'!G22,\"\")","v":""},{"$f":"IFERROR('Salary Calculations'!H22,\"\")","v":""},{"$f":"IFERROR('Salary Calculations'!I22,\"\")","v":""},{"$f":"IFERROR('Salary Calculations'!J22,\"\")","v":""},{"$f":"IFERROR('Salary Calculations'!K22,\"\")","v":""},{"$f":"IFERROR('Salary Calculations'!L22,\"\")","v":""},{"$f":"IFERROR('Salary Calculations'!M22,\"\")","v":""},{"$f":"IFERROR('Salary Calculations'!N22,\"\")","v":""},{"$f":"IFERROR('Salary Calculations'!O22,\"\")","v":""},{"$f":"IFERROR('Salary Calculations'!P22,\"\")","v":""},{"$f":"IFERROR('Salary Calculations'!Q22,\"\")","v":""}]
[null,null,null,{"$f":"IFERROR('Salary Calculations'!A23,\"\")","v":""},{"$f":"IFERROR('Salary Calculations'!B23,\"\")","v":""},{"$f":"IFERROR('Salary Calculations'!C23,\"\")","v":""},{"$f":"IFERROR('Salary Calculations'!D23,\"\")","v":""},{"$f":"IFERROR('Salary Calculations'!E23,\"\")","v":""},{"$f":"IFERROR('Salary Calculations'!F23,\"\")","v":""},{"$f":"IFERROR('Salary Calculations'!G23,\"\")","v":""},{"$f":"IFERROR('Salary Calculations'!H23,\"\")","v":""},{"$f":"IFERROR('Salary Calculations'!I23,\"\")","v":""},{"$f":"IFERROR('Salary Calculations'!J23,\"\")","v":""},{"$f":"IFERROR('Salary Calculations'!K23,\"\")","v":""},{"$f":"IFERROR('Salary Calculations'!L23,\"\")","v":""},{"$f":"IFERROR('Salary Calculations'!M23,\"\")","v":""},{"$f":"IFERROR('Salary Calculations'!N23,\"\")","v":""},{"$f":"IFERROR('Salary Calculations'!O23,\"\")","v":""},{"$f":"IFERROR('Salary Calculations'!P23,\"\")","v":""},{"$f":"IFERROR('Salary Calculations'!Q23,\"\")","v":""}]
[null,null,null,{"$f":"IFERROR('Salary Calculations'!A24,\"\")","v":""},{"$f":"IFERROR('Salary Calculations'!B24,\"\")","v":""},{"$f":"IFERROR('Salary Calculations'!C24,\"\")","v":""},{"$f":"IFERROR('Salary Calculations'!D24,\"\")","v":""},{"$f":"IFERROR('Salary Calculations'!E24,\"\")","v":""},{"$f":"IFERROR('Salary Calculations'!F24,\"\")","v":""},{"$f":"IFERROR('Salary Calculations'!G24,\"\")","v":""},{"$f":"IFERROR('Salary Calculations'!H24,\"\")","v":""},{"$f":"IFERROR('Salary Calculations'!I24,\"\")","v":""},{"$f":"IFERROR('Salary Calculations'!J24,\"\")","v":""},{"$f":"IFERROR('Salary Calculations'!K24,\"\")","v":""},{"$f":"IFERROR('Salary Calculations'!L24,\"\")","v":""},{"$f":"IFERROR('Salary Calculations'!M24,\"\")","v":""},{"$f":"IFERROR('Salary Calculations'!N24,\"\")","v":""},{"$f":"IFERROR('Salary Calculations'!O24,\"\")","v":""},{"$f":"IFERROR('Salary Calculations'!P24,\"\")","v":""},{"$f":"IFERROR('Salary Calculations'!Q24,\"\")","v":""}]
[null,null,null,{"$f":"IFERROR('Salary Calculations'!A25,\"\")","v":""},{"$f":"IFERROR('Salary Calculations'!B25,\"\")","v":""},{"$f":"IFERROR('Salary Calculations'!C25,\"\")","v":""},{"$f":"IFERROR('Salary Calculations'!D25,\"\")","v":""},{"$f":"IFERROR('Salary Calculations'!E25,\"\")","v":""},{"$f":"IFERROR('Salary Calculations'!F25,\"\")","v":""},{"$f":"IFERROR('Salary Calculations'!G25,\"\")","v":""},{"$f":"IFERROR('Salary Calculations'!H25,\"\")","v":""},{"$f":"IFERROR('Salary Calculations'!I25,\"\")","v":""},{"$f":"IFERROR('Salary Calculations'!J25,\"\")","v":""},{"$f":"IFERROR('Salary Calculations'!K25,\"\")","v":""},{"$f":"IFERROR('Salary Calculations'!L25,\"\")","v":""},{"$f":"IFERROR('Salary Calculations'!M25,\"\")","v":""},{"$f":"IFERROR('Salary Calculations'!N25,\"\")","v":""},{"$f":"IFERROR('Salary Calculations'!O25,\"\")","v":""},{"$f":"IFERROR('Salary Calculations'!P25,\"\")","v":""},{"$f":"IFERROR('Salary Calculations'!Q25,\"\")","v":""}]
[null,null,null,{"$f":"IFERROR('Salary Calculations'!A26,\"\")","v":""},{"$f":"IFERROR('Salary Calculations'!B26,\"\")","v":""},{"$f":"IFERROR('Salary Calculations'!C26,\"\")","v":""},{"$f":"IFERROR('Salary Calculations'!D26,\"\")","v":""},{"$f":"IFERROR('Salary Calculations'!E26,\"\")","v":""},{"$f":"IFERROR('Salary Calculations'!F26,\"\")","v":""},{"$f":"IFERROR('Salary Calculations'!G26,\"\")","v":""},{"$f":"IFERROR('Salary Calculations'!H26,\"\")","v":""},{"$f":"IFERROR('Salary Calculations'!I26,\"\")","v":""},{"$f":"IFERROR('Salary Calculations'!J26,\"\")","v":""},{"$f":"IFERROR('Salary Calculations'!K26,\"\")","v":""},{"$f":"IFERROR('Salary Calculations'!L26,\"\")","v":""},{"$f":"IFERROR('Salary Calculations'!M26,\"\")","v":""},{"$f":"IFERROR('Salary Calculations'!N26,\"\")","v":""},{"$f":"IFERROR('Salary Calculations'!O26,\"\")","v":""},{"$f":"IFERROR('Salary Calculations'!P26,\"\")","v":""},{"$f":"IFERROR('Salary Calculations'!Q26,\"\")","v":""}]
[null,null,null,{"$f":"IFERROR('Salary Calculations'!A27,\"\")","v":""},{"$f":"IFERROR('Salary Calculations'!B27,\"\")","v":""},{"$f":"IFERROR('Salary Calculations'!C27,\"\")","v":""},{"$f":"IFERROR('Salary Calculations'!D27,\"\")","v":""},{"$f":"IFERROR('Salary Calculations'!E27,\"\")","v":""},{"$f":"IFERROR('Salary Calculations'!F27,\"\")","v":""},{"$f":"IFERROR('Salary Calculations'!G27,\"\")","v":""},{"$f":"IFERROR('Salary Calculations'!H27,\"\")","v":""},{"$f":"IFERROR('Salary Calculations'!I27,\"\")","v":""},{"$f":"IFERROR('Salary Calculations'!J27,\"\")","v":""},{"$f":"IFERROR('Salary Calculations'!K27,\"\")","v":""},{"$f":"IFERROR('Salary Calculations'!L27,\"\")","v":""},{"$f":"IFERROR('Salary Calculations'!M27,\"\")","v":""},{"$f":"IFERROR('Salary Calculations'!N27,\"\")","v":""},{"$f":"IFERROR('Salary Calculations'!O27,\"\")","v":""},{"$f":"IFERROR('Salary Calculations'!P27,\"\")","v":""},{"$f":"IFERROR('Salary Calculations'!Q27,\"\")","v":""}]
[null,null,null,{"$f":"IFERROR('Salary Calculations'!A28,\"\")","v":""},{"$f":"IFERROR('Salary Calculations'!B28,\"\")","v":""},{"$f":"IFERROR('Salary Calculations'!C28,\"\")","v":""},{"$f":"IFERROR('Salary Calculations'!D28,\"\")","v":""},{"$f":"IFERROR('Salary Calculations'!E28,\"\")","v":""},{"$f":"IFERROR('Salary Calculations'!F28,\"\")","v":""},{"$f":"IFERROR('Salary Calculations'!G28,\"\")","v":""},{"$f":"IFERROR('Salary Calculations'!H28,\"\")","v":""},{"$f":"IFERROR('Salary Calculations'!I28,\"\")","v":""},{"$f":"IFERROR('Salary Calculations'!J28,\"\")","v":""},{"$f":"IFERROR('Salary Calculations'!K28,\"\")","v":""},{"$f":"IFERROR('Salary Calculations'!L28,\"\")","v":""},{"$f":"IFERROR('Salary Calculations'!M28,\"\")","v":""},{"$f":"IFERROR('Salary Calculations'!N28,\"\")","v":""},{"$f":"IFERROR('Salary Calculations'!O28,\"\")","v":""},{"$f":"IFERROR('Salary Calculations'!P28,\"\")","v":""},{"$f":"IFERROR('Salary Calculations'!Q28,\"\")","v":""}]
[null,null,null,{"$f":"IFERROR('Salary Calculations'!A29,\"\")","v":""},{"$f":"IFERROR('Salary Calculations'!B29,\"\")","v":""},{"$f":"IFERROR('Salary Calculations'!C29,\"\")","v":""},{"$f":"IFERROR('Salary Calculations'!D29,\"\")","v":""},{"$f":"IFERROR('Salary Calculations'!E29,\"\")","v":""},{"$f":"IFERROR('Salary Calculations'!F29,\"\")","v":""},{"$f":"IFERROR('Salary Calculations'!G29,\"\")","v":""},{"$f":"IFERROR('Salary Calculations'!H29,\"\")","v":""},{"$f":"IFERROR('Salary Calculations'!I29,\"\")","v":""},{"$f":"IFERROR('Salary Calculations'!J29,\"\")","v":""},{"$f":"IFERROR('Salary Calculations'!K29,\"\")","v":""},{"$f":"IFERROR('Salary Calculations'!L29,\"\")","v":""},{"$f":"IFERROR('Salary Calculations'!M29,\"\")","v":""},{"$f":"IFERROR('Salary Calculations'!N29,\"\")","v":""},{"$f":"IFERROR('Salary Calculations'!O29,\"\")","v":""},{"$f":"IFERROR('Salary Calculations'!P29,\"\")","v":""},{"$f":"IFERROR('Salary Calculations'!Q29,\"\")","v":""}]
[null,null,null,{"$f":"IFERROR('Salary Calculations'!A30,\"\")","v":""},{"$f":"IFERROR('Salary Calculations'!B30,\"\")","v":""},{"$f":"IFERROR('Salary Calculations'!C30,\"\")","v":""},{"$f":"IFERROR('Salary Calculations'!D30,\"\")","v":""},{"$f":"IFERROR('Salary Calculations'!E30,\"\")","v":""},{"$f":"IFERROR('Salary Calculations'!F30,\"\")","v":""},{"$f":"IFERROR('Salary Calculations'!G30,\"\")","v":""},{"$f":"IFERROR('Salary Calculations'!H30,\"\")","v":""},{"$f":"IFERROR('Salary Calculations'!I30,\"\")","v":""},{"$f":"IFERROR('Salary Calculations'!J30,\"\")","v":""},{"$f":"IFERROR('Salary Calculations'!K30,\"\")","v":""},{"$f":"IFERROR('Salary Calculations'!L30,\"\")","v":""},{"$f":"IFERROR('Salary Calculations'!M30,\"\")","v":""},{"$f":"IFERROR('Salary Calculations'!N30,\"\")","v":""},{"$f":"IFERROR('Salary Calculations'!O30,\"\")","v":""},{"$f":"IFERROR('Salary Calculations'!P30,\"\")","v":""},{"$f":"IFERROR('Salary Calculations'!Q30,\"\")","v":""}]
[null,null,null,{"$f":"IFERROR('Salary Calculations'!A31,\"\")","v":""},{"$f":"IFERROR('Salary Calculations'!B31,\"\")","v":""},{"$f":"IFERROR('Salary Calculations'!C31,\"\")","v":""},{"$f":"IFERROR('Salary Calculations'!D31,\"\")","v":""},{"$f":"IFERROR('Salary Calculations'!E31,\"\")","v":""},{"$f":"IFERROR('Salary Calculations'!F31,\"\")","v":""},{"$f":"IFERROR('Salary Calculations'!G31,\"\")","v":""},{"$f":"IFERROR('Salary Calculations'!H31,\"\")","v":""},{"$f":"IFERROR('Salary Calculations'!I31,\"\")","v":""},{"$f":"IFERROR('Salary Calculations'!J31,\"\")","v":""},{"$f":"IFERROR('Salary Calculations'!K31,\"\")","v":""},{"$f":"IFERROR('Salary Calculations'!L31,\"\")","v":""},{"$f":"IFERROR('Salary Calculations'!M31,\"\")","v":""},{"$f":"IFERROR('Salary Calculations'!N31,\"\")","v":""},{"$f":"IFERROR('Salary Calculations'!O31,\"\")","v":""},{"$f":"IFERROR('Salary Calculations'!P31,\"\")","v":""},{"$f":"IFERROR('Salary Calculations'!Q31,\"\")","v":""}]
[null,null,null,{"$f":"IFERROR('Salary Calculations'!A32,\"\")","v":""},{"$f":"IFERROR('Salary Calculations'!B32,\"\")","v":""},{"$f":"IFERROR('Salary Calculations'!C32,\"\")","v":""},{"$f":"IFERROR('Salary Calculations'!D32,\"\")","v":""},{"$f":"IFERROR('Salary Calculations'!E32,\"\")","v":""},{"$f":"IFERROR('Salary Calculations'!F32,\"\")","v":""},{"$f":"IFERROR('Salary Calculations'!G32,\"\")","v":""},{"$f":"IFERROR('Salary Calculations'!H32,\"\")","v":""},{"$f":"IFERROR('Salary Calculations'!I32,\"\")","v":""},{"$f":"IFERROR('Salary Calculations'!J32,\"\")","v":""},{"$f":"IFERROR('Salary Calculations'!K32,\"\")","v":""},{"$f":"IFERROR('Salary Calculations'!L32,\"\")","v":""},{"$f":"IFERROR('Salary Calculations'!M32,\"\")","v":""},{"$f":"IFERROR('Salary Calculations'!N32,\"\")","v":""},{"$f":"IFERROR('Salary Calculations'!O32,\"\")","v":""},{"$f":"IFERROR('Salary Calculations'!P32,\"\")","v":""},{"$f":"IFERROR('Salary Calculations'!Q32,\"\")","v":""}]
[null,null,null,{"$f":"IFERROR('Salary Calculations'!A33,\"\")","v":""},{"$f":"IFERROR('Salary Calculations'!B33,\"\")","v":""},{"$f":"IFERROR('Salary Calculations'!C33,\"\")","v":""},{"$f":"IFERROR('Salary Calculations'!D33,\"\")","v":""},{"$f":"IFERROR('Salary Calculations'!E33,\"\")","v":""},{"$f":"IFERROR('Salary Calculations'!F33,\"\")","v":""},{"$f":"IFERROR('Salary Calculations'!G33,\"\")","v":""},{"$f":"IFERROR('Salary Calculations'!H33,\"\")","v":""},{"$f":"IFERROR('Salary Calculations'!I33,\"\")","v":""},{"$f":"IFERROR('Salary Calculations'!J33,\"\")","v":""},{"$f":"IFERROR('Salary Calculations'!K33,\"\")","v":""},{"$f":"IFERROR('Salary Calculations'!L33,\"\")","v":""},{"$f":"IFERROR('Salary Calculations'!M33,\"\")","v":""},{"$f":"IFERROR('Salary Calculations'!N33,\"\")","v":""},{"$f":"IFERROR('Salary Calculations'!O33,\"\")","v":""},{"$f":"IFERROR('Salary Calculations'!P33,\"\")","v":""},{"$f":"IFERROR('Salary Calculations'!Q33,\"\")","v":""}]
[null,null,null,{"$f":"IFERROR('Salary Calculations'!A34,\"\")","v":""},{"$f":"IFERROR('Salary Calculations'!B34,\"\")","v":""},{"$f":"IFERROR('Salary Calculations'!C34,\"\")","v":""},{"$f":"IFERROR('Salary Calculations'!D34,\"\")","v":""},{"$f":"IFERROR('Salary Calculations'!E34,\"\")","v":""},{"$f":"IFERROR('Salary Calculations'!F34,\"\")","v":""},{"$f":"IFERROR('Salary Calculations'!G34,\"\")","v":""},{"$f":"IFERROR('Salary Calculations'!H34,\"\")","v":""},{"$f":"IFERROR('Salary Calculations'!I34,\"\")","v":""},{"$f":"IFERROR('Salary Calculations'!J34,\"\")","v":""},{"$f":"IFERROR('Salary Calculations'!K34,\"\")","v":""},{"$f":"IFERROR('Salary Calculations'!L34,\"\")","v":""},{"$f":"IFERROR('Salary Calculations'!M34,\"\")","v":""},{"$f":"IFERROR('Salary Calculations'!N34,\"\")","v":""},{"$f":"IFERROR('Salary Calculations'!O34,\"\")","v":""},{"$f":"IFERROR('Salary Calculations'!P34,\"\")","v":""},{"$f":"IFERROR('Salary Calculations'!Q34,\"\")","v":""}]
[null,null,null,{"$f":"IFERROR('Salary Calculations'!A35,\"\")","v":""},{"$f":"IFERROR('Salary Calculations'!B35,\"\")","v":""},{"$f":"IFERROR('Salary Calculations'!C35,\"\")","v":""},{"$f":"IFERROR('Salary Calculations'!D35,\"\")","v":""},{"$f":"IFERROR('Salary Calculations'!E35,\"\")","v":""},{"$f":"IFERROR('Salary Calculations'!F35,\"\")","v":""},{"$f":"IFERROR('Salary Calculations'!G35,\"\")","v":""},{"$f":"IFERROR('Salary Calculations'!H35,\"\")","v":""},{"$f":"IFERROR('Salary Calculations'!I35,\"\")","v":""},{"$f":"IFERROR('Salary Calculations'!J35,\"\")","v":""},{"$f":"IFERROR('Salary Calculations'!K35,\"\")","v":""},{"$f":"IFERROR('Salary Calculations'!L35,\"\")","v":""},{"$f":"IFERROR('Salary Calculations'!M35,\"\")","v":""},{"$f":"IFERROR('Salary Calculations'!N35,\"\")","v":""},{"$f":"IFERROR('Salary Calculations'!O35,\"\")","v":""},{"$f":"IFERROR('Salary Calculations'!P35,\"\")","v":""},{"$f":"IFERROR('Salary Calculations'!Q35,\"\")","v":""}]
[null,null,null,{"$f":"IFERROR('Salary Calculations'!A36,\"\")","v":""},{"$f":"IFERROR('Salary Calculations'!B36,\"\")","v":""},{"$f":"IFERROR('Salary Calculations'!C36,\"\")","v":""},{"$f":"IFERROR('Salary Calculations'!D36,\"\")","v":""},{"$f":"IFERROR('Salary Calculations'!E36,\"\")","v":""},{"$f":"IFERROR('Salary Calculations'!F36,\"\")","v":""},{"$f":"IFERROR('Salary Calculations'!G36,\"\")","v":""},{"$f":"IFERROR('Salary Calculations'!H36,\"\")","v":""},{"$f":"IFERROR('Salary Calculations'!I36,\"\")","v":""},{"$f":"IFERROR('Salary Calculations'!J36,\"\")","v":""},{"$f":"IFERROR('Salary Calculations'!K36,\"\")","v":""},{"$f":"IFERROR('Salary Calculations'!L36,\"\")","v":""},{"$f":"IFERROR('Salary Calculations'!M36,\"\")","v":""},{"$f":"IFERROR('Salary Calculations'!N36,\"\")","v":""},{"$f":"IFERROR('Salary Calculations'!O36,\"\")","v":""},{"$f":"IFERROR('Salary Calculations'!P36,\"\")","v":""},{"$f":"IFERROR('Salary Calculations'!Q36,\"\")","v":""}]
[null,null,null,{"$f":"IFERROR('Salary Calculations'!A37,\"\")","v":""},{"$f":"IFERROR('Salary Calculations'!B37,\"\")","v":""},{"$f":"IFERROR('Salary Calculations'!C37,\"\")","v":""},{"$f":"IFERROR('Salary Calculations'!D37,\"\")","v":""},{"$f":"IFERROR('Salary Calculations'!E37,\"\")","v":""},{"$f":"IFERROR('Salary Calculations'!F37,\"\")","v":""},{"$f":"IFERROR('Salary Calculations'!G37,\"\")","v":""},{"$f":"IFERROR('Salary Calculations'!H37,\"\")","v":""},{"$f":"IFERROR('Salary Calculations'!I37,\"\")","v":""},{"$f":"IFERROR('Salary Calculations'!J37,\"\")","v":""},{"$f":"IFERROR('Salary Calculations'!K37,\"\")","v":""},{"$f":"IFERROR('Salary Calculations'!L37,\"\")","v":""},{"$f":"IFERROR('Salary Calculations'!M37,\"\")","v":""},{"$f":"IFERROR('Salary Calculations'!N37,\"\")","v":""},{"$f":"IFERROR('Salary Calculations'!O37,\"\")","v":""},{"$f":"IFERROR('Salary Calculations'!P37,\"\")","v":""},{"$f":"IFERROR('Salary Calculations'!Q37,\"\")","v":""}]
[null,null,null,{"$f":"IFERROR('Salary Calculations'!A38,\"\")","v":""},{"$f":"IFERROR('Salary Calculations'!B38,\"\")","v":""},{"$f":"IFERROR('Salary Calculations'!C38,\"\")","v":""},{"$f":"IFERROR('Salary Calculations'!D38,\"\")","v":""},{"$f":"IFERROR('Salary Calculations'!E38,\"\")","v":""},{"$f":"IFERROR('Salary Calculations'!F38,\"\")","v":""},{"$f":"IFERROR('Salary Calculations'!G38,\"\")","v":""},{"$f":"IFERROR('Salary Calculations'!H38,\"\")","v":""},{"$f":"IFERROR('Salary Calculations'!I38,\"\")","v":""},{"$f":"IFERROR('Salary Calculations'!J38,\"\")","v":""},{"$f":"IFERROR('Salary Calculations'!K38,\"\")","v":""},{"$f":"IFERROR('Salary Calculations'!L38,\"\")","v":""},{"$f":"IFERROR('Salary Calculations'!M38,\"\")","v":""},{"$f":"IFERROR('Salary Calculations'!N38,\"\")","v":""},{"$f":"IFERROR('Salary Calculations'!O38,\"\")","v":""},{"$f":"IFERROR('Salary Calculations'!P38,\"\")","v":""},{"$f":"IFERROR('Salary Calculations'!Q38,\"\")","v":""}]
[null,null,null,{"$f":"IFERROR('Salary Calculations'!A39,\"\")","v":""},{"$f":"IFERROR('Salary Calculations'!B39,\"\")","v":""},{"$f":"IFERROR('Salary Calculations'!C39,\"\")","v":""},{"$f":"IFERROR('Salary Calculations'!D39,\"\")","v":""},{"$f":"IFERROR('Salary Calculations'!E39,\"\")","v":""},{"$f":"IFERROR('Salary Calculations'!F39,\"\")","v":""},{"$f":"IFERROR('Salary Calculations'!G39,\"\")","v":""},{"$f":"IFERROR('Salary Calculations'!H39,\"\")","v":""},{"$f":"IFERROR('Salary Calculations'!I39,\"\")","v":""},{"$f":"IFERROR('Salary Calculations'!J39,\"\")","v":""},{"$f":"IFERROR('Salary Calculations'!K39,\"\")","v":""},{"$f":"IFERROR('Salary Calculations'!L39,\"\")","v":""},{"$f":"IFERROR('Salary Calculations'!M39,\"\")","v":""},{"$f":"IFERROR('Salary Calculations'!N39,\"\")","v":""},{"$f":"IFERROR('Salary Calculations'!O39,\"\")","v":""},{"$f":"IFERROR('Salary Calculations'!P39,\"\")","v":""},{"$f":"IFERROR('Salary Calculations'!Q39,\"\")","v":""}]
[null,null,null,{"$f":"IFERROR('Salary Calculations'!A40,\"\")","v":""},{"$f":"IFERROR('Salary Calculations'!B40,\"\")","v":""},{"$f":"IFERROR('Salary Calculations'!C40,\"\")","v":""},{"$f":"IFERROR('Salary Calculations'!D40,\"\")","v":""},{"$f":"IFERROR('Salary Calculations'!E40,\"\")","v":""},{"$f":"IFERROR('Salary Calculations'!F40,\"\")","v":""},{"$f":"IFERROR('Salary Calculations'!G40,\"\")","v":""},{"$f":"IFERROR('Salary Calculations'!H40,\"\")","v":""},{"$f":"IFERROR('Salary Calculations'!I40,\"\")","v":""},{"$f":"IFERROR('Salary Calculations'!J40,\"\")","v":""},{"$f":"IFERROR('Salary Calculations'!K40,\"\")","v":""},{"$f":"IFERROR('Salary Calculations'!L40,\"\")","v":""},{"$f":"IFERROR('Salary Calculations'!M40,\"\")","v":""},{"$f":"IFERROR('Salary Calculations'!N40,\"\")","v":""},{"$f":"IFERROR('Salary Calculations'!O40,\"\")","v":""},{"$f":"IFERROR('Salary Calculations'!P40,\"\")","v":""},{"$f":"IFERROR('Salary Calculations'!Q40,\"\")","v":""}]
[null,null,null,{"$f":"IFERROR('Salary Calculations'!A41,\"\")","v":""},{"$f":"IFERROR('Salary Calculations'!B41,\"\")","v":""},{"$f":"IFERROR('Salary Calculations'!C41,\"\")","v":""},{"$f":"IFERROR('Salary Calculations'!D41,\"\")","v":""},{"$f":"IFERROR('Salary Calculations'!E41,\"\")","v":""},{"$f":"IFERROR('Salary Calculations'!F41,\"\")","v":""},{"$f":"IFERROR('Salary Calculations'!G41,\"\")","v":""},{"$f":"IFERROR('Salary Calculations'!H41,\"\")","v":""},{"$f":"IFERROR('Salary Calculations'!I41,\"\")","v":""},{"$f":"IFERROR('Salary Calculations'!J41,\"\")","v":""},{"$f":"IFERROR('Salary Calculations'!K41,\"\")","v":""},{"$f":"IFERROR('Salary Calculations'!L41,\"\")","v":""},{"$f":"IFERROR('Salary Calculations'!M41,\"\")","v":""},{"$f":"IFERROR('Salary Calculations'!N41,\"\")","v":""},{"$f":"IFERROR('Salary Calculations'!O41,\"\")","v":""},{"$f":"IFERROR('Salary Calculations'!P41,\"\")","v":""},{"$f":"IFERROR('Salary Calculations'!Q41,\"\")","v":""}]
[null,null,null,{"$f":"IFERROR('Salary Calculations'!A42,\"\")","v":""},{"$f":"IFERROR('Salary Calculations'!B42,\"\")","v":""},{"$f":"IFERROR('Salary Calculations'!C42,\"\")","v":""},{"$f":"IFERROR('Salary Calculations'!D42,\"\")","v":""},{"$f":"IFERROR('Salary Calculations'!E42,\"\")","v":""},{"$f":"IFERROR('Salary Calculations'!F42,\"\")","v":""},{"$f":"IFERROR('Salary Calculations'!G42,\"\")","v":""},{"$f":"IFERROR('Salary Calculations'!H42,\"\")","v":""},{"$f":"IFERROR('Salary Calculations'!I42,\"\")","v":""},{"$f":"IFERROR('Salary Calculations'!J42,\"\")","v":""},{"$f":"IFERROR('Salary Calculations'!K42,\"\")","v":""},{"$f":"IFERROR('Salary Calculations'!L42,\"\")","v":""},{"$f":"IFERROR('Salary Calculations'!M42,\"\")","v":""},{"$f":"IFERROR('Salary Calculations'!N42,\"\")","v":""},{"$f":"IFERROR('Salary Calculations'!O42,\"\")","v":""},{"$f":"IFERROR('Salary Calculations'!P42,\"\")","v":""},{"$f":"IFERROR('Salary Calculations'!Q42,\"\")","v":""}]
[null,null,null,{"$f":"IFERROR('Salary Calculations'!A43,\"\")","v":""},{"$f":"IFERROR('Salary Calculations'!B43,\"\")","v":""},{"$f":"IFERROR('Salary Calculations'!C43,\"\")","v":""},{"$f":"IFERROR('Salary Calculations'!D43,\"\")","v":""},{"$f":"IFERROR('Salary Calculations'!E43,\"\")","v":""},{"$f":"IFERROR('Salary Calculations'!F43,\"\")","v":""},{"$f":"IFERROR('Salary Calculations'!G43,\"\")","v":""},{"$f":"IFERROR('Salary Calculations'!H43,\"\")","v":""},{"$f":"IFERROR('Salary Calculations'!I43,\"\")","v":""},{"$f":"IFERROR('Salary Calculations'!J43,\"\")","v":""},{"$f":"IFERROR('Salary Calculations'!K43,\"\")","v":""},{"$f":"IFERROR('Salary Calculations'!L43,\"\")","v":""},{"$f":"IFERROR('Salary Calculations'!M43,\"\")","v":""},{"$f":"IFERROR('Salary Calculations'!N43,\"\")","v":""},{"$f":"IFERROR('Salary Calculations'!O43,\"\")","v":""},{"$f":"IFERROR('Salary Calculations'!P43,\"\")","v":""},{"$f":"IFERROR('Salary Calculations'!Q43,\"\")","v":""}]
[null,null,null,{"$f":"IFERROR('Salary Calculations'!A44,\"\")","v":""},{"$f":"IFERROR('Salary Calculations'!B44,\"\")","v":""},{"$f":"IFERROR('Salary Calculations'!C44,\"\")","v":""},{"$f":"IFERROR('Salary Calculations'!D44,\"\")","v":""},{"$f":"IFERROR('Salary Calculations'!E44,\"\")","v":""},{"$f":"IFERROR('Salary Calculations'!F44,\"\")","v":""},{"$f":"IFERROR('Salary Calculations'!G44,\"\")","v":""},{"$f":"IFERROR('Salary Calculations'!H44,\"\")","v":""},{"$f":"IFERROR('Salary Calculations'!I44,\"\")","v":""},{"$f":"IFERROR('Salary Calculations'!J44,\"\")","v":""},{"$f":"IFERROR('Salary Calculations'!K44,\"\")","v":""},{"$f":"IFERROR('Salary Calculations'!L44,\"\")","v":""},{"$f":"IFERROR('Salary Calculations'!M44,\"\")","v":""},{"$f":"IFERROR('Salary Calculations'!N44,\"\")","v":""},{"$f":"IFERROR('Salary Calculations'!O44,\"\")","v":""},{"$f":"IFERROR('Salary Calculations'!P44,\"\")","v":""},{"$f":"IFERROR('Salary Calculations'!Q44,\"\")","v":""}]
[null,null,null,{"$f":"IFERROR('Salary Calculations'!A45,\"\")","v":""},{"$f":"IFERROR('Salary Calculations'!B45,\"\")","v":""},{"$f":"IFERROR('Salary Calculations'!C45,\"\")","v":""},{"$f":"IFERROR('Salary Calculations'!D45,\"\")","v":""},{"$f":"IFERROR('Salary Calculations'!E45,\"\")","v":""},{"$f":"IFERROR('Salary Calculations'!F45,\"\")","v":""},{"$f":"IFERROR('Salary Calculations'!G45,\"\")","v":""},{"$f":"IFERROR('Salary Calculations'!H45,\"\")","v":""},{"$f":"IFERROR('Salary Calculations'!I45,\"\")","v":""},{"$f":"IFERROR('Salary Calculations'!J45,\"\")","v":""},{"$f":"IFERROR('Salary Calculations'!K45,\"\")","v":""},{"$f":"IFERROR('Salary Calculations'!L45,\"\")","v":""},{"$f":"IFERROR('Salary Calculations'!M45,\"\")","v":""},{"$f":"IFERROR('Salary Calculations'!N45,\"\")","v":""},{"$f":"IFERROR('Salary Calculations'!O45,\"\")","v":""},{"$f":"IFERROR('Salary Calculations'!P45,\"\")","v":""},{"$f":"IFERROR('Salary Calculations'!Q45,\"\")","v":""}]
[null,null,null,{"$f":"IFERROR('Salary Calculations'!A46,\"\")","v":""},{"$f":"IFERROR('Salary Calculations'!B46,\"\")","v":""},{"$f":"IFERROR('Salary Calculations'!C46,\"\")","v":""},{"$f":"IFERROR('Salary Calculations'!D46,\"\")","v":""},{"$f":"IFERROR('Salary Calculations'!E46,\"\")","v":""},{"$f":"IFERROR('Salary Calculations'!F46,\"\")","v":""},{"$f":"IFERROR('Salary Calculations'!G46,\"\")","v":""},{"$f":"IFERROR('Salary Calculations'!H46,\"\")","v":""},{"$f":"IFERROR('Salary Calculations'!I46,\"\")","v":""},{"$f":"IFERROR('Salary Calculations'!J46,\"\")","v":""},{"$f":"IFERROR('Salary Calculations'!K46,\"\")","v":""},{"$f":"IFERROR('Salary Calculations'!L46,\"\")","v":""},{"$f":"IFERROR('Salary Calculations'!M46,\"\")","v":""},{"$f":"IFERROR('Salary Calculations'!N46,\"\")","v":""},{"$f":"IFERROR('Salary Calculations'!O46,\"\")","v":""},{"$f":"IFERROR('Salary Calculations'!P46,\"\")","v":""},{"$f":"IFERROR('Salary Calculations'!Q46,\"\")","v":""}]
[null,null,null,{"$f":"IFERROR('Salary Calculations'!A47,\"\")","v":""},{"$f":"IFERROR('Salary Calculations'!B47,\"\")","v":""},{"$f":"IFERROR('Salary Calculations'!C47,\"\")","v":""},{"$f":"IFERROR('Salary Calculations'!D47,\"\")","v":""},{"$f":"IFERROR('Salary Calculations'!E47,\"\")","v":""},{"$f":"IFERROR('Salary Calculations'!F47,\"\")","v":""},{"$f":"IFERROR('Salary Calculations'!G47,\"\")","v":""},{"$f":"IFERROR('Salary Calculations'!H47,\"\")","v":""},{"$f":"IFERROR('Salary Calculations'!I47,\"\")","v":""},{"$f":"IFERROR('Salary Calculations'!J47,\"\")","v":""},{"$f":"IFERROR('Salary Calculations'!K47,\"\")","v":""},{"$f":"IFERROR('Salary Calculations'!L47,\"\")","v":""},{"$f":"IFERROR('Salary Calculations'!M47,\"\")","v":""},{"$f":"IFERROR('Salary Calculations'!N47,\"\")","v":""},{"$f":"IFERROR('Salary Calculations'!O47,\"\")","v":""},{"$f":"IFERROR('Salary Calculations'!P47,\"\")","v":""},{"$f":"IFERROR('Salary Calculations'!Q47,\"\")","v":""}]
[null,null,null,{"$f":"IFERROR('Salary Calculations'!A48,\"\")","v":""},{"$f":"IFERROR('Salary Calculations'!B48,\"\")","v":""},{"$f":"IFERROR('Salary Calculations'!C48,\"\")","v":""},{"$f":"IFERROR('Salary Calculations'!D48,\"\")","v":""},{"$f":"IFERROR('Salary Calculations'!E48,\"\")","v":""},{"$f":"IFERROR('Salary Calculations'!F48,\"\")","v":""},{"$f":"IFERROR('Salary Calculations'!G48,\"\")","v":""},{"$f":"IFERROR('Salary Calculations'!H48,\"\")","v":""},{"$f":"IFERROR('Salary Calculations'!I48,\"\")","v":""},{"$f":"IFERROR('Salary Calculations'!J48,\"\")","v":""},{"$f":"IFERROR('Salary Calculations'!K48,\"\")","v":""},{"$f":"IFERROR('Salary Calculations'!L48,\"\")","v":""},{"$f":"IFERROR('Salary Calculations'!M48,\"\")","v":""},{"$f":"IFERROR('Salary Calculations'!N48,\"\")","v":""},{"$f":"IFERROR('Salary Calculations'!O48,\"\")","v":""},{"$f":"IFERROR('Salary Calculations'!P48,\"\")","v":""},{"$f":"IFERROR('Salary Calculations'!Q48,\"\")","v":""}]
[null,null,null,{"$f":"IFERROR('Salary Calculations'!A49,\"\")","v":""},{"$f":"IFERROR('Salary Calculations'!B49,\"\")","v":""},{"$f":"IFERROR('Salary Calculations'!C49,\"\")","v":""},{"$f":"IFERROR('Salary Calculations'!D49,\"\")","v":""},{"$f":"IFERROR('Salary Calculations'!E49,\"\")","v":""},{"$f":"IFERROR('Salary Calculations'!F49,\"\")","v":""},{"$f":"IFERROR('Salary Calculations'!G49,\"\")","v":""},{"$f":"IFERROR('Salary Calculations'!H49,\"\")","v":""},{"$f":"IFERROR('Salary Calculations'!I49,\"\")","v":""},{"$f":"IFERROR('Salary Calculations'!J49,\"\")","v":""},{"$f":"IFERROR('Salary Calculations'!K49,\"\")","v":""},{"$f":"IFERROR('Salary Calculations'!L49,\"\")","v":""},{"$f":"IFERROR('Salary Calculations'!M49,\"\")","v":""},{"$f":"IFERROR('Salary Calculations'!N49,\"\")","v":""},{"$f":"IFERROR('Salary Calculations'!O49,\"\")","v":""},{"$f":"IFERROR('Salary Calculations'!P49,\"\")","v":""},{"$f":"IFERROR('Salary Calculations'!Q49,\"\")","v":""}]
[null,null,null,{"$f":"IFERROR('Salary Calculations'!A50,\"\")","v":""},{"$f":"IFERROR('Salary Calculations'!B50,\"\")","v":""},{"$f":"IFERROR('Salary Calculations'!C50,\"\")","v":""},{"$f":"IFERROR('Salary Calculations'!D50,\"\")","v":""},{"$f":"IFERROR('Salary Calculations'!E50,\"\")","v":""},{"$f":"IFERROR('Salary Calculations'!F50,\"\")","v":""},{"$f":"IFERROR('Salary Calculations'!G50,\"\")","v":""},{"$f":"IFERROR('Salary Calculations'!H50,\"\")","v":""},{"$f":"IFERROR('Salary Calculations'!I50,\"\")","v":""},{"$f":"IFERROR('Salary Calculations'!J50,\"\")","v":""},{"$f":"IFERROR('Salary Calculations'!K50,\"\")","v":""},{"$f":"IFERROR('Salary Calculations'!L50,\"\")","v":""},{"$f":"IFERROR('Salary Calculations'!M50,\"\")","v":""},{"$f":"IFERROR('Salary Calculations'!N50,\"\")","v":""},{"$f":"IFERROR('Salary Calculations'!O50,\"\")","v":""},{"$f":"IFERROR('Salary Calculations'!P50,\"\")","v":""},{"$f":"IFERROR('Salary Calculations'!Q50,\"\")","v":""}]
[null,null,null,{"$f":"IFERROR('Salary Calculations'!A51,\"\")","v":""},{"$f":"IFERROR('Salary Calculations'!B51,\"\")","v":""},{"$f":"IFERROR('Salary Calculations'!C51,\"\")","v":""},{"$f":"IFERROR('Salary Calculations'!D51,\"\")","v":""},{"$f":"IFERROR('Salary Calculations'!E51,\"\")","v":""},{"$f":"IFERROR('Salary Calculations'!F51,\"\")","v":""},{"$f":"IFERROR('Salary Calculations'!G51,\"\")","v":""},{"$f":"IFERROR('Salary Calculations'!H51,\"\")","v":""},{"$f":"IFERROR('Salary Calculations'!I51,\"\")","v":""},{"$f":"IFERROR('Salary Calculations'!J51,\"\")","v":""},{"$f":"IFERROR('Salary Calculations'!K51,\"\")","v":""},{"$f":"IFERROR('Salary Calculations'!L51,\"\")","v":""},{"$f":"IFERROR('Salary Calculations'!M51,\"\")","v":""},{"$f":"IFERROR('Salary Calculations'!N51,\"\")","v":""},{"$f":"IFERROR('Salary Calculations'!O51,\"\")","v":""},{"$f":"IFERROR('Salary Calculations'!P51,\"\")","v":""},{"$f":"IFERROR('Salary Calculations'!Q51,\"\")","v":""}]
[null,null,null,{"$f":"IFERROR('Salary Calculations'!A52,\"\")","v":""},{"$f":"IFERROR('Salary Calculations'!B52,\"\")","v":""},{"$f":"IFERROR('Salary Calculations'!C52,\"\")","v":""},{"$f":"IFERROR('Salary Calculations'!D52,\"\")","v":""},{"$f":"IFERROR('Salary Calculations'!E52,\"\")","v":""},{"$f":"IFERROR('Salary Calculations'!F52,\"\")","v":""},{"$f":"IFERROR('Salary Calculations'!G52,\"\")","v":""},{"$f":"IFERROR('Salary Calculations'!H52,\"\")","v":""},{"$f":"IFERROR('Salary Calculations'!I52,\"\")","v":""},{"$f":"IFERROR('Salary Calculations'!J52,\"\")","v":""},{"$f":"IFERROR('Salary Calculations'!K52,\"\")","v":""},{"$f":"IFERROR('Salary Calculations'!L52,\"\")","v":""},{"$f":"IFERROR('Salary Calculations'!M52,\"\")","v":""},{"$f":"IFERROR('Salary Calculations'!N52,\"\")","v":""},{"$f":"IFERROR('Salary Calculations'!O52,\"\")","v":""},{"$f":"IFERROR('Salary Calculations'!P52,\"\")","v":""},{"$f":"IFERROR('Salary Calculations'!Q52,\"\")","v":""}]
[null,null,null,{"$f":"IFERROR('Salary Calculations'!A53,\"\")","v":""},{"$f":"IFERROR('Salary Calculations'!B53,\"\")","v":""},{"$f":"IFERROR('Salary Calculations'!C53,\"\")","v":""},{"$f":"IFERROR('Salary Calculations'!D53,\"\")","v":""},{"$f":"IFERROR('Salary Calculations'!E53,\"\")","v":""},{"$f":"IFERROR('Salary Calculations'!F53,\"\")","v":""},{"$f":"IFERROR('Salary Calculations'!G53,\"\")","v":""},{"$f":"IFERROR('Salary Calculations'!H53,\"\")","v":""},{"$f":"IFERROR('Salary Calculations'!I53,\"\")","v":""},{"$f":"IFERROR('Salary Calculations'!J53,\"\")","v":""},{"$f":"IFERROR('Salary Calculations'!K53,\"\")","v":""},{"$f":"IFERROR('Salary Calculations'!L53,\"\")","v":""},{"$f":"IFERROR('Salary Calculations'!M53,\"\")","v":""},{"$f":"IFERROR('Salary Calculations'!N53,\"\")","v":""},{"$f":"IFERROR('Salary Calculations'!O53,\"\")","v":""},{"$f":"IFERROR('Salary Calculations'!P53,\"\")","v":""},{"$f":"IFERROR('Salary Calculations'!Q53,\"\")","v":""}]
[null,null,null,{"$f":"IFERROR('Salary Calculations'!A54,\"\")","v":""},{"$f":"IFERROR('Salary Calculations'!B54,\"\")","v":""},{"$f":"IFERROR('Salary Calculations'!C54,\"\")","v":""},{"$f":"IFERROR('Salary Calculations'!D54,\"\")","v":""},{"$f":"IFERROR('Salary Calculations'!E54,\"\")","v":""},{"$f":"IFERROR('Salary Calculations'!F54,\"\")","v":""},{"$f":"IFERROR('Salary Calculations'!G54,\"\")","v":""},{"$f":"IFERROR('Salary Calculations'!H54,\"\")","v":""},{"$f":"IFERROR('Salary Calculations'!I54,\"\")","v":""},{"$f":"IFERROR('Salary Calculations'!J54,\"\")","v":""},{"$f":"IFERROR('Salary Calculations'!K54,\"\")","v":""},{"$f":"IFERROR('Salary Calculations'!L54,\"\")","v":""},{"$f":"IFERROR('Salary Calculations'!M54,\"\")","v":""},{"$f":"IFERROR('Salary Calculations'!N54,\"\")","v":""},{"$f":"IFERROR('Salary Calculations'!O54,\"\")","v":""},{"$f":"IFERROR('Salary Calculations'!P54,\"\")","v":""},{"$f":"IFERROR('Salary Calculations'!Q54,\"\")","v":""}]
[null,null,null,{"$f":"IFERROR('Salary Calculations'!A55,\"\")","v":""},{"$f":"IFERROR('Salary Calculations'!B55,\"\")","v":""},{"$f":"IFERROR('Salary Calculations'!C55,\"\")","v":""},{"$f":"IFERROR('Salary Calculations'!D55,\"\")","v":""},{"$f":"IFERROR('Salary Calculations'!E55,\"\")","v":""},{"$f":"IFERROR('Salary Calculations'!F55,\"\")","v":""},{"$f":"IFERROR('Salary Calculations'!G55,\"\")","v":""},{"$f":"IFERROR('Salary Calculations'!H55,\"\")","v":""},{"$f":"IFERROR('Salary Calculations'!I55,\"\")","v":""},{"$f":"IFERROR('Salary Calculations'!J55,\"\")","v":""},{"$f":"IFERROR('Salary Calculations'!K55,\"\")","v":""},{"$f":"IFERROR('Salary Calculations'!L55,\"\")","v":""},{"$f":"IFERROR('Salary Calculations'!M55,\"\")","v":""},{"$f":"IFERROR('Salary Calculations'!N55,\"\")","v":""},{"$f":"IFERROR('Salary Calculations'!O55,\"\")","v":""},{"$f":"IFERROR('Salary Calculations'!P55,\"\")","v":""},{"$f":"IFERROR('Salary Calculations'!Q55,\"\")","v":""}]
[null,null,null,{"$f":"IFERROR('Salary Calculations'!A56,\"\")","v":""},{"$f":"IFERROR('Salary Calculations'!B56,\"\")","v":""},{"$f":"IFERROR('Salary Calculations'!C56,\"\")","v":""},{"$f":"IFERROR('Salary Calculations'!D56,\"\")","v":""},{"$f":"IFERROR('Salary Calculations'!E56,\"\")","v":""},{"$f":"IFERROR('Salary Calculations'!F56,\"\")","v":""},{"$f":"IFERROR('Salary Calculations'!G56,\"\")","v":""},{"$f":"IFERROR('Salary Calculations'!H56,\"\")","v":""},{"$f":"IFERROR('Salary Calculations'!I56,\"\")","v":""},{"$f":"IFERROR('Salary Calculations'!J56,\"\")","v":""},{"$f":"IFERROR('Salary Calculations'!K56,\"\")","v":""},{"$f":"IFERROR('Salary Calculations'!L56,\"\")","v":""},{"$f":"IFERROR('Salary Calculations'!M56,\"\")","v":""},{"$f":"IFERROR('Salary Calculations'!N56,\"\")","v":""},{"$f":"IFERROR('Salary Calculations'!O56,\"\")","v":""},{"$f":"IFERROR('Salary Calculations'!P56,\"\")","v":""},{"$f":"IFERROR('Salary Calculations'!Q56,\"\")","v":""}]
[null,null,null,{"$f":"IFERROR('Salary Calculations'!A57,\"\")","v":""},{"$f":"IFERROR('Salary Calculations'!B57,\"\")","v":""},{"$f":"IFERROR('Salary Calculations'!C57,\"\")","v":""},{"$f":"IFERROR('Salary Calculations'!D57,\"\")","v":""},{"$f":"IFERROR('Salary Calculations'!E57,\"\")","v":""},{"$f":"IFERROR('Salary Calculations'!F57,\"\")","v":""},{"$f":"IFERROR('Salary Calculations'!G57,\"\")","v":""},{"$f":"IFERROR('Salary Calculations'!H57,\"\")","v":""},{"$f":"IFERROR('Salary Calculations'!I57,\"\")","v":""},{"$f":"IFERROR('Salary Calculations'!J57,\"\")","v":""},{"$f":"IFERROR('Salary Calculations'!K57,\"\")","v":""},{"$f":"IFERROR('Salary Calculations'!L57,\"\")","v":""},{"$f":"IFERROR('Salary Calculations'!M57,\"\")","v":""},{"$f":"IFERROR('Salary Calculations'!N57,\"\")","v":""},{"$f":"IFERROR('Salary Calculations'!O57,\"\")","v":""},{"$f":"IFERROR('Salary Calculations'!P57,\"\")","v":""},{"$f":"IFERROR('Salary Calculations'!Q57,\"\")","v":""}]
[null,null,null,{"$f":"IFERROR('Salary Calculations'!A58,\"\")","v":""},{"$f":"IFERROR('Salary Calculations'!B58,\"\")","v":""},{"$f":"IFERROR('Salary Calculations'!C58,\"\")","v":""},{"$f":"IFERROR('Salary Calculations'!D58,\"\")","v":""},{"$f":"IFERROR('Salary Calculations'!E58,\"\")","v":""},{"$f":"IFERROR('Salary Calculations'!F58,\"\")","v":""},{"$f":"IFERROR('Salary Calculations'!G58,\"\")","v":""},{"$f":"IFERROR('Salary Calculations'!H58,\"\")","v":""},{"$f":"IFERROR('Salary Calculations'!I58,\"\")","v":""},{"$f":"IFERROR('Salary Calculations'!J58,\"\")","v":""},{"$f":"IFERROR('Salary Calculations'!K58,\"\")","v":""},{"$f":"IFERROR('Salary Calculations'!L58,\"\")","v":""},{"$f":"IFERROR('Salary Calculations'!M58,\"\")","v":""},{"$f":"IFERROR('Salary Calculations'!N58,\"\")","v":""},{"$f":"IFERROR('Salary Calculations'!O58,\"\")","v":""},{"$f":"IFERROR('Salary Calculations'!P58,\"\")","v":""},{"$f":"IFERROR('Salary Calculations'!Q58,\"\")","v":""}]
[null,null,null,{"$f":"IFERROR('Salary Calculations'!A59,\"\")","v":""},{"$f":"IFERROR('Salary Calculations'!B59,\"\")","v":""},{"$f":"IFERROR('Salary Calculations'!C59,\"\")","v":""},{"$f":"IFERROR('Salary Calculations'!D59,\"\")","v":""},{"$f":"IFERROR('Salary Calculations'!E59,\"\")","v":""},{"$f":"IFERROR('Salary Calculations'!F59,\"\")","v":""},{"$f":"IFERROR('Salary Calculations'!G59,\"\")","v":""},{"$f":"IFERROR('Salary Calculations'!H59,\"\")","v":""},{"$f":"IFERROR('Salary Calculations'!I59,\"\")","v":""},{"$f":"IFERROR('Salary Calculations'!J59,\"\")","v":""},{"$f":"IFERROR('Salary Calculations'!K59,\"\")","v":""},{"$f":"IFERROR('Salary Calculations'!L59,\"\")","v":""},{"$f":"IFERROR('Salary Calculations'!M59,\"\")","v":""},{"$f":"IFERROR('Salary Calculations'!N59,\"\")","v":""},{"$f":"IFERROR('Salary Calculations'!O59,\"\")","v":""},{"$f":"IFERROR('Salary Calculations'!P59,\"\")","v":""},{"$f":"IFERROR('Salary Calculations'!Q59,\"\")","v":""}]
[null,null,null,{"$f":"IFERROR('Salary Calculations'!A60,\"\")","v":""},{"$f":"IFERROR('Salary Calculations'!B60,\"\")","v":""},{"$f":"IFERROR('Salary Calculations'!C60,\"\")","v":""},{"$f":"IFERROR('Salary Calculations'!D60,\"\")","v":""},{"$f":"IFERROR('Salary Calculations'!E60,\"\")","v":""},{"$f":"IFERROR('Salary Calculations'!F60,\"\")","v":""},{"$f":"IFERROR('Salary Calculations'!G60,\"\")","v":""},{"$f":"IFERROR('Salary Calculations'!H60,\"\")","v":""},{"$f":"IFERROR('Salary Calculations'!I60,\"\")","v":""},{"$f":"IFERROR('Salary Calculations'!J60,\"\")","v":""},{"$f":"IFERROR('Salary Calculations'!K60,\"\")","v":""},{"$f":"IFERROR('Salary Calculations'!L60,\"\")","v":""},{"$f":"IFERROR('Salary Calculations'!M60,\"\")","v":""},{"$f":"IFERROR('Salary Calculations'!N60,\"\")","v":""},{"$f":"IFERROR('Salary Calculations'!O60,\"\")","v":""},{"$f":"IFERROR('Salary Calculations'!P60,\"\")","v":""},{"$f":"IFERROR('Salary Calculations'!Q60,\"\")","v":""}]
[null,null,null,{"$f":"IFERROR('Salary Calculations'!A61,\"\")","v":""},{"$f":"IFERROR('Salary Calculations'!B61,\"\")","v":""},{"$f":"IFERROR('Salary Calculations'!C61,\"\")","v":""},{"$f":"IFERROR('Salary Calculations'!D61,\"\")","v":""},{"$f":"IFERROR('Salary Calculations'!E61,\"\")","v":""},{"$f":"IFERROR('Salary Calculations'!F61,\"\")","v":""},{"$f":"IFERROR('Salary Calculations'!G61,\"\")","v":""},{"$f":"IFERROR('Salary Calculations'!H61,\"\")","v":""},{"$f":"IFERROR('Salary Calculations'!I61,\"\")","v":""},{"$f":"IFERROR('Salary Calculations'!J61,\"\")","v":""},{"$f":"IFERROR('Salary Calculations'!K61,\"\")","v":""},{"$f":"IFERROR('Salary Calculations'!L61,\"\")","v":""},{"$f":"IFERROR('Salary Calculations'!M61,\"\")","v":""},{"$f":"IFERROR('Salary Calculations'!N61,\"\")","v":""},{"$f":"IFERROR('Salary Calculations'!O61,\"\")","v":""},{"$f":"IFERROR('Salary Calculations'!P61,\"\")","v":""},{"$f":"IFERROR('Salary Calculations'!Q61,\"\")","v":""}]
[null,null,null,{"$f":"IFERROR('Salary Calculations'!A62,\"\")","v":""},{"$f":"IFERROR('Salary Calculations'!B62,\"\")","v":""},{"$f":"IFERROR('Salary Calculations'!C62,\"\")","v":""},{"$f":"IFERROR('Salary Calculations'!D62,\"\")","v":""},{"$f":"IFERROR('Salary Calculations'!E62,\"\")","v":""},{"$f":"IFERROR('Salary Calculations'!F62,\"\")","v":""},{"$f":"IFERROR('Salary Calculations'!G62,\"\")","v":""},{"$f":"IFERROR('Salary Calculations'!H62,\"\")","v":""},{"$f":"IFERROR('Salary Calculations'!I62,\"\")","v":""},{"$f":"IFERROR('Salary Calculations'!J62,\"\")","v":""},{"$f":"IFERROR('Salary Calculations'!K62,\"\")","v":""},{"$f":"IFERROR('Salary Calculations'!L62,\"\")","v":""},{"$f":"IFERROR('Salary Calculations'!M62,\"\")","v":""},{"$f":"IFERROR('Salary Calculations'!N62,\"\")","v":""},{"$f":"IFERROR('Salary Calculations'!O62,\"\")","v":""},{"$f":"IFERROR('Salary Calculations'!P62,\"\")","v":""},{"$f":"IFERROR('Salary Calculations'!Q62,\"\")","v":""}]
[null,null,null,{"$f":"IFERROR('Salary Calculations'!A63,\"\")","v":""},{"$f":"IFERROR('Salary Calculations'!B63,\"\")","v":""},{"$f":"IFERROR('Salary Calculations'!C63,\"\")","v":""},{"$f":"IFERROR('Salary Calculations'!D63,\"\")","v":""},{"$f":"IFERROR('Salary Calculations'!E63,\"\")","v":""},{"$f":"IFERROR('Salary Calculations'!F63,\"\")","v":""},{"$f":"IFERROR('Salary Calculations'!G63,\"\")","v":""},{"$f":"IFERROR('Salary Calculations'!H63,\"\")","v":""},{"$f":"IFERROR('Salary Calculations'!I63,\"\")","v":""},{"$f":"IFERROR('Salary Calculations'!J63,\"\")","v":""},{"$f":"IFERROR('Salary Calculations'!K63,\"\")","v":""},{"$f":"IFERROR('Salary Calculations'!L63,\"\")","v":""},{"$f":"IFERROR('Salary Calculations'!M63,\"\")","v":""},{"$f":"IFERROR('Salary Calculations'!N63,\"\")","v":""},{"$f":"IFERROR('Salary Calculations'!O63,\"\")","v":""},{"$f":"IFERROR('Salary Calculations'!P63,\"\")","v":""},{"$f":"IFERROR('Salary Calculations'!Q63,\"\")","v":""}]
[null,null,null,{"$f":"IFERROR('Salary Calculations'!A64,\"\")","v":""},{"$f":"IFERROR('Salary Calculations'!B64,\"\")","v":""},{"$f":"IFERROR('Salary Calculations'!C64,\"\")","v":""},{"$f":"IFERROR('Salary Calculations'!D64,\"\")","v":""},{"$f":"IFERROR('Salary Calculations'!E64,\"\")","v":""},{"$f":"IFERROR('Salary Calculations'!F64,\"\")","v":""},{"$f":"IFERROR('Salary Calculations'!G64,\"\")","v":""},{"$f":"IFERROR('Salary Calculations'!H64,\"\")","v":""},{"$f":"IFERROR('Salary Calculations'!I64,\"\")","v":""},{"$f":"IFERROR('Salary Calculations'!J64,\"\")","v":""},{"$f":"IFERROR('Salary Calculations'!K64,\"\")","v":""},{"$f":"IFERROR('Salary Calculations'!L64,\"\")","v":""},{"$f":"IFERROR('Salary Calculations'!M64,\"\")","v":""},{"$f":"IFERROR('Salary Calculations'!N64,\"\")","v":""},{"$f":"IFERROR('Salary Calculations'!O64,\"\")","v":""},{"$f":"IFERROR('Salary Calculations'!P64,\"\")","v":""},{"$f":"IFERROR('Salary Calculations'!Q64,\"\")","v":""}]
[null,null,null,{"$f":"IFERROR('Salary Calculations'!A65,\"\")","v":""},{"$f":"IFERROR('Salary Calculations'!B65,\"\")","v":""},{"$f":"IFERROR('Salary Calculations'!C65,\"\")","v":""},{"$f":"IFERROR('Salary Calculations'!D65,\"\")","v":""},{"$f":"IFERROR('Salary Calculations'!E65,\"\")","v":""},{"$f":"IFERROR('Salary Calculations'!F65,\"\")","v":""},{"$f":"IFERROR('Salary Calculations'!G65,\"\")","v":""},{"$f":"IFERROR('Salary Calculations'!H65,\"\")","v":""},{"$f":"IFERROR('Salary Calculations'!I65,\"\")","v":""},{"$f":"IFERROR('Salary Calculations'!J65,\"\")","v":""},{"$f":"IFERROR('Salary Calculations'!K65,\"\")","v":""},{"$f":"IFERROR('Salary Calculations'!L65,\"\")","v":""},{"$f":"IFERROR('Salary Calculations'!M65,\"\")","v":""},{"$f":"IFERROR('Salary Calculations'!N65,\"\")","v":""},{"$f":"IFERROR('Salary Calculations'!O65,\"\")","v":""},{"$f":"IFERROR('Salary Calculations'!P65,\"\")","v":""},{"$f":"IFERROR('Salary Calculations'!Q65,\"\")","v":""}]
[null,null,null,{"$f":"IFERROR('Salary Calculations'!A66,\"\")","v":""},{"$f":"IFERROR('Salary Calculations'!B66,\"\")","v":""},{"$f":"IFERROR('Salary Calculations'!C66,\"\")","v":""},{"$f":"IFERROR('Salary Calculations'!D66,\"\")","v":""},{"$f":"IFERROR('Salary Calculations'!E66,\"\")","v":""},{"$f":"IFERROR('Salary Calculations'!F66,\"\")","v":""},{"$f":"IFERROR('Salary Calculations'!G66,\"\")","v":""},{"$f":"IFERROR('Salary Calculations'!H66,\"\")","v":""},{"$f":"IFERROR('Salary Calculations'!I66,\"\")","v":""},{"$f":"IFERROR('Salary Calculations'!J66,\"\")","v":""},{"$f":"IFERROR('Salary Calculations'!K66,\"\")","v":""},{"$f":"IFERROR('Salary Calculations'!L66,\"\")","v":""},{"$f":"IFERROR('Salary Calculations'!M66,\"\")","v":""},{"$f":"IFERROR('Salary Calculations'!N66,\"\")","v":""},{"$f":"IFERROR('Salary Calculations'!O66,\"\")","v":""},{"$f":"IFERROR('Salary Calculations'!P66,\"\")","v":""},{"$f":"IFERROR('Salary Calculations'!Q66,\"\")","v":""}]
[null,null,null,{"$f":"IFERROR('Salary Calculations'!A67,\"\")","v":""},{"$f":"IFERROR('Salary Calculations'!B67,\"\")","v":""},{"$f":"IFERROR('Salary Calculations'!C67,\"\")","v":""},{"$f":"IFERROR('Salary Calculations'!D67,\"\")","v":""},{"$f":"IFERROR('Salary Calculations'!E67,\"\")","v":""},{"$f":"IFERROR('Salary Calculations'!F67,\"\")","v":""},{"$f":"IFERROR('Salary Calculations'!G67,\"\")","v":""},{"$f":"IFERROR('Salary Calculations'!H67,\"\")","v":""},{"$f":"IFERROR('Salary Calculations'!I67,\"\")","v":""},{"$f":"IFERROR('Salary Calculations'!J67,\"\")","v":""},{"$f":"IFERROR('Salary Calculations'!K67,\"\")","v":""},{"$f":"IFERROR('Salary Calculations'!L67,\"\")","v":""},{"$f":"IFERROR('Salary Calculations'!M67,\"\")","v":""},{"$f":"IFERROR('Salary Calculations'!N67,\"\")","v":""},{"$f":"IFERROR('Salary Calculations'!O67,\"\")","v":""},{"$f":"IFERROR('Salary Calculations'!P67,\"\")","v":""},{"$f":"IFERROR('Salary Calculations'!Q67,\"\")","v":""}]
[null,null,null,{"$f":"IFERROR('Salary Calculations'!A68,\"\")","v":""},{"$f":"IFERROR('Salary Calculations'!B68,\"\")","v":""},{"$f":"IFERROR('Salary Calculations'!C68,\"\")","v":""},{"$f":"IFERROR('Salary Calculations'!D68,\"\")","v":""},{"$f":"IFERROR('Salary Calculations'!E68,\"\")","v":""},{"$f":"IFERROR('Salary Calculations'!F68,\"\")","v":""},{"$f":"IFERROR('Salary Calculations'!G68,\"\")","v":""},{"$f":"IFERROR('Salary Calculations'!H68,\"\")","v":""},{"$f":"IFERROR('Salary Calculations'!I68,\"\")","v":""},{"$f":"IFERROR('Salary Calculations'!J68,\"\")","v":""},{"$f":"IFERROR('Salary Calculations'!K68,\"\")","v":""},{"$f":"IFERROR('Salary Calculations'!L68,\"\")","v":""},{"$f":"IFERROR('Salary Calculations'!M68,\"\")","v":""},{"$f":"IFERROR('Salary Calculations'!N68,\"\")","v":""},{"$f":"IFERROR('Salary Calculations'!O68,\"\")","v":""},{"$f":"IFERROR('Salary Calculations'!P68,\"\")","v":""},{"$f":"IFERROR('Salary Calculations'!Q68,\"\")","v":""}]
[null,null,null,{"$f":"IFERROR('Salary Calculations'!A69,\"\")","v":""},{"$f":"IFERROR('Salary Calculations'!B69,\"\")","v":""},{"$f":"IFERROR('Salary Calculations'!C69,\"\")","v":""},{"$f":"IFERROR('Salary Calculations'!D69,\"\")","v":""},{"$f":"IFERROR('Salary Calculations'!E69,\"\")","v":""},{"$f":"IFERROR('Salary Calculations'!F69,\"\")","v":""},{"$f":"IFERROR('Salary Calculations'!G69,\"\")","v":""},{"$f":"IFERROR('Salary Calculations'!H69,\"\")","v":""},{"$f":"IFERROR('Salary Calculations'!I69,\"\")","v":""},{"$f":"IFERROR('Salary Calculations'!J69,\"\")","v":""},{"$f":"IFERROR('Salary Calculations'!K69,\"\")","v":""},{"$f":"IFERROR('Salary Calculations'!L69,\"\")","v":""},{"$f":"IFERROR('Salary Calculations'!M69,\"\")","v":""},{"$f":"IFERROR('Salary Calculations'!N69,\"\")","v":""},{"$f":"IFERROR('Salary Calculations'!O69,\"\")","v":""},{"$f":"IFERROR('Salary Calculations'!P69,\"\")","v":""},{"$f":"IFERROR('Salary Calculations'!Q69,\"\")","v":""}]
[null,null,null,{"$f":"IFERROR('Salary Calculations'!A70,\"\")","v":""},{"$f":"IFERROR('Salary Calculations'!B70,\"\")","v":""},{"$f":"IFERROR('Salary Calculations'!C70,\"\")","v":""},{"$f":"IFERROR('Salary Calculations'!D70,\"\")","v":""},{"$f":"IFERROR('Salary Calculations'!E70,\"\")","v":""},{"$f":"IFERROR('Salary Calculations'!F70,\"\")","v":""},{"$f":"IFERROR('Salary Calculations'!G70,\"\")","v":""},{"$f":"IFERROR('Salary Calculations'!H70,\"\")","v":""},{"$f":"IFERROR('Salary Calculations'!I70,\"\")","v":""},{"$f":"IFERROR('Salary Calculations'!J70,\"\")","v":""},{"$f":"IFERROR('Salary Calculations'!K70,\"\")","v":""},{"$f":"IFERROR('Salary Calculations'!L70,\"\")","v":""},{"$f":"IFERROR('Salary Calculations'!M70,\"\")","v":""},{"$f":"IFERROR('Salary Calculations'!N70,\"\")","v":""},{"$f":"IFERROR('Salary Calculations'!O70,\"\")","v":""},{"$f":"IFERROR('Salary Calculations'!P70,\"\")","v":""},{"$f":"IFERROR('Salary Calculations'!Q70,\"\")","v":""}]

{"sheet":"Salary Calculations","index":3,"n_rows":70,"n_cols":17,"rows_kept":70,"cut":false,"hidden":true,"merged":[[0,1,0,5],[0,6,0,8],[0,9,0,14]]}
[null,"Investments",null,null,null,null,"Income",null,null,"Deductions"]
["Age","Savings","Savings Requirement","Investment Fees","Return on Investments","Net Investments","Salary","Pension","Total Income","Federal Taxes","Social Security","Medicare","State Taxes","Local Taxes","Total Deductions","Expenses","Net Income"]
[{"$f":"'Salary Worksheet'!B5","v":56},{"$f":"'Salary Worksheet'!B7","v":2000000},{"$f":"IF(ISERROR(A3),NA(),'Salary Worksheet'!$B$15)","v":3000000},{"$f":"'Salary Worksheet'!$B$11*'Salary Calculations'!B3","v":5000},{"$f":"'Salary Worksheet'!$B$12*'Salary Calculations'!B3","v":100000},{"$f":"B3-D3+E3","v":2095000},{"$f":"'Salary Worksheet'!$B$16","v":300000},{"$f":"'Salary Worksheet'!$B$17","v":30000},{"$f":"SUM(G3:H3)","v":330000},{"$f":"'Salary Worksheet'!$B$8*'Salary Calculations'!I3","v":82500},{"$f":"'Salary Worksheet'!$B$13*'Salary Calculations'!I3","v":20460},{"$f":"'Salary Worksheet'!$B$14*'Salary Calculations'!I3","v":4785},{"$f":"IF('Salary Worksheet'!$B$18=\"Yes\",'Salary Worksheet'!$B$9*'Salary Calculations'!I3,'Salary Worksheet'!$B$9*'Salary Calculations'!G3)","v":19800},{"$f":"'Salary Worksheet'!$B$10*'Salary Calculations'!I3","v":6600},{"$f":"SUM(J3:N3)","v":134145},{"$f":"'Salary Worksheet'!$B$19","v":150000},{"$f":"I3-O3-P3","v":45855}]
[{"$f":"IF(A3<'Salary Worksheet'!$B$6,A3+1,NA())","v":57},{"$f":"IF(ISERROR(A4),NA(),F3+Q3)","v":2140855},{"$f":"IF(ISERROR(A4),NA(),'Salary Worksheet'!$B$15)","v":3000000},{"$f":"'Salary Worksheet'!$B$11*'Salary Calculations'!B4","v":5352.1374999999998},{"$f":"'Salary Worksheet'!$B$12*'Salary Calculations'!B4","v":107042.75},{"$f":"B4-D4+E4","v":2242545.6124999998},{"$f":"G3*(1+'Salary Worksheet'!$B$20)","v":306000},{"$f":"IF(ISERROR(A4),NA(),H3*(1+'Salary Worksheet'!$B$20))","v":30600},{"$f":"SUM(G4:H4)","v":336600},{"$f":"'Salary Worksheet'!$B$8*'Salary Calculations'!I4","v":84150},{"$f":"'Salary Worksheet'!$B$13*'Salary Calculations'!I4","v":20869.2},{"$f":"'Salary Worksheet'!$B$14*'Salary Calculations'!I4","v":4880.7},{"$f":"IF('Salary Worksheet'!$B$18=\"Yes\",'Salary Worksheet'!$B$9*'Salary Calculations'!I4,'Salary Worksheet'!$B$9*'Salary Calculations'!G4)","v":20196},{"$f":"'Salary Worksheet'!$B$10*'Salary Calculations'!I4","v":6732},{"$f":"SUM(J4:N4)","v":136827.9},{"$f":"IF(ISERROR(A4),NA(),P3*(1+'Salary Worksheet'!$B$20))","v":153000},{"$f":"I4-O4-P4","v":46772.100000000006}]
[{"$f":"IF(A4<'Salary Worksheet'!$B$6,A4+1,NA())","v":58},{"$f":"IF(ISERROR(A5),NA(),F4+Q4)","v":2289317.7124999999},{"$f":"IF(ISERROR(A5),NA(),'Salary Worksheet'!$B$15)","v":3000000},{"$f":"'Salary Worksheet'!$B$11*'Salary Calculations'!B5","v":5723.2942812499996},{"$f":"'Salary Worksheet'!$B$12*'Salary Calculations'!B5","v":114465.885625},{"$f":"B5-D5+E5","v":2398060.3038437502},{"$f":"IF(ISERROR(A5),NA(),G4*(1+'Salary Worksheet'!$B$20))","v":312120},{"$f":"IF(ISERROR(A5),NA(),H4*(1+'Salary Worksheet'!$B$20))","v":31212},{"$f":"SUM(G5:H5)","v":343332},{"$f":"'Salary Worksheet'!$B$8*'Salary Calculations'!I5","v":85833},{"$f":"'Salary Worksheet'!$B$13*'Salary Calculations'!I5","v":21286.583999999999},{"$f":"'Salary Worksheet'!$B$14*'Salary Calculations'!I5","v":4978.3140000000003},{"$f":"IF('Salary Worksheet'!$B$18=\"Yes\",'Salary Worksheet'!$B$9*'Salary Calculations'!I5,'Salary Worksheet'!$B$9*'Salary Calculations'!G5)","v":20599.919999999998},{"$f":"'Salary Worksheet'!$B$10*'Salary Calculations'!I5","v":6866.64},139564.45800000001,{"$f":"IF(ISERROR(A5),NA(),P4*(1+'Salary Worksheet'!$B$20))","v":156060},{"$f":"I5-O5-P5","v":47707.541999999987}]
[{"$f":"IF(A5<'Salary Worksheet'!$B$6,A5+1,NA())","v":59},2445767.8458437501,{"$f":"IF(ISERROR(A6),NA(),'Salary Worksheet'!$B$15)","v":3000000},{"$f":"'Salary Worksheet'!$B$11*'Salary Calculations'!B6","v":6114.4196146093755},{"$f":"'Salary Worksheet'!$B$12*'Salary Calculations'!B6","v":122288.39229218751},{"$f":"B6-D6+E6","v":2561941.8185213283},{"$f":"IF(ISERROR(A6),NA(),G5*(1+'Salary Worksheet'!$B$20))","v":318362.40000000002},{"$f":"IF(ISERROR(A6),NA(),H5*(1+'Salary Worksheet'!$B$20))","v":31836.240000000002},{"$f":"SUM(G6:H6)","v":350198.64},{"$f":"'Salary Worksheet'!$B$8*'Salary Calculations'!I6","v":87549.66},{"$f":"'Salary Worksheet'!$B$13*'Salary Calculations'!I6","v":21712.31568},{"$f":"'Salary Worksheet'!$B$14*'Salary Calculations'!I6","v":5077.8802800000003},{"$f":"IF('Salary Worksheet'!$B$18=\"Yes\",'Salary Worksheet'!$B$9*'Salary Calculations'!I6,'Salary Worksheet'!$B$9*'Salary Calculations'!G6)","v":21011.918399999999},{"$f":"'Salary Worksheet'!$B$10*'Salary Calculations'!I6","v":7003.9728000000005},142355.74716,{"$f":"IF(ISERROR(A6),NA(),P5*(1+'Salary Worksheet'!$B$20))","v":159181.20000000001},{"$f":"I6-O6-P6","v":48661.692840000003}]
[{"$f":"IF(A6<'Salary Worksheet'!$B$6,A6+1,NA())","v":60},2610603.5113613284,{"$f":"IF(ISERROR(A7),NA(),'Salary Worksheet'!$B$15)","v":3000000},{"$f":"'Salary Worksheet'!$B$11*'Salary Calculations'!B7","v":6526.5087784033212},{"$f":"'Salary Worksheet'!$B$12*'Salary Calculations'!B7","v":130530.17556806642},{"$f":"B7-D7+E7","v":2734607.1781509914},{"$f":"IF(ISERROR(A7),NA(),G6*(1+'Salary Worksheet'!$B$20))","v":324729.64800000004},{"$f":"IF(ISERROR(A7),NA(),H6*(1+'Salary Worksheet'!$B$20))","v":32472.964800000002},{"$f":"SUM(G7:H7)","v":357202.61280000006},{"$f":"'Salary Worksheet'!$B$8*'Salary Calculations'!I7","v":89300.653200000015},{"$f":"'Salary Worksheet'!$B$13*'Salary Calculations'!I7","v":22146.561993600004},{"$f":"'Salary Worksheet'!$B$14*'Salary Calculations'!I7","v":5179.4378856000012},{"$f":"IF('Salary Worksheet'!$B$18=\"Yes\",'Salary Worksheet'!$B$9*'Salary Calculations'!I7,'Salary Worksheet'!$B$9*'Salary Calculations'!G7)","v":21432.156768000004},{"$f":"'Salary Worksheet'!$B$10*'Salary Calculations'!I7","v":7144.0522560000018},145202.86210320002,{"$f":"IF(ISERROR(A7),NA(),P6*(1+'Salary Worksheet'!$B$20))","v":162364.82400000002},{"$f":"I7-O7-P7","v":49634.926696800016}]
[{"$f":"IF(A7<'Salary Worksheet'!$B$6,A7+1,NA())","v":61},2784242.1048477916,{"$f":"IF(ISERROR(A8),NA(),'Salary Worksheet'!$B$15)","v":3000000},{"$f":"'Salary Worksheet'!$B$11*'Salary Calculations'!B8","v":6960.6052621194794},{"$f":"'Salary Worksheet'!$B$12*'Salary Calculations'!B8","v":139212.10524238957},2916493.604828062,{"$f":"IF(ISERROR(A8),NA(),G7*(1+'Salary Worksheet'!$B$20))","v":331224.24096000002},{"$f":"IF(ISERROR(A8),NA(),H7*(1+'Salary Worksheet'!$B$20))","v":33122.424096000002},364346.665056,{"$f":"'Salary Worksheet'!$B$8*'Salary Calculations'!I8","v":91086.666264},{"$f":"'Salary Worksheet'!$B$13*'Salary Calculations'!I8","v":22589.493233472},{"$f":"'Salary Worksheet'!$B$14*'Salary Calculations'!I8","v":5283.0266433120005},{"$f":"IF('Salary Worksheet'!$B$18=\"Yes\",'Salary Worksheet'!$B$9*'Salary Calculations'!I8,'Salary Worksheet'!$B$9*'Salary Calculations'!G8)","v":21860.799903359999},{"$f":"'Salary Worksheet'!$B$10*'Salary Calculations'!I8","v":7286.9333011199997},148106.919345264,{"$f":"IF(ISERROR(A8),NA(),P7*(1+'Salary Worksheet'!$B$20))","v":165612.12048000001},50627.625230735983]
[{"$f":"IF(A8<'Salary Worksheet'!$B$6,A8+1,NA())","v":62},2967121.2300587981,{"$f":"IF(ISERROR(A9),NA(),'Salary Worksheet'!$B$15)","v":3000000},{"$f":"'Salary Worksheet'!$B$11*'Salary Calculations'!B9","v":7417.8030751469951},{"$f":"'Salary Worksheet'!$B$12*'Salary Calculations'!B9","v":148356.06150293991},3108059.4884865913,{"$f":"IF(ISERROR(A9),NA(),G8*(1+'Salary Worksheet'!$B$20))","v":337848.72577920003},{"$f":"IF(ISERROR(A9),NA(),H8*(1+'Salary Worksheet'!$B$20))","v":33784.872577920003},371633.59835712006,{"$f":"'Salary Worksheet'!$B$8*'Salary Calculations'!I9","v":92908.399589280016},{"$f":"'Salary Worksheet'!$B$13*'Salary Calculations'!I9","v":23041.283098141444},{"$f":"'Salary Worksheet'!$B$14*'Salary Calculations'!I9","v":5388.6871761782413},{"$f":"IF('Salary Worksheet'!$B$18=\"Yes\",'Salary Worksheet'!$B$9*'Salary Calculations'!I9,'Salary Worksheet'!$B$9*'Salary Calculations'!G9)","v":22298.015901427203},{"$f":"'Salary Worksheet'!$B$10*'Salary Calculations'!I9","v":7432.6719671424016},151069.05773216931,{"$f":"IF(ISERROR(A9),NA(),P8*(1+'Salary Worksheet'!$B$20))","v":168924.36288960002},51640.177735350735]
[{"$f":"IF(A9<'Salary Worksheet'!$B$6,A9+1,NA())","v":63},3159699.6662219418,{"$f":"IF(ISERROR(A10),NA(),'Salary Worksheet'!$B$15)","v":3000000},{"$f":"'Salary Worksheet'!$B$11*'Salary Calculations'!B10","v":7899.2491655548547},{"$f":"'Salary Worksheet'!$B$12*'Salary Calculations'!B10","v":157984.98331109711},3309785.400367484,{"$f":"IF(ISERROR(A10),NA(),G9*(1+'Salary Worksheet'!$B$20))","v":344605.70029478404},{"$f":"IF(ISERROR(A10),NA(),H9*(1+'Salary Worksheet'!$B$20))","v":34460.570029478404},379066.27032426244,{"$f":"'Salary Worksheet'!$B$8*'Salary Calculations'!I10","v":94766.56758106561},{"$f":"'Salary Worksheet'!$B$13*'Salary Calculations'!I10","v":23502.108760104271},{"$f":"'Salary Worksheet'!$B$14*'Salary Calculations'!I10","v":5496.4609197018053},{"$f":"IF('Salary Worksheet'!$B$18=\"Yes\",'Salary Worksheet'!$B$9*'Salary Calculations'!I10,'Salary Worksheet'!$B$9*'Salary Calculations'!G10)","v":22743.976219455744},{"$f":"'Salary Worksheet'!$B$10*'Salary Calculations'!I10","v":7581.325406485249},154090.43888681266,{"$f":"IF(ISERROR(A10),NA(),P9*(1+'Salary Worksheet'!$B$20))","v":172302.85014739202},52672.981290057767]
[{"$f":"IF(A10<'Salary Worksheet'!$B$6,A10+1,NA())","v":64},3362458.3816575417,{"$f":"IF(ISERROR(A11),NA(),'Salary Worksheet'!$B$15)","v":3000000},{"$f":"'Salary Worksheet'!$B$11*'Salary Calculations'!B11","v":8406.1459541438544},{"$f":"'Salary Worksheet'!$B$12*'Salary Calculations'!B11","v":168122.91908287711},3522175.1547862752,{"$f":"IF(ISERROR(A11),NA(),G10*(1+'Salary Worksheet'!$B$20))","v":351497.81430067972},{"$f":"IF(ISERROR(A11),NA(),H10*(1+'Salary Worksheet'!$B$20))","v":35149.781430067975},386647.59573074768,{"$f":"'Salary Worksheet'!$B$8*'Salary Calculations'!I11","v":96661.89893268692},{"$f":"'Salary Worksheet'!$B$13*'Salary Calculations'!I11","v":23972.150935306356},{"$f":"'Salary Worksheet'!$B$14*'Salary Calculations'!I11","v":5606.3901380958414},{"$f":"IF('Salary Worksheet'!$B$18=\"Yes\",'Salary Worksheet'!$B$9*'Salary Calculations'!I11,'Salary Worksheet'!$B$9*'Salary Calculations'!G11)","v":23198.855743844859},{"$f":"'Salary Worksheet'!$B$10*'Salary Calculations'!I11","v":7732.9519146149541},157172.24766454892,{"$f":"IF(ISERROR(A11),NA(),P10*(1+'Salary Worksheet'!$B$20))","v":175748.90715033986},53726.440915858897]
[{"$f":"IF(A11<'Salary Worksheet'!$B$6,A11+1,NA())","v":65},3575901.5957021341,{"$f":"IF(ISERROR(A12),NA(),'Salary Worksheet'!$B$15)","v":3000000},{"$f":"'Salary Worksheet'!$B$11*'Salary Calculations'!B12","v":8939.7539892553359},{"$f":"'Salary Worksheet'!$B$12*'Salary Calculations'!B12","v":178795.0797851067},3745756.9214979853,{"$f":"IF(ISERROR(A12),NA(),G11*(1+'Salary Worksheet'!$B$20))","v":358527.77058669331},{"$f":"IF(ISERROR(A12),NA(),H11*(1+'Salary Worksheet'!$B$20))","v":35852.777058669337},394380.54764536268,{"$f":"'Salary Worksheet'!$B$8*'Salary Calculations'!I12","v":98595.136911340669},{"$f":"'Salary Worksheet'!$B$13*'Salary Calculations'!I12","v":24451.593954012485},{"$f":"'Salary Worksheet'!$B$14*'Salary Calculations'!I12","v":5718.5179408577587},{"$f":"IF('Salary Worksheet'!$B$18=\"Yes\",'Salary Worksheet'!$B$9*'Salary Calculations'!I12,'Salary Worksheet'!$B$9*'Salary Calculations'!G12)","v":23662.832858721758},{"$f":"'Salary Worksheet'!$B$10*'Salary Calculations'!I12","v":7887.6109529072537},160315.6926178399,{"$f":"IF(ISERROR(A12),NA(),P11*(1+'Salary Worksheet'!$B$20))","v":179263.88529334666},54800.96973417612]
[{"$f":"IF(A12<'Salary Worksheet'!$B$6,A12+1,NA())","v":{"$error":"#N/A"}},{"$error":"#N/A"},{"$f":"IF(ISERROR(A13),NA(),'Salary Worksheet'!$B$15)","v":{"$error":"#N/A"}},{"$f":"'Salary Worksheet'!$B$11*'Salary Calculations'!B13","v":{"$error":"#N/A"}},{"$f":"'Salary Worksheet'!$B$12*'Salary Calculations'!B13","v":{"$error":"#N/A"}},{"$error":"#N/A"},{"$f":"IF(ISERROR(A13),NA(),G12*(1+'Salary Worksheet'!$B$20))","v":{"$error":"#N/A"}},{"$f":"IF(ISERROR(A13),NA(),H12*(1+'Salary Worksheet'!$B$20))","v":{"$error":"#N/A"}},{"$error":"#N/A"},{"$f":"'Salary Worksheet'!$B$8*'Salary Calculations'!I13","v":{"$error":"#N/A"}},{"$f":"'Salary Worksheet'!$B$13*'Salary Calculations'!I13","v":{"$error":"#N/A"}},{"$f":"'Salary Worksheet'!$B$14*'Salary Calculations'!I13","v":{"$error":"#N/A"}},{"$f":"IF('Salary Worksheet'!$B$18=\"Yes\",'Salary Worksheet'!$B$9*'Salary Calculations'!I13,'Salary Worksheet'!$B$9*'Salary Calculations'!G13)","v":{"$error":"#N/A"}},{"$f":"'Salary Worksheet'!$B$10*'Salary Calculations'!I13","v":{"$error":"#N/A"}},{"$error":"#N/A"},{"$f":"IF(ISERROR(A13),NA(),P12*(1+'Salary Worksheet'!$B$20))","v":{"$error":"#N/A"}},{"$error":"#N/A"}]
[{"$f":"IF(A13<'Salary Worksheet'!$B$6,A13+1,NA())","v":{"$error":"#N/A"}},{"$error":"#N/A"},{"$f":"IF(ISERROR(A14),NA(),'Salary Worksheet'!$B$15)","v":{"$error":"#N/A"}},{"$f":"'Salary Worksheet'!$B$11*'Salary Calculations'!B14","v":{"$error":"#N/A"}},{"$f":"'Salary Worksheet'!$B$12*'Salary Calculations'!B14","v":{"$error":"#N/A"}},{"$error":"#N/A"},{"$f":"IF(ISERROR(A14),NA(),G13*(1+'Salary Worksheet'!$B$20))","v":{"$error":"#N/A"}},{"$f":"IF(ISERROR(A14),NA(),H13*(1+'Salary Worksheet'!$B$20))","v":{"$error":"#N/A"}},{"$error":"#N/A"},{"$f":"'Salary Worksheet'!$B$8*'Salary Calculations'!I14","v":{"$error":"#N/A"}},{"$f":"'Salary Worksheet'!$B$13*'Salary Calculations'!I14","v":{"$error":"#N/A"}},{"$f":"'Salary Worksheet'!$B$14*'Salary Calculations'!I14","v":{"$error":"#N/A"}},{"$f":"IF('Salary Worksheet'!$B$18=\"Yes\",'Salary Worksheet'!$B$9*'Salary Calculations'!I14,'Salary Worksheet'!$B$9*'Salary Calculations'!G14)","v":{"$error":"#N/A"}},{"$f":"'Salary Worksheet'!$B$10*'Salary Calculations'!I14","v":{"$error":"#N/A"}},{"$error":"#N/A"},{"$f":"IF(ISERROR(A14),NA(),P13*(1+'Salary Worksheet'!$B$20))","v":{"$error":"#N/A"}},{"$error":"#N/A"}]
[{"$f":"IF(A14<'Salary Worksheet'!$B$6,A14+1,NA())","v":{"$error":"#N/A"}},{"$error":"#N/A"},{"$f":"IF(ISERROR(A15),NA(),'Salary Worksheet'!$B$15)","v":{"$error":"#N/A"}},{"$f":"'Salary Worksheet'!$B$11*'Salary Calculations'!B15","v":{"$error":"#N/A"}},{"$f":"'Salary Worksheet'!$B$12*'Salary Calculations'!B15","v":{"$error":"#N/A"}},{"$error":"#N/A"},{"$f":"IF(ISERROR(A15),NA(),G14*(1+'Salary Worksheet'!$B$20))","v":{"$error":"#N/A"}},{"$f":"IF(ISERROR(A15),NA(),H14*(1+'Salary Worksheet'!$B$20))","v":{"$error":"#N/A"}},{"$error":"#N/A"},{"$f":"'Salary Worksheet'!$B$8*'Salary Calculations'!I15","v":{"$error":"#N/A"}},{"$f":"'Salary Worksheet'!$B$13*'Salary Calculations'!I15","v":{"$error":"#N/A"}},{"$f":"'Salary Worksheet'!$B$14*'Salary Calculations'!I15","v":{"$error":"#N/A"}},{"$f":"IF('Salary Worksheet'!$B$18=\"Yes\",'Salary Worksheet'!$B$9*'Salary Calculations'!I15,'Salary Worksheet'!$B$9*'Salary Calculations'!G15)","v":{"$error":"#N/A"}},{"$f":"'Salary Worksheet'!$B$10*'Salary Calculations'!I15","v":{"$error":"#N/A"}},{"$error":"#N/A"},{"$f":"IF(ISERROR(A15),NA(),P14*(1+'Salary Worksheet'!$B$20))","v":{"$error":"#N/A"}},{"$error":"#N/A"}]
[{"$f":"IF(A15<'Salary Worksheet'!$B$6,A15+1,NA())","v":{"$error":"#N/A"}},{"$error":"#N/A"},{"$f":"IF(ISERROR(A16),NA(),'Salary Worksheet'!$B$15)","v":{"$error":"#N/A"}},{"$f":"'Salary Worksheet'!$B$11*'Salary Calculations'!B16","v":{"$error":"#N/A"}},{"$f":"'Salary Worksheet'!$B$12*'Salary Calculations'!B16","v":{"$error":"#N/A"}},{"$error":"#N/A"},{"$f":"IF(ISERROR(A16),NA(),G15*(1+'Salary Worksheet'!$B$20))","v":{"$error":"#N/A"}},{"$f":"IF(ISERROR(A16),NA(),H15*(1+'Salary Worksheet'!$B$20))","v":{"$error":"#N/A"}},{"$error":"#N/A"},{"$f":"'Salary Worksheet'!$B$8*'Salary Calculations'!I16","v":{"$error":"#N/A"}},{"$f":"'Salary Worksheet'!$B$13*'Salary Calculations'!I16","v":{"$error":"#N/A"}},{"$f":"'Salary Worksheet'!$B$14*'Salary Calculations'!I16","v":{"$error":"#N/A"}},{"$f":"IF('Salary Worksheet'!$B$18=\"Yes\",'Salary Worksheet'!$B$9*'Salary Calculations'!I16,'Salary Worksheet'!$B$9*'Salary Calculations'!G16)","v":{"$error":"#N/A"}},{"$f":"'Salary Worksheet'!$B$10*'Salary Calculations'!I16","v":{"$error":"#N/A"}},{"$error":"#N/A"},{"$f":"IF(ISERROR(A16),NA(),P15*(1+'Salary Worksheet'!$B$20))","v":{"$error":"#N/A"}},{"$error":"#N/A"}]
[{"$f":"IF(A16<'Salary Worksheet'!$B$6,A16+1,NA())","v":{"$error":"#N/A"}},{"$error":"#N/A"},{"$f":"IF(ISERROR(A17),NA(),'Salary Worksheet'!$B$15)","v":{"$error":"#N/A"}},{"$f":"'Salary Worksheet'!$B$11*'Salary Calculations'!B17","v":{"$error":"#N/A"}},{"$f":"'Salary Worksheet'!$B$12*'Salary Calculations'!B17","v":{"$error":"#N/A"}},{"$error":"#N/A"},{"$f":"IF(ISERROR(A17),NA(),G16*(1+'Salary Worksheet'!$B$20))","v":{"$error":"#N/A"}},{"$f":"IF(ISERROR(A17),NA(),H16*(1+'Salary Worksheet'!$B$20))","v":{"$error":"#N/A"}},{"$error":"#N/A"},{"$f":"'Salary Worksheet'!$B$8*'Salary Calculations'!I17","v":{"$error":"#N/A"}},{"$f":"'Salary Worksheet'!$B$13*'Salary Calculations'!I17","v":{"$error":"#N/A"}},{"$f":"'Salary Worksheet'!$B$14*'Salary Calculations'!I17","v":{"$error":"#N/A"}},{"$f":"IF('Salary Worksheet'!$B$18=\"Yes\",'Salary Worksheet'!$B$9*'Salary Calculations'!I17,'Salary Worksheet'!$B$9*'Salary Calculations'!G17)","v":{"$error":"#N/A"}},{"$f":"'Salary Worksheet'!$B$10*'Salary Calculations'!I17","v":{"$error":"#N/A"}},{"$error":"#N/A"},{"$f":"IF(ISERROR(A17),NA(),P16*(1+'Salary Worksheet'!$B$20))","v":{"$error":"#N/A"}},{"$error":"#N/A"}]
[{"$f":"IF(A17<'Salary Worksheet'!$B$6,A17+1,NA())","v":{"$error":"#N/A"}},{"$error":"#N/A"},{"$f":"IF(ISERROR(A18),NA(),'Salary Worksheet'!$B$15)","v":{"$error":"#N/A"}},{"$f":"'Salary Worksheet'!$B$11*'Salary Calculations'!B18","v":{"$error":"#N/A"}},{"$f":"'Salary Worksheet'!$B$12*'Salary Calculations'!B18","v":{"$error":"#N/A"}},{"$error":"#N/A"},{"$f":"IF(ISERROR(A18),NA(),G17*(1+'Salary Worksheet'!$B$20))","v":{"$error":"#N/A"}},{"$f":"IF(ISERROR(A18),NA(),H17*(1+'Salary Worksheet'!$B$20))","v":{"$error":"#N/A"}},{"$error":"#N/A"},{"$f":"'Salary Worksheet'!$B$8*'Salary Calculations'!I18","v":{"$error":"#N/A"}},{"$f":"'Salary Worksheet'!$B$13*'Salary Calculations'!I18","v":{"$error":"#N/A"}},{"$f":"'Salary Worksheet'!$B$14*'Salary Calculations'!I18","v":{"$error":"#N/A"}},{"$f":"IF('Salary Worksheet'!$B$18=\"Yes\",'Salary Worksheet'!$B$9*'Salary Calculations'!I18,'Salary Worksheet'!$B$9*'Salary Calculations'!G18)","v":{"$error":"#N/A"}},{"$f":"'Salary Worksheet'!$B$10*'Salary Calculations'!I18","v":{"$error":"#N/A"}},{"$error":"#N/A"},{"$f":"IF(ISERROR(A18),NA(),P17*(1+'Salary Worksheet'!$B$20))","v":{"$error":"#N/A"}},{"$error":"#N/A"}]
[{"$f":"IF(A18<'Salary Worksheet'!$B$6,A18+1,NA())","v":{"$error":"#N/A"}},{"$error":"#N/A"},{"$f":"IF(ISERROR(A19),NA(),'Salary Worksheet'!$B$15)","v":{"$error":"#N/A"}},{"$f":"'Salary Worksheet'!$B$11*'Salary Calculations'!B19","v":{"$error":"#N/A"}},{"$f":"'Salary Worksheet'!$B$12*'Salary Calculations'!B19","v":{"$error":"#N/A"}},{"$error":"#N/A"},{"$f":"IF(ISERROR(A19),NA(),G18*(1+'Salary Worksheet'!$B$20))","v":{"$error":"#N/A"}},{"$f":"IF(ISERROR(A19),NA(),H18*(1+'Salary Worksheet'!$B$20))","v":{"$error":"#N/A"}},{"$error":"#N/A"},{"$f":"'Salary Worksheet'!$B$8*'Salary Calculations'!I19","v":{"$error":"#N/A"}},{"$f":"'Salary Worksheet'!$B$13*'Salary Calculations'!I19","v":{"$error":"#N/A"}},{"$f":"'Salary Worksheet'!$B$14*'Salary Calculations'!I19","v":{"$error":"#N/A"}},{"$f":"IF('Salary Worksheet'!$B$18=\"Yes\",'Salary Worksheet'!$B$9*'Salary Calculations'!I19,'Salary Worksheet'!$B$9*'Salary Calculations'!G19)","v":{"$error":"#N/A"}},{"$f":"'Salary Worksheet'!$B$10*'Salary Calculations'!I19","v":{"$error":"#N/A"}},{"$error":"#N/A"},{"$f":"IF(ISERROR(A19),NA(),P18*(1+'Salary Worksheet'!$B$20))","v":{"$error":"#N/A"}},{"$error":"#N/A"}]
[{"$f":"IF(A19<'Salary Worksheet'!$B$6,A19+1,NA())","v":{"$error":"#N/A"}},{"$error":"#N/A"},{"$f":"IF(ISERROR(A20),NA(),'Salary Worksheet'!$B$15)","v":{"$error":"#N/A"}},{"$f":"'Salary Worksheet'!$B$11*'Salary Calculations'!B20","v":{"$error":"#N/A"}},{"$f":"'Salary Worksheet'!$B$12*'Salary Calculations'!B20","v":{"$error":"#N/A"}},{"$error":"#N/A"},{"$f":"IF(ISERROR(A20),NA(),G19*(1+'Salary Worksheet'!$B$20))","v":{"$error":"#N/A"}},{"$f":"IF(ISERROR(A20),NA(),H19*(1+'Salary Worksheet'!$B$20))","v":{"$error":"#N/A"}},{"$error":"#N/A"},{"$f":"'Salary Worksheet'!$B$8*'Salary Calculations'!I20","v":{"$error":"#N/A"}},{"$f":"'Salary Worksheet'!$B$13*'Salary Calculations'!I20","v":{"$error":"#N/A"}},{"$f":"'Salary Worksheet'!$B$14*'Salary Calculations'!I20","v":{"$error":"#N/A"}},{"$f":"IF('Salary Worksheet'!$B$18=\"Yes\",'Salary Worksheet'!$B$9*'Salary Calculations'!I20,'Salary Worksheet'!$B$9*'Salary Calculations'!G20)","v":{"$error":"#N/A"}},{"$f":"'Salary Worksheet'!$B$10*'Salary Calculations'!I20","v":{"$error":"#N/A"}},{"$error":"#N/A"},{"$f":"IF(ISERROR(A20),NA(),P19*(1+'Salary Worksheet'!$B$20))","v":{"$error":"#N/A"}},{"$error":"#N/A"}]
[{"$f":"IF(A20<'Salary Worksheet'!$B$6,A20+1,NA())","v":{"$error":"#N/A"}},{"$error":"#N/A"},{"$f":"IF(ISERROR(A21),NA(),'Salary Worksheet'!$B$15)","v":{"$error":"#N/A"}},{"$f":"'Salary Worksheet'!$B$11*'Salary Calculations'!B21","v":{"$error":"#N/A"}},{"$f":"'Salary Worksheet'!$B$12*'Salary Calculations'!B21","v":{"$error":"#N/A"}},{"$error":"#N/A"},{"$f":"IF(ISERROR(A21),NA(),G20*(1+'Salary Worksheet'!$B$20))","v":{"$error":"#N/A"}},{"$f":"IF(ISERROR(A21),NA(),H20*(1+'Salary Worksheet'!$B$20))","v":{"$error":"#N/A"}},{"$error":"#N/A"},{"$f":"'Salary Worksheet'!$B$8*'Salary Calculations'!I21","v":{"$error":"#N/A"}},{"$f":"'Salary Worksheet'!$B$13*'Salary Calculations'!I21","v":{"$error":"#N/A"}},{"$f":"'Salary Worksheet'!$B$14*'Salary Calculations'!I21","v":{"$error":"#N/A"}},{"$f":"IF('Salary Worksheet'!$B$18=\"Yes\",'Salary Worksheet'!$B$9*'Salary Calculations'!I21,'Salary Worksheet'!$B$9*'Salary Calculations'!G21)","v":{"$error":"#N/A"}},{"$f":"'Salary Worksheet'!$B$10*'Salary Calculations'!I21","v":{"$error":"#N/A"}},{"$error":"#N/A"},{"$f":"IF(ISERROR(A21),NA(),P20*(1+'Salary Worksheet'!$B$20))","v":{"$error":"#N/A"}},{"$error":"#N/A"}]
[{"$f":"IF(A21<'Salary Worksheet'!$B$6,A21+1,NA())","v":{"$error":"#N/A"}},{"$error":"#N/A"},{"$f":"IF(ISERROR(A22),NA(),'Salary Worksheet'!$B$15)","v":{"$error":"#N/A"}},{"$f":"'Salary Worksheet'!$B$11*'Salary Calculations'!B22","v":{"$error":"#N/A"}},{"$f":"'Salary Worksheet'!$B$12*'Salary Calculations'!B22","v":{"$error":"#N/A"}},{"$error":"#N/A"},{"$f":"IF(ISERROR(A22),NA(),G21*(1+'Salary Worksheet'!$B$20))","v":{"$error":"#N/A"}},{"$f":"IF(ISERROR(A22),NA(),H21*(1+'Salary Worksheet'!$B$20))","v":{"$error":"#N/A"}},{"$error":"#N/A"},{"$f":"'Salary Worksheet'!$B$8*'Salary Calculations'!I22","v":{"$error":"#N/A"}},{"$f":"'Salary Worksheet'!$B$13*'Salary Calculations'!I22","v":{"$error":"#N/A"}},{"$f":"'Salary Worksheet'!$B$14*'Salary Calculations'!I22","v":{"$error":"#N/A"}},{"$f":"IF('Salary Worksheet'!$B$18=\"Yes\",'Salary Worksheet'!$B$9*'Salary Calculations'!I22,'Salary Worksheet'!$B$9*'Salary Calculations'!G22)","v":{"$error":"#N/A"}},{"$f":"'Salary Worksheet'!$B$10*'Salary Calculations'!I22","v":{"$error":"#N/A"}},{"$error":"#N/A"},{"$f":"IF(ISERROR(A22),NA(),P21*(1+'Salary Worksheet'!$B$20))","v":{"$error":"#N/A"}},{"$error":"#N/A"}]
[{"$f":"IF(A22<'Salary Worksheet'!$B$6,A22+1,NA())","v":{"$error":"#N/A"}},{"$error":"#N/A"},{"$f":"IF(ISERROR(A23),NA(),'Salary Worksheet'!$B$15)","v":{"$error":"#N/A"}},{"$f":"'Salary Worksheet'!$B$11*'Salary Calculations'!B23","v":{"$error":"#N/A"}},{"$f":"'Salary Worksheet'!$B$12*'Salary Calculations'!B23","v":{"$error":"#N/A"}},{"$error":"#N/A"},{"$f":"IF(ISERROR(A23),NA(),G22*(1+'Salary Worksheet'!$B$20))","v":{"$error":"#N/A"}},{"$f":"IF(ISERROR(A23),NA(),H22*(1+'Salary Worksheet'!$B$20))","v":{"$error":"#N/A"}},{"$error":"#N/A"},{"$f":"'Salary Worksheet'!$B$8*'Salary Calculations'!I23","v":{"$error":"#N/A"}},{"$f":"'Salary Worksheet'!$B$13*'Salary Calculations'!I23","v":{"$error":"#N/A"}},{"$f":"'Salary Worksheet'!$B$14*'Salary Calculations'!I23","v":{"$error":"#N/A"}},{"$f":"IF('Salary Worksheet'!$B$18=\"Yes\",'Salary Worksheet'!$B$9*'Salary Calculations'!I23,'Salary Worksheet'!$B$9*'Salary Calculations'!G23)","v":{"$error":"#N/A"}},{"$f":"'Salary Worksheet'!$B$10*'Salary Calculations'!I23","v":{"$error":"#N/A"}},{"$error":"#N/A"},{"$f":"IF(ISERROR(A23),NA(),P22*(1+'Salary Worksheet'!$B$20))","v":{"$error":"#N/A"}},{"$error":"#N/A"}]
[{"$f":"IF(A23<'Salary Worksheet'!$B$6,A23+1,NA())","v":{"$error":"#N/A"}},{"$error":"#N/A"},{"$f":"IF(ISERROR(A24),NA(),'Salary Worksheet'!$B$15)","v":{"$error":"#N/A"}},{"$f":"'Salary Worksheet'!$B$11*'Salary Calculations'!B24","v":{"$error":"#N/A"}},{"$f":"'Salary Worksheet'!$B$12*'Salary Calculations'!B24","v":{"$error":"#N/A"}},{"$error":"#N/A"},{"$f":"IF(ISERROR(A24),NA(),G23*(1+'Salary Worksheet'!$B$20))","v":{"$error":"#N/A"}},{"$f":"IF(ISERROR(A24),NA(),H23*(1+'Salary Worksheet'!$B$20))","v":{"$error":"#N/A"}},{"$error":"#N/A"},{"$f":"'Salary Worksheet'!$B$8*'Salary Calculations'!I24","v":{"$error":"#N/A"}},{"$f":"'Salary Worksheet'!$B$13*'Salary Calculations'!I24","v":{"$error":"#N/A"}},{"$f":"'Salary Worksheet'!$B$14*'Salary Calculations'!I24","v":{"$error":"#N/A"}},{"$f":"IF('Salary Worksheet'!$B$18=\"Yes\",'Salary Worksheet'!$B$9*'Salary Calculations'!I24,'Salary Worksheet'!$B$9*'Salary Calculations'!G24)","v":{"$error":"#N/A"}},{"$f":"'Salary Worksheet'!$B$10*'Salary Calculations'!I24","v":{"$error":"#N/A"}},{"$error":"#N/A"},{"$f":"IF(ISERROR(A24),NA(),P23*(1+'Salary Worksheet'!$B$20))","v":{"$error":"#N/A"}},{"$error":"#N/A"}]
[{"$f":"IF(A24<'Salary Worksheet'!$B$6,A24+1,NA())","v":{"$error":"#N/A"}},{"$error":"#N/A"},{"$f":"IF(ISERROR(A25),NA(),'Salary Worksheet'!$B$15)","v":{"$error":"#N/A"}},{"$f":"'Salary Worksheet'!$B$11*'Salary Calculations'!B25","v":{"$error":"#N/A"}},{"$f":"'Salary Worksheet'!$B$12*'Salary Calculations'!B25","v":{"$error":"#N/A"}},{"$error":"#N/A"},{"$f":"IF(ISERROR(A25),NA(),G24*(1+'Salary Worksheet'!$B$20))","v":{"$error":"#N/A"}},{"$f":"IF(ISERROR(A25),NA(),H24*(1+'Salary Worksheet'!$B$20))","v":{"$error":"#N/A"}},{"$error":"#N/A"},{"$f":"'Salary Worksheet'!$B$8*'Salary Calculations'!I25","v":{"$error":"#N/A"}},{"$f":"'Salary Worksheet'!$B$13*'Salary Calculations'!I25","v":{"$error":"#N/A"}},{"$f":"'Salary Worksheet'!$B$14*'Salary Calculations'!I25","v":{"$error":"#N/A"}},{"$f":"IF('Salary Worksheet'!$B$18=\"Yes\",'Salary Worksheet'!$B$9*'Salary Calculations'!I25,'Salary Worksheet'!$B$9*'Salary Calculations'!G25)","v":{"$error":"#N/A"}},{"$f":"'Salary Worksheet'!$B$10*'Salary Calculations'!I25","v":{"$error":"#N/A"}},{"$error":"#N/A"},{"$f":"IF(ISERROR(A25),NA(),P24*(1+'Salary Worksheet'!$B$20))","v":{"$error":"#N/A"}},{"$error":"#N/A"}]
[{"$f":"IF(A25<'Salary Worksheet'!$B$6,A25+1,NA())","v":{"$error":"#N/A"}},{"$error":"#N/A"},{"$f":"IF(ISERROR(A26),NA(),'Salary Worksheet'!$B$15)","v":{"$error":"#N/A"}},{"$f":"'Salary Worksheet'!$B$11*'Salary Calculations'!B26","v":{"$error":"#N/A"}},{"$f":"'Salary Worksheet'!$B$12*'Salary Calculations'!B26","v":{"$error":"#N/A"}},{"$error":"#N/A"},{"$f":"IF(ISERROR(A26),NA(),G25*(1+'Salary Worksheet'!$B$20))","v":{"$error":"#N/A"}},{"$f":"IF(ISERROR(A26),NA(),H25*(1+'Salary Worksheet'!$B$20))","v":{"$error":"#N/A"}},{"$error":"#N/A"},{"$f":"'Salary Worksheet'!$B$8*'Salary Calculations'!I26","v":{"$error":"#N/A"}},{"$f":"'Salary Worksheet'!$B$13*'Salary Calculations'!I26","v":{"$error":"#N/A"}},{"$f":"'Salary Worksheet'!$B$14*'Salary Calculations'!I26","v":{"$error":"#N/A"}},{"$f":"IF('Salary Worksheet'!$B$18=\"Yes\",'Salary Worksheet'!$B$9*'Salary Calculations'!I26,'Salary Worksheet'!$B$9*'Salary Calculations'!G26)","v":{"$error":"#N/A"}},{"$f":"'Salary Worksheet'!$B$10*'Salary Calculations'!I26","v":{"$error":"#N/A"}},{"$error":"#N/A"},{"$f":"IF(ISERROR(A26),NA(),P25*(1+'Salary Worksheet'!$B$20))","v":{"$error":"#N/A"}},{"$error":"#N/A"}]
[{"$f":"IF(A26<'Salary Worksheet'!$B$6,A26+1,NA())","v":{"$error":"#N/A"}},{"$error":"#N/A"},{"$f":"IF(ISERROR(A27),NA(),'Salary Worksheet'!$B$15)","v":{"$error":"#N/A"}},{"$f":"'Salary Worksheet'!$B$11*'Salary Calculations'!B27","v":{"$error":"#N/A"}},{"$f":"'Salary Worksheet'!$B$12*'Salary Calculations'!B27","v":{"$error":"#N/A"}},{"$error":"#N/A"},{"$f":"IF(ISERROR(A27),NA(),G26*(1+'Salary Worksheet'!$B$20))","v":{"$error":"#N/A"}},{"$f":"IF(ISERROR(A27),NA(),H26*(1+'Salary Worksheet'!$B$20))","v":{"$error":"#N/A"}},{"$error":"#N/A"},{"$f":"'Salary Worksheet'!$B$8*'Salary Calculations'!I27","v":{"$error":"#N/A"}},{"$f":"'Salary Worksheet'!$B$13*'Salary Calculations'!I27","v":{"$error":"#N/A"}},{"$f":"'Salary Worksheet'!$B$14*'Salary Calculations'!I27","v":{"$error":"#N/A"}},{"$f":"IF('Salary Worksheet'!$B$18=\"Yes\",'Salary Worksheet'!$B$9*'Salary Calculations'!I27,'Salary Worksheet'!$B$9*'Salary Calculations'!G27)","v":{"$error":"#N/A"}},{"$f":"'Salary Worksheet'!$B$10*'Salary Calculations'!I27","v":{"$error":"#N/A"}},{"$error":"#N/A"},{"$f":"IF(ISERROR(A27),NA(),P26*(1+'Salary Worksheet'!$B$20))","v":{"$error":"#N/A"}},{"$error":"#N/A"}]
[{"$f":"IF(A27<'Salary Worksheet'!$B$6,A27+1,NA())","v":{"$error":"#N/A"}},{"$error":"#N/A"},{"$f":"IF(ISERROR(A28),NA(),'Salary Worksheet'!$B$15)","v":{"$error":"#N/A"}},{"$f":"'Salary Worksheet'!$B$11*'Salary Calculations'!B28","v":{"$error":"#N/A"}},{"$f":"'Salary Worksheet'!$B$12*'Salary Calculations'!B28","v":{"$error":"#N/A"}},{"$error":"#N/A"},{"$f":"IF(ISERROR(A28),NA(),G27*(1+'Salary Worksheet'!$B$20))","v":{"$error":"#N/A"}},{"$f":"IF(ISERROR(A28),NA(),H27*(1+'Salary Worksheet'!$B$20))","v":{"$error":"#N/A"}},{"$error":"#N/A"},{"$f":"'Salary Worksheet'!$B$8*'Salary Calculations'!I28","v":{"$error":"#N/A"}},{"$f":"'Salary Worksheet'!$B$13*'Salary Calculations'!I28","v":{"$error":"#N/A"}},{"$f":"'Salary Worksheet'!$B$14*'Salary Calculations'!I28","v":{"$error":"#N/A"}},{"$f":"IF('Salary Worksheet'!$B$18=\"Yes\",'Salary Worksheet'!$B$9*'Salary Calculations'!I28,'Salary Worksheet'!$B$9*'Salary Calculations'!G28)","v":{"$error":"#N/A"}},{"$f":"'Salary Worksheet'!$B$10*'Salary Calculations'!I28","v":{"$error":"#N/A"}},{"$error":"#N/A"},{"$f":"IF(ISERROR(A28),NA(),P27*(1+'Salary Worksheet'!$B$20))","v":{"$error":"#N/A"}},{"$error":"#N/A"}]
[{"$f":"IF(A28<'Salary Worksheet'!$B$6,A28+1,NA())","v":{"$error":"#N/A"}},{"$error":"#N/A"},{"$f":"IF(ISERROR(A29),NA(),'Salary Worksheet'!$B$15)","v":{"$error":"#N/A"}},{"$f":"'Salary Worksheet'!$B$11*'Salary Calculations'!B29","v":{"$error":"#N/A"}},{"$f":"'Salary Worksheet'!$B$12*'Salary Calculations'!B29","v":{"$error":"#N/A"}},{"$error":"#N/A"},{"$f":"IF(ISERROR(A29),NA(),G28*(1+'Salary Worksheet'!$B$20))","v":{"$error":"#N/A"}},{"$f":"IF(ISERROR(A29),NA(),H28*(1+'Salary Worksheet'!$B$20))","v":{"$error":"#N/A"}},{"$error":"#N/A"},{"$f":"'Salary Worksheet'!$B$8*'Salary Calculations'!I29","v":{"$error":"#N/A"}},{"$f":"'Salary Worksheet'!$B$13*'Salary Calculations'!I29","v":{"$error":"#N/A"}},{"$f":"'Salary Worksheet'!$B$14*'Salary Calculations'!I29","v":{"$error":"#N/A"}},{"$f":"IF('Salary Worksheet'!$B$18=\"Yes\",'Salary Worksheet'!$B$9*'Salary Calculations'!I29,'Salary Worksheet'!$B$9*'Salary Calculations'!G29)","v":{"$error":"#N/A"}},{"$f":"'Salary Worksheet'!$B$10*'Salary Calculations'!I29","v":{"$error":"#N/A"}},{"$error":"#N/A"},{"$f":"IF(ISERROR(A29),NA(),P28*(1+'Salary Worksheet'!$B$20))","v":{"$error":"#N/A"}},{"$error":"#N/A"}]
[{"$f":"IF(A29<'Salary Worksheet'!$B$6,A29+1,NA())","v":{"$error":"#N/A"}},{"$error":"#N/A"},{"$f":"IF(ISERROR(A30),NA(),'Salary Worksheet'!$B$15)","v":{"$error":"#N/A"}},{"$f":"'Salary Worksheet'!$B$11*'Salary Calculations'!B30","v":{"$error":"#N/A"}},{"$f":"'Salary Worksheet'!$B$12*'Salary Calculations'!B30","v":{"$error":"#N/A"}},{"$error":"#N/A"},{"$f":"IF(ISERROR(A30),NA(),G29*(1+'Salary Worksheet'!$B$20))","v":{"$error":"#N/A"}},{"$f":"IF(ISERROR(A30),NA(),H29*(1+'Salary Worksheet'!$B$20))","v":{"$error":"#N/A"}},{"$error":"#N/A"},{"$f":"'Salary Worksheet'!$B$8*'Salary Calculations'!I30","v":{"$error":"#N/A"}},{"$f":"'Salary Worksheet'!$B$13*'Salary Calculations'!I30","v":{"$error":"#N/A"}},{"$f":"'Salary Worksheet'!$B$14*'Salary Calculations'!I30","v":{"$error":"#N/A"}},{"$f":"IF('Salary Worksheet'!$B$18=\"Yes\",'Salary Worksheet'!$B$9*'Salary Calculations'!I30,'Salary Worksheet'!$B$9*'Salary Calculations'!G30)","v":{"$error":"#N/A"}},{"$f":"'Salary Worksheet'!$B$10*'Salary Calculations'!I30","v":{"$error":"#N/A"}},{"$error":"#N/A"},{"$f":"IF(ISERROR(A30),NA(),P29*(1+'Salary Worksheet'!$B$20))","v":{"$error":"#N/A"}},{"$error":"#N/A"}]
[{"$f":"IF(A30<'Salary Worksheet'!$B$6,A30+1,NA())","v":{"$error":"#N/A"}},{"$error":"#N/A"},{"$f":"IF(ISERROR(A31),NA(),'Salary Worksheet'!$B$15)","v":{"$error":"#N/A"}},{"$f":"'Salary Worksheet'!$B$11*'Salary Calculations'!B31","v":{"$error":"#N/A"}},{"$f":"'Salary Worksheet'!$B$12*'Salary Calculations'!B31","v":{"$error":"#N/A"}},{"$error":"#N/A"},{"$f":"IF(ISERROR(A31),NA(),G30*(1+'Salary Worksheet'!$B$20))","v":{"$error":"#N/A"}},{"$f":"IF(ISERROR(A31),NA(),H30*(1+'Salary Worksheet'!$B$20))","v":{"$error":"#N/A"}},{"$error":"#N/A"},{"$f":"'Salary Worksheet'!$B$8*'Salary Calculations'!I31","v":{"$error":"#N/A"}},{"$f":"'Salary Worksheet'!$B$13*'Salary Calculations'!I31","v":{"$error":"#N/A"}},{"$f":"'Salary Worksheet'!$B$14*'Salary Calculations'!I31","v":{"$error":"#N/A"}},{"$f":"IF('Salary Worksheet'!$B$18=\"Yes\",'Salary Worksheet'!$B$9*'Salary Calculations'!I31,'Salary Worksheet'!$B$9*'Salary Calculations'!G31)","v":{"$error":"#N/A"}},{"$f":"'Salary Worksheet'!$B$10*'Salary Calculations'!I31","v":{"$error":"#N/A"}},{"$error":"#N/A"},{"$f":"IF(ISERROR(A31),NA(),P30*(1+'Salary Worksheet'!$B$20))","v":{"$error":"#N/A"}},{"$error":"#N/A"}]
[{"$f":"IF(A31<'Salary Worksheet'!$B$6,A31+1,NA())","v":{"$error":"#N/A"}},{"$error":"#N/A"},{"$f":"IF(ISERROR(A32),NA(),'Salary Worksheet'!$B$15)","v":{"$error":"#N/A"}},{"$f":"'Salary Worksheet'!$B$11*'Salary Calculations'!B32","v":{"$error":"#N/A"}},{"$f":"'Salary Worksheet'!$B$12*'Salary Calculations'!B32","v":{"$error":"#N/A"}},{"$error":"#N/A"},{"$f":"IF(ISERROR(A32),NA(),G31*(1+'Salary Worksheet'!$B$20))","v":{"$error":"#N/A"}},{"$f":"IF(ISERROR(A32),NA(),H31*(1+'Salary Worksheet'!$B$20))","v":{"$error":"#N/A"}},{"$error":"#N/A"},{"$f":"'Salary Worksheet'!$B$8*'Salary Calculations'!I32","v":{"$error":"#N/A"}},{"$f":"'Salary Worksheet'!$B$13*'Salary Calculations'!I32","v":{"$error":"#N/A"}},{"$f":"'Salary Worksheet'!$B$14*'Salary Calculations'!I32","v":{"$error":"#N/A"}},{"$f":"IF('Salary Worksheet'!$B$18=\"Yes\",'Salary Worksheet'!$B$9*'Salary Calculations'!I32,'Salary Worksheet'!$B$9*'Salary Calculations'!G32)","v":{"$error":"#N/A"}},{"$f":"'Salary Worksheet'!$B$10*'Salary Calculations'!I32","v":{"$error":"#N/A"}},{"$error":"#N/A"},{"$f":"IF(ISERROR(A32),NA(),P31*(1+'Salary Worksheet'!$B$20))","v":{"$error":"#N/A"}},{"$error":"#N/A"}]
[{"$f":"IF(A32<'Salary Worksheet'!$B$6,A32+1,NA())","v":{"$error":"#N/A"}},{"$error":"#N/A"},{"$f":"IF(ISERROR(A33),NA(),'Salary Worksheet'!$B$15)","v":{"$error":"#N/A"}},{"$f":"'Salary Worksheet'!$B$11*'Salary Calculations'!B33","v":{"$error":"#N/A"}},{"$f":"'Salary Worksheet'!$B$12*'Salary Calculations'!B33","v":{"$error":"#N/A"}},{"$error":"#N/A"},{"$f":"IF(ISERROR(A33),NA(),G32*(1+'Salary Worksheet'!$B$20))","v":{"$error":"#N/A"}},{"$f":"IF(ISERROR(A33),NA(),H32*(1+'Salary Worksheet'!$B$20))","v":{"$error":"#N/A"}},{"$error":"#N/A"},{"$f":"'Salary Worksheet'!$B$8*'Salary Calculations'!I33","v":{"$error":"#N/A"}},{"$f":"'Salary Worksheet'!$B$13*'Salary Calculations'!I33","v":{"$error":"#N/A"}},{"$f":"'Salary Worksheet'!$B$14*'Salary Calculations'!I33","v":{"$error":"#N/A"}},{"$f":"IF('Salary Worksheet'!$B$18=\"Yes\",'Salary Worksheet'!$B$9*'Salary Calculations'!I33,'Salary Worksheet'!$B$9*'Salary Calculations'!G33)","v":{"$error":"#N/A"}},{"$f":"'Salary Worksheet'!$B$10*'Salary Calculations'!I33","v":{"$error":"#N/A"}},{"$error":"#N/A"},{"$f":"IF(ISERROR(A33),NA(),P32*(1+'Salary Worksheet'!$B$20))","v":{"$error":"#N/A"}},{"$error":"#N/A"}]
[{"$f":"IF(A33<'Salary Worksheet'!$B$6,A33+1,NA())","v":{"$error":"#N/A"}},{"$error":"#N/A"},{"$f":"IF(ISERROR(A34),NA(),'Salary Worksheet'!$B$15)","v":{"$error":"#N/A"}},{"$f":"'Salary Worksheet'!$B$11*'Salary Calculations'!B34","v":{"$error":"#N/A"}},{"$f":"'Salary Worksheet'!$B$12*'Salary Calculations'!B34","v":{"$error":"#N/A"}},{"$error":"#N/A"},{"$f":"IF(ISERROR(A34),NA(),G33*(1+'Salary Worksheet'!$B$20))","v":{"$error":"#N/A"}},{"$f":"IF(ISERROR(A34),NA(),H33*(1+'Salary Worksheet'!$B$20))","v":{"$error":"#N/A"}},{"$error":"#N/A"},{"$f":"'Salary Worksheet'!$B$8*'Salary Calculations'!I34","v":{"$error":"#N/A"}},{"$f":"'Salary Worksheet'!$B$13*'Salary Calculations'!I34","v":{"$error":"#N/A"}},{"$f":"'Salary Worksheet'!$B$14*'Salary Calculations'!I34","v":{"$error":"#N/A"}},{"$f":"IF('Salary Worksheet'!$B$18=\"Yes\",'Salary Worksheet'!$B$9*'Salary Calculations'!I34,'Salary Worksheet'!$B$9*'Salary Calculations'!G34)","v":{"$error":"#N/A"}},{"$f":"'Salary Worksheet'!$B$10*'Salary Calculations'!I34","v":{"$error":"#N/A"}},{"$error":"#N/A"},{"$f":"IF(ISERROR(A34),NA(),P33*(1+'Salary Worksheet'!$B$20))","v":{"$error":"#N/A"}},{"$error":"#N/A"}]
[{"$f":"IF(A34<'Salary Worksheet'!$B$6,A34+1,NA())","v":{"$error":"#N/A"}},{"$error":"#N/A"},{"$f":"IF(ISERROR(A35),NA(),'Salary Worksheet'!$B$15)","v":{"$error":"#N/A"}},{"$f":"'Salary Worksheet'!$B$11*'Salary Calculations'!B35","v":{"$error":"#N/A"}},{"$f":"'Salary Worksheet'!$B$12*'Salary Calculations'!B35","v":{"$error":"#N/A"}},{"$error":"#N/A"},{"$f":"IF(ISERROR(A35),NA(),G34*(1+'Salary Worksheet'!$B$20))","v":{"$error":"#N/A"}},{"$f":"IF(ISERROR(A35),NA(),H34*(1+'Salary Worksheet'!$B$20))","v":{"$error":"#N/A"}},{"$error":"#N/A"},{"$f":"'Salary Worksheet'!$B$8*'Salary Calculations'!I35","v":{"$error":"#N/A"}},{"$f":"'Salary Worksheet'!$B$13*'Salary Calculations'!I35","v":{"$error":"#N/A"}},{"$f":"'Salary Worksheet'!$B$14*'Salary Calculations'!I35","v":{"$error":"#N/A"}},{"$f":"IF('Salary Worksheet'!$B$18=\"Yes\",'Salary Worksheet'!$B$9*'Salary Calculations'!I35,'Salary Worksheet'!$B$9*'Salary Calculations'!G35)","v":{"$error":"#N/A"}},{"$f":"'Salary Worksheet'!$B$10*'Salary Calculations'!I35","v":{"$error":"#N/A"}},{"$error":"#N/A"},{"$f":"IF(ISERROR(A35),NA(),P34*(1+'Salary Worksheet'!$B$20))","v":{"$error":"#N/A"}},{"$error":"#N/A"}]
[{"$f":"IF(A35<'Salary Worksheet'!$B$6,A35+1,NA())","v":{"$error":"#N/A"}},{"$error":"#N/A"},{"$f":"IF(ISERROR(A36),NA(),'Salary Worksheet'!$B$15)","v":{"$error":"#N/A"}},{"$f":"'Salary Worksheet'!$B$11*'Salary Calculations'!B36","v":{"$error":"#N/A"}},{"$f":"'Salary Worksheet'!$B$12*'Salary Calculations'!B36","v":{"$error":"#N/A"}},{"$error":"#N/A"},{"$f":"IF(ISERROR(A36),NA(),G35*(1+'Salary Worksheet'!$B$20))","v":{"$error":"#N/A"}},{"$f":"IF(ISERROR(A36),NA(),H35*(1+'Salary Worksheet'!$B$20))","v":{"$error":"#N/A"}},{"$error":"#N/A"},{"$f":"'Salary Worksheet'!$B$8*'Salary Calculations'!I36","v":{"$error":"#N/A"}},{"$f":"'Salary Worksheet'!$B$13*'Salary Calculations'!I36","v":{"$error":"#N/A"}},{"$f":"'Salary Worksheet'!$B$14*'Salary Calculations'!I36","v":{"$error":"#N/A"}},{"$f":"IF('Salary Worksheet'!$B$18=\"Yes\",'Salary Worksheet'!$B$9*'Salary Calculations'!I36,'Salary Worksheet'!$B$9*'Salary Calculations'!G36)","v":{"$error":"#N/A"}},{"$f":"'Salary Worksheet'!$B$10*'Salary Calculations'!I36","v":{"$error":"#N/A"}},{"$error":"#N/A"},{"$f":"IF(ISERROR(A36),NA(),P35*(1+'Salary Worksheet'!$B$20))","v":{"$error":"#N/A"}},{"$error":"#N/A"}]
[{"$f":"IF(A36<'Salary Worksheet'!$B$6,A36+1,NA())","v":{"$error":"#N/A"}},{"$error":"#N/A"},{"$f":"IF(ISERROR(A37),NA(),'Salary Worksheet'!$B$15)","v":{"$error":"#N/A"}},{"$f":"'Salary Worksheet'!$B$11*'Salary Calculations'!B37","v":{"$error":"#N/A"}},{"$f":"'Salary Worksheet'!$B$12*'Salary Calculations'!B37","v":{"$error":"#N/A"}},{"$error":"#N/A"},{"$f":"IF(ISERROR(A37),NA(),G36*(1+'Salary Worksheet'!$B$20))","v":{"$error":"#N/A"}},{"$f":"IF(ISERROR(A37),NA(),H36*(1+'Salary Worksheet'!$B$20))","v":{"$error":"#N/A"}},{"$error":"#N/A"},{"$f":"'Salary Worksheet'!$B$8*'Salary Calculations'!I37","v":{"$error":"#N/A"}},{"$f":"'Salary Worksheet'!$B$13*'Salary Calculations'!I37","v":{"$error":"#N/A"}},{"$f":"'Salary Worksheet'!$B$14*'Salary Calculations'!I37","v":{"$error":"#N/A"}},{"$f":"IF('Salary Worksheet'!$B$18=\"Yes\",'Salary Worksheet'!$B$9*'Salary Calculations'!I37,'Salary Worksheet'!$B$9*'Salary Calculations'!G37)","v":{"$error":"#N/A"}},{"$f":"'Salary Worksheet'!$B$10*'Salary Calculations'!I37","v":{"$error":"#N/A"}},{"$error":"#N/A"},{"$f":"IF(ISERROR(A37),NA(),P36*(1+'Salary Worksheet'!$B$20))","v":{"$error":"#N/A"}},{"$error":"#N/A"}]
[{"$f":"IF(A37<'Salary Worksheet'!$B$6,A37+1,NA())","v":{"$error":"#N/A"}},{"$error":"#N/A"},{"$f":"IF(ISERROR(A38),NA(),'Salary Worksheet'!$B$15)","v":{"$error":"#N/A"}},{"$f":"'Salary Worksheet'!$B$11*'Salary Calculations'!B38","v":{"$error":"#N/A"}},{"$f":"'Salary Worksheet'!$B$12*'Salary Calculations'!B38","v":{"$error":"#N/A"}},{"$error":"#N/A"},{"$f":"IF(ISERROR(A38),NA(),G37*(1+'Salary Worksheet'!$B$20))","v":{"$error":"#N/A"}},{"$f":"IF(ISERROR(A38),NA(),H37*(1+'Salary Worksheet'!$B$20))","v":{"$error":"#N/A"}},{"$error":"#N/A"},{"$f":"'Salary Worksheet'!$B$8*'Salary Calculations'!I38","v":{"$error":"#N/A"}},{"$f":"'Salary Worksheet'!$B$13*'Salary Calculations'!I38","v":{"$error":"#N/A"}},{"$f":"'Salary Worksheet'!$B$14*'Salary Calculations'!I38","v":{"$error":"#N/A"}},{"$f":"IF('Salary Worksheet'!$B$18=\"Yes\",'Salary Worksheet'!$B$9*'Salary Calculations'!I38,'Salary Worksheet'!$B$9*'Salary Calculations'!G38)","v":{"$error":"#N/A"}},{"$f":"'Salary Worksheet'!$B$10*'Salary Calculations'!I38","v":{"$error":"#N/A"}},{"$error":"#N/A"},{"$f":"IF(ISERROR(A38),NA(),P37*(1+'Salary Worksheet'!$B$20))","v":{"$error":"#N/A"}},{"$error":"#N/A"}]
[{"$f":"IF(A38<'Salary Worksheet'!$B$6,A38+1,NA())","v":{"$error":"#N/A"}},{"$error":"#N/A"},{"$f":"IF(ISERROR(A39),NA(),'Salary Worksheet'!$B$15)","v":{"$error":"#N/A"}},{"$f":"'Salary Worksheet'!$B$11*'Salary Calculations'!B39","v":{"$error":"#N/A"}},{"$f":"'Salary Worksheet'!$B$12*'Salary Calculations'!B39","v":{"$error":"#N/A"}},{"$error":"#N/A"},{"$f":"IF(ISERROR(A39),NA(),G38*(1+'Salary Worksheet'!$B$20))","v":{"$error":"#N/A"}},{"$f":"IF(ISERROR(A39),NA(),H38*(1+'Salary Worksheet'!$B$20))","v":{"$error":"#N/A"}},{"$error":"#N/A"},{"$f":"'Salary Worksheet'!$B$8*'Salary Calculations'!I39","v":{"$error":"#N/A"}},{"$f":"'Salary Worksheet'!$B$13*'Salary Calculations'!I39","v":{"$error":"#N/A"}},{"$f":"'Salary Worksheet'!$B$14*'Salary Calculations'!I39","v":{"$error":"#N/A"}},{"$f":"IF('Salary Worksheet'!$B$18=\"Yes\",'Salary Worksheet'!$B$9*'Salary Calculations'!I39,'Salary Worksheet'!$B$9*'Salary Calculations'!G39)","v":{"$error":"#N/A"}},{"$f":"'Salary Worksheet'!$B$10*'Salary Calculations'!I39","v":{"$error":"#N/A"}},{"$error":"#N/A"},{"$f":"IF(ISERROR(A39),NA(),P38*(1+'Salary Worksheet'!$B$20))","v":{"$error":"#N/A"}},{"$error":"#N/A"}]
[{"$f":"IF(A39<'Salary Worksheet'!$B$6,A39+1,NA())","v":{"$error":"#N/A"}},{"$error":"#N/A"},{"$f":"IF(ISERROR(A40),NA(),'Salary Worksheet'!$B$15)","v":{"$error":"#N/A"}},{"$f":"'Salary Worksheet'!$B$11*'Salary Calculations'!B40","v":{"$error":"#N/A"}},{"$f":"'Salary Worksheet'!$B$12*'Salary Calculations'!B40","v":{"$error":"#N/A"}},{"$error":"#N/A"},{"$f":"IF(ISERROR(A40),NA(),G39*(1+'Salary Worksheet'!$B$20))","v":{"$error":"#N/A"}},{"$f":"IF(ISERROR(A40),NA(),H39*(1+'Salary Worksheet'!$B$20))","v":{"$error":"#N/A"}},{"$error":"#N/A"},{"$f":"'Salary Worksheet'!$B$8*'Salary Calculations'!I40","v":{"$error":"#N/A"}},{"$f":"'Salary Worksheet'!$B$13*'Salary Calculations'!I40","v":{"$error":"#N/A"}},{"$f":"'Salary Worksheet'!$B$14*'Salary Calculations'!I40","v":{"$error":"#N/A"}},{"$f":"IF('Salary Worksheet'!$B$18=\"Yes\",'Salary Worksheet'!$B$9*'Salary Calculations'!I40,'Salary Worksheet'!$B$9*'Salary Calculations'!G40)","v":{"$error":"#N/A"}},{"$f":"'Salary Worksheet'!$B$10*'Salary Calculations'!I40","v":{"$error":"#N/A"}},{"$error":"#N/A"},{"$f":"IF(ISERROR(A40),NA(),P39*(1+'Salary Worksheet'!$B$20))","v":{"$error":"#N/A"}},{"$error":"#N/A"}]
[{"$f":"IF(A40<'Salary Worksheet'!$B$6,A40+1,NA())","v":{"$error":"#N/A"}},{"$error":"#N/A"},{"$f":"IF(ISERROR(A41),NA(),'Salary Worksheet'!$B$15)","v":{"$error":"#N/A"}},{"$f":"'Salary Worksheet'!$B$11*'Salary Calculations'!B41","v":{"$error":"#N/A"}},{"$f":"'Salary Worksheet'!$B$12*'Salary Calculations'!B41","v":{"$error":"#N/A"}},{"$error":"#N/A"},{"$f":"IF(ISERROR(A41),NA(),G40*(1+'Salary Worksheet'!$B$20))","v":{"$error":"#N/A"}},{"$f":"IF(ISERROR(A41),NA(),H40*(1+'Salary Worksheet'!$B$20))","v":{"$error":"#N/A"}},{"$error":"#N/A"},{"$f":"'Salary Worksheet'!$B$8*'Salary Calculations'!I41","v":{"$error":"#N/A"}},{"$f":"'Salary Worksheet'!$B$13*'Salary Calculations'!I41","v":{"$error":"#N/A"}},{"$f":"'Salary Worksheet'!$B$14*'Salary Calculations'!I41","v":{"$error":"#N/A"}},{"$f":"IF('Salary Worksheet'!$B$18=\"Yes\",'Salary Worksheet'!$B$9*'Salary Calculations'!I41,'Salary Worksheet'!$B$9*'Salary Calculations'!G41)","v":{"$error":"#N/A"}},{"$f":"'Salary Worksheet'!$B$10*'Salary Calculations'!I41","v":{"$error":"#N/A"}},{"$error":"#N/A"},{"$f":"IF(ISERROR(A41),NA(),P40*(1+'Salary Worksheet'!$B$20))","v":{"$error":"#N/A"}},{"$error":"#N/A"}]
[{"$f":"IF(A41<'Salary Worksheet'!$B$6,A41+1,NA())","v":{"$error":"#N/A"}},{"$error":"#N/A"},{"$f":"IF(ISERROR(A42),NA(),'Salary Worksheet'!$B$15)","v":{"$error":"#N/A"}},{"$f":"'Salary Worksheet'!$B$11*'Salary Calculations'!B42","v":{"$error":"#N/A"}},{"$f":"'Salary Worksheet'!$B$12*'Salary Calculations'!B42","v":{"$error":"#N/A"}},{"$error":"#N/A"},{"$f":"IF(ISERROR(A42),NA(),G41*(1+'Salary Worksheet'!$B$20))","v":{"$error":"#N/A"}},{"$f":"IF(ISERROR(A42),NA(),H41*(1+'Salary Worksheet'!$B$20))","v":{"$error":"#N/A"}},{"$error":"#N/A"},{"$f":"'Salary Worksheet'!$B$8*'Salary Calculations'!I42","v":{"$error":"#N/A"}},{"$f":"'Salary Worksheet'!$B$13*'Salary Calculations'!I42","v":{"$error":"#N/A"}},{"$f":"'Salary Worksheet'!$B$14*'Salary Calculations'!I42","v":{"$error":"#N/A"}},{"$f":"IF('Salary Worksheet'!$B$18=\"Yes\",'Salary Worksheet'!$B$9*'Salary Calculations'!I42,'Salary Worksheet'!$B$9*'Salary Calculations'!G42)","v":{"$error":"#N/A"}},{"$f":"'Salary Worksheet'!$B$10*'Salary Calculations'!I42","v":{"$error":"#N/A"}},{"$error":"#N/A"},{"$f":"IF(ISERROR(A42),NA(),P41*(1+'Salary Worksheet'!$B$20))","v":{"$error":"#N/A"}},{"$error":"#N/A"}]
[{"$f":"IF(A42<'Salary Worksheet'!$B$6,A42+1,NA())","v":{"$error":"#N/A"}},{"$error":"#N/A"},{"$f":"IF(ISERROR(A43),NA(),'Salary Worksheet'!$B$15)","v":{"$error":"#N/A"}},{"$f":"'Salary Worksheet'!$B$11*'Salary Calculations'!B43","v":{"$error":"#N/A"}},{"$f":"'Salary Worksheet'!$B$12*'Salary Calculations'!B43","v":{"$error":"#N/A"}},{"$error":"#N/A"},{"$f":"IF(ISERROR(A43),NA(),G42*(1+'Salary Worksheet'!$B$20))","v":{"$error":"#N/A"}},{"$f":"IF(ISERROR(A43),NA(),H42*(1+'Salary Worksheet'!$B$20))","v":{"$error":"#N/A"}},{"$error":"#N/A"},{"$f":"'Salary Worksheet'!$B$8*'Salary Calculations'!I43","v":{"$error":"#N/A"}},{"$f":"'Salary Worksheet'!$B$13*'Salary Calculations'!I43","v":{"$error":"#N/A"}},{"$f":"'Salary Worksheet'!$B$14*'Salary Calculations'!I43","v":{"$error":"#N/A"}},{"$f":"IF('Salary Worksheet'!$B$18=\"Yes\",'Salary Worksheet'!$B$9*'Salary Calculations'!I43,'Salary Worksheet'!$B$9*'Salary Calculations'!G43)","v":{"$error":"#N/A"}},{"$f":"'Salary Worksheet'!$B$10*'Salary Calculations'!I43","v":{"$error":"#N/A"}},{"$error":"#N/A"},{"$f":"IF(ISERROR(A43),NA(),P42*(1+'Salary Worksheet'!$B$20))","v":{"$error":"#N/A"}},{"$error":"#N/A"}]
[{"$f":"IF(A43<'Salary Worksheet'!$B$6,A43+1,NA())","v":{"$error":"#N/A"}},{"$error":"#N/A"},{"$f":"IF(ISERROR(A44),NA(),'Salary Worksheet'!$B$15)","v":{"$error":"#N/A"}},{"$f":"'Salary Worksheet'!$B$11*'Salary Calculations'!B44","v":{"$error":"#N/A"}},{"$f":"'Salary Worksheet'!$B$12*'Salary Calculations'!B44","v":{"$error":"#N/A"}},{"$error":"#N/A"},{"$f":"IF(ISERROR(A44),NA(),G43*(1+'Salary Worksheet'!$B$20))","v":{"$error":"#N/A"}},{"$f":"IF(ISERROR(A44),NA(),H43*(1+'Salary Worksheet'!$B$20))","v":{"$error":"#N/A"}},{"$error":"#N/A"},{"$f":"'Salary Worksheet'!$B$8*'Salary Calculations'!I44","v":{"$error":"#N/A"}},{"$f":"'Salary Worksheet'!$B$13*'Salary Calculations'!I44","v":{"$error":"#N/A"}},{"$f":"'Salary Worksheet'!$B$14*'Salary Calculations'!I44","v":{"$error":"#N/A"}},{"$f":"IF('Salary Worksheet'!$B$18=\"Yes\",'Salary Worksheet'!$B$9*'Salary Calculations'!I44,'Salary Worksheet'!$B$9*'Salary Calculations'!G44)","v":{"$error":"#N/A"}},{"$f":"'Salary Worksheet'!$B$10*'Salary Calculations'!I44","v":{"$error":"#N/A"}},{"$error":"#N/A"},{"$f":"IF(ISERROR(A44),NA(),P43*(1+'Salary Worksheet'!$B$20))","v":{"$error":"#N/A"}},{"$error":"#N/A"}]
[{"$f":"IF(A44<'Salary Worksheet'!$B$6,A44+1,NA())","v":{"$error":"#N/A"}},{"$error":"#N/A"},{"$f":"IF(ISERROR(A45),NA(),'Salary Worksheet'!$B$15)","v":{"$error":"#N/A"}},{"$f":"'Salary Worksheet'!$B$11*'Salary Calculations'!B45","v":{"$error":"#N/A"}},{"$f":"'Salary Worksheet'!$B$12*'Salary Calculations'!B45","v":{"$error":"#N/A"}},{"$error":"#N/A"},{"$f":"IF(ISERROR(A45),NA(),G44*(1+'Salary Worksheet'!$B$20))","v":{"$error":"#N/A"}},{"$f":"IF(ISERROR(A45),NA(),H44*(1+'Salary Worksheet'!$B$20))","v":{"$error":"#N/A"}},{"$error":"#N/A"},{"$f":"'Salary Worksheet'!$B$8*'Salary Calculations'!I45","v":{"$error":"#N/A"}},{"$f":"'Salary Worksheet'!$B$13*'Salary Calculations'!I45","v":{"$error":"#N/A"}},{"$f":"'Salary Worksheet'!$B$14*'Salary Calculations'!I45","v":{"$error":"#N/A"}},{"$f":"IF('Salary Worksheet'!$B$18=\"Yes\",'Salary Worksheet'!$B$9*'Salary Calculations'!I45,'Salary Worksheet'!$B$9*'Salary Calculations'!G45)","v":{"$error":"#N/A"}},{"$f":"'Salary Worksheet'!$B$10*'Salary Calculations'!I45","v":{"$error":"#N/A"}},{"$error":"#N/A"},{"$f":"IF(ISERROR(A45),NA(),P44*(1+'Salary Worksheet'!$B$20))","v":{"$error":"#N/A"}},{"$error":"#N/A"}]
[{"$f":"IF(A45<'Salary Worksheet'!$B$6,A45+1,NA())","v":{"$error":"#N/A"}},{"$error":"#N/A"},{"$f":"IF(ISERROR(A46),NA(),'Salary Worksheet'!$B$15)","v":{"$error":"#N/A"}},{"$f":"'Salary Worksheet'!$B$11*'Salary Calculations'!B46","v":{"$error":"#N/A"}},{"$f":"'Salary Worksheet'!$B$12*'Salary Calculations'!B46","v":{"$error":"#N/A"}},{"$error":"#N/A"},{"$f":"IF(ISERROR(A46),NA(),G45*(1+'Salary Worksheet'!$B$20))","v":{"$error":"#N/A"}},{"$f":"IF(ISERROR(A46),NA(),H45*(1+'Salary Worksheet'!$B$20))","v":{"$error":"#N/A"}},{"$error":"#N/A"},{"$f":"'Salary Worksheet'!$B$8*'Salary Calculations'!I46","v":{"$error":"#N/A"}},{"$f":"'Salary Worksheet'!$B$13*'Salary Calculations'!I46","v":{"$error":"#N/A"}},{"$f":"'Salary Worksheet'!$B$14*'Salary Calculations'!I46","v":{"$error":"#N/A"}},{"$f":"IF('Salary Worksheet'!$B$18=\"Yes\",'Salary Worksheet'!$B$9*'Salary Calculations'!I46,'Salary Worksheet'!$B$9*'Salary Calculations'!G46)","v":{"$error":"#N/A"}},{"$f":"'Salary Worksheet'!$B$10*'Salary Calculations'!I46","v":{"$error":"#N/A"}},{"$error":"#N/A"},{"$f":"IF(ISERROR(A46),NA(),P45*(1+'Salary Worksheet'!$B$20))","v":{"$error":"#N/A"}},{"$error":"#N/A"}]
[{"$f":"IF(A46<'Salary Worksheet'!$B$6,A46+1,NA())","v":{"$error":"#N/A"}},{"$error":"#N/A"},{"$f":"IF(ISERROR(A47),NA(),'Salary Worksheet'!$B$15)","v":{"$error":"#N/A"}},{"$f":"'Salary Worksheet'!$B$11*'Salary Calculations'!B47","v":{"$error":"#N/A"}},{"$f":"'Salary Worksheet'!$B$12*'Salary Calculations'!B47","v":{"$error":"#N/A"}},{"$error":"#N/A"},{"$f":"IF(ISERROR(A47),NA(),G46*(1+'Salary Worksheet'!$B$20))","v":{"$error":"#N/A"}},{"$f":"IF(ISERROR(A47),NA(),H46*(1+'Salary Worksheet'!$B$20))","v":{"$error":"#N/A"}},{"$error":"#N/A"},{"$f":"'Salary Worksheet'!$B$8*'Salary Calculations'!I47","v":{"$error":"#N/A"}},{"$f":"'Salary Worksheet'!$B$13*'Salary Calculations'!I47","v":{"$error":"#N/A"}},{"$f":"'Salary Worksheet'!$B$14*'Salary Calculations'!I47","v":{"$error":"#N/A"}},{"$f":"IF('Salary Worksheet'!$B$18=\"Yes\",'Salary Worksheet'!$B$9*'Salary Calculations'!I47,'Salary Worksheet'!$B$9*'Salary Calculations'!G47)","v":{"$error":"#N/A"}},{"$f":"'Salary Worksheet'!$B$10*'Salary Calculations'!I47","v":{"$error":"#N/A"}},{"$error":"#N/A"},{"$f":"IF(ISERROR(A47),NA(),P46*(1+'Salary Worksheet'!$B$20))","v":{"$error":"#N/A"}},{"$error":"#N/A"}]
[{"$f":"IF(A47<'Salary Worksheet'!$B$6,A47+1,NA())","v":{"$error":"#N/A"}},{"$error":"#N/A"},{"$f":"IF(ISERROR(A48),NA(),'Salary Worksheet'!$B$15)","v":{"$error":"#N/A"}},{"$f":"'Salary Worksheet'!$B$11*'Salary Calculations'!B48","v":{"$error":"#N/A"}},{"$f":"'Salary Worksheet'!$B$12*'Salary Calculations'!B48","v":{"$error":"#N/A"}},{"$error":"#N/A"},{"$f":"IF(ISERROR(A48),NA(),G47*(1+'Salary Worksheet'!$B$20))","v":{"$error":"#N/A"}},{"$f":"IF(ISERROR(A48),NA(),H47*(1+'Salary Worksheet'!$B$20))","v":{"$error":"#N/A"}},{"$error":"#N/A"},{"$f":"'Salary Worksheet'!$B$8*'Salary Calculations'!I48","v":{"$error":"#N/A"}},{"$f":"'Salary Worksheet'!$B$13*'Salary Calculations'!I48","v":{"$error":"#N/A"}},{"$f":"'Salary Worksheet'!$B$14*'Salary Calculations'!I48","v":{"$error":"#N/A"}},{"$f":"IF('Salary Worksheet'!$B$18=\"Yes\",'Salary Worksheet'!$B$9*'Salary Calculations'!I48,'Salary Worksheet'!$B$9*'Salary Calculations'!G48)","v":{"$error":"#N/A"}},{"$f":"'Salary Worksheet'!$B$10*'Salary Calculations'!I48","v":{"$error":"#N/A"}},{"$error":"#N/A"},{"$f":"IF(ISERROR(A48),NA(),P47*(1+'Salary Worksheet'!$B$20))","v":{"$error":"#N/A"}},{"$error":"#N/A"}]
[{"$f":"IF(A48<'Salary Worksheet'!$B$6,A48+1,NA())","v":{"$error":"#N/A"}},{"$error":"#N/A"},{"$f":"IF(ISERROR(A49),NA(),'Salary Worksheet'!$B$15)","v":{"$error":"#N/A"}},{"$f":"'Salary Worksheet'!$B$11*'Salary Calculations'!B49","v":{"$error":"#N/A"}},{"$f":"'Salary Worksheet'!$B$12*'Salary Calculations'!B49","v":{"$error":"#N/A"}},{"$error":"#N/A"},{"$f":"IF(ISERROR(A49),NA(),G48*(1+'Salary Worksheet'!$B$20))","v":{"$error":"#N/A"}},{"$f":"IF(ISERROR(A49),NA(),H48*(1+'Salary Worksheet'!$B$20))","v":{"$error":"#N/A"}},{"$error":"#N/A"},{"$f":"'Salary Worksheet'!$B$8*'Salary Calculations'!I49","v":{"$error":"#N/A"}},{"$f":"'Salary Worksheet'!$B$13*'Salary Calculations'!I49","v":{"$error":"#N/A"}},{"$f":"'Salary Worksheet'!$B$14*'Salary Calculations'!I49","v":{"$error":"#N/A"}},{"$f":"IF('Salary Worksheet'!$B$18=\"Yes\",'Salary Worksheet'!$B$9*'Salary Calculations'!I49,'Salary Worksheet'!$B$9*'Salary Calculations'!G49)","v":{"$error":"#N/A"}},{"$f":"'Salary Worksheet'!$B$10*'Salary Calculations'!I49","v":{"$error":"#N/A"}},{"$error":"#N/A"},{"$f":"IF(ISERROR(A49),NA(),P48*(1+'Salary Worksheet'!$B$20))","v":{"$error":"#N/A"}},{"$error":"#N/A"}]
[{"$f":"IF(A49<'Salary Worksheet'!$B$6,A49+1,NA())","v":{"$error":"#N/A"}},{"$error":"#N/A"},{"$f":"IF(ISERROR(A50),NA(),'Salary Worksheet'!$B$15)","v":{"$error":"#N/A"}},{"$f":"'Salary Worksheet'!$B$11*'Salary Calculations'!B50","v":{"$error":"#N/A"}},{"$f":"'Salary Worksheet'!$B$12*'Salary Calculations'!B50","v":{"$error":"#N/A"}},{"$error":"#N/A"},{"$f":"IF(ISERROR(A50),NA(),G49*(1+'Salary Worksheet'!$B$20))","v":{"$error":"#N/A"}},{"$f":"IF(ISERROR(A50),NA(),H49*(1+'Salary Worksheet'!$B$20))","v":{"$error":"#N/A"}},{"$error":"#N/A"},{"$f":"'Salary Worksheet'!$B$8*'Salary Calculations'!I50","v":{"$error":"#N/A"}},{"$f":"'Salary Worksheet'!$B$13*'Salary Calculations'!I50","v":{"$error":"#N/A"}},{"$f":"'Salary Worksheet'!$B$14*'Salary Calculations'!I50","v":{"$error":"#N/A"}},{"$f":"IF('Salary Worksheet'!$B$18=\"Yes\",'Salary Worksheet'!$B$9*'Salary Calculations'!I50,'Salary Worksheet'!$B$9*'Salary Calculations'!G50)","v":{"$error":"#N/A"}},{"$f":"'Salary Worksheet'!$B$10*'Salary Calculations'!I50","v":{"$error":"#N/A"}},{"$error":"#N/A"},{"$f":"IF(ISERROR(A50),NA(),P49*(1+'Salary Worksheet'!$B$20))","v":{"$error":"#N/A"}},{"$error":"#N/A"}]
[{"$f":"IF(A50<'Salary Worksheet'!$B$6,A50+1,NA())","v":{"$error":"#N/A"}},{"$error":"#N/A"},{"$f":"IF(ISERROR(A51),NA(),'Salary Worksheet'!$B$15)","v":{"$error":"#N/A"}},{"$f":"'Salary Worksheet'!$B$11*'Salary Calculations'!B51","v":{"$error":"#N/A"}},{"$f":"'Salary Worksheet'!$B$12*'Salary Calculations'!B51","v":{"$error":"#N/A"}},{"$error":"#N/A"},{"$f":"IF(ISERROR(A51),NA(),G50*(1+'Salary Worksheet'!$B$20))","v":{"$error":"#N/A"}},{"$f":"IF(ISERROR(A51),NA(),H50*(1+'Salary Worksheet'!$B$20))","v":{"$error":"#N/A"}},{"$error":"#N/A"},{"$f":"'Salary Worksheet'!$B$8*'Salary Calculations'!I51","v":{"$error":"#N/A"}},{"$f":"'Salary Worksheet'!$B$13*'Salary Calculations'!I51","v":{"$error":"#N/A"}},{"$f":"'Salary Worksheet'!$B$14*'Salary Calculations'!I51","v":{"$error":"#N/A"}},{"$f":"IF('Salary Worksheet'!$B$18=\"Yes\",'Salary Worksheet'!$B$9*'Salary Calculations'!I51,'Salary Worksheet'!$B$9*'Salary Calculations'!G51)","v":{"$error":"#N/A"}},{"$f":"'Salary Worksheet'!$B$10*'Salary Calculations'!I51","v":{"$error":"#N/A"}},{"$error":"#N/A"},{"$f":"IF(ISERROR(A51),NA(),P50*(1+'Salary Worksheet'!$B$20))","v":{"$error":"#N/A"}},{"$error":"#N/A"}]
[{"$f":"IF(A51<'Salary Worksheet'!$B$6,A51+1,NA())","v":{"$error":"#N/A"}},{"$error":"#N/A"},{"$f":"IF(ISERROR(A52),NA(),'Salary Worksheet'!$B$15)","v":{"$error":"#N/A"}},{"$f":"'Salary Worksheet'!$B$11*'Salary Calculations'!B52","v":{"$error":"#N/A"}},{"$f":"'Salary Worksheet'!$B$12*'Salary Calculations'!B52","v":{"$error":"#N/A"}},{"$error":"#N/A"},{"$f":"IF(ISERROR(A52),NA(),G51*(1+'Salary Worksheet'!$B$20))","v":{"$error":"#N/A"}},{"$f":"IF(ISERROR(A52),NA(),H51*(1+'Salary Worksheet'!$B$20))","v":{"$error":"#N/A"}},{"$error":"#N/A"},{"$f":"'Salary Worksheet'!$B$8*'Salary Calculations'!I52","v":{"$error":"#N/A"}},{"$f":"'Salary Worksheet'!$B$13*'Salary Calculations'!I52","v":{"$error":"#N/A"}},{"$f":"'Salary Worksheet'!$B$14*'Salary Calculations'!I52","v":{"$error":"#N/A"}},{"$f":"IF('Salary Worksheet'!$B$18=\"Yes\",'Salary Worksheet'!$B$9*'Salary Calculations'!I52,'Salary Worksheet'!$B$9*'Salary Calculations'!G52)","v":{"$error":"#N/A"}},{"$f":"'Salary Worksheet'!$B$10*'Salary Calculations'!I52","v":{"$error":"#N/A"}},{"$error":"#N/A"},{"$f":"IF(ISERROR(A52),NA(),P51*(1+'Salary Worksheet'!$B$20))","v":{"$error":"#N/A"}},{"$error":"#N/A"}]
[{"$f":"IF(A52<'Salary Worksheet'!$B$6,A52+1,NA())","v":{"$error":"#N/A"}},{"$error":"#N/A"},{"$f":"IF(ISERROR(A53),NA(),'Salary Worksheet'!$B$15)","v":{"$error":"#N/A"}},{"$f":"'Salary Worksheet'!$B$11*'Salary Calculations'!B53","v":{"$error":"#N/A"}},{"$f":"'Salary Worksheet'!$B$12*'Salary Calculations'!B53","v":{"$error":"#N/A"}},{"$error":"#N/A"},{"$f":"IF(ISERROR(A53),NA(),G52*(1+'Salary Worksheet'!$B$20))","v":{"$error":"#N/A"}},{"$f":"IF(ISERROR(A53),NA(),H52*(1+'Salary Worksheet'!$B$20))","v":{"$error":"#N/A"}},{"$error":"#N/A"},{"$f":"'Salary Worksheet'!$B$8*'Salary Calculations'!I53","v":{"$error":"#N/A"}},{"$f":"'Salary Worksheet'!$B$13*'Salary Calculations'!I53","v":{"$error":"#N/A"}},{"$f":"'Salary Worksheet'!$B$14*'Salary Calculations'!I53","v":{"$error":"#N/A"}},{"$f":"IF('Salary Worksheet'!$B$18=\"Yes\",'Salary Worksheet'!$B$9*'Salary Calculations'!I53,'Salary Worksheet'!$B$9*'Salary Calculations'!G53)","v":{"$error":"#N/A"}},{"$f":"'Salary Worksheet'!$B$10*'Salary Calculations'!I53","v":{"$error":"#N/A"}},{"$error":"#N/A"},{"$f":"IF(ISERROR(A53),NA(),P52*(1+'Salary Worksheet'!$B$20))","v":{"$error":"#N/A"}},{"$error":"#N/A"}]
[{"$f":"IF(A53<'Salary Worksheet'!$B$6,A53+1,NA())","v":{"$error":"#N/A"}},{"$error":"#N/A"},{"$f":"IF(ISERROR(A54),NA(),'Salary Worksheet'!$B$15)","v":{"$error":"#N/A"}},{"$f":"'Salary Worksheet'!$B$11*'Salary Calculations'!B54","v":{"$error":"#N/A"}},{"$f":"'Salary Worksheet'!$B$12*'Salary Calculations'!B54","v":{"$error":"#N/A"}},{"$error":"#N/A"},{"$f":"IF(ISERROR(A54),NA(),G53*(1+'Salary Worksheet'!$B$20))","v":{"$error":"#N/A"}},{"$f":"IF(ISERROR(A54),NA(),H53*(1+'Salary Worksheet'!$B$20))","v":{"$error":"#N/A"}},{"$error":"#N/A"},{"$f":"'Salary Worksheet'!$B$8*'Salary Calculations'!I54","v":{"$error":"#N/A"}},{"$f":"'Salary Worksheet'!$B$13*'Salary Calculations'!I54","v":{"$error":"#N/A"}},{"$f":"'Salary Worksheet'!$B$14*'Salary Calculations'!I54","v":{"$error":"#N/A"}},{"$f":"IF('Salary Worksheet'!$B$18=\"Yes\",'Salary Worksheet'!$B$9*'Salary Calculations'!I54,'Salary Worksheet'!$B$9*'Salary Calculations'!G54)","v":{"$error":"#N/A"}},{"$f":"'Salary Worksheet'!$B$10*'Salary Calculations'!I54","v":{"$error":"#N/A"}},{"$error":"#N/A"},{"$f":"IF(ISERROR(A54),NA(),P53*(1+'Salary Worksheet'!$B$20))","v":{"$error":"#N/A"}},{"$error":"#N/A"}]
[{"$f":"IF(A54<'Salary Worksheet'!$B$6,A54+1,NA())","v":{"$error":"#N/A"}},{"$error":"#N/A"},{"$f":"IF(ISERROR(A55),NA(),'Salary Worksheet'!$B$15)","v":{"$error":"#N/A"}},{"$f":"'Salary Worksheet'!$B$11*'Salary Calculations'!B55","v":{"$error":"#N/A"}},{"$f":"'Salary Worksheet'!$B$12*'Salary Calculations'!B55","v":{"$error":"#N/A"}},{"$error":"#N/A"},{"$f":"IF(ISERROR(A55),NA(),G54*(1+'Salary Worksheet'!$B$20))","v":{"$error":"#N/A"}},{"$f":"IF(ISERROR(A55),NA(),H54*(1+'Salary Worksheet'!$B$20))","v":{"$error":"#N/A"}},{"$error":"#N/A"},{"$f":"'Salary Worksheet'!$B$8*'Salary Calculations'!I55","v":{"$error":"#N/A"}},{"$f":"'Salary Worksheet'!$B$13*'Salary Calculations'!I55","v":{"$error":"#N/A"}},{"$f":"'Salary Worksheet'!$B$14*'Salary Calculations'!I55","v":{"$error":"#N/A"}},{"$f":"IF('Salary Worksheet'!$B$18=\"Yes\",'Salary Worksheet'!$B$9*'Salary Calculations'!I55,'Salary Worksheet'!$B$9*'Salary Calculations'!G55)","v":{"$error":"#N/A"}},{"$f":"'Salary Worksheet'!$B$10*'Salary Calculations'!I55","v":{"$error":"#N/A"}},{"$error":"#N/A"},{"$f":"IF(ISERROR(A55),NA(),P54*(1+'Salary Worksheet'!$B$20))","v":{"$error":"#N/A"}},{"$error":"#N/A"}]
[{"$f":"IF(A55<'Salary Worksheet'!$B$6,A55+1,NA())","v":{"$error":"#N/A"}},{"$error":"#N/A"},{"$f":"IF(ISERROR(A56),NA(),'Salary Worksheet'!$B$15)","v":{"$error":"#N/A"}},{"$f":"'Salary Worksheet'!$B$11*'Salary Calculations'!B56","v":{"$error":"#N/A"}},{"$f":"'Salary Worksheet'!$B$12*'Salary Calculations'!B56","v":{"$error":"#N/A"}},{"$error":"#N/A"},{"$f":"IF(ISERROR(A56),NA(),G55*(1+'Salary Worksheet'!$B$20))","v":{"$error":"#N/A"}},{"$f":"IF(ISERROR(A56),NA(),H55*(1+'Salary Worksheet'!$B$20))","v":{"$error":"#N/A"}},{"$error":"#N/A"},{"$f":"'Salary Worksheet'!$B$8*'Salary Calculations'!I56","v":{"$error":"#N/A"}},{"$f":"'Salary Worksheet'!$B$13*'Salary Calculations'!I56","v":{"$error":"#N/A"}},{"$f":"'Salary Worksheet'!$B$14*'Salary Calculations'!I56","v":{"$error":"#N/A"}},{"$f":"IF('Salary Worksheet'!$B$18=\"Yes\",'Salary Worksheet'!$B$9*'Salary Calculations'!I56,'Salary Worksheet'!$B$9*'Salary Calculations'!G56)","v":{"$error":"#N/A"}},{"$f":"'Salary Worksheet'!$B$10*'Salary Calculations'!I56","v":{"$error":"#N/A"}},{"$error":"#N/A"},{"$f":"IF(ISERROR(A56),NA(),P55*(1+'Salary Worksheet'!$B$20))","v":{"$error":"#N/A"}},{"$error":"#N/A"}]
[{"$f":"IF(A56<'Salary Worksheet'!$B$6,A56+1,NA())","v":{"$error":"#N/A"}},{"$error":"#N/A"},{"$f":"IF(ISERROR(A57),NA(),'Salary Worksheet'!$B$15)","v":{"$error":"#N/A"}},{"$f":"'Salary Worksheet'!$B$11*'Salary Calculations'!B57","v":{"$error":"#N/A"}},{"$f":"'Salary Worksheet'!$B$12*'Salary Calculations'!B57","v":{"$error":"#N/A"}},{"$error":"#N/A"},{"$f":"IF(ISERROR(A57),NA(),G56*(1+'Salary Worksheet'!$B$20))","v":{"$error":"#N/A"}},{"$f":"IF(ISERROR(A57),NA(),H56*(1+'Salary Worksheet'!$B$20))","v":{"$error":"#N/A"}},{"$error":"#N/A"},{"$f":"'Salary Worksheet'!$B$8*'Salary Calculations'!I57","v":{"$error":"#N/A"}},{"$f":"'Salary Worksheet'!$B$13*'Salary Calculations'!I57","v":{"$error":"#N/A"}},{"$f":"'Salary Worksheet'!$B$14*'Salary Calculations'!I57","v":{"$error":"#N/A"}},{"$f":"IF('Salary Worksheet'!$B$18=\"Yes\",'Salary Worksheet'!$B$9*'Salary Calculations'!I57,'Salary Worksheet'!$B$9*'Salary Calculations'!G57)","v":{"$error":"#N/A"}},{"$f":"'Salary Worksheet'!$B$10*'Salary Calculations'!I57","v":{"$error":"#N/A"}},{"$error":"#N/A"},{"$f":"IF(ISERROR(A57),NA(),P56*(1+'Salary Worksheet'!$B$20))","v":{"$error":"#N/A"}},{"$error":"#N/A"}]
[{"$f":"IF(A57<'Salary Worksheet'!$B$6,A57+1,NA())","v":{"$error":"#N/A"}},{"$error":"#N/A"},{"$f":"IF(ISERROR(A58),NA(),'Salary Worksheet'!$B$15)","v":{"$error":"#N/A"}},{"$f":"'Salary Worksheet'!$B$11*'Salary Calculations'!B58","v":{"$error":"#N/A"}},{"$f":"'Salary Worksheet'!$B$12*'Salary Calculations'!B58","v":{"$error":"#N/A"}},{"$error":"#N/A"},{"$f":"IF(ISERROR(A58),NA(),G57*(1+'Salary Worksheet'!$B$20))","v":{"$error":"#N/A"}},{"$f":"IF(ISERROR(A58),NA(),H57*(1+'Salary Worksheet'!$B$20))","v":{"$error":"#N/A"}},{"$error":"#N/A"},{"$f":"'Salary Worksheet'!$B$8*'Salary Calculations'!I58","v":{"$error":"#N/A"}},{"$f":"'Salary Worksheet'!$B$13*'Salary Calculations'!I58","v":{"$error":"#N/A"}},{"$f":"'Salary Worksheet'!$B$14*'Salary Calculations'!I58","v":{"$error":"#N/A"}},{"$f":"IF('Salary Worksheet'!$B$18=\"Yes\",'Salary Worksheet'!$B$9*'Salary Calculations'!I58,'Salary Worksheet'!$B$9*'Salary Calculations'!G58)","v":{"$error":"#N/A"}},{"$f":"'Salary Worksheet'!$B$10*'Salary Calculations'!I58","v":{"$error":"#N/A"}},{"$error":"#N/A"},{"$f":"IF(ISERROR(A58),NA(),P57*(1+'Salary Worksheet'!$B$20))","v":{"$error":"#N/A"}},{"$error":"#N/A"}]
[{"$f":"IF(A58<'Salary Worksheet'!$B$6,A58+1,NA())","v":{"$error":"#N/A"}},{"$error":"#N/A"},{"$f":"IF(ISERROR(A59),NA(),'Salary Worksheet'!$B$15)","v":{"$error":"#N/A"}},{"$f":"'Salary Worksheet'!$B$11*'Salary Calculations'!B59","v":{"$error":"#N/A"}},{"$f":"'Salary Worksheet'!$B$12*'Salary Calculations'!B59","v":{"$error":"#N/A"}},{"$error":"#N/A"},{"$f":"IF(ISERROR(A59),NA(),G58*(1+'Salary Worksheet'!$B$20))","v":{"$error":"#N/A"}},{"$f":"IF(ISERROR(A59),NA(),H58*(1+'Salary Worksheet'!$B$20))","v":{"$error":"#N/A"}},{"$error":"#N/A"},{"$f":"'Salary Worksheet'!$B$8*'Salary Calculations'!I59","v":{"$error":"#N/A"}},{"$f":"'Salary Worksheet'!$B$13*'Salary Calculations'!I59","v":{"$error":"#N/A"}},{"$f":"'Salary Worksheet'!$B$14*'Salary Calculations'!I59","v":{"$error":"#N/A"}},{"$f":"IF('Salary Worksheet'!$B$18=\"Yes\",'Salary Worksheet'!$B$9*'Salary Calculations'!I59,'Salary Worksheet'!$B$9*'Salary Calculations'!G59)","v":{"$error":"#N/A"}},{"$f":"'Salary Worksheet'!$B$10*'Salary Calculations'!I59","v":{"$error":"#N/A"}},{"$error":"#N/A"},{"$f":"IF(ISERROR(A59),NA(),P58*(1+'Salary Worksheet'!$B$20))","v":{"$error":"#N/A"}},{"$error":"#N/A"}]
[{"$f":"IF(A59<'Salary Worksheet'!$B$6,A59+1,NA())","v":{"$error":"#N/A"}},{"$error":"#N/A"},{"$f":"IF(ISERROR(A60),NA(),'Salary Worksheet'!$B$15)","v":{"$error":"#N/A"}},{"$f":"'Salary Worksheet'!$B$11*'Salary Calculations'!B60","v":{"$error":"#N/A"}},{"$f":"'Salary Worksheet'!$B$12*'Salary Calculations'!B60","v":{"$error":"#N/A"}},{"$error":"#N/A"},{"$f":"IF(ISERROR(A60),NA(),G59*(1+'Salary Worksheet'!$B$20))","v":{"$error":"#N/A"}},{"$f":"IF(ISERROR(A60),NA(),H59*(1+'Salary Worksheet'!$B$20))","v":{"$error":"#N/A"}},{"$error":"#N/A"},{"$f":"'Salary Worksheet'!$B$8*'Salary Calculations'!I60","v":{"$error":"#N/A"}},{"$f":"'Salary Worksheet'!$B$13*'Salary Calculations'!I60","v":{"$error":"#N/A"}},{"$f":"'Salary Worksheet'!$B$14*'Salary Calculations'!I60","v":{"$error":"#N/A"}},{"$f":"IF('Salary Worksheet'!$B$18=\"Yes\",'Salary Worksheet'!$B$9*'Salary Calculations'!I60,'Salary Worksheet'!$B$9*'Salary Calculations'!G60)","v":{"$error":"#N/A"}},{"$f":"'Salary Worksheet'!$B$10*'Salary Calculations'!I60","v":{"$error":"#N/A"}},{"$error":"#N/A"},{"$f":"IF(ISERROR(A60),NA(),P59*(1+'Salary Worksheet'!$B$20))","v":{"$error":"#N/A"}},{"$error":"#N/A"}]
[{"$f":"IF(A60<'Salary Worksheet'!$B$6,A60+1,NA())","v":{"$error":"#N/A"}},{"$error":"#N/A"},{"$f":"IF(ISERROR(A61),NA(),'Salary Worksheet'!$B$15)","v":{"$error":"#N/A"}},{"$f":"'Salary Worksheet'!$B$11*'Salary Calculations'!B61","v":{"$error":"#N/A"}},{"$f":"'Salary Worksheet'!$B$12*'Salary Calculations'!B61","v":{"$error":"#N/A"}},{"$error":"#N/A"},{"$f":"IF(ISERROR(A61),NA(),G60*(1+'Salary Worksheet'!$B$20))","v":{"$error":"#N/A"}},{"$f":"IF(ISERROR(A61),NA(),H60*(1+'Salary Worksheet'!$B$20))","v":{"$error":"#N/A"}},{"$error":"#N/A"},{"$f":"'Salary Worksheet'!$B$8*'Salary Calculations'!I61","v":{"$error":"#N/A"}},{"$f":"'Salary Worksheet'!$B$13*'Salary Calculations'!I61","v":{"$error":"#N/A"}},{"$f":"'Salary Worksheet'!$B$14*'Salary Calculations'!I61","v":{"$error":"#N/A"}},{"$f":"IF('Salary Worksheet'!$B$18=\"Yes\",'Salary Worksheet'!$B$9*'Salary Calculations'!I61,'Salary Worksheet'!$B$9*'Salary Calculations'!G61)","v":{"$error":"#N/A"}},{"$f":"'Salary Worksheet'!$B$10*'Salary Calculations'!I61","v":{"$error":"#N/A"}},{"$error":"#N/A"},{"$f":"IF(ISERROR(A61),NA(),P60*(1+'Salary Worksheet'!$B$20))","v":{"$error":"#N/A"}},{"$error":"#N/A"}]
[{"$f":"IF(A61<'Salary Worksheet'!$B$6,A61+1,NA())","v":{"$error":"#N/A"}},{"$error":"#N/A"},{"$f":"IF(ISERROR(A62),NA(),'Salary Worksheet'!$B$15)","v":{"$error":"#N/A"}},{"$f":"'Salary Worksheet'!$B$11*'Salary Calculations'!B62","v":{"$error":"#N/A"}},{"$f":"'Salary Worksheet'!$B$12*'Salary Calculations'!B62","v":{"$error":"#N/A"}},{"$error":"#N/A"},{"$f":"IF(ISERROR(A62),NA(),G61*(1+'Salary Worksheet'!$B$20))","v":{"$error":"#N/A"}},{"$f":"IF(ISERROR(A62),NA(),H61*(1+'Salary Worksheet'!$B$20))","v":{"$error":"#N/A"}},{"$error":"#N/A"},{"$f":"'Salary Worksheet'!$B$8*'Salary Calculations'!I62","v":{"$error":"#N/A"}},{"$f":"'Salary Worksheet'!$B$13*'Salary Calculations'!I62","v":{"$error":"#N/A"}},{"$f":"'Salary Worksheet'!$B$14*'Salary Calculations'!I62","v":{"$error":"#N/A"}},{"$f":"IF('Salary Worksheet'!$B$18=\"Yes\",'Salary Worksheet'!$B$9*'Salary Calculations'!I62,'Salary Worksheet'!$B$9*'Salary Calculations'!G62)","v":{"$error":"#N/A"}},{"$f":"'Salary Worksheet'!$B$10*'Salary Calculations'!I62","v":{"$error":"#N/A"}},{"$error":"#N/A"},{"$f":"IF(ISERROR(A62),NA(),P61*(1+'Salary Worksheet'!$B$20))","v":{"$error":"#N/A"}},{"$error":"#N/A"}]
[{"$f":"IF(A62<'Salary Worksheet'!$B$6,A62+1,NA())","v":{"$error":"#N/A"}},{"$error":"#N/A"},{"$f":"IF(ISERROR(A63),NA(),'Salary Worksheet'!$B$15)","v":{"$error":"#N/A"}},{"$f":"'Salary Worksheet'!$B$11*'Salary Calculations'!B63","v":{"$error":"#N/A"}},{"$f":"'Salary Worksheet'!$B$12*'Salary Calculations'!B63","v":{"$error":"#N/A"}},{"$error":"#N/A"},{"$f":"IF(ISERROR(A63),NA(),G62*(1+'Salary Worksheet'!$B$20))","v":{"$error":"#N/A"}},{"$f":"IF(ISERROR(A63),NA(),H62*(1+'Salary Worksheet'!$B$20))","v":{"$error":"#N/A"}},{"$error":"#N/A"},{"$f":"'Salary Worksheet'!$B$8*'Salary Calculations'!I63","v":{"$error":"#N/A"}},{"$f":"'Salary Worksheet'!$B$13*'Salary Calculations'!I63","v":{"$error":"#N/A"}},{"$f":"'Salary Worksheet'!$B$14*'Salary Calculations'!I63","v":{"$error":"#N/A"}},{"$f":"IF('Salary Worksheet'!$B$18=\"Yes\",'Salary Worksheet'!$B$9*'Salary Calculations'!I63,'Salary Worksheet'!$B$9*'Salary Calculations'!G63)","v":{"$error":"#N/A"}},{"$f":"'Salary Worksheet'!$B$10*'Salary Calculations'!I63","v":{"$error":"#N/A"}},{"$error":"#N/A"},{"$f":"IF(ISERROR(A63),NA(),P62*(1+'Salary Worksheet'!$B$20))","v":{"$error":"#N/A"}},{"$error":"#N/A"}]
[{"$f":"IF(A63<'Salary Worksheet'!$B$6,A63+1,NA())","v":{"$error":"#N/A"}},{"$error":"#N/A"},{"$f":"IF(ISERROR(A64),NA(),'Salary Worksheet'!$B$15)","v":{"$error":"#N/A"}},{"$f":"'Salary Worksheet'!$B$11*'Salary Calculations'!B64","v":{"$error":"#N/A"}},{"$f":"'Salary Worksheet'!$B$12*'Salary Calculations'!B64","v":{"$error":"#N/A"}},{"$error":"#N/A"},{"$f":"IF(ISERROR(A64),NA(),G63*(1+'Salary Worksheet'!$B$20))","v":{"$error":"#N/A"}},{"$f":"IF(ISERROR(A64),NA(),H63*(1+'Salary Worksheet'!$B$20))","v":{"$error":"#N/A"}},{"$error":"#N/A"},{"$f":"'Salary Worksheet'!$B$8*'Salary Calculations'!I64","v":{"$error":"#N/A"}},{"$f":"'Salary Worksheet'!$B$13*'Salary Calculations'!I64","v":{"$error":"#N/A"}},{"$f":"'Salary Worksheet'!$B$14*'Salary Calculations'!I64","v":{"$error":"#N/A"}},{"$f":"IF('Salary Worksheet'!$B$18=\"Yes\",'Salary Worksheet'!$B$9*'Salary Calculations'!I64,'Salary Worksheet'!$B$9*'Salary Calculations'!G64)","v":{"$error":"#N/A"}},{"$f":"'Salary Worksheet'!$B$10*'Salary Calculations'!I64","v":{"$error":"#N/A"}},{"$error":"#N/A"},{"$f":"IF(ISERROR(A64),NA(),P63*(1+'Salary Worksheet'!$B$20))","v":{"$error":"#N/A"}},{"$error":"#N/A"}]
[{"$f":"IF(A64<'Salary Worksheet'!$B$6,A64+1,NA())","v":{"$error":"#N/A"}},{"$error":"#N/A"},{"$f":"IF(ISERROR(A65),NA(),'Salary Worksheet'!$B$15)","v":{"$error":"#N/A"}},{"$f":"'Salary Worksheet'!$B$11*'Salary Calculations'!B65","v":{"$error":"#N/A"}},{"$f":"'Salary Worksheet'!$B$12*'Salary Calculations'!B65","v":{"$error":"#N/A"}},{"$error":"#N/A"},{"$f":"IF(ISERROR(A65),NA(),G64*(1+'Salary Worksheet'!$B$20))","v":{"$error":"#N/A"}},{"$f":"IF(ISERROR(A65),NA(),H64*(1+'Salary Worksheet'!$B$20))","v":{"$error":"#N/A"}},{"$error":"#N/A"},{"$f":"'Salary Worksheet'!$B$8*'Salary Calculations'!I65","v":{"$error":"#N/A"}},{"$f":"'Salary Worksheet'!$B$13*'Salary Calculations'!I65","v":{"$error":"#N/A"}},{"$f":"'Salary Worksheet'!$B$14*'Salary Calculations'!I65","v":{"$error":"#N/A"}},{"$f":"IF('Salary Worksheet'!$B$18=\"Yes\",'Salary Worksheet'!$B$9*'Salary Calculations'!I65,'Salary Worksheet'!$B$9*'Salary Calculations'!G65)","v":{"$error":"#N/A"}},{"$f":"'Salary Worksheet'!$B$10*'Salary Calculations'!I65","v":{"$error":"#N/A"}},{"$error":"#N/A"},{"$f":"IF(ISERROR(A65),NA(),P64*(1+'Salary Worksheet'!$B$20))","v":{"$error":"#N/A"}},{"$error":"#N/A"}]
[{"$f":"IF(A65<'Salary Worksheet'!$B$6,A65+1,NA())","v":{"$error":"#N/A"}},{"$error":"#N/A"},{"$f":"IF(ISERROR(A66),NA(),'Salary Worksheet'!$B$15)","v":{"$error":"#N/A"}},{"$f":"'Salary Worksheet'!$B$11*'Salary Calculations'!B66","v":{"$error":"#N/A"}},{"$f":"'Salary Worksheet'!$B$12*'Salary Calculations'!B66","v":{"$error":"#N/A"}},{"$error":"#N/A"},{"$f":"IF(ISERROR(A66),NA(),G65*(1+'Salary Worksheet'!$B$20))","v":{"$error":"#N/A"}},{"$f":"IF(ISERROR(A66),NA(),H65*(1+'Salary Worksheet'!$B$20))","v":{"$error":"#N/A"}},{"$error":"#N/A"},{"$f":"'Salary Worksheet'!$B$8*'Salary Calculations'!I66","v":{"$error":"#N/A"}},{"$f":"'Salary Worksheet'!$B$13*'Salary Calculations'!I66","v":{"$error":"#N/A"}},{"$f":"'Salary Worksheet'!$B$14*'Salary Calculations'!I66","v":{"$error":"#N/A"}},{"$f":"IF('Salary Worksheet'!$B$18=\"Yes\",'Salary Worksheet'!$B$9*'Salary Calculations'!I66,'Salary Worksheet'!$B$9*'Salary Calculations'!G66)","v":{"$error":"#N/A"}},{"$f":"'Salary Worksheet'!$B$10*'Salary Calculations'!I66","v":{"$error":"#N/A"}},{"$error":"#N/A"},{"$f":"IF(ISERROR(A66),NA(),P65*(1+'Salary Worksheet'!$B$20))","v":{"$error":"#N/A"}},{"$error":"#N/A"}]
[{"$f":"IF(A66<'Salary Worksheet'!$B$6,A66+1,NA())","v":{"$error":"#N/A"}},{"$error":"#N/A"},{"$f":"IF(ISERROR(A67),NA(),'Salary Worksheet'!$B$15)","v":{"$error":"#N/A"}},{"$f":"'Salary Worksheet'!$B$11*'Salary Calculations'!B67","v":{"$error":"#N/A"}},{"$f":"'Salary Worksheet'!$B$12*'Salary Calculations'!B67","v":{"$error":"#N/A"}},{"$error":"#N/A"},{"$f":"IF(ISERROR(A67),NA(),G66*(1+'Salary Worksheet'!$B$20))","v":{"$error":"#N/A"}},{"$f":"IF(ISERROR(A67),NA(),H66*(1+'Salary Worksheet'!$B$20))","v":{"$error":"#N/A"}},{"$error":"#N/A"},{"$f":"'Salary Worksheet'!$B$8*'Salary Calculations'!I67","v":{"$error":"#N/A"}},{"$f":"'Salary Worksheet'!$B$13*'Salary Calculations'!I67","v":{"$error":"#N/A"}},{"$f":"'Salary Worksheet'!$B$14*'Salary Calculations'!I67","v":{"$error":"#N/A"}},{"$f":"IF('Salary Worksheet'!$B$18=\"Yes\",'Salary Worksheet'!$B$9*'Salary Calculations'!I67,'Salary Worksheet'!$B$9*'Salary Calculations'!G67)","v":{"$error":"#N/A"}},{"$f":"'Salary Worksheet'!$B$10*'Salary Calculations'!I67","v":{"$error":"#N/A"}},{"$error":"#N/A"},{"$f":"IF(ISERROR(A67),NA(),P66*(1+'Salary Worksheet'!$B$20))","v":{"$error":"#N/A"}},{"$error":"#N/A"}]
[{"$f":"IF(A67<'Salary Worksheet'!$B$6,A67+1,NA())","v":{"$error":"#N/A"}},{"$error":"#N/A"},{"$f":"IF(ISERROR(A68),NA(),'Salary Worksheet'!$B$15)","v":{"$error":"#N/A"}},{"$f":"'Salary Worksheet'!$B$11*'Salary Calculations'!B68","v":{"$error":"#N/A"}},{"$f":"'Salary Worksheet'!$B$12*'Salary Calculations'!B68","v":{"$error":"#N/A"}},{"$error":"#N/A"},{"$f":"IF(ISERROR(A68),NA(),G67*(1+'Salary Worksheet'!$B$20))","v":{"$error":"#N/A"}},{"$f":"IF(ISERROR(A68),NA(),H67*(1+'Salary Worksheet'!$B$20))","v":{"$error":"#N/A"}},{"$error":"#N/A"},{"$f":"'Salary Worksheet'!$B$8*'Salary Calculations'!I68","v":{"$error":"#N/A"}},{"$f":"'Salary Worksheet'!$B$13*'Salary Calculations'!I68","v":{"$error":"#N/A"}},{"$f":"'Salary Worksheet'!$B$14*'Salary Calculations'!I68","v":{"$error":"#N/A"}},{"$f":"IF('Salary Worksheet'!$B$18=\"Yes\",'Salary Worksheet'!$B$9*'Salary Calculations'!I68,'Salary Worksheet'!$B$9*'Salary Calculations'!G68)","v":{"$error":"#N/A"}},{"$f":"'Salary Worksheet'!$B$10*'Salary Calculations'!I68","v":{"$error":"#N/A"}},{"$f":"SUM(J68:N68)","v":{"$error":"#N/A"}},{"$f":"IF(ISERROR(A68),NA(),P67*(1+'Salary Worksheet'!$B$20))","v":{"$error":"#N/A"}},{"$error":"#N/A"}]
[{"$f":"IF(A68<'Salary Worksheet'!$B$6,A68+1,NA())","v":{"$error":"#N/A"}},{"$f":"IF(ISERROR(A69),NA(),F68+Q68)","v":{"$error":"#N/A"}},{"$f":"IF(ISERROR(A69),NA(),'Salary Worksheet'!$B$15)","v":{"$error":"#N/A"}},{"$f":"'Salary Worksheet'!$B$11*'Salary Calculations'!B69","v":{"$error":"#N/A"}},{"$f":"'Salary Worksheet'!$B$12*'Salary Calculations'!B69","v":{"$error":"#N/A"}},{"$error":"#N/A"},{"$f":"IF(ISERROR(A69),NA(),G68*(1+'Salary Worksheet'!$B$20))","v":{"$error":"#N/A"}},{"$f":"IF(ISERROR(A69),NA(),H68*(1+'Salary Worksheet'!$B$20))","v":{"$error":"#N/A"}},{"$error":"#N/A"},{"$f":"'Salary Worksheet'!$B$8*'Salary Calculations'!I69","v":{"$error":"#N/A"}},{"$f":"'Salary Worksheet'!$B$13*'Salary Calculations'!I69","v":{"$error":"#N/A"}},{"$f":"'Salary Worksheet'!$B$14*'Salary Calculations'!I69","v":{"$error":"#N/A"}},{"$f":"IF('Salary Worksheet'!$B$18=\"Yes\",'Salary Worksheet'!$B$9*'Salary Calculations'!I69,'Salary Worksheet'!$B$9*'Salary Calculations'!G69)","v":{"$error":"#N/A"}},{"$f":"'Salary Worksheet'!$B$10*'Salary Calculations'!I69","v":{"$error":"#N/A"}},{"$f":"SUM(J69:N69)","v":{"$error":"#N/A"}},{"$f":"IF(ISERROR(A69),NA(),P68*(1+'Salary Worksheet'!$B$20))","v":{"$error":"#N/A"}},{"$error":"#N/A"}]
[{"$f":"IF(A69<'Salary Worksheet'!$B$6,A69+1,NA())","v":{"$error":"#N/A"}},{"$f":"IF(ISERROR(A70),NA(),F69+Q69)","v":{"$error":"#N/A"}},{"$f":"IF(ISERROR(A70),NA(),'Salary Worksheet'!$B$15)","v":{"$error":"#N/A"}},{"$f":"'Salary Worksheet'!$B$11*'Salary Calculations'!B70","v":{"$error":"#N/A"}},{"$f":"'Salary Worksheet'!$B$12*'Salary Calculations'!B70","v":{"$error":"#N/A"}},{"$error":"#N/A"},{"$f":"IF(ISERROR(A70),NA(),G69*(1+'Salary Worksheet'!$B$20))","v":{"$error":"#N/A"}},{"$f":"IF(ISERROR(A70),NA(),H69*(1+'Salary Worksheet'!$B$20))","v":{"$error":"#N/A"}},{"$error":"#N/A"},{"$f":"'Salary Worksheet'!$B$8*'Salary Calculations'!I70","v":{"$error":"#N/A"}},{"$f":"'Salary Worksheet'!$B$13*'Salary Calculations'!I70","v":{"$error":"#N/A"}},{"$f":"'Salary Worksheet'!$B$14*'Salary Calculations'!I70","v":{"$error":"#N/A"}},{"$f":"IF('Salary Worksheet'!$B$18=\"Yes\",'Salary Worksheet'!$B$9*'Salary Calculations'!I70,'Salary Worksheet'!$B$9*'Salary Calculations'!G70)","v":{"$error":"#N/A"}},{"$f":"'Salary Worksheet'!$B$10*'Salary Calculations'!I70","v":{"$error":"#N/A"}},{"$f":"SUM(J70:N70)","v":{"$error":"#N/A"}},{"$f":"IF(ISERROR(A70),NA(),P69*(1+'Salary Worksheet'!$B$20))","v":{"$error":"#N/A"}},{"$error":"#N/A"}]

{"sheet":"Paystub Worksheet","index":4,"n_rows":21,"n_cols":12,"rows_kept":21,"cut":false,"hidden":false,"merged":[[3,0,3,1],[0,7,0,8],[0,10,0,11],[0,4,0,5]]}
["PAYSTUB COMPARISON",null,null,"Scenarios ->","In the Military",null,null,"Outside the Military, \nWith Pension",null,null,"Outside the Military, \nWithout Pension"]
["DIRECTIONS: 1) Enter assumptions, 2) Assess % income differences",null,null,null,"Monthly","Yearly",null,"Monthly","Yearly",null,"Monthly","Yearly"]
[null,null,null,"Income"]
["Assumptions",null,null,"Salary",{"$f":"B5","v":10000},{"$f":"E4*12","v":120000},null,{"$f":"I4/12","v":8333.3333333333339},{"$f":"B6","v":100000},null,{"$f":"L4/12","v":8333.3333333333339},{"$f":"B6","v":100000}]
["Monthly Salary in Military",10000,null,"BAS",{"$f":"B7","v":250},{"$f":"E5*12","v":3000}]
["Annual Salary outside Military",100000,null,"BAH",{"$f":"B8","v":1400},{"$f":"E6*12","v":16800}]
["Monthly BAS rate",250,null,"Pension",null,null,null,{"$f":"I7/12","v":5833.333333333333},{"$f":"B9","v":70000}]
["Monthly BAH rate",1400,null,"Total Income",{"$f":"SUM(E4:E6)","v":11650},{"$f":"SUM(F4:F6)","v":139800},null,{"$f":"SUM(H4:H7)","v":14166.666666666668},{"$f":"SUM(I4:I7)","v":170000},null,{"$f":"SUM(K4:K7)","v":8333.3333333333339},{"$f":"SUM(L4:L7)","v":100000}]
["Annual Military Pension",70000]
["Federal Tax rate in the Military (%)",0.25,null,"Deductions"]
["Federal Tax rate Outside the Military (%)",0.25,null,"Federal Taxes",{"$f":"B10*E4","v":2500},{"$f":"E11*12","v":30000},null,{"$f":"H8*B11","v":3541.666666666667},{"$f":"H11*12","v":42500},null,{"$f":"K8*B11","v":2083.3333333333335},{"$f":"K11*12","v":25000}]
["Social Security tax rate (%)",6.2E-2,null,"Social Security",{"$f":"B12*E4","v":620},{"$f":"E12*12","v":7440},null,{"$f":"B12*H8","v":878.33333333333337},{"$f":"H12*12","v":10540},null,{"$f":"B12*K8","v":516.66666666666674},{"$f":"K12*12","v":6200.0000000000009}]
["Medicare Tax rate (%)",1.4500000000000001E-2,null,"Medicare",{"$f":"B13*E4","v":145},{"$f":"E13*12","v":1740},null,{"$f":"B13*H8","v":205.41666666666669},{"$f":"H13*12","v":2465},null,{"$f":"B13*K8","v":120.83333333333334},{"$f":"K13*12","v":1450}]
["State Tax rate in the Military (%)",0.06,null,"State Taxes",{"$f":"IF(B18=\"Yes\",E4*B14,0)","v":600},{"$f":"E14*12","v":7200},null,{"$f":"I14/12","v":850},{"$f":"IF(B20=\"Yes\",B15*I8,B15*I4)","v":10200},null,{"$f":"L14/12","v":500},{"$f":"B15*L8","v":6000}]
["State Tax rate Outside the Military (%)",0.06,null,"Local Taxes",{"$f":"IF(B19=\"Yes\",B16*E4,0)","v":0},{"$f":"E15*12","v":0},null,{"$f":"I15/12","v":283.33333333333331},{"$f":"IF(B21=\"Yes\",B17*I8,B17*I4)","v":3400},null,{"$f":"L15/12","v":166.66666666666666},{"$f":"B17*L8","v":2000}]
["Local Tax rate in the Military (%)",0.02,null,"Total Deductions",{"$f":"SUM(E11:E15)","v":3865},{"$f":"SUM(F11:F15)","v":46380},null,{"$f":"SUM(H11:H15)","v":5758.75},{"$f":"SUM(I11:I15)","v":69105},null,{"$f":"SUM(K11:K15)","v":3387.5},{"$f":"SUM(L11:L15)","v":40650}]
["Local Tax rate Outside the Military (%)",0.02]
["Military Salary Taxed by State?","Yes",null,"After-Tax Income",{"$f":"E8-E16","v":7785},{"$f":"F8-F16","v":93420},null,{"$f":"H8-H16","v":8407.9166666666679},{"$f":"I8-I16","v":100895},null,{"$f":"K8-K16","v":4945.8333333333339},{"$f":"L8-L16","v":59350}]
["Military Salary Taxed by Local?","No"]
["Military Pension Taxed by State?","Yes",null,null,null,null,null,"% decrease in after-tax income from being 'In the Military'",{"$f":"(F18-I18)/F18","v":-8.0014986084350245E-2},null,null,{"$f":"(F18-L18)/F18","v":0.36469706700920573}]
["Military Pension Taxed by Local?","Yes",null,null,null,null,null,"Increase required to sustain 'In the Military' after-tax income",{"$f":"(F18-I18)/I18","v":-7.4086922047673323E-2},null,null,{"$f":"(F18-L18)/L18","v":0.57405223251895532}]

{"sheet":"Budget pro forma","index":5,"n_rows":33,"n_cols":14,"rows_kept":33,"cut":false,"hidden":false,"merged":[]}
["Category","Jan","Feb","Mar","Apr","May","Jun","Jul","Aug","Sep","Oct","Nov","Dec","TOTAL"]
["Income"]
["Salary",null,null,null,null,null,null,null,null,null,null,null,null,{"$f":"SUM(B3:M3)","v":0}]
["Gifts",null,null,null,null,null,null,null,null,null,null,null,null,{"$f":"SUM(B4:M4)","v":0}]
["Pension",null,null,null,null,null,null,null,null,null,null,null,null,0]
["Social Security",null,null,null,null,null,null,null,null,null,null,null,null,0]
["Interest, Dividends, etc.",null,null,null,null,null,null,null,null,null,null,null,null,0]
["Retirement Withdrawals",null,null,null,null,null,null,null,null,null,null,null,null,0]
["Income Sub-total",{"$f":"SUM(B3:B8)","v":0},{"$f":"SUM(C3:C8)","v":0},0,0,0,0,0,0,0,0,0,0,0]
[]
["Expenses",null,null,null,null,null,null,null,null,null,null,null,null,0]
["Savings (529 plan, IRAs, etc.)",null,null,null,null,null,null,null,null,null,null,null,null,0]
["Automotive",null,null,null,null,null,null,null,null,null,null,null,null,0]
["Charity",null,null,null,null,null,null,null,null,null,null,null,null,0]
["Childcare/Daycare",null,null,null,null,null,null,null,null,null,null,null,null,0]
["Clothing",null,null,null,null,null,null,null,null,null,null,null,null,0]
["Dining",null,null,null,null,null,null,null,null,null,null,null,null,0]
["Education",null,null,null,null,null,null,null,null,null,null,null,null,0]
["Entertainment",null,null,null,null,null,null,null,null,null,null,null,null,0]
["Groceries",null,null,null,null,null,null,null,null,null,null,null,null,0]
["Grooming",null,null,null,null,null,null,null,null,null,null,null,null,0]
["Home Mortgage / Rent",null,null,null,null,null,null,null,null,null,null,null,null,0]
["Home Repair / Improvement",null,null,null,null,null,null,null,null,null,null,null,null,0]
["Insurance",null,null,null,null,null,null,null,null,null,null,null,null,0]
["Medical / Healthcare Expenses",null,null,null,null,null,null,null,null,null,null,null,null,0]
["Recreation",null,null,null,null,null,null,null,null,null,null,null,null,0]
["Subscriptions",null,null,null,null,null,null,null,null,null,null,null,null,0]
["Taxes",null,null,null,null,null,null,null,null,null,null,null,null,0]
["Utilities",null,null,null,null,null,null,null,null,null,null,null,null,0]
["Vacation",null,null,null,null,null,null,null,null,null,null,null,null,0]
["Expenses Sub-total",{"$f":"SUM(B12:B30)","v":0},{"$f":"SUM(C12:C30)","v":0},{"$f":"SUM(D12:D30)","v":0},{"$f":"SUM(E12:E30)","v":0},{"$f":"SUM(F12:F30)","v":0},{"$f":"SUM(G12:G30)","v":0},{"$f":"SUM(H12:H30)","v":0},{"$f":"SUM(I12:I30)","v":0},{"$f":"SUM(J12:J30)","v":0},{"$f":"SUM(K12:K30)","v":0},{"$f":"SUM(L12:L30)","v":0},{"$f":"SUM(M12:M30)","v":0},0]
[]
["Balance",{"$f":"B9-B31","v":0},{"$f":"C9-C31","v":0},{"$f":"D9-D31","v":0},{"$f":"E9-E31","v":0},{"$f":"F9-F31","v":0},{"$f":"G9-G31","v":0},{"$f":"H9-H31","v":0},{"$f":"I9-I31","v":0},{"$f":"J9-J31","v":0},{"$f":"K9-K31","v":0},{"$f":"L9-L31","v":0},{"$f":"M9-M31","v":0},{"$f":"N9-N31","v":0}]