{"text_format":"1","workbook":"xlsx","n_sheets":6,"sheets":["Retirement Worksheet","Retirement Calculations","Salary Worksheet","Salary Calculations","Paystub Worksheet","Budget pro forma"],"not_rendered":{"charts":2,"images":0,"macros":1,"external_links":0,"defined_names":55,"comments":3,"pivot_tables":2},"unopened":[],"bounds":{"document_bytes":16777216,"sheet_cells":100000,"rows_first":2000,"rows_last":500,"rows_between":2000,"halvings":0,"cell_chars":16384,"cell_head_chars":4096},"cells_cut":0,"cells_raw":0,"read":"whole","date_system":"1900"}

{"sheet":"Retirement Worksheet","index":0,"n_rows":171,"n_cols":18,"rows_kept":171,"cut":false,"hidden":false,"merged":[[6,0,6,1],[31,2,31,17],[0,3,0,10],[33,3,33,6],[33,7,33,11],[33,12,33,14]]}
["RETIREMENT WORKSHEET",null,null,"Retirement Savings Requirement Graph"]
["DIRECTIONS: 1) Enter assumptions, 2) Click 'Enter'->"]
["3) Review the outcome using the text box to the right of the graph"]
["4) As needed, adjust the \"Total Savings at Final Retirement Age\""]
["5) Repeat the process until your answer is \"Yes\""]
[]
["Assumptions"]
["Life expectancy (# years old)",90]
["Military Retirement age (# years old)"]
["Final Retirement age (# years old)",65]
["Total Savings at Final Retirement Age ($)",800000]
["Annual final retirement savings withdrawal rate (%)",0.04]
["Federal Tax rate in retirement (%)",0.22]
["Federal Long-term Capital Gains Tax Rate (%)",0.2]
["State Tax rate in retirement (%)",0.06]
["Local Tax rate in retirement (%)",0.02]
["Military Pension taxed by State & Local?","Yes"]
["Annual investment fees (%)",2.5000000000000001E-3]
["Annual Social Security benfit at Final Retirement ($)",20000]
["Annual Social Security benefits subject to Federal tax (%)",0.85]
["Social Security benefits taxed by State & Local?","No"]
["Final Military Pay (annual $)",0]
["Military Retirement Multiplier (%)",2.5000000000000001E-2]
["Years of Military Service (#)",30]
["Annual Pension at Military Retirement ($)"]
["Annual Military Disability Payments ($)",12000]
["Annual expenses ($)",70000]
["Annual inflation rate (%)",0.03]
["Annual COLA / income increase (%)",0.02]
["Annual return on investments (%)",0.05]
[]
[null,null,"Chart Detail"]
[]
[null,null,null,"Investments",null,null,null,"Income",null,null,null,null,"Taxes",null,null,null,"Expenses"]
[]
[null,null,{"$f":"'Retirement Calculations'!A2","v":"Age"},"Savings Balance",{"$f":"'Retirement Calculations'!C2","v":"Investment Fees"},{"$f":"'Retirement Calculations'!D2","v":"Return on Investments"},{"$f":"'Retirement Calculations'!E2","v":"Net Investments"},"Annual Disability",{"$f":"'Retirement Calculations'!H2","v":"Annual Withdrawal"},{"$f":"'Retirement Calculations'!I2","v":"Pension"},{"$f":"'Retirement Calculations'!J2","v":"SSA"},"Annual Income",{"$f":"'Retirement Calculations'!M2","v":"Federal Income Taxes"},{"$f":"'Retirement Calculations'!N2","v":"State Income Taxes"},{"$f":"'Retirement Calculations'!O2","v":"Local Income Taxes"},{"$f":"'Retirement Calculations'!Q2","v":"Income-Taxes"},{"$f":"'Retirement Calculations'!R2","v":"Annual Expenses"},{"$f":"'Retirement Calculations'!S2","v":"Net Income"}]
[null,null,{"$f":"IFERROR('Retirement Calculations'!A3,\"\")","v":65},{"$f":"IFERROR('Retirement Calculations'!B3,\"\")","v":800000},{"$f":"IFERROR('Retirement Calculations'!C3,\"\")","v":2000},{"$f":"IFERROR('Retirement Calculations'!D3,\"\")","v":40000},{"$f":"IFERROR('Retirement Calculations'!E3,\"\")","v":838000},{"$f":"IFERROR('Retirement Calculations'!G3,\"\")","v":43470.277297708933},{"$f":"IFERROR('Retirement Calculations'!H3,\"\")","v":32000},{"$f":"IFERROR('Retirement Calculations'!I3,\"\")","v":0},{"$f":"IFERROR('Retirement Calculations'!J3,\"\")","v":20000},{"$f":"IFERROR('Retirement Calculations'!K3,\"\")","v":95470.277297708933},{"$f":"IFERROR('Retirement Calculations'!M3,\"\")","v":10140},{"$f":"IFERROR('Retirement Calculations'!#REF!,\"\")","v":""},{"$f":"IFERROR('Retirement Calculations'!#REF!,\"\")","v":""},{"$f":"IFERROR('Retirement Calculations'!Q3,\"\")","v":82770.277297708933},{"$f":"IFERROR('Retirement Calculations'!R3,\"\")","v":70000},{"$f":"IFERROR('Retirement Calculations'!S3,\"\")","v":12770.277297708933}]
[null,null,{"$f":"IFERROR('Retirement Calculations'!A4,\"\")","v":66},{"$f":"IFERROR('Retirement Calculations'!B4,\"\")","v":818770.2772977089},{"$f":"IFERROR('Retirement Calculations'!C4,\"\")","v":2046.9256932442722},{"$f":"IFERROR('Retirement Calculations'!D4,\"\")","v":40938.513864885448},{"$f":"IFERROR('Retirement Calculations'!E4,\"\")","v":857661.86546935001},{"$f":"IFERROR('Retirement Calculations'!G4,\"\")","v":44339.682843663111},{"$f":"IFERROR('Retirement Calculations'!H4,\"\")","v":32750.811091908356},{"$f":"IFERROR('Retirement Calculations'!I4,\"\")","v":0},{"$f":"IFERROR('Retirement Calculations'!J4,\"\")","v":20400},{"$f":"IFERROR('Retirement Calculations'!K4,\"\")","v":97490.49393557146},{"$f":"IFERROR('Retirement Calculations'!M4,\"\")","v":10364.962218381672},{"$f":"IFERROR('Retirement Calculations'!N4,\"\")","v":1965.0486655145012},{"$f":"IFERROR('Retirement Calculations'!O4,\"\")","v":655.0162218381671},{"$f":"IFERROR('Retirement Calculations'!Q4,\"\")","v":84505.466829837125},{"$f":"IFERROR('Retirement Calculations'!R4,\"\")","v":72100},{"$f":"IFERROR('Retirement Calculations'!S4,\"\")","v":12405.466829837125}]
[null,null,{"$f":"IFERROR('Retirement Calculations'!A5,\"\")","v":67},{"$f":"IFERROR('Retirement Calculations'!B5,\"\")","v":837316.52120727883},{"$f":"IFERROR('Retirement Calculations'!C5,\"\")","v":2093.2913030181971},{"$f":"IFERROR('Retirement Calculations'!D5,\"\")","v":41865.826060363943},{"$f":"IFERROR('Retirement Calculations'!E5,\"\")","v":877089.05596462451},{"$f":"IFERROR('Retirement Calculations'!G5,\"\")","v":45226.476500536373},{"$f":"IFERROR('Retirement Calculations'!H5,\"\")","v":33492.660848291154},{"$f":"IFERROR('Retirement Calculations'!I5,\"\")","v":0},{"$f":"IFERROR('Retirement Calculations'!J5,\"\")","v":20808},{"$f":"IFERROR('Retirement Calculations'!K5,\"\")","v":99527.137348827528},{"$f":"IFERROR('Retirement Calculations'!M5,\"\")","v":10589.628169658232},{"$f":"IFERROR('Retirement Calculations'!N5,\"\")","v":2009.5596508974693},{"$f":"IFERROR('Retirement Calculations'!O5,\"\")","v":669.85321696582309},{"$f":"IFERROR('Retirement Calculations'!Q5,\"\")","v":86258.096311305999},{"$f":"IFERROR('Retirement Calculations'!R5,\"\")","v":74263},{"$f":"IFERROR('Retirement Calculations'!S5,\"\")","v":11995.096311305999}]
[null,null,{"$f":"IFERROR('Retirement Calculations'!A6,\"\")","v":68},{"$f":"IFERROR('Retirement Calculations'!B6,\"\")","v":855591.49142763938},{"$f":"IFERROR('Retirement Calculations'!C6,\"\")","v":2138.9787285690986},{"$f":"IFERROR('Retirement Calculations'!D6,\"\")","v":42779.574571381971},{"$f":"IFERROR('Retirement Calculations'!E6,\"\")","v":896232.08727045229},{"$f":"IFERROR('Retirement Calculations'!G6,\"\")","v":46131.006030547105},{"$f":"IFERROR('Retirement Calculations'!H6,\"\")","v":34223.659657105578},{"$f":"IFERROR('Retirement Calculations'!I6,\"\")","v":0},{"$f":"IFERROR('Retirement Calculations'!J6,\"\")","v":21224.16},{"$f":"IFERROR('Retirement Calculations'!K6,\"\")","v":101578.82568765269},{"$f":"IFERROR('Retirement Calculations'!M6,\"\")","v":10813.649851421116},{"$f":"IFERROR('Retirement Calculations'!N6,\"\")","v":2053.4195794263346},{"$f":"IFERROR('Retirement Calculations'!O6,\"\")","v":684.47319314211154},{"$f":"IFERROR('Retirement Calculations'!Q6,\"\")","v":88027.283063663126},{"$f":"IFERROR('Retirement Calculations'!R6,\"\")","v":76490.89},{"$f":"IFERROR('Retirement Calculations'!S6,\"\")","v":11536.393063663127}]
[null,null,{"$f":"IFERROR('Retirement Calculations'!A7,\"\")","v":69},{"$f":"IFERROR('Retirement Calculations'!B7,\"\")","v":873544.82067700988},{"$f":"IFERROR('Retirement Calculations'!C7,\"\")","v":2183.8620516925248},{"$f":"IFERROR('Retirement Calculations'!D7,\"\")","v":43677.2410338505},{"$f":"IFERROR('Retirement Calculations'!E7,\"\")","v":915038.19965916779},{"$f":"IFERROR('Retirement Calculations'!G7,\"\")","v":47053.626151158045},{"$f":"IFERROR('Retirement Calculations'!H7,\"\")","v":34941.792827080397},{"$f":"IFERROR('Retirement Calculations'!I7,\"\")","v":0},{"$f":"IFERROR('Retirement Calculations'!J7,\"\")","v":21648.643199999999},{"$f":"IFERROR('Retirement Calculations'!K7,\"\")","v":103644.06217823844},{"$f":"IFERROR('Retirement Calculations'!M7,\"\")","v":11036.654843816079},{"$f":"IFERROR('Retirement Calculations'!N7,\"\")","v":2096.5075696248236},{"$f":"IFERROR('Retirement Calculations'!O7,\"\")","v":698.835856541608},{"$f":"IFERROR('Retirement Calculations'!Q7,\"\")","v":89812.063908255936},{"$f":"IFERROR('Retirement Calculations'!R7,\"\")","v":78785.616699999999},{"$f":"IFERROR('Retirement Calculations'!S7,\"\")","v":11026.447208255937}]
[null,null,{"$f":"IFERROR('Retirement Calculations'!A8,\"\")","v":70},{"$f":"IFERROR('Retirement Calculations'!B8,\"\")","v":891122.85404034331},{"$f":"IFERROR('Retirement Calculations'!C8,\"\")","v":2227.8071351008584},{"$f":"IFERROR('Retirement Calculations'!D8,\"\")","v":44556.142702017169},{"$f":"IFERROR('Retirement Calculations'!E8,\"\")","v":933451.1896072597},{"$f":"IFERROR('Retirement Calculations'!G8,\"\")","v":47994.698674181207},{"$f":"IFERROR('Retirement Calculations'!H8,\"\")","v":35644.914161613735},{"$f":"IFERROR('Retirement Calculations'!I8,\"\")","v":0},{"$f":"IFERROR('Retirement Calculations'!J8,\"\")","v":22081.616063999998},{"$f":"IFERROR('Retirement Calculations'!K8,\"\")","v":105721.22889979495},{"$f":"IFERROR('Retirement Calculations'!M8,\"\")","v":11258.245036290748},{"$f":"IFERROR('Retirement Calculations'!N8,\"\")","v":2138.6948496968239},{"$f":"IFERROR('Retirement Calculations'!O8,\"\")","v":712.89828323227471},{"$f":"IFERROR('Retirement Calculations'!Q8,\"\")","v":91611.390730575105},{"$f":"IFERROR('Retirement Calculations'!R8,\"\")","v":81149.185201},{"$f":"IFERROR('Retirement Calculations'!S8,\"\")","v":10462.205529575105}]
[null,null,{"$f":"IFERROR('Retirement Calculations'!A9,\"\")","v":71},{"$f":"IFERROR('Retirement Calculations'!B9,\"\")","v":908268.48097522103},{"$f":"IFERROR('Retirement Calculations'!C9,\"\")","v":2270.6712024380527},{"$f":"IFERROR('Retirement Calculations'!D9,\"\")","v":45413.424048761051},{"$f":"IFERROR('Retirement Calculations'!E9,\"\")","v":951411.23382154398},{"$f":"IFERROR('Retirement Calculations'!G9,\"\")","v":48954.592647664831},{"$f":"IFERROR('Retirement Calculations'!H9,\"\")","v":36330.739239008843},{"$f":"IFERROR('Retirement Calculations'!I9,\"\")","v":0},{"$f":"IFERROR('Retirement Calculations'!J9,\"\")","v":22523.24838528},{"$f":"IFERROR('Retirement Calculations'!K9,\"\")","v":107808.58027195366},{"$f":"IFERROR('Retirement Calculations'!M9,\"\")","v":11477.995295849129},{"$f":"IFERROR('Retirement Calculations'!N9,\"\")","v":2179.8443543405306},{"$f":"IFERROR('Retirement Calculations'!O9,\"\")","v":726.61478478017682},{"$f":"IFERROR('Retirement Calculations'!Q9,\"\")","v":93424.125836983818},{"$f":"IFERROR('Retirement Calculations'!R9,\"\")","v":83583.660757029997},{"$f":"IFERROR('Retirement Calculations'!S9,\"\")","v":9840.4650799538213}]
[null,null,{"$f":"IFERROR('Retirement Calculations'!A10,\"\")","v":72},{"$f":"IFERROR('Retirement Calculations'!B10,\"\")","v":924920.95966248889},{"$f":"IFERROR('Retirement Calculations'!C10,\"\")","v":2312.3023991562222},{"$f":"IFERROR('Retirement Calculations'!D10,\"\")","v":46246.047983124445},{"$f":"IFERROR('Retirement Calculations'!E10,\"\")","v":968854.70524645713},{"$f":"IFERROR('Retirement Calculations'!G10,\"\")","v":49933.684500618132},{"$f":"IFERROR('Retirement Calculations'!H10,\"\")","v":36996.838386499556},{"$f":"IFERROR('Retirement Calculations'!I10,\"\")","v":0},{"$f":"IFERROR('Retirement Calculations'!J10,\"\")","v":22973.7133529856},{"$f":"IFERROR('Retirement Calculations'!K10,\"\")","v":109904.23624010329},{"$f":"IFERROR('Retirement Calculations'!M10,\"\")","v":11695.452074308218},{"$f":"IFERROR('Retirement Calculations'!N10,\"\")","v":2219.8103031899732},{"$f":"IFERROR('Retirement Calculations'!O10,\"\")","v":739.93676772999117},{"$f":"IFERROR('Retirement Calculations'!Q10,\"\")","v":95249.037094875108},{"$f":"IFERROR('Retirement Calculations'!R10,\"\")","v":86091.170579740894},{"$f":"IFERROR('Retirement Calculations'!S10,\"\")","v":9157.8665151342138}]
[null,null,{"$f":"IFERROR('Retirement Calculations'!A11,\"\")","v":73},{"$f":"IFERROR('Retirement Calculations'!B11,\"\")","v":941015.7333750918},{"$f":"IFERROR('Retirement Calculations'!C11,\"\")","v":2352.5393334377295},{"$f":"IFERROR('Retirement Calculations'!D11,\"\")","v":47050.78666875459},{"$f":"IFERROR('Retirement Calculations'!E11,\"\")","v":985713.98071040865},{"$f":"IFERROR('Retirement Calculations'!G11,\"\")","v":50932.358190630497},{"$f":"IFERROR('Retirement Calculations'!H11,\"\")","v":37640.629335003672},{"$f":"IFERROR('Retirement Calculations'!I11,\"\")","v":0},{"$f":"IFERROR('Retirement Calculations'!J11,\"\")","v":23433.187620045312},{"$f":"IFERROR('Retirement Calculations'!K11,\"\")","v":112006.17514567949},{"$f":"IFERROR('Retirement Calculations'!M11,\"\")","v":11910.131951949208},{"$f":"IFERROR('Retirement Calculations'!N11,\"\")","v":2258.4377601002202},{"$f":"IFERROR('Retirement Calculations'!O11,\"\")","v":752.81258670007344},{"$f":"IFERROR('Retirement Calculations'!Q11,\"\")","v":97084.79284692998},{"$f":"IFERROR('Retirement Calculations'!R11,\"\")","v":88673.90569713313},{"$f":"IFERROR('Retirement Calculations'!S11,\"\")","v":8410.8871497968503}]
[null,null,{"$f":"IFERROR('Retirement Calculations'!A12,\"\")","v":74},{"$f":"IFERROR('Retirement Calculations'!B12,\"\")","v":956484.2385252018},{"$f":"IFERROR('Retirement Calculations'!C12,\"\")","v":2391.2105963130048},{"$f":"IFERROR('Retirement Calculations'!D12,\"\")","v":47824.21192626009},{"$f":"IFERROR('Retirement Calculations'!E12,\"\")","v":1001917.2398551488},{"$f":"IFERROR('Retirement Calculations'!G12,\"\")","v":51951.005354443107},{"$f":"IFERROR('Retirement Calculations'!H12,\"\")","v":38259.369541008076},{"$f":"IFERROR('Retirement Calculations'!I12,\"\")","v":0},{"$f":"IFERROR('Retirement Calculations'!J12,\"\")","v":23901.851372446217},{"$f":"IFERROR('Retirement Calculations'!K12,\"\")","v":114112.22626789741},{"$f":"IFERROR('Retirement Calculations'!M12,\"\")","v":12121.520114849058},{"$f":"IFERROR('Retirement Calculations'!N12,\"\")","v":2295.5621724604844},{"$f":"IFERROR('Retirement Calculations'!O12,\"\")","v":765.18739082016157},{"$f":"IFERROR('Retirement Calculations'!Q12,\"\")","v":98929.956589767709},{"$f":"IFERROR('Retirement Calculations'!R12,\"\")","v":91334.122868047125},{"$f":"IFERROR('Retirement Calculations'!S12,\"\")","v":7595.8337217205844}]
[null,null,{"$f":"IFERROR('Retirement Calculations'!A13,\"\")","v":75},{"$f":"IFERROR('Retirement Calculations'!B13,\"\")","v":971253.70403586142},{"$f":"IFERROR('Retirement Calculations'!C13,\"\")","v":2428.1342600896537},{"$f":"IFERROR('Retirement Calculations'!D13,\"\")","v":48562.685201793072},{"$f":"IFERROR('Retirement Calculations'!E13,\"\")","v":1017388.2549775649},{"$f":"IFERROR('Retirement Calculations'!G13,\"\")","v":52990.025461531972},{"$f":"IFERROR('Retirement Calculations'!H13,\"\")","v":38850.148161434459},{"$f":"IFERROR('Retirement Calculations'!I13,\"\")","v":0},{"$f":"IFERROR('Retirement Calculations'!J13,\"\")","v":24379.888399895142},{"$f":"IFERROR('Retirement Calculations'!K13,\"\")","v":116220.06202286156},{"$f":"IFERROR('Retirement Calculations'!M13,\"\")","v":12329.068763067284},{"$f":"IFERROR('Retirement Calculations'!N13,\"\")","v":2331.0088896860675},{"$f":"IFERROR('Retirement Calculations'!O13,\"\")","v":777.00296322868917},{"$f":"IFERROR('Retirement Calculations'!Q13,\"\")","v":100782.98140687952},{"$f":"IFERROR('Retirement Calculations'!R13,\"\")","v":94074.14655408854},{"$f":"IFERROR('Retirement Calculations'!S13,\"\")","v":6708.8348527909839}]
[null,null,{"$f":"IFERROR('Retirement Calculations'!A14,\"\")","v":76},{"$f":"IFERROR('Retirement Calculations'!B14,\"\")","v":985246.94166892138},{"$f":"IFERROR('Retirement Calculations'!C14,\"\")","v":2463.1173541723033},{"$f":"IFERROR('Retirement Calculations'!D14,\"\")","v":49262.347083446075},{"$f":"IFERROR('Retirement Calculations'!E14,\"\")","v":1032046.1713981952},{"$f":"IFERROR('Retirement Calculations'!G14,\"\")","v":54049.825970762613},{"$f":"IFERROR('Retirement Calculations'!H14,\"\")","v":39409.877666756853},{"$f":"IFERROR('Retirement Calculations'!I14,\"\")","v":0},{"$f":"IFERROR('Retirement Calculations'!J14,\"\")","v":24867.486167893047},{"$f":"IFERROR('Retirement Calculations'!K14,\"\")","v":118327.18980541252},{"$f":"IFERROR('Retirement Calculations'!M14,\"\")","v":12532.19544674737},{"$f":"IFERROR('Retirement Calculations'!N14,\"\")","v":2364.5926600054113},{"$f":"IFERROR('Retirement Calculations'!O14,\"\")","v":788.19755333513706},{"$f":"IFERROR('Retirement Calculations'!Q14,\"\")","v":102642.20414532461},{"$f":"IFERROR('Retirement Calculations'!R14,\"\")","v":96896.370950711193},{"$f":"IFERROR('Retirement Calculations'!S14,\"\")","v":5745.8331946134131}]
[null,null,{"$f":"IFERROR('Retirement Calculations'!A15,\"\")","v":77},{"$f":"IFERROR('Retirement Calculations'!B15,\"\")","v":998382.1269260518},{"$f":"IFERROR('Retirement Calculations'!C15,\"\")","v":2495.9553173151294},{"$f":"IFERROR('Retirement Calculations'!D15,\"\")","v":49919.106346302593},{"$f":"IFERROR('Retirement Calculations'!E15,\"\")","v":1045805.2779550392},{"$f":"IFERROR('Retirement Calculations'!G15,\"\")","v":55130.822490177867},{"$f":"IFERROR('Retirement Calculations'!H15,\"\")","v":39935.28507704207},{"$f":"IFERROR('Retirement Calculations'!I15,\"\")","v":0},{"$f":"IFERROR('Retirement Calculations'!J15,\"\")","v":25364.835891250907},{"$f":"IFERROR('Retirement Calculations'!K15,\"\")","v":120430.94345847084},{"$f":"IFERROR('Retirement Calculations'!M15,\"\")","v":12730.281327072335},{"$f":"IFERROR('Retirement Calculations'!N15,\"\")","v":2396.117104622524},{"$f":"IFERROR('Retirement Calculations'!O15,\"\")","v":798.70570154084146},{"$f":"IFERROR('Retirement Calculations'!Q15,\"\")","v":104505.83932523514},{"$f":"IFERROR('Retirement Calculations'!R15,\"\")","v":99803.262079232532},{"$f":"IFERROR('Retirement Calculations'!S15,\"\")","v":4702.5772460026055}]
[null,null,{"$f":"IFERROR('Retirement Calculations'!A16,\"\")","v":78},{"$f":"IFERROR('Retirement Calculations'!B16,\"\")","v":1010572.5701239997},{"$f":"IFERROR('Retirement Calculations'!C16,\"\")","v":2526.4314253099992},{"$f":"IFERROR('Retirement Calculations'!D16,\"\")","v":50528.628506199988},{"$f":"IFERROR('Retirement Calculations'!E16,\"\")","v":1058574.7672048898},{"$f":"IFERROR('Retirement Calculations'!G16,\"\")","v":56233.438939981424},{"$f":"IFERROR('Retirement Calculations'!H16,\"\")","v":40422.902804959987},{"$f":"IFERROR('Retirement Calculations'!I16,\"\")","v":0},{"$f":"IFERROR('Retirement Calculations'!J16,\"\")","v":25872.132609075925},{"$f":"IFERROR('Retirement Calculations'!K16,\"\")","v":122528.47435401734},{"$f":"IFERROR('Retirement Calculations'!M16,\"\")","v":12922.669358889196},{"$f":"IFERROR('Retirement Calculations'!N16,\"\")","v":2425.3741682975992},{"$f":"IFERROR('Retirement Calculations'!O16,\"\")","v":808.45805609919978},{"$f":"IFERROR('Retirement Calculations'!Q16,\"\")","v":106371.97277073134},{"$f":"IFERROR('Retirement Calculations'!R16,\"\")","v":102797.35994160951},{"$f":"IFERROR('Retirement Calculations'!S16,\"\")","v":3574.6128291218338}]
[null,null,{"$f":"IFERROR('Retirement Calculations'!A17,\"\")","v":79},{"$f":"IFERROR('Retirement Calculations'!B17,\"\")","v":1021726.4772290516},{"$f":"IFERROR('Retirement Calculations'!C17,\"\")","v":2554.3161930726292},{"$f":"IFERROR('Retirement Calculations'!D17,\"\")","v":51086.323861452584},{"$f":"IFERROR('Retirement Calculations'!E17,\"\")","v":1070258.4848974317},{"$f":"IFERROR('Retirement Calculations'!G17,\"\")","v":57358.107718781052},{"$f":"IFERROR('Retirement Calculations'!H17,\"\")","v":40869.059089162067},{"$f":"IFERROR('Retirement Calculations'!I17,\"\")","v":0},{"$f":"IFERROR('Retirement Calculations'!J17,\"\")","v":26389.575261257443},{"$f":"IFERROR('Retirement Calculations'!K17,\"\")","v":124616.74206920055},{"$f":"IFERROR('Retirement Calculations'!M17,\"\")","v":13108.662391687556},{"$f":"IFERROR('Retirement Calculations'!N17,\"\")","v":2452.1435453497238},{"$f":"IFERROR('Retirement Calculations'!O17,\"\")","v":817.38118178324135},{"$f":"IFERROR('Retirement Calculations'!Q17,\"\")","v":108238.55495038003},{"$f":"IFERROR('Retirement Calculations'!R17,\"\")","v":105881.2807398578},{"$f":"IFERROR('Retirement Calculations'!S17,\"\")","v":2357.2742105222278}]
[null,null,{"$f":"IFERROR('Retirement Calculations'!A18,\"\")","v":80},{"$f":"IFERROR('Retirement Calculations'!B18,\"\")","v":1031746.7000187918},{"$f":"IFERROR('Retirement Calculations'!C18,\"\")","v":2579.3667500469796},{"$f":"IFERROR('Retirement Calculations'!D18,\"\")","v":51587.335000939594},{"$f":"IFERROR('Retirement Calculations'!E18,\"\")","v":1080754.6682696845},{"$f":"IFERROR('Retirement Calculations'!G18,\"\")","v":58505.269873156671},{"$f":"IFERROR('Retirement Calculations'!H18,\"\")","v":41269.868000751674},{"$f":"IFERROR('Retirement Calculations'!I18,\"\")","v":0},{"$f":"IFERROR('Retirement Calculations'!J18,\"\")","v":26917.366766482592},{"$f":"IFERROR('Retirement Calculations'!K18,\"\")","v":126692.50464039094},{"$f":"IFERROR('Retirement Calculations'!M18,\"\")","v":13287.521185482579},{"$f":"IFERROR('Retirement Calculations'!N18,\"\")","v":2476.1920800451003},{"$f":"IFERROR('Retirement Calculations'!O18,\"\")","v":825.39736001503354},{"$f":"IFERROR('Retirement Calculations'!Q18,\"\")","v":110103.39401484822},{"$f":"IFERROR('Retirement Calculations'!R18,\"\")","v":109057.71916205353},{"$f":"IFERROR('Retirement Calculations'!S18,\"\")","v":1045.6748527946911}]
[null,null,{"$f":"IFERROR('Retirement Calculations'!A19,\"\")","v":81},{"$f":"IFERROR('Retirement Calculations'!B19,\"\")","v":1040530.4751217276},{"$f":"IFERROR('Retirement Calculations'!C19,\"\")","v":2601.326187804319},{"$f":"IFERROR('Retirement Calculations'!D19,\"\")","v":52026.523756086382},{"$f":"IFERROR('Retirement Calculations'!E19,\"\")","v":1089955.6726900097},{"$f":"IFERROR('Retirement Calculations'!G19,\"\")","v":59675.375270619807},{"$f":"IFERROR('Retirement Calculations'!H19,\"\")","v":41621.219004869105},{"$f":"IFERROR('Retirement Calculations'!I19,\"\")","v":0},{"$f":"IFERROR('Retirement Calculations'!J19,\"\")","v":27455.714101812246},{"$f":"IFERROR('Retirement Calculations'!K19,\"\")","v":128752.30837730116},{"$f":"IFERROR('Retirement Calculations'!M19,\"\")","v":13458.462338012712},{"$f":"IFERROR('Retirement Calculations'!N19,\"\")","v":2497.2731402921463},{"$f":"IFERROR('Retirement Calculations'!O19,\"\")","v":832.42438009738214},{"$f":"IFERROR('Retirement Calculations'!Q19,\"\")","v":111964.14851889892},{"$f":"IFERROR('Retirement Calculations'!R19,\"\")","v":112329.45073691514},{"$f":"IFERROR('Retirement Calculations'!S19,\"\")","v":-365.30221801622247}]
[null,null,{"$f":"IFERROR('Retirement Calculations'!A20,\"\")","v":82},{"$f":"IFERROR('Retirement Calculations'!B20,\"\")","v":1047969.1514671243},{"$f":"IFERROR('Retirement Calculations'!C20,\"\")","v":2619.9228786678109},{"$f":"IFERROR('Retirement Calculations'!D20,\"\")","v":52398.457573356223},{"$f":"IFERROR('Retirement Calculations'!E20,\"\")","v":1097747.6861618129},{"$f":"IFERROR('Retirement Calculations'!G20,\"\")","v":60868.882776032202},{"$f":"IFERROR('Retirement Calculations'!H20,\"\")","v":41918.766058684974},{"$f":"IFERROR('Retirement Calculations'!I20,\"\")","v":0},{"$f":"IFERROR('Retirement Calculations'!J20,\"\")","v":28004.828383848489},{"$f":"IFERROR('Retirement Calculations'!K20,\"\")","v":130792.47721856566},{"$f":"IFERROR('Retirement Calculations'!M20,\"\")","v":13620.656119516663},{"$f":"IFERROR('Retirement Calculations'!N20,\"\")","v":2515.1259635210986},{"$f":"IFERROR('Retirement Calculations'!O20,\"\")","v":838.37532117369949},{"$f":"IFERROR('Retirement Calculations'!Q20,\"\")","v":113818.3198143542},{"$f":"IFERROR('Retirement Calculations'!R20,\"\")","v":115699.33425902259},{"$f":"IFERROR('Retirement Calculations'!S20,\"\")","v":-1881.0144446683989}]
[null,null,{"$f":"IFERROR('Retirement Calculations'!A21,\"\")","v":83},{"$f":"IFERROR('Retirement Calculations'!B21,\"\")","v":1053947.9056584595},{"$f":"IFERROR('Retirement Calculations'!C21,\"\")","v":2634.869764146149},{"$f":"IFERROR('Retirement Calculations'!D21,\"\")","v":52697.395282922982},{"$f":"IFERROR('Retirement Calculations'!E21,\"\")","v":1104010.4311772364},{"$f":"IFERROR('Retirement Calculations'!G21,\"\")","v":62086.260431552844},{"$f":"IFERROR('Retirement Calculations'!H21,\"\")","v":42157.916226338384},{"$f":"IFERROR('Retirement Calculations'!I21,\"\")","v":0},{"$f":"IFERROR('Retirement Calculations'!J21,\"\")","v":28564.92495152546},{"$f":"IFERROR('Retirement Calculations'!K21,\"\")","v":132809.10160941668},{"$f":"IFERROR('Retirement Calculations'!M21,\"\")","v":13773.224211202938},{"$f":"IFERROR('Retirement Calculations'!N21,\"\")","v":2529.474973580303},{"$f":"IFERROR('Retirement Calculations'!O21,\"\")","v":843.15832452676773},{"$f":"IFERROR('Retirement Calculations'!Q21,\"\")","v":115663.24410010668},{"$f":"IFERROR('Retirement Calculations'!R21,\"\")","v":119170.31428679328},{"$f":"IFERROR('Retirement Calculations'!S21,\"\")","v":-3507.0701866866002}]
[null,null,{"$f":"IFERROR('Retirement Calculations'!A22,\"\")","v":84},{"$f":"IFERROR('Retirement Calculations'!B22,\"\")","v":1058345.4447642113},{"$f":"IFERROR('Retirement Calculations'!C22,\"\")","v":2645.8636119105281},{"$f":"IFERROR('Retirement Calculations'!D22,\"\")","v":52917.272238210571},{"$f":"IFERROR('Retirement Calculations'!E22,\"\")","v":1108616.8533905114},{"$f":"IFERROR('Retirement Calculations'!G22,\"\")","v":63327.985640183899},{"$f":"IFERROR('Retirement Calculations'!H22,\"\")","v":42333.81779056845},{"$f":"IFERROR('Retirement Calculations'!I22,\"\")","v":0},{"$f":"IFERROR('Retirement Calculations'!J22,\"\")","v":29136.223450555968},{"$f":"IFERROR('Retirement Calculations'!K22,\"\")","v":134798.02688130832},{"$f":"IFERROR('Retirement Calculations'!M22,\"\")","v":13915.237343367658},{"$f":"IFERROR('Retirement Calculations'!N22,\"\")","v":2540.0290674341068},{"$f":"IFERROR('Retirement Calculations'!O22,\"\")","v":846.67635581136904},{"$f":"IFERROR('Retirement Calculations'!Q22,\"\")","v":117496.08411469519},{"$f":"IFERROR('Retirement Calculations'!R22,\"\")","v":122745.42371539708},{"$f":"IFERROR('Retirement Calculations'!S22,\"\")","v":-5249.3396007018891}]
[null,null,{"$f":"IFERROR('Retirement Calculations'!A23,\"\")","v":85},{"$f":"IFERROR('Retirement Calculations'!B23,\"\")","v":1061033.6959992412},{"$f":"IFERROR('Retirement Calculations'!C23,\"\")","v":2652.5842399981029},{"$f":"IFERROR('Retirement Calculations'!D23,\"\")","v":53051.684799962066},{"$f":"IFERROR('Retirement Calculations'!E23,\"\")","v":1111432.796559205},{"$f":"IFERROR('Retirement Calculations'!G23,\"\")","v":64594.545352987581},{"$f":"IFERROR('Retirement Calculations'!H23,\"\")","v":42441.347839969647},{"$f":"IFERROR('Retirement Calculations'!I23,\"\")","v":0},{"$f":"IFERROR('Retirement Calculations'!J23,\"\")","v":29718.947919567087},{"$f":"IFERROR('Retirement Calculations'!K23,\"\")","v":136754.84111252433},{"$f":"IFERROR('Retirement Calculations'!M23,\"\")","v":14045.712828952976},{"$f":"IFERROR('Retirement Calculations'!N23,\"\")","v":2546.4808703981789},{"$f":"IFERROR('Retirement Calculations'!O23,\"\")","v":848.82695679939297},{"$f":"IFERROR('Retirement Calculations'!Q23,\"\")","v":119313.82045637378},{"$f":"IFERROR('Retirement Calculations'!R23,\"\")","v":126427.78642685899},{"$f":"IFERROR('Retirement Calculations'!S23,\"\")","v":-7113.9659704852093}]
[null,null,{"$f":"IFERROR('Retirement Calculations'!A24,\"\")","v":86},{"$f":"IFERROR('Retirement Calculations'!B24,\"\")","v":1061877.4827487501},{"$f":"IFERROR('Retirement Calculations'!C24,\"\")","v":2654.6937068718753},{"$f":"IFERROR('Retirement Calculations'!D24,\"\")","v":53093.874137437509},{"$f":"IFERROR('Retirement Calculations'!E24,\"\")","v":1112316.6631793156},{"$f":"IFERROR('Retirement Calculations'!G24,\"\")","v":65886.43626004734},{"$f":"IFERROR('Retirement Calculations'!H24,\"\")","v":42475.099309950005},{"$f":"IFERROR('Retirement Calculations'!I24,\"\")","v":0},{"$f":"IFERROR('Retirement Calculations'!J24,\"\")","v":30313.326877958429},{"$f":"IFERROR('Retirement Calculations'!K24,\"\")","v":138674.86244795576},{"$f":"IFERROR('Retirement Calculations'!M24,\"\")","v":14163.611988168228},{"$f":"IFERROR('Retirement Calculations'!N24,\"\")","v":2548.5059585970002},{"$f":"IFERROR('Retirement Calculations'!O24,\"\")","v":849.50198619900016},{"$f":"IFERROR('Retirement Calculations'!Q24,\"\")","v":121113.24251499154},{"$f":"IFERROR('Retirement Calculations'!R24,\"\")","v":130220.62001966477},{"$f":"IFERROR('Retirement Calculations'!S24,\"\")","v":-9107.3775046732335}]
[null,null,{"$f":"IFERROR('Retirement Calculations'!A25,\"\")","v":87},{"$f":"IFERROR('Retirement Calculations'!B25,\"\")","v":1060734.1863646924},{"$f":"IFERROR('Retirement Calculations'!C25,\"\")","v":2651.8354659117313},{"$f":"IFERROR('Retirement Calculations'!D25,\"\")","v":53036.709318234622},{"$f":"IFERROR('Retirement Calculations'!E25,\"\")","v":1111119.0602170152},{"$f":"IFERROR('Retirement Calculations'!G25,\"\")","v":67204.164985248281},{"$f":"IFERROR('Retirement Calculations'!H25,\"\")","v":42429.3674545877},{"$f":"IFERROR('Retirement Calculations'!I25,\"\")","v":0},{"$f":"IFERROR('Retirement Calculations'!J25,\"\")","v":30919.593415517596},{"$f":"IFERROR('Retirement Calculations'!K25,\"\")","v":140553.12585535357},{"$f":"IFERROR('Retirement Calculations'!M25,\"\")","v":14267.837459619332},{"$f":"IFERROR('Retirement Calculations'!N25,\"\")","v":2545.7620472752619},{"$f":"IFERROR('Retirement Calculations'!O25,\"\")","v":848.58734909175405},{"$f":"IFERROR('Retirement Calculations'!Q25,\"\")","v":122890.93899936722},{"$f":"IFERROR('Retirement Calculations'!R25,\"\")","v":134127.23862025471},{"$f":"IFERROR('Retirement Calculations'!S25,\"\")","v":-11236.299620887483}]
[null,null,{"$f":"IFERROR('Retirement Calculations'!A26,\"\")","v":88},{"$f":"IFERROR('Retirement Calculations'!B26,\"\")","v":1057453.39314154},{"$f":"IFERROR('Retirement Calculations'!C26,\"\")","v":2643.6334828538502},{"$f":"IFERROR('Retirement Calculations'!D26,\"\")","v":52872.669657077},{"$f":"IFERROR('Retirement Calculations'!E26,\"\")","v":1107682.4293157631},{"$f":"IFERROR('Retirement Calculations'!G26,\"\")","v":68548.248284953253},{"$f":"IFERROR('Retirement Calculations'!H26,\"\")","v":42298.135725661603},{"$f":"IFERROR('Retirement Calculations'!I26,\"\")","v":0},{"$f":"IFERROR('Retirement Calculations'!J26,\"\")","v":31537.985283827948},{"$f":"IFERROR('Retirement Calculations'!K26,\"\")","v":142384.36929444282},{"$f":"IFERROR('Retirement Calculations'!M26,\"\")","v":14357.230393208147},{"$f":"IFERROR('Retirement Calculations'!N26,\"\")","v":2537.8881435396961},{"$f":"IFERROR('Retirement Calculations'!O26,\"\")","v":845.96271451323207},{"$f":"IFERROR('Retirement Calculations'!Q26,\"\")","v":124643.28804318175},{"$f":"IFERROR('Retirement Calculations'!R26,\"\")","v":138151.05577886236},{"$f":"IFERROR('Retirement Calculations'!S26,\"\")","v":-13507.767735680609}]
[null,null,{"$f":"IFERROR('Retirement Calculations'!A27,\"\")","v":89},{"$f":"IFERROR('Retirement Calculations'!B27,\"\")","v":1051876.5258544208},{"$f":"IFERROR('Retirement Calculations'!C27,\"\")","v":2629.6913146360521},{"$f":"IFERROR('Retirement Calculations'!D27,\"\")","v":52593.826292721045},{"$f":"IFERROR('Retirement Calculations'!E27,\"\")","v":1101840.6608325059},{"$f":"IFERROR('Retirement Calculations'!G27,\"\")","v":69919.213250652319},{"$f":"IFERROR('Retirement Calculations'!H27,\"\")","v":42075.061034176833},{"$f":"IFERROR('Retirement Calculations'!I27,\"\")","v":0},{"$f":"IFERROR('Retirement Calculations'!J27,\"\")","v":32168.744989504507},{"$f":"IFERROR('Retirement Calculations'!K27,\"\")","v":144163.01927433367},{"$f":"IFERROR('Retirement Calculations'!M27,\"\")","v":14430.567519872709},{"$f":"IFERROR('Retirement Calculations'!N27,\"\")","v":2524.5036620506098},{"$f":"IFERROR('Retirement Calculations'!O27,\"\")","v":841.50122068353664},{"$f":"IFERROR('Retirement Calculations'!Q27,\"\")","v":126366.4468717268},{"$f":"IFERROR('Retirement Calculations'!R27,\"\")","v":142295.58745222824},{"$f":"IFERROR('Retirement Calculations'!S27,\"\")","v":-15929.140580501436}]
[null,null,{"$f":"IFERROR('Retirement Calculations'!A28,\"\")","v":90},{"$f":"IFERROR('Retirement Calculations'!B28,\"\")","v":1043836.4592178278},{"$f":"IFERROR('Retirement Calculations'!C28,\"\")","v":2609.5911480445693},{"$f":"IFERROR('Retirement Calculations'!D28,\"\")","v":52191.82296089139},{"$f":"IFERROR('Retirement Calculations'!E28,\"\")","v":1093418.6910306746},{"$f":"IFERROR('Retirement Calculations'!G28,\"\")","v":71317.597515665373},{"$f":"IFERROR('Retirement Calculations'!H28,\"\")","v":41753.458368713109},{"$f":"IFERROR('Retirement Calculations'!I28,\"\")","v":0},{"$f":"IFERROR('Retirement Calculations'!J28,\"\")","v":32812.119889294598},{"$f":"IFERROR('Retirement Calculations'!K28,\"\")","v":145883.17577367308},{"$f":"IFERROR('Retirement Calculations'!M28,\"\")","v":14486.558093040712},{"$f":"IFERROR('Retirement Calculations'!N28,\"\")","v":2505.2075021227865},{"$f":"IFERROR('Retirement Calculations'!O28,\"\")","v":835.06916737426218},{"$f":"IFERROR('Retirement Calculations'!Q28,\"\")","v":128056.34101113532},{"$f":"IFERROR('Retirement Calculations'!R28,\"\")","v":146564.45507579509},{"$f":"IFERROR('Retirement Calculations'!S28,\"\")","v":-18508.114064659778}]
[null,null,{"$f":"IFERROR('Retirement Calculations'!A29,\"\")","v":""},{"$f":"IFERROR('Retirement Calculations'!B29,\"\")","v":""},{"$f":"IFERROR('Retirement Calculations'!C29,\"\")","v":""},{"$f":"IFERROR('Retirement Calculations'!D29,\"\")","v":""},{"$f":"IFERROR('Retirement Calculations'!E29,\"\")","v":""},{"$f":"IFERROR('Retirement Calculations'!G29,\"\")","v":""},{"$f":"IFERROR('Retirement Calculations'!H29,\"\")","v":""},{"$f":"IFERROR('Retirement Calculations'!I29,\"\")","v":""},{"$f":"IFERROR('Retirement Calculations'!J29,\"\")","v":""},{"$f":"IFERROR('Retirement Calculations'!K29,\"\")","v":""},{"$f":"IFERROR('Retirement Calculations'!M29,\"\")","v":""},{"$f":"IFERROR('Retirement Calculations'!N29,\"\")","v":""},{"$f":"IFERROR('Retirement Calculations'!O29,\"\")","v":""},{"$f":"IFERROR('Retirement Calculations'!Q29,\"\")","v":""},{"$f":"IFERROR('Retirement Calculations'!R29,\"\")","v":""},{"$f":"IFERROR('Retirement Calculations'!S29,\"\")","v":""}]
[null,null,{"$f":"IFERROR('Retirement Calculations'!A30,\"\")","v":""},{"$f":"IFERROR('Retirement Calculations'!B30,\"\")","v":""},{"$f":"IFERROR('Retirement Calculations'!C30,\"\")","v":""},{"$f":"IFERROR('Retirement Calculations'!D30,\"\")","v":""},{"$f":"IFERROR('Retirement Calculations'!E30,\"\")","v":""},{"$f":"IFERROR('Retirement Calculations'!G30,\"\")","v":""},{"$f":"IFERROR('Retirement Calculations'!H30,\"\")","v":""},{"$f":"IFERROR('Retirement Calculations'!I30,\"\")","v":""},{"$f":"IFERROR('Retirement Calculations'!J30,\"\")","v":""},{"$f":"IFERROR('Retirement Calculations'!K30,\"\")","v":""},{"$f":"IFERROR('Retirement Calculations'!M30,\"\")","v":""},{"$f":"IFERROR('Retirement Calculations'!N30,\"\")","v":""},{"$f":"IFERROR('Retirement Calculations'!O30,\"\")","v":""},{"$f":"IFERROR('Retirement Calculations'!Q30,\"\")","v":""},{"$f":"IFERROR('Retirement Calculations'!R30,\"\")","v":""},{"$f":"IFERROR('Retirement Calculations'!S30,\"\")","v":""}]
[null,null,{"$f":"IFERROR('Retirement Calculations'!A31,\"\")","v":""},{"$f":"IFERROR('Retirement Calculations'!B31,\"\")","v":""},{"$f":"IFERROR('Retirement Calculations'!C31,\"\")","v":""},{"$f":"IFERROR('Retirement Calculations'!D31,\"\")","v":""},{"$f":"IFERROR('Retirement Calculations'!E31,\"\")","v":""},{"$f":"IFERROR('Retirement Calculations'!G31,\"\")","v":""},{"$f":"IFERROR('Retirement Calculations'!H31,\"\")","v":""},{"$f":"IFERROR('Retirement Calculations'!I31,\"\")","v":""},{"$f":"IFERROR('Retirement Calculations'!J31,\"\")","v":""},{"$f":"IFERROR('Retirement Calculations'!K31,\"\")","v":""},{"$f":"IFERROR('Retirement Calculations'!M31,\"\")","v":""},{"$f":"IFERROR('Retirement Calculations'!N31,\"\")","v":""},{"$f":"IFERROR('Retirement Calculations'!O31,\"\")","v":""},{"$f":"IFERROR('Retirement Calculations'!Q31,\"\")","v":""},{"$f":"IFERROR('Retirement Calculations'!R31,\"\")","v":""},{"$f":"IFERROR('Retirement Calculations'!S31,\"\")","v":""}]
[null,null,{"$f":"IFERROR('Retirement Calculations'!A32,\"\")","v":""},{"$f":"IFERROR('Retirement Calculations'!B32,\"\")","v":""},{"$f":"IFERROR('Retirement Calculations'!C32,\"\")","v":""},{"$f":"IFERROR('Retirement Calculations'!D32,\"\")","v":""},{"$f":"IFERROR('Retirement Calculations'!E32,\"\")","v":""},{"$f":"IFERROR('Retirement Calculations'!G32,\"\")","v":""},{"$f":"IFERROR('Retirement Calculations'!H32,\"\")","v":""},{"$f":"IFERROR('Retirement Calculations'!I32,\"\")","v":""},{"$f":"IFERROR('Retirement Calculations'!J32,\"\")","v":""},{"$f":"IFERROR('Retirement Calculations'!K32,\"\")","v":""},{"$f":"IFERROR('Retirement Calculations'!M32,\"\")","v":""},{"$f":"IFERROR('Retirement Calculations'!N32,\"\")","v":""},{"$f":"IFERROR('Retirement Calculations'!O32,\"\")","v":""},{"$f":"IFERROR('Retirement Calculations'!Q32,\"\")","v":""},{"$f":"IFERROR('Retirement Calculations'!R32,\"\")","v":""},{"$f":"IFERROR('Retirement Calculations'!S32,\"\")","v":""}]
[null,null,{"$f":"IFERROR('Retirement Calculations'!A33,\"\")","v":""},{"$f":"IFERROR('Retirement Calculations'!B33,\"\")","v":""},{"$f":"IFERROR('Retirement Calculations'!C33,\"\")","v":""},{"$f":"IFERROR('Retirement Calculations'!D33,\"\")","v":""},{"$f":"IFERROR('Retirement Calculations'!E33,\"\")","v":""},{"$f":"IFERROR('Retirement Calculations'!G33,\"\")","v":""},{"$f":"IFERROR('Retirement Calculations'!H33,\"\")","v":""},{"$f":"IFERROR('Retirement Calculations'!I33,\"\")","v":""},{"$f":"IFERROR('Retirement Calculations'!J33,\"\")","v":""},{"$f":"IFERROR('Retirement Calculations'!K33,\"\")","v":""},{"$f":"IFERROR('Retirement Calculations'!M33,\"\")","v":""},{"$f":"IFERROR('Retirement Calculations'!N33,\"\")","v":""},{"$f":"IFERROR('Retirement Calculations'!O33,\"\")","v":""},{"$f":"IFERROR('Retirement Calculations'!Q33,\"\")","v":""},{"$f":"IFERROR('Retirement Calculations'!R33,\"\")","v":""},{"$f":"IFERROR('Retirement Calculations'!S33,\"\")","v":""}]
[null,null,{"$f":"IFERROR('Retirement Calculations'!A34,\"\")","v":""},{"$f":"IFERROR('Retirement Calculations'!B34,\"\")","v":""},{"$f":"IFERROR('Retirement Calculations'!C34,\"\")","v":""},{"$f":"IFERROR('Retirement Calculations'!D34,\"\")","v":""},{"$f":"IFERROR('Retirement Calculations'!E34,\"\")","v":""},{"$f":"IFERROR('Retirement Calculations'!G34,\"\")","v":""},{"$f":"IFERROR('Retirement Calculations'!H34,\"\")","v":""},{"$f":"IFERROR('Retirement Calculations'!I34,\"\")","v":""},{"$f":"IFERROR('Retirement Calculations'!J34,\"\")","v":""},{"$f":"IFERROR('Retirement Calculations'!K34,\"\")","v":""},{"$f":"IFERROR('Retirement Calculations'!M34,\"\")","v":""},{"$f":"IFERROR('Retirement Calculations'!N34,\"\")","v":""},{"$f":"IFERROR('Retirement Calculations'!O34,\"\")","v":""},{"$f":"IFERROR('Retirement Calculations'!Q34,\"\")","v":""},{"$f":"IFERROR('Retirement Calculations'!R34,\"\")","v":""},{"$f":"IFERROR('Retirement Calculations'!S34,\"\")","v":""}]
[null,null,{"$f":"IFERROR('Retirement Calculations'!A35,\"\")","v":""},{"$f":"IFERROR('Retirement Calculations'!B35,\"\")","v":""},{"$f":"IFERROR('Retirement Calculations'!C35,\"\")","v":""},{"$f":"IFERROR('Retirement Calculations'!D35,\"\")","v":""},{"$f":"IFERROR('Retirement Calculations'!E35,\"\")","v":""},{"$f":"IFERROR('Retirement Calculations'!G35,\"\")","v":""},{"$f":"IFERROR('Retirement Calculations'!H35,\"\")","v":""},{"$f":"IFERROR('Retirement Calculations'!I35,\"\")","v":""},{"$f":"IFERROR('Retirement Calculations'!J35,\"\")","v":""},{"$f":"IFERROR('Retirement Calculations'!K35,\"\")","v":""},{"$f":"IFERROR('Retirement Calculations'!M35,\"\")","v":""},{"$f":"IFERROR('Retirement Calculations'!N35,\"\")","v":""},{"$f":"IFERROR('Retirement Calculations'!O35,\"\")","v":""},{"$f":"IFERROR('Retirement Calculations'!Q35,\"\")","v":""},{"$f":"IFERROR('Retirement Calculations'!R35,\"\")","v":""},{"$f":"IFERROR('Retirement Calculations'!S35,\"\")","v":""}]
[null,null,{"$f":"IFERROR('Retirement Calculations'!A36,\"\")","v":""},{"$f":"IFERROR('Retirement Calculations'!B36,\"\")","v":""},{"$f":"IFERROR('Retirement Calculations'!C36,\"\")","v":""},{"$f":"IFERROR('Retirement Calculations'!D36,\"\")","v":""},{"$f":"IFERROR('Retirement Calculations'!E36,\"\")","v":""},{"$f":"IFERROR('Retirement Calculations'!G36,\"\")","v":""},{"$f":"IFERROR('Retirement Calculations'!H36,\"\")","v":""},{"$f":"IFERROR('Retirement Calculations'!I36,\"\")","v":""},{"$f":"IFERROR('Retirement Calculations'!J36,\"\")","v":""},{"$f":"IFERROR('Retirement Calculations'!K36,\"\")","v":""},{"$f":"IFERROR('Retirement Calculations'!M36,\"\")","v":""},{"$f":"IFERROR('Retirement Calculations'!N36,\"\")","v":""},{"$f":"IFERROR('Retirement Calculations'!O36,\"\")","v":""},{"$f":"IFERROR('Retirement Calculations'!Q36,\"\")","v":""},{"$f":"IFERROR('Retirement Calculations'!R36,\"\")","v":""},{"$f":"IFERROR('Retirement Calculations'!S36,\"\")","v":""}]
[null,null,{"$f":"IFERROR('Retirement Calculations'!A37,\"\")","v":""},{"$f":"IFERROR('Retirement Calculations'!B37,\"\")","v":""},{"$f":"IFERROR('Retirement Calculations'!C37,\"\")","v":""},{"$f":"IFERROR('Retirement Calculations'!D37,\"\")","v":""},{"$f":"IFERROR('Retirement Calculations'!E37,\"\")","v":""},{"$f":"IFERROR('Retirement Calculations'!G37,\"\")","v":""},{"$f":"IFERROR('Retirement Calculations'!H37,\"\")","v":""},{"$f":"IFERROR('Retirement Calculations'!I37,\"\")","v":""},{"$f":"IFERROR('Retirement Calculations'!J37,\"\")","v":""},{"$f":"IFERROR('Retirement Calculations'!K37,\"\")","v":""},{"$f":"IFERROR('Retirement Calculations'!M37,\"\")","v":""},{"$f":"IFERROR('Retirement Calculations'!N37,\"\")","v":""},{"$f":"IFERROR('Retirement Calculations'!O37,\"\")","v":""},{"$f":"IFERROR('Retirement Calculations'!Q37,\"\")","v":""},{"$f":"IFERROR('Retirement Calculations'!R37,\"\")","v":""},{"$f":"IFERROR('Retirement Calculations'!S37,\"\")","v":""}]
[null,null,{"$f":"IFERROR('Retirement Calculations'!A38,\"\")","v":""},{"$f":"IFERROR('Retirement Calculations'!B38,\"\")","v":""},{"$f":"IFERROR('Retirement Calculations'!C38,\"\")","v":""},{"$f":"IFERROR('Retirement Calculations'!D38,\"\")","v":""},{"$f":"IFERROR('Retirement Calculations'!E38,\"\")","v":""},{"$f":"IFERROR('Retirement Calculations'!G38,\"\")","v":""},{"$f":"IFERROR('Retirement Calculations'!H38,\"\")","v":""},{"$f":"IFERROR('Retirement Calculations'!I38,\"\")","v":""},{"$f":"IFERROR('Retirement Calculations'!J38,\"\")","v":""},{"$f":"IFERROR('Retirement Calculations'!K38,\"\")","v":""},{"$f":"IFERROR('Retirement Calculations'!M38,\"\")","v":""},{"$f":"IFERROR('Retirement Calculations'!N38,\"\")","v":""},{"$f":"IFERROR('Retirement Calculations'!O38,\"\")","v":""},{"$f":"IFERROR('Retirement Calculations'!Q38,\"\")","v":""},{"$f":"IFERROR('Retirement Calculations'!R38,\"\")","v":""},{"$f":"IFERROR('Retirement Calculations'!S38,\"\")","v":""}]
[null,null,{"$f":"IFERROR('Retirement Calculations'!A39,\"\")","v":""},{"$f":"IFERROR('Retirement Calculations'!B39,\"\")","v":""},{"$f":"IFERROR('Retirement Calculations'!C39,\"\")","v":""},{"$f":"IFERROR('Retirement Calculations'!D39,\"\")","v":""},{"$f":"IFERROR('Retirement Calculations'!E39,\"\")","v":""},{"$f":"IFERROR('Retirement Calculations'!G39,\"\")","v":""},{"$f":"IFERROR('Retirement Calculations'!H39,\"\")","v":""},{"$f":"IFERROR('Retirement Calculations'!I39,\"\")","v":""},{"$f":"IFERROR('Retirement Calculations'!J39,\"\")","v":""},{"$f":"IFERROR('Retirement Calculations'!K39,\"\")","v":""},{"$f":"IFERROR('Retirement Calculations'!M39,\"\")","v":""},{"$f":"IFERROR('Retirement Calculations'!N39,\"\")","v":""},{"$f":"IFERROR('Retirement Calculations'!O39,\"\")","v":""},{"$f":"IFERROR('Retirement Calculations'!Q39,\"\")","v":""},{"$f":"IFERROR('Retirement Calculations'!R39,\"\")","v":""},{"$f":"IFERROR('Retirement Calculations'!S39,\"\")","v":""}]
[null,null,{"$f":"IFERROR('Retirement Calculations'!A40,\"\")","v":""},{"$f":"IFERROR('Retirement Calculations'!B40,\"\")","v":""},{"$f":"IFERROR('Retirement Calculations'!C40,\"\")","v":""},{"$f":"IFERROR('Retirement Calculations'!D40,\"\")","v":""},{"$f":"IFERROR('Retirement Calculations'!E40,\"\")","v":""},{"$f":"IFERROR('Retirement Calculations'!G40,\"\")","v":""},{"$f":"IFERROR('Retirement Calculations'!H40,\"\")","v":""},{"$f":"IFERROR('Retirement Calculations'!I40,\"\")","v":""},{"$f":"IFERROR('Retirement Calculations'!J40,\"\")","v":""},{"$f":"IFERROR('Retirement Calculations'!K40,\"\")","v":""},{"$f":"IFERROR('Retirement Calculations'!M40,\"\")","v":""},{"$f":"IFERROR('Retirement Calculations'!N40,\"\")","v":""},{"$f":"IFERROR('Retirement Calculations'!O40,\"\")","v":""},{"$f":"IFERROR('Retirement Calculations'!Q40,\"\")","v":""},{"$f":"IFERROR('Retirement Calculations'!R40,\"\")","v":""},{"$f":"IFERROR('Retirement Calculations'!S40,\"\")","v":""}]
[null,null,{"$f":"IFERROR('Retirement Calculations'!A41,\"\")","v":""},{"$f":"IFERROR('Retirement Calculations'!B41,\"\")","v":""},{"$f":"IFERROR('Retirement Calculations'!C41,\"\")","v":""},{"$f":"IFERROR('Retirement Calculations'!D41,\"\")","v":""},{"$f":"IFERROR('Retirement Calculations'!E41,\"\")","v":""},{"$f":"IFERROR('Retirement Calculations'!G41,\"\")","v":""},{"$f":"IFERROR('Retirement Calculations'!H41,\"\")","v":""},{"$f":"IFERROR('Retirement Calculations'!I41,\"\")","v":""},{"$f":"IFERROR('Retirement Calculations'!J41,\"\")","v":""},{"$f":"IFERROR('Retirement Calculations'!K41,\"\")","v":""},{"$f":"IFERROR('Retirement Calculations'!M41,\"\")","v":""},{"$f":"IFERROR('Retirement Calculations'!N41,\"\")","v":""},{"$f":"IFERROR('Retirement Calculations'!O41,\"\")","v":""},{"$f":"IFERROR('Retirement Calculations'!Q41,\"\")","v":""},{"$f":"IFERROR('Retirement Calculations'!R41,\"\")","v":""},{"$f":"IFERROR('Retirement Calculations'!S41,\"\")","v":""}]
[null,null,{"$f":"IFERROR('Retirement Calculations'!A42,\"\")","v":""},{"$f":"IFERROR('Retirement Calculations'!B42,\"\")","v":""},{"$f":"IFERROR('Retirement Calculations'!C42,\"\")","v":""},{"$f":"IFERROR('Retirement Calculations'!D42,\"\")","v":""},{"$f":"IFERROR('Retirement Calculations'!E42,\"\")","v":""},{"$f":"IFERROR('Retirement Calculations'!G42,\"\")","v":""},{"$f":"IFERROR('Retirement Calculations'!H42,\"\")","v":""},{"$f":"IFERROR('Retirement Calculations'!I42,\"\")","v":""},{"$f":"IFERROR('Retirement Calculations'!J42,\"\")","v":""},{"$f":"IFERROR('Retirement Calculations'!K42,\"\")","v":""},{"$f":"IFERROR('Retirement Calculations'!M42,\"\")","v":""},{"$f":"IFERROR('Retirement Calculations'!N42,\"\")","v":""},{"$f":"IFERROR('Retirement Calculations'!O42,\"\")","v":""},{"$f":"IFERROR('Retirement Calculations'!Q42,\"\")","v":""},{"$f":"IFERROR('Retirement Calculations'!R42,\"\")","v":""},{"$f":"IFERROR('Retirement Calculations'!S42,\"\")","v":""}]
[null,null,{"$f":"IFERROR('Retirement Calculations'!A43,\"\")","v":""},{"$f":"IFERROR('Retirement Calculations'!B43,\"\")","v":""},{"$f":"IFERROR('Retirement Calculations'!C43,\"\")","v":""},{"$f":"IFERROR('Retirement Calculations'!D43,\"\")","v":""},{"$f":"IFERROR('Retirement Calculations'!E43,\"\")","v":""},{"$f":"IFERROR('Retirement Calculations'!G43,\"\")","v":""},{"$f":"IFERROR('Retirement Calculations'!H43,\"\")","v":""},{"$f":"IFERROR('Retirement Calculations'!I43,\"\")","v":""},{"$f":"IFERROR('Retirement Calculations'!J43,\"\")","v":""},{"$f":"IFERROR('Retirement Calculations'!K43,\"\")","v":""},{"$f":"IFERROR('Retirement Calculations'!M43,\"\")","v":""},{"$f":"IFERROR('Retirement Calculations'!N43,\"\")","v":""},{"$f":"IFERROR('Retirement Calculations'!O43,\"\")","v":""},{"$f":"IFERROR('Retirement Calculations'!Q43,\"\")","v":""},{"$f":"IFERROR('Retirement Calculations'!R43,\"\")","v":""},{"$f":"IFERROR('Retirement Calculations'!S43,\"\")","v":""}]
[null,null,{"$f":"IFERROR('Retirement Calculations'!A44,\"\")","v":""},{"$f":"IFERROR('Retirement Calculations'!B44,\"\")","v":""},{"$f":"IFERROR('Retirement Calculations'!C44,\"\")","v":""},{"$f":"IFERROR('Retirement Calculations'!D44,\"\")","v":""},{"$f":"IFERROR('Retirement Calculations'!E44,\"\")","v":""},{"$f":"IFERROR('Retirement Calculations'!G44,\"\")","v":""},{"$f":"IFERROR('Retirement Calculations'!H44,\"\")","v":""},{"$f":"IFERROR('Retirement Calculations'!I44,\"\")","v":""},{"$f":"IFERROR('Retirement Calculations'!J44,\"\")","v":""},{"$f":"IFERROR('Retirement Calculations'!K44,\"\")","v":""},{"$f":"IFERROR('Retirement Calculations'!M44,\"\")","v":""},{"$f":"IFERROR('Retirement Calculations'!N44,\"\")","v":""},{"$f":"IFERROR('Retirement Calculations'!O44,\"\")","v":""},{"$f":"IFERROR('Retirement Calculations'!Q44,\"\")","v":""},{"$f":"IFERROR('Retirement Calculations'!R44,\"\")","v":""},{"$f":"IFERROR('Retirement Calculations'!S44,\"\")","v":""}]
[null,null,{"$f":"IFERROR('Retirement Calculations'!A45,\"\")","v":""},{"$f":"IFERROR('Retirement Calculations'!B45,\"\")","v":""},{"$f":"IFERROR('Retirement Calculations'!C45,\"\")","v":""},{"$f":"IFERROR('Retirement Calculations'!D45,\"\")","v":""},{"$f":"IFERROR('Retirement Calculations'!E45,\"\")","v":""},{"$f":"IFERROR('Retirement Calculations'!G45,\"\")","v":""},{"$f":"IFERROR('Retirement Calculations'!H45,\"\")","v":""},{"$f":"IFERROR('Retirement Calculations'!I45,\"\")","v":""},{"$f":"IFERROR('Retirement Calculations'!J45,\"\")","v":""},{"$f":"IFERROR('Retirement Calculations'!K45,\"\")","v":""},{"$f":"IFERROR('Retirement Calculations'!M45,\"\")","v":""},{"$f":"IFERROR('Retirement Calculations'!N45,\"\")","v":""},{"$f":"IFERROR('Retirement Calculations'!O45,\"\")","v":""},{"$f":"IFERROR('Retirement Calculations'!Q45,\"\")","v":""},{"$f":"IFERROR('Retirement Calculations'!R45,\"\")","v":""},{"$f":"IFERROR('Retirement Calculations'!S45,\"\")","v":""}]
[null,null,{"$f":"IFERROR('Retirement Calculations'!A46,\"\")","v":""},{"$f":"IFERROR('Retirement Calculations'!B46,\"\")","v":""},{"$f":"IFERROR('Retirement Calculations'!C46,\"\")","v":""},{"$f":"IFERROR('Retirement Calculations'!D46,\"\")","v":""},{"$f":"IFERROR('Retirement Calculations'!E46,\"\")","v":""},{"$f":"IFERROR('Retirement Calculations'!G46,\"\")","v":""},{"$f":"IFERROR('Retirement Calculations'!H46,\"\")","v":""},{"$f":"IFERROR('Retirement Calculations'!I46,\"\")","v":""},{"$f":"IFERROR('Retirement Calculations'!J46,\"\")","v":""},{"$f":"IFERROR('Retirement Calculations'!K46,\"\")","v":""},{"$f":"IFERROR('Retirement Calculations'!M46,\"\")","v":""},{"$f":"IFERROR('Retirement Calculations'!N46,\"\")","v":""},{"$f":"IFERROR('Retirement Calculations'!O46,\"\")","v":""},{"$f":"IFERROR('Retirement Calculations'!Q46,\"\")","v":""},{"$f":"IFERROR('Retirement Calculations'!R46,\"\")","v":""},{"$f":"IFERROR('Retirement Calculations'!S46,\"\")","v":""}]
[null,null,{"$f":"IFERROR('Retirement Calculations'!A47,\"\")","v":""},{"$f":"IFERROR('Retirement Calculations'!B47,\"\")","v":""},{"$f":"IFERROR('Retirement Calculations'!C47,\"\")","v":""},{"$f":"IFERROR('Retirement Calculations'!D47,\"\")","v":""},{"$f":"IFERROR('Retirement Calculations'!E47,\"\")","v":""},{"$f":"IFERROR('Retirement Calculations'!G47,\"\")","v":""},{"$f":"IFERROR('Retirement Calculations'!H47,\"\")","v":""},{"$f":"IFERROR('Retirement Calculations'!I47,\"\")","v":""},{"$f":"IFERROR('Retirement Calculations'!J47,\"\")","v":""},{"$f":"IFERROR('Retirement Calculations'!K47,\"\")","v":""},{"$f":"IFERROR('Retirement Calculations'!M47,\"\")","v":""},{"$f":"IFERROR('Retirement Calculations'!N47,\"\")","v":""},{"$f":"IFERROR('Retirement Calculations'!O47,\"\")","v":""},{"$f":"IFERROR('Retirement Calculations'!Q47,\"\")","v":""},{"$f":"IFERROR('Retirement Calculations'!R47,\"\")","v":""},{"$f":"IFERROR('Retirement Calculations'!S47,\"\")","v":""}]
[null,null,{"$f":"IFERROR('Retirement Calculations'!A48,\"\")","v":""},{"$f":"IFERROR('Retirement Calculations'!B48,\"\")","v":""},{"$f":"IFERROR('Retirement Calculations'!C48,\"\")","v":""},{"$f":"IFERROR('Retirement Calculations'!D48,\"\")","v":""},{"$f":"IFERROR('Retirement Calculations'!E48,\"\")","v":""},{"$f":"IFERROR('Retirement Calculations'!G48,\"\")","v":""},{"$f":"IFERROR('Retirement Calculations'!H48,\"\")","v":""},{"$f":"IFERROR('Retirement Calculations'!I48,\"\")","v":""},{"$f":"IFERROR('Retirement Calculations'!J48,\"\")","v":""},{"$f":"IFERROR('Retirement Calculations'!K48,\"\")","v":""},{"$f":"IFERROR('Retirement Calculations'!M48,\"\")","v":""},{"$f":"IFERROR('Retirement Calculations'!N48,\"\")","v":""},{"$f":"IFERROR('Retirement Calculations'!O48,\"\")","v":""},{"$f":"IFERROR('Retirement Calculations'!Q48,\"\")","v":""},{"$f":"IFERROR('Retirement Calculations'!R48,\"\")","v":""},{"$f":"IFERROR('Retirement Calculations'!S48,\"\")","v":""}]
[null,null,{"$f":"IFERROR('Retirement Calculations'!A49,\"\")","v":""},{"$f":"IFERROR('Retirement Calculations'!B49,\"\")","v":""},{"$f":"IFERROR('Retirement Calculations'!C49,\"\")","v":""},{"$f":"IFERROR('Retirement Calculations'!D49,\"\")","v":""},{"$f":"IFERROR('Retirement Calculations'!E49,\"\")","v":""},{"$f":"IFERROR('Retirement Calculations'!G49,\"\")","v":""},{"$f":"IFERROR('Retirement Calculations'!H49,\"\")","v":""},{"$f":"IFERROR('Retirement Calculations'!I49,\"\")","v":""},{"$f":"IFERROR('Retirement Calculations'!J49,\"\")","v":""},{"$f":"IFERROR('Retirement Calculations'!K49,\"\")","v":""},{"$f":"IFERROR('Retirement Calculations'!M49,\"\")","v":""},{"$f":"IFERROR('Retirement Calculations'!N49,\"\")","v":""},{"$f":"IFERROR('Retirement Calculations'!O49,\"\")","v":""},{"$f":"IFERROR('Retirement Calculations'!Q49,\"\")","v":""},{"$f":"IFERROR('Retirement Calculations'!R49,\"\")","v":""},{"$f":"IFERROR('Retirement Calculations'!S49,\"\")","v":""}]
[null,null,{"$f":"IFERROR('Retirement Calculations'!A50,\"\")","v":""},{"$f":"IFERROR('Retirement Calculations'!B50,\"\")","v":""},{"$f":"IFERROR('Retirement Calculations'!C50,\"\")","v":""},{"$f":"IFERROR('Retirement Calculations'!D50,\"\")","v":""},{"$f":"IFERROR('Retirement Calculations'!E50,\"\")","v":""},{"$f":"IFERROR('Retirement Calculations'!G50,\"\")","v":""},{"$f":"IFERROR('Retirement Calculations'!H50,\"\")","v":""},{"$f":"IFERROR('Retirement Calculations'!I50,\"\")","v":""},{"$f":"IFERROR('Retirement Calculations'!J50,\"\")","v":""},{"$f":"IFERROR('Retirement Calculations'!K50,\"\")","v":""},{"$f":"IFERROR('Retirement Calculations'!M50,\"\")","v":""},{"$f":"IFERROR('Retirement Calculations'!N50,\"\")","v":""},{"$f":"IFERROR('Retirement Calculations'!O50,\"\")","v":""},{"$f":"IFERROR('Retirement Calculations'!Q50,\"\")","v":""},{"$f":"IFERROR('Retirement Calculations'!R50,\"\")","v":""},{"$f":"IFERROR('Retirement Calculations'!S50,\"\")","v":""}]
[null,null,{"$f":"IFERROR('Retirement Calculations'!A51,\"\")","v":""},{"$f":"IFERROR('Retirement Calculations'!B51,\"\")","v":""},{"$f":"IFERROR('Retirement Calculations'!C51,\"\")","v":""},{"$f":"IFERROR('Retirement Calculations'!D51,\"\")","v":""},{"$f":"IFERROR('Retirement Calculations'!E51,\"\")","v":""},{"$f":"IFERROR('Retirement Calculations'!G51,\"\")","v":""},{"$f":"IFERROR('Retirement Calculations'!H51,\"\")","v":""},{"$f":"IFERROR('Retirement Calculations'!I51,\"\")","v":""},{"$f":"IFERROR('Retirement Calculations'!J51,\"\")","v":""},{"$f":"IFERROR('Retirement Calculations'!K51,\"\")","v":""},{"$f":"IFERROR('Retirement Calculations'!M51,\"\")","v":""},{"$f":"IFERROR('Retirement Calculations'!N51,\"\")","v":""},{"$f":"IFERROR('Retirement Calculations'!O51,\"\")","v":""},{"$f":"IFERROR('Retirement Calculations'!Q51,\"\")","v":""},{"$f":"IFERROR('Retirement Calculations'!R51,\"\")","v":""},{"$f":"IFERROR('Retirement Calculations'!S51,\"\")","v":""}]
[null,null,{"$f":"IFERROR('Retirement Calculations'!A52,\"\")","v":""},{"$f":"IFERROR('Retirement Calculations'!B52,\"\")","v":""},{"$f":"IFERROR('Retirement Calculations'!C52,\"\")","v":""},{"$f":"IFERROR('Retirement Calculations'!D52,\"\")","v":""},{"$f":"IFERROR('Retirement Calculations'!E52,\"\")","v":""},{"$f":"IFERROR('Retirement Calculations'!G52,\"\")","v":""},{"$f":"IFERROR('Retirement Calculations'!H52,\"\")","v":""},{"$f":"IFERROR('Retirement Calculations'!I52,\"\")","v":""},{"$f":"IFERROR('Retirement Calculations'!J52,\"\")","v":""},{"$f":"IFERROR('Retirement Calculations'!K52,\"\")","v":""},{"$f":"IFERROR('Retirement Calculations'!M52,\"\")","v":""},{"$f":"IFERROR('Retirement Calculations'!N52,\"\")","v":""},{"$f":"IFERROR('Retirement Calculations'!O52,\"\")","v":""},{"$f":"IFERROR('Retirement Calculations'!Q52,\"\")","v":""},{"$f":"IFERROR('Retirement Calculations'!R52,\"\")","v":""},{"$f":"IFERROR('Retirement Calculations'!S52,\"\")","v":""}]
[null,null,{"$f":"IFERROR('Retirement Calculations'!A53,\"\")","v":""},{"$f":"IFERROR('Retirement Calculations'!B53,\"\")","v":""},{"$f":"IFERROR('Retirement Calculations'!C53,\"\")","v":""},{"$f":"IFERROR('Retirement Calculations'!D53,\"\")","v":""},{"$f":"IFERROR('Retirement Calculations'!E53,\"\")","v":""},{"$f":"IFERROR('Retirement Calculations'!G53,\"\")","v":""},{"$f":"IFERROR('Retirement Calculations'!H53,\"\")","v":""},{"$f":"IFERROR('Retirement Calculations'!I53,\"\")","v":""},{"$f":"IFERROR('Retirement Calculations'!J53,\"\")","v":""},{"$f":"IFERROR('Retirement Calculations'!K53,\"\")","v":""},{"$f":"IFERROR('Retirement Calculations'!M53,\"\")","v":""},{"$f":"IFERROR('Retirement Calculations'!N53,\"\")","v":""},{"$f":"IFERROR('Retirement Calculations'!O53,\"\")","v":""},{"$f":"IFERROR('Retirement Calculations'!Q53,\"\")","v":""},{"$f":"IFERROR('Retirement Calculations'!R53,\"\")","v":""},{"$f":"IFERROR('Retirement Calculations'!S53,\"\")","v":""}]
[null,null,{"$f":"IFERROR('Retirement Calculations'!A54,\"\")","v":""},{"$f":"IFERROR('Retirement Calculations'!B54,\"\")","v":""},{"$f":"IFERROR('Retirement Calculations'!C54,\"\")","v":""},{"$f":"IFERROR('Retirement Calculations'!D54,\"\")","v":""},{"$f":"IFERROR('Retirement Calculations'!E54,\"\")","v":""},{"$f":"IFERROR('Retirement Calculations'!G54,\"\")","v":""},{"$f":"IFERROR('Retirement Calculations'!H54,\"\")","v":""},{"$f":"IFERROR('Retirement Calculations'!I54,\"\")","v":""},{"$f":"IFERROR('Retirement Calculations'!J54,\"\")","v":""},{"$f":"IFERROR('Retirement Calculations'!K54,\"\")","v":""},{"$f":"IFERROR('Retirement Calculations'!M54,\"\")","v":""},{"$f":"IFERROR('Retirement Calculations'!N54,\"\")","v":""},{"$f":"IFERROR('Retirement Calculations'!O54,\"\")","v":""},{"$f":"IFERROR('Retirement Calculations'!Q54,\"\")","v":""},{"$f":"IFERROR('Retirement Calculations'!R54,\"\")","v":""},{"$f":"IFERROR('Retirement Calculations'!S54,\"\")","v":""}]
[null,null,{"$f":"IFERROR('Retirement Calculations'!A55,\"\")","v":""},{"$f":"IFERROR('Retirement Calculations'!B55,\"\")","v":""},{"$f":"IFERROR('Retirement Calculations'!C55,\"\")","v":""},{"$f":"IFERROR('Retirement Calculations'!D55,\"\")","v":""},{"$f":"IFERROR('Retirement Calculations'!E55,\"\")","v":""},{"$f":"IFERROR('Retirement Calculations'!G55,\"\")","v":""},{"$f":"IFERROR('Retirement Calculations'!H55,\"\")","v":""},{"$f":"IFERROR('Retirement Calculations'!I55,\"\")","v":""},{"$f":"IFERROR('Retirement Calculations'!J55,\"\")","v":""},{"$f":"IFERROR('Retirement Calculations'!K55,\"\")","v":""},{"$f":"IFERROR('Retirement Calculations'!M55,\"\")","v":""},{"$f":"IFERROR('Retirement Calculations'!N55,\"\")","v":""},{"$f":"IFERROR('Retirement Calculations'!O55,\"\")","v":""},{"$f":"IFERROR('Retirement Calculations'!Q55,\"\")","v":""},{"$f":"IFERROR('Retirement Calculations'!R55,\"\")","v":""},{"$f":"IFERROR('Retirement Calculations'!S55,\"\")","v":""}]
[null,null,{"$f":"IFERROR('Retirement Calculations'!A56,\"\")","v":""},{"$f":"IFERROR('Retirement Calculations'!B56,\"\")","v":""},{"$f":"IFERROR('Retirement Calculations'!C56,\"\")","v":""},{"$f":"IFERROR('Retirement Calculations'!D56,\"\")","v":""},{"$f":"IFERROR('Retirement Calculations'!E56,\"\")","v":""},{"$f":"IFERROR('Retirement Calculations'!G56,\"\")","v":""},{"$f":"IFERROR('Retirement Calculations'!H56,\"\")","v":""},{"$f":"IFERROR('Retirement Calculations'!I56,\"\")","v":""},{"$f":"IFERROR('Retirement Calculations'!J56,\"\")","v":""},{"$f":"IFERROR('Retirement Calculations'!K56,\"\")","v":""},{"$f":"IFERROR('Retirement Calculations'!M56,\"\")","v":""},{"$f":"IFERROR('Retirement Calculations'!N56,\"\")","v":""},{"$f":"IFERROR('Retirement Calculations'!O56,\"\")","v":""},{"$f":"IFERROR('Retirement Calculations'!Q56,\"\")","v":""},{"$f":"IFERROR('Retirement Calculations'!R56,\"\")","v":""},{"$f":"IFERROR('Retirement Calculations'!S56,\"\")","v":""}]
[null,null,{"$f":"IFERROR('Retirement Calculations'!A57,\"\")","v":""},{"$f":"IFERROR('Retirement Calculations'!B57,\"\")","v":""},{"$f":"IFERROR('Retirement Calculations'!C57,\"\")","v":""},{"$f":"IFERROR('Retirement Calculations'!D57,\"\")","v":""},{"$f":"IFERROR('Retirement Calculations'!E57,\"\")","v":""},{"$f":"IFERROR('Retirement Calculations'!G57,\"\")","v":""},{"$f":"IFERROR('Retirement Calculations'!H57,\"\")","v":""},{"$f":"IFERROR('Retirement Calculations'!I57,\"\")","v":""},{"$f":"IFERROR('Retirement Calculations'!J57,\"\")","v":""},{"$f":"IFERROR('Retirement Calculations'!K57,\"\")","v":""},{"$f":"IFERROR('Retirement Calculations'!M57,\"\")","v":""},{"$f":"IFERROR('Retirement Calculations'!N57,\"\")","v":""},{"$f":"IFERROR('Retirement Calculations'!O57,\"\")","v":""},{"$f":"IFERROR('Retirement Calculations'!Q57,\"\")","v":""},{"$f":"IFERROR('Retirement Calculations'!R57,\"\")","v":""},{"$f":"IFERROR('Retirement Calculations'!S57,\"\")","v":""}]
[null,null,{"$f":"IFERROR('Retirement Calculations'!A58,\"\")","v":""},{"$f":"IFERROR('Retirement Calculations'!B58,\"\")","v":""},{"$f":"IFERROR('Retirement Calculations'!C58,\"\")","v":""},{"$f":"IFERROR('Retirement Calculations'!D58,\"\")","v":""},{"$f":"IFERROR('Retirement Calculations'!E58,\"\")","v":""},{"$f":"IFERROR('Retirement Calculations'!G58,\"\")","v":""},{"$f":"IFERROR('Retirement Calculations'!H58,\"\")","v":""},{"$f":"IFERROR('Retirement Calculations'!I58,\"\")","v":""},{"$f":"IFERROR('Retirement Calculations'!J58,\"\")","v":""},{"$f":"IFERROR('Retirement Calculations'!K58,\"\")","v":""},{"$f":"IFERROR('Retirement Calculations'!M58,\"\")","v":""},{"$f":"IFERROR('Retirement Calculations'!N58,\"\")","v":""},{"$f":"IFERROR('Retirement Calculations'!O58,\"\")","v":""},{"$f":"IFERROR('Retirement Calculations'!Q58,\"\")","v":""},{"$f":"IFERROR('Retirement Calculations'!R58,\"\")","v":""},{"$f":"IFERROR('Retirement Calculations'!S58,\"\")","v":""}]
[null,null,{"$f":"IFERROR('Retirement Calculations'!A59,\"\")","v":""},{"$f":"IFERROR('Retirement Calculations'!B59,\"\")","v":""},{"$f":"IFERROR('Retirement Calculations'!C59,\"\")","v":""},{"$f":"IFERROR('Retirement Calculations'!D59,\"\")","v":""},{"$f":"IFERROR('Retirement Calculations'!E59,\"\")","v":""},{"$f":"IFERROR('Retirement Calculations'!G59,\"\")","v":""},{"$f":"IFERROR('Retirement Calculations'!H59,\"\")","v":""},{"$f":"IFERROR('Retirement Calculations'!I59,\"\")","v":""},{"$f":"IFERROR('Retirement Calculations'!J59,\"\")","v":""},{"$f":"IFERROR('Retirement Calculations'!K59,\"\")","v":""},{"$f":"IFERROR('Retirement Calculations'!M59,\"\")","v":""},{"$f":"IFERROR('Retirement Calculations'!N59,\"\")","v":""},{"$f":"IFERROR('Retirement Calculations'!O59,\"\")","v":""},{"$f":"IFERROR('Retirement Calculations'!Q59,\"\")","v":""},{"$f":"IFERROR('Retirement Calculations'!R59,\"\")","v":""},{"$f":"IFERROR('Retirement Calculations'!S59,\"\")","v":""}]
[null,null,{"$f":"IFERROR('Retirement Calculations'!A60,\"\")","v":""},{"$f":"IFERROR('Retirement Calculations'!B60,\"\")","v":""},{"$f":"IFERROR('Retirement Calculations'!C60,\"\")","v":""},{"$f":"IFERROR('Retirement Calculations'!D60,\"\")","v":""},{"$f":"IFERROR('Retirement Calculations'!E60,\"\")","v":""},{"$f":"IFERROR('Retirement Calculations'!G60,\"\")","v":""},{"$f":"IFERROR('Retirement Calculations'!H60,\"\")","v":""},{"$f":"IFERROR('Retirement Calculations'!I60,\"\")","v":""},{"$f":"IFERROR('Retirement Calculations'!J60,\"\")","v":""},{"$f":"IFERROR('Retirement Calculations'!K60,\"\")","v":""},{"$f":"IFERROR('Retirement Calculations'!M60,\"\")","v":""},{"$f":"IFERROR('Retirement Calculations'!N60,\"\")","v":""},{"$f":"IFERROR('Retirement Calculations'!O60,\"\")","v":""},{"$f":"IFERROR('Retirement Calculations'!Q60,\"\")","v":""},{"$f":"IFERROR('Retirement Calculations'!R60,\"\")","v":""},{"$f":"IFERROR('Retirement Calculations'!S60,\"\")","v":""}]
[null,null,{"$f":"IFERROR('Retirement Calculations'!A61,\"\")","v":""},{"$f":"IFERROR('Retirement Calculations'!B61,\"\")","v":""},{"$f":"IFERROR('Retirement Calculations'!C61,\"\")","v":""},{"$f":"IFERROR('Retirement Calculations'!D61,\"\")","v":""},{"$f":"IFERROR('Retirement Calculations'!E61,\"\")","v":""},{"$f":"IFERROR('Retirement Calculations'!G61,\"\")","v":""},{"$f":"IFERROR('Retirement Calculations'!H61,\"\")","v":""},{"$f":"IFERROR('Retirement Calculations'!I61,\"\")","v":""},{"$f":"IFERROR('Retirement Calculations'!J61,\"\")","v":""},{"$f":"IFERROR('Retirement Calculations'!K61,\"\")","v":""},{"$f":"IFERROR('Retirement Calculations'!M61,\"\")","v":""},{"$f":"IFERROR('Retirement Calculations'!N61,\"\")","v":""},{"$f":"IFERROR('Retirement Calculations'!O61,\"\")","v":""},{"$f":"IFERROR('Retirement Calculations'!Q61,\"\")","v":""},{"$f":"IFERROR('Retirement Calculations'!R61,\"\")","v":""},{"$f":"IFERROR('Retirement Calculations'!S61,\"\")","v":""}]
[null,null,{"$f":"IFERROR('Retirement Calculations'!A62,\"\")","v":""},{"$f":"IFERROR('Retirement Calculations'!B62,\"\")","v":""},{"$f":"IFERROR('Retirement Calculations'!C62,\"\")","v":""},{"$f":"IFERROR('Retirement Calculations'!D62,\"\")","v":""},{"$f":"IFERROR('Retirement Calculations'!E62,\"\")","v":""},{"$f":"IFERROR('Retirement Calculations'!G62,\"\")","v":""},{"$f":"IFERROR('Retirement Calculations'!H62,\"\")","v":""},{"$f":"IFERROR('Retirement Calculations'!I62,\"\")","v":""},{"$f":"IFERROR('Retirement Calculations'!J62,\"\")","v":""},{"$f":"IFERROR('Retirement Calculations'!K62,\"\")","v":""},{"$f":"IFERROR('Retirement Calculations'!M62,\"\")","v":""},{"$f":"IFERROR('Retirement Calculations'!N62,\"\")","v":""},{"$f":"IFERROR('Retirement Calculations'!O62,\"\")","v":""},{"$f":"IFERROR('Retirement Calculations'!Q62,\"\")","v":""},{"$f":"IFERROR('Retirement Calculations'!R62,\"\")","v":""},{"$f":"IFERROR('Retirement Calculations'!S62,\"\")","v":""}]
[null,null,{"$f":"IFERROR('Retirement Calculations'!A63,\"\")","v":""},{"$f":"IFERROR('Retirement Calculations'!B63,\"\")","v":""},{"$f":"IFERROR('Retirement Calculations'!C63,\"\")","v":""},{"$f":"IFERROR('Retirement Calculations'!D63,\"\")","v":""},{"$f":"IFERROR('Retirement Calculations'!E63,\"\")","v":""},{"$f":"IFERROR('Retirement Calculations'!G63,\"\")","v":""},{"$f":"IFERROR('Retirement Calculations'!H63,\"\")","v":""},{"$f":"IFERROR('Retirement Calculations'!I63,\"\")","v":""},{"$f":"IFERROR('Retirement Calculations'!J63,\"\")","v":""},{"$f":"IFERROR('Retirement Calculations'!K63,\"\")","v":""},{"$f":"IFERROR('Retirement Calculations'!M63,\"\")","v":""},{"$f":"IFERROR('Retirement Calculations'!N63,\"\")","v":""},{"$f":"IFERROR('Retirement Calculations'!O63,\"\")","v":""},{"$f":"IFERROR('Retirement Calculations'!Q63,\"\")","v":""},{"$f":"IFERROR('Retirement Calculations'!R63,\"\")","v":""},{"$f":"IFERROR('Retirement Calculations'!S63,\"\")","v":""}]
[null,null,{"$f":"IFERROR('Retirement Calculations'!A64,\"\")","v":""},{"$f":"IFERROR('Retirement Calculations'!B64,\"\")","v":""},{"$f":"IFERROR('Retirement Calculations'!C64,\"\")","v":""},{"$f":"IFERROR('Retirement Calculations'!D64,\"\")","v":""},{"$f":"IFERROR('Retirement Calculations'!E64,\"\")","v":""},{"$f":"IFERROR('Retirement Calculations'!G64,\"\")","v":""},{"$f":"IFERROR('Retirement Calculations'!H64,\"\")","v":""},{"$f":"IFERROR('Retirement Calculations'!I64,\"\")","v":""},{"$f":"IFERROR('Retirement Calculations'!J64,\"\")","v":""},{"$f":"IFERROR('Retirement Calculations'!K64,\"\")","v":""},{"$f":"IFERROR('Retirement Calculations'!M64,\"\")","v":""},{"$f":"IFERROR('Retirement Calculations'!N64,\"\")","v":""},{"$f":"IFERROR('Retirement Calculations'!O64,\"\")","v":""},{"$f":"IFERROR('Retirement Calculations'!Q64,\"\")","v":""},{"$f":"IFERROR('Retirement Calculations'!R64,\"\")","v":""},{"$f":"IFERROR('Retirement Calculations'!S64,\"\")","v":""}]
[null,null,{"$f":"IFERROR('Retirement Calculations'!A65,\"\")","v":""},{"$f":"IFERROR('Retirement Calculations'!B65,\"\")","v":""},{"$f":"IFERROR('Retirement Calculations'!C65,\"\")","v":""},{"$f":"IFERROR('Retirement Calculations'!D65,\"\")","v":""},{"$f":"IFERROR('Retirement Calculations'!E65,\"\")","v":""},{"$f":"IFERROR('Retirement Calculations'!G65,\"\")","v":""},{"$f":"IFERROR('Retirement Calculations'!H65,\"\")","v":""},{"$f":"IFERROR('Retirement Calculations'!I65,\"\")","v":""},{"$f":"IFERROR('Retirement Calculations'!J65,\"\")","v":""},{"$f":"IFERROR('Retirement Calculations'!K65,\"\")","v":""},{"$f":"IFERROR('Retirement Calculations'!M65,\"\")","v":""},{"$f":"IFERROR('Retirement Calculations'!N65,\"\")","v":""},{"$f":"IFERROR('Retirement Calculations'!O65,\"\")","v":""},{"$f":"IFERROR('Retirement Calculations'!Q65,\"\")","v":""},{"$f":"IFERROR('Retirement Calculations'!R65,\"\")","v":""},{"$f":"IFERROR('Retirement Calculations'!S65,\"\")","v":""}]
[null,null,{"$f":"IFERROR('Retirement Calculations'!A66,\"\")","v":""},{"$f":"IFERROR('Retirement Calculations'!B66,\"\")","v":""},{"$f":"IFERROR('Retirement Calculations'!C66,\"\")","v":""},{"$f":"IFERROR('Retirement Calculations'!D66,\"\")","v":""},{"$f":"IFERROR('Retirement Calculations'!E66,\"\")","v":""},{"$f":"IFERROR('Retirement Calculations'!G66,\"\")","v":""},{"$f":"IFERROR('Retirement Calculations'!H66,\"\")","v":""},{"$f":"IFERROR('Retirement Calculations'!I66,\"\")","v":""},{"$f":"IFERROR('Retirement Calculations'!J66,\"\")","v":""},{"$f":"IFERROR('Retirement Calculations'!K66,\"\")","v":""},{"$f":"IFERROR('Retirement Calculations'!M66,\"\")","v":""},{"$f":"IFERROR('Retirement Calculations'!N66,\"\")","v":""},{"$f":"IFERROR('Retirement Calculations'!O66,\"\")","v":""},{"$f":"IFERROR('Retirement Calculations'!Q66,\"\")","v":""},{"$f":"IFERROR('Retirement Calculations'!R66,\"\")","v":""},{"$f":"IFERROR('Retirement Calculations'!S66,\"\")","v":""}]
[null,null,{"$f":"IFERROR('Retirement Calculations'!A67,\"\")","v":""},{"$f":"IFERROR('Retirement Calculations'!B67,\"\")","v":""},{"$f":"IFERROR('Retirement Calculations'!C67,\"\")","v":""},{"$f":"IFERROR('Retirement Calculations'!D67,\"\")","v":""},{"$f":"IFERROR('Retirement Calculations'!E67,\"\")","v":""},{"$f":"IFERROR('Retirement Calculations'!G67,\"\")","v":""},{"$f":"IFERROR('Retirement Calculations'!H67,\"\")","v":""},{"$f":"IFERROR('Retirement Calculations'!I67,\"\")","v":""},{"$f":"IFERROR('Retirement Calculations'!J67,\"\")","v":""},{"$f":"IFERROR('Retirement Calculations'!K67,\"\")","v":""},{"$f":"IFERROR('Retirement Calculations'!M67,\"\")","v":""},{"$f":"IFERROR('Retirement Calculations'!N67,\"\")","v":""},{"$f":"IFERROR('Retirement Calculations'!O67,\"\")","v":""},{"$f":"IFERROR('Retirement Calculations'!Q67,\"\")","v":""},{"$f":"IFERROR('Retirement Calculations'!R67,\"\")","v":""},{"$f":"IFERROR('Retirement Calculations'!S67,\"\")","v":""}]
[null,null,{"$f":"IFERROR('Retirement Calculations'!A68,\"\")","v":""},{"$f":"IFERROR('Retirement Calculations'!B68,\"\")","v":""},{"$f":"IFERROR('Retirement Calculations'!C68,\"\")","v":""},{"$f":"IFERROR('Retirement Calculations'!D68,\"\")","v":""},{"$f":"IFERROR('Retirement Calculations'!E68,\"\")","v":""},{"$f":"IFERROR('Retirement Calculations'!G68,\"\")","v":""},{"$f":"IFERROR('Retirement Calculations'!H68,\"\")","v":""},{"$f":"IFERROR('Retirement Calculations'!I68,\"\")","v":""},{"$f":"IFERROR('Retirement Calculations'!J68,\"\")","v":""},{"$f":"IFERROR('Retirement Calculations'!K68,\"\")","v":""},{"$f":"IFERROR('Retirement Calculations'!M68,\"\")","v":""},{"$f":"IFERROR('Retirement Calculations'!N68,\"\")","v":""},{"$f":"IFERROR('Retirement Calculations'!O68,\"\")","v":""},{"$f":"IFERROR('Retirement Calculations'!Q68,\"\")","v":""},{"$f":"IFERROR('Retirement Calculations'!R68,\"\")","v":""},{"$f":"IFERROR('Retirement Calculations'!S68,\"\")","v":""}]
[null,null,{"$f":"IFERROR('Retirement Calculations'!A69,\"\")","v":""},{"$f":"IFERROR('Retirement Calculations'!B69,\"\")","v":""},{"$f":"IFERROR('Retirement Calculations'!C69,\"\")","v":""},{"$f":"IFERROR('Retirement Calculations'!D69,\"\")","v":""},{"$f":"IFERROR('Retirement Calculations'!E69,\"\")","v":""},{"$f":"IFERROR('Retirement Calculations'!G69,\"\")","v":""},{"$f":"IFERROR('Retirement Calculations'!H69,\"\")","v":""},{"$f":"IFERROR('Retirement Calculations'!I69,\"\")","v":""},{"$f":"IFERROR('Retirement Calculations'!J69,\"\")","v":""},{"$f":"IFERROR('Retirement Calculations'!K69,\"\")","v":""},{"$f":"IFERROR('Retirement Calculations'!M69,\"\")","v":""},{"$f":"IFERROR('Retirement Calculations'!N69,\"\")","v":""},{"$f":"IFERROR('Retirement Calculations'!O69,\"\")","v":""},{"$f":"IFERROR('Retirement Calculations'!Q69,\"\")","v":""},{"$f":"IFERROR('Retirement Calculations'!R69,\"\")","v":""},{"$f":"IFERROR('Retirement Calculations'!S69,\"\")","v":""}]
[null,null,{"$f":"IFERROR('Retirement Calculations'!A70,\"\")","v":""},{"$f":"IFERROR('Retirement Calculations'!B70,\"\")","v":""},{"$f":"IFERROR('Retirement Calculations'!C70,\"\")","v":""},{"$f":"IFERROR('Retirement Calculations'!D70,\"\")","v":""},{"$f":"IFERROR('Retirement Calculations'!E70,\"\")","v":""},{"$f":"IFERROR('Retirement Calculations'!G70,\"\")","v":""},{"$f":"IFERROR('Retirement Calculations'!H70,\"\")","v":""},{"$f":"IFERROR('Retirement Calculations'!I70,\"\")","v":""},{"$f":"IFERROR('Retirement Calculations'!J70,\"\")","v":""},{"$f":"IFERROR('Retirement Calculations'!K70,\"\")","v":""},{"$f":"IFERROR('Retirement Calculations'!M70,\"\")","v":""},{"$f":"IFERROR('Retirement Calculations'!N70,\"\")","v":""},{"$f":"IFERROR('Retirement Calculations'!O70,\"\")","v":""},{"$f":"IFERROR('Retirement Calculations'!Q70,\"\")","v":""},{"$f":"IFERROR('Retirement Calculations'!R70,\"\")","v":""},{"$f":"IFERROR('Retirement Calculations'!S70,\"\")","v":""}]
[null,null,{"$f":"IFERROR('Retirement Calculations'!A71,\"\")","v":""},{"$f":"IFERROR('Retirement Calculations'!B71,\"\")","v":""},{"$f":"IFERROR('Retirement Calculations'!C71,\"\")","v":""},{"$f":"IFERROR('Retirement Calculations'!D71,\"\")","v":""},{"$f":"IFERROR('Retirement Calculations'!E71,\"\")","v":""},{"$f":"IFERROR('Retirement Calculations'!G71,\"\")","v":""},{"$f":"IFERROR('Retirement Calculations'!H71,\"\")","v":""},{"$f":"IFERROR('Retirement Calculations'!I71,\"\")","v":""},{"$f":"IFERROR('Retirement Calculations'!J71,\"\")","v":""},{"$f":"IFERROR('Retirement Calculations'!K71,\"\")","v":""},{"$f":"IFERROR('Retirement Calculations'!M71,\"\")","v":""},{"$f":"IFERROR('Retirement Calculations'!N71,\"\")","v":""},{"$f":"IFERROR('Retirement Calculations'!O71,\"\")","v":""},{"$f":"IFERROR('Retirement Calculations'!Q71,\"\")","v":""},{"$f":"IFERROR('Retirement Calculations'!R71,\"\")","v":""},{"$f":"IFERROR('Retirement Calculations'!S71,\"\")","v":""}]
[null,null,{"$f":"IFERROR('Retirement Calculations'!A72,\"\")","v":""},{"$f":"IFERROR('Retirement Calculations'!B72,\"\")","v":""},{"$f":"IFERROR('Retirement Calculations'!C72,\"\")","v":""},{"$f":"IFERROR('Retirement Calculations'!D72,\"\")","v":""},{"$f":"IFERROR('Retirement Calculations'!E72,\"\")","v":""},{"$f":"IFERROR('Retirement Calculations'!G72,\"\")","v":""},{"$f":"IFERROR('Retirement Calculations'!H72,\"\")","v":""},{"$f":"IFERROR('Retirement Calculations'!I72,\"\")","v":""},{"$f":"IFERROR('Retirement Calculations'!J72,\"\")","v":""},{"$f":"IFERROR('Retirement Calculations'!K72,\"\")","v":""},{"$f":"IFERROR('Retirement Calculations'!M72,\"\")","v":""},{"$f":"IFERROR('Retirement Calculations'!N72,\"\")","v":""},{"$f":"IFERROR('Retirement Calculations'!O72,\"\")","v":""},{"$f":"IFERROR('Retirement Calculations'!Q72,\"\")","v":""},{"$f":"IFERROR('Retirement Calculations'!R72,\"\")","v":""},{"$f":"IFERROR('Retirement Calculations'!S72,\"\")","v":""}]
[null,null,{"$f":"IFERROR('Retirement Calculations'!A73,\"\")","v":""},{"$f":"IFERROR('Retirement Calculations'!B73,\"\")","v":""},{"$f":"IFERROR('Retirement Calculations'!C73,\"\")","v":""},{"$f":"IFERROR('Retirement Calculations'!D73,\"\")","v":""},{"$f":"IFERROR('Retirement Calculations'!E73,\"\")","v":""},{"$f":"IFERROR('Retirement Calculations'!G73,\"\")","v":""},{"$f":"IFERROR('Retirement Calculations'!H73,\"\")","v":""},{"$f":"IFERROR('Retirement Calculations'!I73,\"\")","v":""},{"$f":"IFERROR('Retirement Calculations'!J73,\"\")","v":""},{"$f":"IFERROR('Retirement Calculations'!K73,\"\")","v":""},{"$f":"IFERROR('Retirement Calculations'!M73,\"\")","v":""},{"$f":"IFERROR('Retirement Calculations'!N73,\"\")","v":""},{"$f":"IFERROR('Retirement Calculations'!O73,\"\")","v":""},{"$f":"IFERROR('Retirement Calculations'!Q73,\"\")","v":""},{"$f":"IFERROR('Retirement Calculations'!R73,\"\")","v":""},{"$f":"IFERROR('Retirement Calculations'!S73,\"\")","v":""}]
[null,null,{"$f":"IFERROR('Retirement Calculations'!A74,\"\")","v":""},{"$f":"IFERROR('Retirement Calculations'!B74,\"\")","v":""},{"$f":"IFERROR('Retirement Calculations'!C74,\"\")","v":""},{"$f":"IFERROR('Retirement Calculations'!D74,\"\")","v":""},{"$f":"IFERROR('Retirement Calculations'!E74,\"\")","v":""},{"$f":"IFERROR('Retirement Calculations'!G74,\"\")","v":""},{"$f":"IFERROR('Retirement Calculations'!H74,\"\")","v":""},{"$f":"IFERROR('Retirement Calculations'!I74,\"\")","v":""},{"$f":"IFERROR('Retirement Calculations'!J74,\"\")","v":""},{"$f":"IFERROR('Retirement Calculations'!K74,\"\")","v":""},{"$f":"IFERROR('Retirement Calculations'!M74,\"\")","v":""},{"$f":"IFERROR('Retirement Calculations'!N74,\"\")","v":""},{"$f":"IFERROR('Retirement Calculations'!O74,\"\")","v":""},{"$f":"IFERROR('Retirement Calculations'!Q74,\"\")","v":""},{"$f":"IFERROR('Retirement Calculations'!R74,\"\")","v":""},{"$f":"IFERROR('Retirement Calculations'!S74,\"\")","v":""}]
[null,null,{"$f":"IFERROR('Retirement Calculations'!A75,\"\")","v":""},{"$f":"IFERROR('Retirement Calculations'!B75,\"\")","v":""},{"$f":"IFERROR('Retirement Calculations'!C75,\"\")","v":""},{"$f":"IFERROR('Retirement Calculations'!D75,\"\")","v":""},{"$f":"IFERROR('Retirement Calculations'!E75,\"\")","v":""},{"$f":"IFERROR('Retirement Calculations'!G75,\"\")","v":""},{"$f":"IFERROR('Retirement Calculations'!H75,\"\")","v":""},{"$f":"IFERROR('Retirement Calculations'!I75,\"\")","v":""},{"$f":"IFERROR('Retirement Calculations'!J75,\"\")","v":""},{"$f":"IFERROR('Retirement Calculations'!K75,\"\")","v":""},{"$f":"IFERROR('Retirement Calculations'!M75,\"\")","v":""},{"$f":"IFERROR('Retirement Calculations'!N75,\"\")","v":""},{"$f":"IFERROR('Retirement Calculations'!O75,\"\")","v":""},{"$f":"IFERROR('Retirement Calculations'!Q75,\"\")","v":""},{"$f":"IFERROR('Retirement Calculations'!R75,\"\")","v":""},{"$f":"IFERROR('Retirement Calculations'!S75,\"\")","v":""}]
[null,null,{"$f":"IFERROR('Retirement Calculations'!A76,\"\")","v":""},{"$f":"IFERROR('Retirement Calculations'!B76,\"\")","v":""},{"$f":"IFERROR('Retirement Calculations'!C76,\"\")","v":""},{"$f":"IFERROR('Retirement Calculations'!D76,\"\")","v":""},{"$f":"IFERROR('Retirement Calculations'!E76,\"\")","v":""},{"$f":"IFERROR('Retirement Calculations'!G76,\"\")","v":""},{"$f":"IFERROR('Retirement Calculations'!H76,\"\")","v":""},{"$f":"IFERROR('Retirement Calculations'!I76,\"\")","v":""},{"$f":"IFERROR('Retirement Calculations'!J76,\"\")","v":""},{"$f":"IFERROR('Retirement Calculations'!K76,\"\")","v":""},{"$f":"IFERROR('Retirement Calculations'!M76,\"\")","v":""},{"$f":"IFERROR('Retirement Calculations'!N76,\"\")","v":""},{"$f":"IFERROR('Retirement Calculations'!O76,\"\")","v":""},{"$f":"IFERROR('Retirement Calculations'!Q76,\"\")","v":""},{"$f":"IFERROR('Retirement Calculations'!R76,\"\")","v":""},{"$f":"IFERROR('Retirement Calculations'!S76,\"\")","v":""}]
[null,null,{"$f":"IFERROR('Retirement Calculations'!A77,\"\")","v":""},{"$f":"IFERROR('Retirement Calculations'!B77,\"\")","v":""},{"$f":"IFERROR('Retirement Calculations'!C77,\"\")","v":""},{"$f":"IFERROR('Retirement Calculations'!D77,\"\")","v":""},{"$f":"IFERROR('Retirement Calculations'!E77,\"\")","v":""},{"$f":"IFERROR('Retirement Calculations'!G77,\"\")","v":""},{"$f":"IFERROR('Retirement Calculations'!H77,\"\")","v":""},{"$f":"IFERROR('Retirement Calculations'!I77,\"\")","v":""},{"$f":"IFERROR('Retirement Calculations'!J77,\"\")","v":""},{"$f":"IFERROR('Retirement Calculations'!K77,\"\")","v":""},{"$f":"IFERROR('Retirement Calculations'!M77,\"\")","v":""},{"$f":"IFERROR('Retirement Calculations'!N77,\"\")","v":""},{"$f":"IFERROR('Retirement Calculations'!O77,\"\")","v":""},{"$f":"IFERROR('Retirement Calculations'!Q77,\"\")","v":""},{"$f":"IFERROR('Retirement Calculations'!R77,\"\")","v":""},{"$f":"IFERROR('Retirement Calculations'!S77,\"\")","v":""}]
[null,null,{"$f":"IFERROR('Retirement Calculations'!A78,\"\")","v":""},{"$f":"IFERROR('Retirement Calculations'!B78,\"\")","v":""},{"$f":"IFERROR('Retirement Calculations'!C78,\"\")","v":""},{"$f":"IFERROR('Retirement Calculations'!D78,\"\")","v":""},{"$f":"IFERROR('Retirement Calculations'!E78,\"\")","v":""},{"$f":"IFERROR('Retirement Calculations'!G78,\"\")","v":""},{"$f":"IFERROR('Retirement Calculations'!H78,\"\")","v":""},{"$f":"IFERROR('Retirement Calculations'!I78,\"\")","v":""},{"$f":"IFERROR('Retirement Calculations'!J78,\"\")","v":""},{"$f":"IFERROR('Retirement Calculations'!K78,\"\")","v":""},{"$f":"IFERROR('Retirement Calculations'!M78,\"\")","v":""},{"$f":"IFERROR('Retirement Calculations'!N78,\"\")","v":""},{"$f":"IFERROR('Retirement Calculations'!O78,\"\")","v":""},{"$f":"IFERROR('Retirement Calculations'!Q78,\"\")","v":""},{"$f":"IFERROR('Retirement Calculations'!R78,\"\")","v":""},{"$f":"IFERROR('Retirement Calculations'!S78,\"\")","v":""}]
[null,null,{"$f":"IFERROR('Retirement Calculations'!A79,\"\")","v":""},{"$f":"IFERROR('Retirement Calculations'!B79,\"\")","v":""},{"$f":"IFERROR('Retirement Calculations'!C79,\"\")","v":""},{"$f":"IFERROR('Retirement Calculations'!D79,\"\")","v":""},{"$f":"IFERROR('Retirement Calculations'!E79,\"\")","v":""},{"$f":"IFERROR('Retirement Calculations'!G79,\"\")","v":""},{"$f":"IFERROR('Retirement Calculations'!H79,\"\")","v":""},{"$f":"IFERROR('Retirement Calculations'!I79,\"\")","v":""},{"$f":"IFERROR('Retirement Calculations'!J79,\"\")","v":""},{"$f":"IFERROR('Retirement Calculations'!K79,\"\")","v":""},{"$f":"IFERROR('Retirement Calculations'!M79,\"\")","v":""},{"$f":"IFERROR('Retirement Calculations'!N79,\"\")","v":""},{"$f":"IFERROR('Retirement Calculations'!O79,\"\")","v":""},{"$f":"IFERROR('Retirement Calculations'!Q79,\"\")","v":""},{"$f":"IFERROR('Retirement Calculations'!R79,\"\")","v":""},{"$f":"IFERROR('Retirement Calculations'!S79,\"\")","v":""}]
[null,null,{"$f":"IFERROR('Retirement Calculations'!A80,\"\")","v":""},{"$f":"IFERROR('Retirement Calculations'!B80,\"\")","v":""},{"$f":"IFERROR('Retirement Calculations'!C80,\"\")","v":""},{"$f":"IFERROR('Retirement Calculations'!D80,\"\")","v":""},{"$f":"IFERROR('Retirement Calculations'!E80,\"\")","v":""},{"$f":"IFERROR('Retirement Calculations'!G80,\"\")","v":""},{"$f":"IFERROR('Retirement Calculations'!H80,\"\")","v":""},{"$f":"IFERROR('Retirement Calculations'!I80,\"\")","v":""},{"$f":"IFERROR('Retirement Calculations'!J80,\"\")","v":""},{"$f":"IFERROR('Retirement Calculations'!K80,\"\")","v":""},{"$f":"IFERROR('Retirement Calculations'!M80,\"\")","v":""},{"$f":"IFERROR('Retirement Calculations'!N80,\"\")","v":""},{"$f":"IFERROR('Retirement Calculations'!O80,\"\")","v":""},{"$f":"IFERROR('Retirement Calculations'!Q80,\"\")","v":""},{"$f":"IFERROR('Retirement Calculations'!R80,\"\")","v":""},{"$f":"IFERROR('Retirement Calculations'!S80,\"\")","v":""}]
[null,null,{"$f":"IFERROR('Retirement Calculations'!A81,\"\")","v":""},{"$f":"IFERROR('Retirement Calculations'!B81,\"\")","v":""},{"$f":"IFERROR('Retirement Calculations'!C81,\"\")","v":""},{"$f":"IFERROR('Retirement Calculations'!D81,\"\")","v":""},{"$f":"IFERROR('Retirement Calculations'!E81,\"\")","v":""},{"$f":"IFERROR('Retirement Calculations'!G81,\"\")","v":""},{"$f":"IFERROR('Retirement Calculations'!H81,\"\")","v":""},{"$f":"IFERROR('Retirement Calculations'!I81,\"\")","v":""},{"$f":"IFERROR('Retirement Calculations'!J81,\"\")","v":""},{"$f":"IFERROR('Retirement Calculations'!K81,\"\")","v":""},{"$f":"IFERROR('Retirement Calculations'!M81,\"\")","v":""},{"$f":"IFERROR('Retirement Calculations'!N81,\"\")","v":""},{"$f":"IFERROR('Retirement Calculations'!O81,\"\")","v":""},{"$f":"IFERROR('Retirement Calculations'!Q81,\"\")","v":""},{"$f":"IFERROR('Retirement Calculations'!R81,\"\")","v":""},{"$f":"IFERROR('Retirement Calculations'!S81,\"\")","v":""}]
[null,null,{"$f":"IFERROR('Retirement Calculations'!A82,\"\")","v":""},{"$f":"IFERROR('Retirement Calculations'!B82,\"\")","v":""},{"$f":"IFERROR('Retirement Calculations'!C82,\"\")","v":""},{"$f":"IFERROR('Retirement Calculations'!D82,\"\")","v":""},{"$f":"IFERROR('Retirement Calculations'!E82,\"\")","v":""},{"$f":"IFERROR('Retirement Calculations'!G82,\"\")","v":""},{"$f":"IFERROR('Retirement Calculations'!H82,\"\")","v":""},{"$f":"IFERROR('Retirement Calculations'!I82,\"\")","v":""},{"$f":"IFERROR('Retirement Calculations'!J82,\"\")","v":""},{"$f":"IFERROR('Retirement Calculations'!K82,\"\")","v":""},{"$f":"IFERROR('Retirement Calculations'!M82,\"\")","v":""},{"$f":"IFERROR('Retirement Calculations'!N82,\"\")","v":""},{"$f":"IFERROR('Retirement Calculations'!O82,\"\")","v":""},{"$f":"IFERROR('Retirement Calculations'!Q82,\"\")","v":""},{"$f":"IFERROR('Retirement Calculations'!R82,\"\")","v":""},{"$f":"IFERROR('Retirement Calculations'!S82,\"\")","v":""}]
[null,null,{"$f":"IFERROR('Retirement Calculations'!A83,\"\")","v":""},{"$f":"IFERROR('Retirement Calculations'!B83,\"\")","v":""},{"$f":"IFERROR('Retirement Calculations'!C83,\"\")","v":""},{"$f":"IFERROR('Retirement Calculations'!D83,\"\")","v":""},{"$f":"IFERROR('Retirement Calculations'!E83,\"\")","v":""},{"$f":"IFERROR('Retirement Calculations'!G83,\"\")","v":""},{"$f":"IFERROR('Retirement Calculations'!H83,\"\")","v":""},{"$f":"IFERROR('Retirement Calculations'!I83,\"\")","v":""},{"$f":"IFERROR('Retirement Calculations'!J83,\"\")","v":""},{"$f":"IFERROR('Retirement Calculations'!K83,\"\")","v":""},{"$f":"IFERROR('Retirement Calculations'!M83,\"\")","v":""},{"$f":"IFERROR('Retirement Calculations'!N83,\"\")","v":""},{"$f":"IFERROR('Retirement Calculations'!O83,\"\")","v":""},{"$f":"IFERROR('Retirement Calculations'!Q83,\"\")","v":""},{"$f":"IFERROR('Retirement Calculations'!R83,\"\")","v":""},{"$f":"IFERROR('Retirement Calculations'!S83,\"\")","v":""}]
[null,null,{"$f":"IFERROR('Retirement Calculations'!A84,\"\")","v":""},{"$f":"IFERROR('Retirement Calculations'!B84,\"\")","v":""},{"$f":"IFERROR('Retirement Calculations'!C84,\"\")","v":""},{"$f":"IFERROR('Retirement Calculations'!D84,\"\")","v":""},{"$f":"IFERROR('Retirement Calculations'!E84,\"\")","v":""},{"$f":"IFERROR('Retirement Calculations'!G84,\"\")","v":""},{"$f":"IFERROR('Retirement Calculations'!H84,\"\")","v":""},{"$f":"IFERROR('Retirement Calculations'!I84,\"\")","v":""},{"$f":"IFERROR('Retirement Calculations'!J84,\"\")","v":""},{"$f":"IFERROR('Retirement Calculations'!K84,\"\")","v":""},{"$f":"IFERROR('Retirement Calculations'!M84,\"\")","v":""},{"$f":"IFERROR('Retirement Calculations'!N84,\"\")","v":""},{"$f":"IFERROR('Retirement Calculations'!O84,\"\")","v":""},{"$f":"IFERROR('Retirement Calculations'!Q84,\"\")","v":""},{"$f":"IFERROR('Retirement Calculations'!R84,\"\")","v":""},{"$f":"IFERROR('Retirement Calculations'!S84,\"\")","v":""}]
[null,null,{"$f":"IFERROR('Retirement Calculations'!A85,\"\")","v":""},{"$f":"IFERROR('Retirement Calculations'!B85,\"\")","v":""},{"$f":"IFERROR('Retirement Calculations'!C85,\"\")","v":""},{"$f":"IFERROR('Retirement Calculations'!D85,\"\")","v":""},{"$f":"IFERROR('Retirement Calculations'!E85,\"\")","v":""},{"$f":"IFERROR('Retirement Calculations'!G85,\"\")","v":""},{"$f":"IFERROR('Retirement Calculations'!H85,\"\")","v":""},{"$f":"IFERROR('Retirement Calculations'!I85,\"\")","v":""},{"$f":"IFERROR('Retirement Calculations'!J85,\"\")","v":""},{"$f":"IFERROR('Retirement Calculations'!K85,\"\")","v":""},{"$f":"IFERROR('Retirement Calculations'!M85,\"\")","v":""},{"$f":"IFERROR('Retirement Calculations'!N85,\"\")","v":""},{"$f":"IFERROR('Retirement Calculations'!O85,\"\")","v":""},{"$f":"IFERROR('Retirement Calculations'!Q85,\"\")","v":""},{"$f":"IFERROR('Retirement Calculations'!R85,\"\")","v":""},{"$f":"IFERROR('Retirement Calculations'!S85,\"\")","v":""}]
[null,null,{"$f":"IFERROR('Retirement Calculations'!A86,\"\")","v":""},{"$f":"IFERROR('Retirement Calculations'!B86,\"\")","v":""},{"$f":"IFERROR('Retirement Calculations'!C86,\"\")","v":""},{"$f":"IFERROR('Retirement Calculations'!D86,\"\")","v":""},{"$f":"IFERROR('Retirement Calculations'!E86,\"\")","v":""},{"$f":"IFERROR('Retirement Calculations'!G86,\"\")","v":""},{"$f":"IFERROR('Retirement Calculations'!H86,\"\")","v":""},{"$f":"IFERROR('Retirement Calculations'!I86,\"\")","v":""},{"$f":"IFERROR('Retirement Calculations'!J86,\"\")","v":""},{"$f":"IFERROR('Retirement Calculations'!K86,\"\")","v":""},{"$f":"IFERROR('Retirement Calculations'!M86,\"\")","v":""},{"$f":"IFERROR('Retirement Calculations'!N86,\"\")","v":""},{"$f":"IFERROR('Retirement Calculations'!O86,\"\")","v":""},{"$f":"IFERROR('Retirement Calculations'!Q86,\"\")","v":""},{"$f":"IFERROR('Retirement Calculations'!R86,\"\")","v":""},{"$f":"IFERROR('Retirement Calculations'!S86,\"\")","v":""}]
[null,null,{"$f":"IFERROR('Retirement Calculations'!A87,\"\")","v":""},{"$f":"IFERROR('Retirement Calculations'!B87,\"\")","v":""},{"$f":"IFERROR('Retirement Calculations'!C87,\"\")","v":""},{"$f":"IFERROR('Retirement Calculations'!D87,\"\")","v":""},{"$f":"IFERROR('Retirement Calculations'!E87,\"\")","v":""},{"$f":"IFERROR('Retirement Calculations'!G87,\"\")","v":""},{"$f":"IFERROR('Retirement Calculations'!H87,\"\")","v":""},{"$f":"IFERROR('Retirement Calculations'!I87,\"\")","v":""},{"$f":"IFERROR('Retirement Calculations'!J87,\"\")","v":""},{"$f":"IFERROR('Retirement Calculations'!K87,\"\")","v":""},{"$f":"IFERROR('Retirement Calculations'!M87,\"\")","v":""},{"$f":"IFERROR('Retirement Calculations'!N87,\"\")","v":""},{"$f":"IFERROR('Retirement Calculations'!O87,\"\")","v":""},{"$f":"IFERROR('Retirement Calculations'!Q87,\"\")","v":""},{"$f":"IFERROR('Retirement Calculations'!R87,\"\")","v":""},{"$f":"IFERROR('Retirement Calculations'!S87,\"\")","v":""}]
[null,null,{"$f":"IFERROR('Retirement Calculations'!A88,\"\")","v":""},{"$f":"IFERROR('Retirement Calculations'!B88,\"\")","v":""},{"$f":"IFERROR('Retirement Calculations'!C88,\"\")","v":""},{"$f":"IFERROR('Retirement Calculations'!D88,\"\")","v":""},{"$f":"IFERROR('Retirement Calculations'!E88,\"\")","v":""},{"$f":"IFERROR('Retirement Calculations'!G88,\"\")","v":""},{"$f":"IFERROR('Retirement Calculations'!H88,\"\")","v":""},{"$f":"IFERROR('Retirement Calculations'!I88,\"\")","v":""},{"$f":"IFERROR('Retirement Calculations'!J88,\"\")","v":""},{"$f":"IFERROR('Retirement Calculations'!K88,\"\")","v":""},{"$f":"IFERROR('Retirement Calculations'!M88,\"\")","v":""},{"$f":"IFERROR('Retirement Calculations'!N88,\"\")","v":""},{"$f":"IFERROR('Retirement Calculations'!O88,\"\")","v":""},{"$f":"IFERROR('Retirement Calculations'!Q88,\"\")","v":""},{"$f":"IFERROR('Retirement Calculations'!R88,\"\")","v":""},{"$f":"IFERROR('Retirement Calculations'!S88,\"\")","v":""}]
[null,null,{"$f":"IFERROR('Retirement Calculations'!A89,\"\")","v":""},{"$f":"IFERROR('Retirement Calculations'!B89,\"\")","v":""},{"$f":"IFERROR('Retirement Calculations'!C89,\"\")","v":""},{"$f":"IFERROR('Retirement Calculations'!D89,\"\")","v":""},{"$f":"IFERROR('Retirement Calculations'!E89,\"\")","v":""},{"$f":"IFERROR('Retirement Calculations'!G89,\"\")","v":""},{"$f":"IFERROR('Retirement Calculations'!H89,\"\")","v":""},{"$f":"IFERROR('Retirement Calculations'!I89,\"\")","v":""},{"$f":"IFERROR('Retirement Calculations'!J89,\"\")","v":""},{"$f":"IFERROR('Retirement Calculations'!K89,\"\")","v":""},{"$f":"IFERROR('Retirement Calculations'!M89,\"\")","v":""},{"$f":"IFERROR('Retirement Calculations'!N89,\"\")","v":""},{"$f":"IFERROR('Retirement Calculations'!O89,\"\")","v":""},{"$f":"IFERROR('Retirement Calculations'!Q89,\"\")","v":""},{"$f":"IFERROR('Retirement Calculations'!R89,\"\")","v":""},{"$f":"IFERROR('Retirement Calculations'!S89,\"\")","v":""}]
[null,null,{"$f":"IFERROR('Retirement Calculations'!A90,\"\")","v":""},{"$f":"IFERROR('Retirement Calculations'!B90,\"\")","v":""},{"$f":"IFERROR('Retirement Calculations'!C90,\"\")","v":""},{"$f":"IFERROR('Retirement Calculations'!D90,\"\")","v":""},{"$f":"IFERROR('Retirement Calculations'!E90,\"\")","v":""},{"$f":"IFERROR('Retirement Calculations'!G90,\"\")","v":""},{"$f":"IFERROR('Retirement Calculations'!H90,\"\")","v":""},{"$f":"IFERROR('Retirement Calculations'!I90,\"\")","v":""},{"$f":"IFERROR('Retirement Calculations'!J90,\"\")","v":""},{"$f":"IFERROR('Retirement Calculations'!K90,\"\")","v":""},{"$f":"IFERROR('Retirement Calculations'!M90,\"\")","v":""},{"$f":"IFERROR('Retirement Calculations'!N90,\"\")","v":""},{"$f":"IFERROR('Retirement Calculations'!O90,\"\")","v":""},{"$f":"IFERROR('Retirement Calculations'!Q90,\"\")","v":""},{"$f":"IFERROR('Retirement Calculations'!R90,\"\")","v":""},{"$f":"IFERROR('Retirement Calculations'!S90,\"\")","v":""}]
[null,null,{"$f":"IFERROR('Retirement Calculations'!A91,\"\")","v":""},{"$f":"IFERROR('Retirement Calculations'!B91,\"\")","v":""},{"$f":"IFERROR('Retirement Calculations'!C91,\"\")","v":""},{"$f":"IFERROR('Retirement Calculations'!D91,\"\")","v":""},{"$f":"IFERROR('Retirement Calculations'!E91,\"\")","v":""},{"$f":"IFERROR('Retirement Calculations'!G91,\"\")","v":""},{"$f":"IFERROR('Retirement Calculations'!H91,\"\")","v":""},{"$f":"IFERROR('Retirement Calculations'!I91,\"\")","v":""},{"$f":"IFERROR('Retirement Calculations'!J91,\"\")","v":""},{"$f":"IFERROR('Retirement Calculations'!K91,\"\")","v":""},{"$f":"IFERROR('Retirement Calculations'!M91,\"\")","v":""},{"$f":"IFERROR('Retirement Calculations'!N91,\"\")","v":""},{"$f":"IFERROR('Retirement Calculations'!O91,\"\")","v":""},{"$f":"IFERROR('Retirement Calculations'!Q91,\"\")","v":""},{"$f":"IFERROR('Retirement Calculations'!R91,\"\")","v":""},{"$f":"IFERROR('Retirement Calculations'!S91,\"\")","v":""}]
[null,null,{"$f":"IFERROR('Retirement Calculations'!A92,\"\")","v":""},{"$f":"IFERROR('Retirement Calculations'!B92,\"\")","v":""},{"$f":"IFERROR('Retirement Calculations'!C92,\"\")","v":""},{"$f":"IFERROR('Retirement Calculations'!D92,\"\")","v":""},{"$f":"IFERROR('Retirement Calculations'!E92,\"\")","v":""},{"$f":"IFERROR('Retirement Calculations'!G92,\"\")","v":""},{"$f":"IFERROR('Retirement Calculations'!H92,\"\")","v":""},{"$f":"IFERROR('Retirement Calculations'!I92,\"\")","v":""},{"$f":"IFERROR('Retirement Calculations'!J92,\"\")","v":""},{"$f":"IFERROR('Retirement Calculations'!K92,\"\")","v":""},{"$f":"IFERROR('Retirement Calculations'!M92,\"\")","v":""},{"$f":"IFERROR('Retirement Calculations'!N92,\"\")","v":""},{"$f":"IFERROR('Retirement Calculations'!O92,\"\")","v":""},{"$f":"IFERROR('Retirement Calculations'!Q92,\"\")","v":""},{"$f":"IFERROR('Retirement Calculations'!R92,\"\")","v":""},{"$f":"IFERROR('Retirement Calculations'!S92,\"\")","v":""}]
[null,null,{"$f":"IFERROR('Retirement Calculations'!A93,\"\")","v":""},{"$f":"IFERROR('Retirement Calculations'!B93,\"\")","v":""},{"$f":"IFERROR('Retirement Calculations'!C93,\"\")","v":""},{"$f":"IFERROR('Retirement Calculations'!D93,\"\")","v":""},{"$f":"IFERROR('Retirement Calculations'!E93,\"\")","v":""},{"$f":"IFERROR('Retirement Calculations'!G93,\"\")","v":""},{"$f":"IFERROR('Retirement Calculations'!H93,\"\")","v":""},{"$f":"IFERROR('Retirement Calculations'!I93,\"\")","v":""},{"$f":"IFERROR('Retirement Calculations'!J93,\"\")","v":""},{"$f":"IFERROR('Retirement Calculations'!K93,\"\")","v":""},{"$f":"IFERROR('Retirement Calculations'!M93,\"\")","v":""},{"$f":"IFERROR('Retirement Calculations'!N93,\"\")","v":""},{"$f":"IFERROR('Retirement Calculations'!O93,\"\")","v":""},{"$f":"IFERROR('Retirement Calculations'!Q93,\"\")","v":""},{"$f":"IFERROR('Retirement Calculations'!R93,\"\")","v":""},{"$f":"IFERROR('Retirement Calculations'!S93,\"\")","v":""}]
[null,null,{"$f":"IFERROR('Retirement Calculations'!A94,\"\")","v":""},{"$f":"IFERROR('Retirement Calculations'!B94,\"\")","v":""},{"$f":"IFERROR('Retirement Calculations'!C94,\"\")","v":""},{"$f":"IFERROR('Retirement Calculations'!D94,\"\")","v":""},{"$f":"IFERROR('Retirement Calculations'!E94,\"\")","v":""},{"$f":"IFERROR('Retirement Calculations'!G94,\"\")","v":""},{"$f":"IFERROR('Retirement Calculations'!H94,\"\")","v":""},{"$f":"IFERROR('Retirement Calculations'!I94,\"\")","v":""},{"$f":"IFERROR('Retirement Calculations'!J94,\"\")","v":""},{"$f":"IFERROR('Retirement Calculations'!K94,\"\")","v":""},{"$f":"IFERROR('Retirement Calculations'!M94,\"\")","v":""},{"$f":"IFERROR('Retirement Calculations'!N94,\"\")","v":""},{"$f":"IFERROR('Retirement Calculations'!O94,\"\")","v":""},{"$f":"IFERROR('Retirement Calculations'!Q94,\"\")","v":""},{"$f":"IFERROR('Retirement Calculations'!R94,\"\")","v":""},{"$f":"IFERROR('Retirement Calculations'!S94,\"\")","v":""}]
[null,null,{"$f":"IFERROR('Retirement Calculations'!A95,\"\")","v":""},{"$f":"IFERROR('Retirement Calculations'!B95,\"\")","v":""},{"$f":"IFERROR('Retirement Calculations'!C95,\"\")","v":""},{"$f":"IFERROR('Retirement Calculations'!D95,\"\")","v":""},{"$f":"IFERROR('Retirement Calculations'!E95,\"\")","v":""},{"$f":"IFERROR('Retirement Calculations'!G95,\"\")","v":""},{"$f":"IFERROR('Retirement Calculations'!H95,\"\")","v":""},{"$f":"IFERROR('Retirement Calculations'!I95,\"\")","v":""},{"$f":"IFERROR('Retirement Calculations'!J95,\"\")","v":""},{"$f":"IFERROR('Retirement Calculations'!K95,\"\")","v":""},{"$f":"IFERROR('Retirement Calculations'!M95,\"\")","v":""},{"$f":"IFERROR('Retirement Calculations'!N95,\"\")","v":""},{"$f":"IFERROR('Retirement Calculations'!O95,\"\")","v":""},{"$f":"IFERROR('Retirement Calculations'!Q95,\"\")","v":""},{"$f":"IFERROR('Retirement Calculations'!R95,\"\")","v":""},{"$f":"IFERROR('Retirement Calculations'!S95,\"\")","v":""}]
[null,null,{"$f":"IFERROR('Retirement Calculations'!A96,\"\")","v":""},{"$f":"IFERROR('Retirement Calculations'!B96,\"\")","v":""},{"$f":"IFERROR('Retirement Calculations'!C96,\"\")","v":""},{"$f":"IFERROR('Retirement Calculations'!D96,\"\")","v":""},{"$f":"IFERROR('Retirement Calculations'!E96,\"\")","v":""},{"$f":"IFERROR('Retirement Calculations'!G96,\"\")","v":""},{"$f":"IFERROR('Retirement Calculations'!H96,\"\")","v":""},{"$f":"IFERROR('Retirement Calculations'!I96,\"\")","v":""},{"$f":"IFERROR('Retirement Calculations'!J96,\"\")","v":""},{"$f":"IFERROR('Retirement Calculations'!K96,\"\")","v":""},{"$f":"IFERROR('Retirement Calculations'!M96,\"\")","v":""},{"$f":"IFERROR('Retirement Calculations'!N96,\"\")","v":""},{"$f":"IFERROR('Retirement Calculations'!O96,\"\")","v":""},{"$f":"IFERROR('Retirement Calculations'!Q96,\"\")","v":""},{"$f":"IFERROR('Retirement Calculations'!R96,\"\")","v":""},{"$f":"IFERROR('Retirement Calculations'!S96,\"\")","v":""}]
[null,null,{"$f":"IFERROR('Retirement Calculations'!A97,\"\")","v":""},{"$f":"IFERROR('Retirement Calculations'!B97,\"\")","v":""},{"$f":"IFERROR('Retirement Calculations'!C97,\"\")","v":""},{"$f":"IFERROR('Retirement Calculations'!D97,\"\")","v":""},{"$f":"IFERROR('Retirement Calculations'!E97,\"\")","v":""},{"$f":"IFERROR('Retirement Calculations'!G97,\"\")","v":""},{"$f":"IFERROR('Retirement Calculations'!H97,\"\")","v":""},{"$f":"IFERROR('Retirement Calculations'!I97,\"\")","v":""},{"$f":"IFERROR('Retirement Calculations'!J97,\"\")","v":""},{"$f":"IFERROR('Retirement Calculations'!K97,\"\")","v":""},{"$f":"IFERROR('Retirement Calculations'!M97,\"\")","v":""},{"$f":"IFERROR('Retirement Calculations'!N97,\"\")","v":""},{"$f":"IFERROR('Retirement Calculations'!O97,\"\")","v":""},{"$f":"IFERROR('Retirement Calculations'!Q97,\"\")","v":""},{"$f":"IFERROR('Retirement Calculations'!R97,\"\")","v":""},{"$f":"IFERROR('Retirement Calculations'!S97,\"\")","v":""}]
[null,null,{"$f":"IFERROR('Retirement Calculations'!A98,\"\")","v":""},{"$f":"IFERROR('Retirement Calculations'!B98,\"\")","v":""},{"$f":"IFERROR('Retirement Calculations'!C98,\"\")","v":""},{"$f":"IFERROR('Retirement Calculations'!D98,\"\")","v":""},{"$f":"IFERROR('Retirement Calculations'!E98,\"\")","v":""},{"$f":"IFERROR('Retirement Calculations'!G98,\"\")","v":""},{"$f":"IFERROR('Retirement Calculations'!H98,\"\")","v":""},{"$f":"IFERROR('Retirement Calculations'!I98,\"\")","v":""},{"$f":"IFERROR('Retirement Calculations'!J98,\"\")","v":""},{"$f":"IFERROR('Retirement Calculations'!K98,\"\")","v":""},{"$f":"IFERROR('Retirement Calculations'!M98,\"\")","v":""},{"$f":"IFERROR('Retirement Calculations'!N98,\"\")","v":""},{"$f":"IFERROR('Retirement Calculations'!O98,\"\")","v":""},{"$f":"IFERROR('Retirement Calculations'!Q98,\"\")","v":""},{"$f":"IFERROR('Retirement Calculations'!R98,\"\")","v":""},{"$f":"IFERROR('Retirement Calculations'!S98,\"\")","v":""}]
[null,null,{"$f":"IFERROR('Retirement Calculations'!A99,\"\")","v":""},{"$f":"IFERROR('Retirement Calculations'!B99,\"\")","v":""},{"$f":"IFERROR('Retirement Calculations'!C99,\"\")","v":""},{"$f":"IFERROR('Retirement Calculations'!D99,\"\")","v":""},{"$f":"IFERROR('Retirement Calculations'!E99,\"\")","v":""},{"$f":"IFERROR('Retirement Calculations'!G99,\"\")","v":""},{"$f":"IFERROR('Retirement Calculations'!H99,\"\")","v":""},{"$f":"IFERROR('Retirement Calculations'!I99,\"\")","v":""},{"$f":"IFERROR('Retirement Calculations'!J99,\"\")","v":""},{"$f":"IFERROR('Retirement Calculations'!K99,\"\")","v":""},{"$f":"IFERROR('Retirement Calculations'!M99,\"\")","v":""},{"$f":"IFERROR('Retirement Calculations'!N99,\"\")","v":""},{"$f":"IFERROR('Retirement Calculations'!O99,\"\")","v":""},{"$f":"IFERROR('Retirement Calculations'!Q99,\"\")","v":""},{"$f":"IFERROR('Retirement Calculations'!R99,\"\")","v":""},{"$f":"IFERROR('Retirement Calculations'!S99,\"\")","v":""}]
[null,null,{"$f":"IFERROR('Retirement Calculations'!A100,\"\")","v":""},{"$f":"IFERROR('Retirement Calculations'!B100,\"\")","v":""},{"$f":"IFERROR('Retirement Calculations'!C100,\"\")","v":""},{"$f":"IFERROR('Retirement Calculations'!D100,\"\")","v":""},{"$f":"IFERROR('Retirement Calculations'!E100,\"\")","v":""},{"$f":"IFERROR('Retirement Calculations'!G100,\"\")","v":""},{"$f":"IFERROR('Retirement Calculations'!H100,\"\")","v":""},{"$f":"IFERROR('Retirement Calculations'!I100,\"\")","v":""},{"$f":"IFERROR('Retirement Calculations'!J100,\"\")","v":""},{"$f":"IFERROR('Retirement Calculations'!K100,\"\")","v":""},{"$f":"IFERROR('Retirement Calculations'!M100,\"\")","v":""},{"$f":"IFERROR('Retirement Calculations'!N100,\"\")","v":""},{"$f":"IFERROR('Retirement Calculations'!O100,\"\")","v":""},{"$f":"IFERROR('Retirement Calculations'!Q100,\"\")","v":""},{"$f":"IFERROR('Retirement Calculations'!R100,\"\")","v":""},{"$f":"IFERROR('Retirement Calculations'!S100,\"\")","v":""}]
[null,null,{"$f":"IFERROR('Retirement Calculations'!A101,\"\")","v":""},{"$f":"IFERROR('Retirement Calculations'!B101,\"\")","v":""},{"$f":"IFERROR('Retirement Calculations'!C101,\"\")","v":""},{"$f":"IFERROR('Retirement Calculations'!D101,\"\")","v":""},{"$f":"IFERROR('Retirement Calculations'!E101,\"\")","v":""},{"$f":"IFERROR('Retirement Calculations'!G101,\"\")","v":""},{"$f":"IFERROR('Retirement Calculations'!H101,\"\")","v":""},{"$f":"IFERROR('Retirement Calculations'!I101,\"\")","v":""},{"$f":"IFERROR('Retirement Calculations'!J101,\"\")","v":""},{"$f":"IFERROR('Retirement Calculations'!K101,\"\")","v":""},{"$f":"IFERROR('Retirement Calculations'!M101,\"\")","v":""},{"$f":"IFERROR('Retirement Calculations'!N101,\"\")","v":""},{"$f":"IFERROR('Retirement Calculations'!O101,\"\")","v":""},{"$f":"IFERROR('Retirement Calculations'!Q101,\"\")","v":""},{"$f":"IFERROR('Retirement Calculations'!R101,\"\")","v":""},{"$f":"IFERROR('Retirement Calculations'!S101,\"\")","v":""}]
[null,null,{"$f":"IFERROR('Retirement Calculations'!A102,\"\")","v":""},{"$f":"IFERROR('Retirement Calculations'!B102,\"\")","v":""},{"$f":"IFERROR('Retirement Calculations'!C102,\"\")","v":""},{"$f":"IFERROR('Retirement Calculations'!D102,\"\")","v":""},{"$f":"IFERROR('Retirement Calculations'!E102,\"\")","v":""},{"$f":"IFERROR('Retirement Calculations'!G102,\"\")","v":""},{"$f":"IFERROR('Retirement Calculations'!H102,\"\")","v":""},{"$f":"IFERROR('Retirement Calculations'!I102,\"\")","v":""},{"$f":"IFERROR('Retirement Calculations'!J102,\"\")","v":""},{"$f":"IFERROR('Retirement Calculations'!K102,\"\")","v":""},{"$f":"IFERROR('Retirement Calculations'!M102,\"\")","v":""},{"$f":"IFERROR('Retirement Calculations'!N102,\"\")","v":""},{"$f":"IFERROR('Retirement Calculations'!O102,\"\")","v":""},{"$f":"IFERROR('Retirement Calculations'!Q102,\"\")","v":""},{"$f":"IFERROR('Retirement Calculations'!R102,\"\")","v":""},{"$f":"IFERROR('Retirement Calculations'!S102,\"\")","v":""}]
[null,null,{"$f":"IFERROR('Retirement Calculations'!A103,\"\")","v":""},{"$f":"IFERROR('Retirement Calculations'!B103,\"\")","v":""},{"$f":"IFERROR('Retirement Calculations'!C103,\"\")","v":""},{"$f":"IFERROR('Retirement Calculations'!D103,\"\")","v":""},{"$f":"IFERROR('Retirement Calculations'!E103,\"\")","v":""},{"$f":"IFERROR('Retirement Calculations'!G103,\"\")","v":""},{"$f":"IFERROR('Retirement Calculations'!H103,\"\")","v":""},{"$f":"IFERROR('Retirement Calculations'!I103,\"\")","v":""},{"$f":"IFERROR('Retirement Calculations'!J103,\"\")","v":""},{"$f":"IFERROR('Retirement Calculations'!K103,\"\")","v":""},{"$f":"IFERROR('Retirement Calculations'!M103,\"\")","v":""},{"$f":"IFERROR('Retirement Calculations'!N103,\"\")","v":""},{"$f":"IFERROR('Retirement Calculations'!O103,\"\")","v":""},{"$f":"IFERROR('Retirement Calculations'!Q103,\"\")","v":""},{"$f":"IFERROR('Retirement Calculations'!R103,\"\")","v":""},{"$f":"IFERROR('Retirement Calculations'!S103,\"\")","v":""}]
[null,null,{"$f":"IFERROR('Retirement Calculations'!A104,\"\")","v":""},{"$f":"IFERROR('Retirement Calculations'!B104,\"\")","v":""},{"$f":"IFERROR('Retirement Calculations'!C104,\"\")","v":""},{"$f":"IFERROR('Retirement Calculations'!D104,\"\")","v":""},{"$f":"IFERROR('Retirement Calculations'!E104,\"\")","v":""},{"$f":"IFERROR('Retirement Calculations'!G104,\"\")","v":""},{"$f":"IFERROR('Retirement Calculations'!H104,\"\")","v":""},{"$f":"IFERROR('Retirement Calculations'!I104,\"\")","v":""},{"$f":"IFERROR('Retirement Calculations'!J104,\"\")","v":""},{"$f":"IFERROR('Retirement Calculations'!K104,\"\")","v":""},{"$f":"IFERROR('Retirement Calculations'!M104,\"\")","v":""},{"$f":"IFERROR('Retirement Calculations'!N104,\"\")","v":""},{"$f":"IFERROR('Retirement Calculations'!O104,\"\")","v":""},{"$f":"IFERROR('Retirement Calculations'!Q104,\"\")","v":""},{"$f":"IFERROR('Retirement Calculations'!R104,\"\")","v":""},{"$f":"IFERROR('Retirement Calculations'!S104,\"\")","v":""}]
[null,null,{"$f":"IFERROR('Retirement Calculations'!A105,\"\")","v":""},{"$f":"IFERROR('Retirement Calculations'!B105,\"\")","v":""},{"$f":"IFERROR('Retirement Calculations'!C105,\"\")","v":""},{"$f":"IFERROR('Retirement Calculations'!D105,\"\")","v":""},{"$f":"IFERROR('Retirement Calculations'!E105,\"\")","v":""},{"$f":"IFERROR('Retirement Calculations'!G105,\"\")","v":""},{"$f":"IFERROR('Retirement Calculations'!H105,\"\")","v":""},{"$f":"IFERROR('Retirement Calculations'!I105,\"\")","v":""},{"$f":"IFERROR('Retirement Calculations'!J105,\"\")","v":""},{"$f":"IFERROR('Retirement Calculations'!K105,\"\")","v":""},{"$f":"IFERROR('Retirement Calculations'!M105,\"\")","v":""},{"$f":"IFERROR('Retirement Calculations'!N105,\"\")","v":""},{"$f":"IFERROR('Retirement Calculations'!O105,\"\")","v":""},{"$f":"IFERROR('Retirement Calculations'!Q105,\"\")","v":""},{"$f":"IFERROR('Retirement Calculations'!R105,\"\")","v":""},{"$f":"IFERROR('Retirement Calculations'!S105,\"\")","v":""}]
[null,null,{"$f":"IFERROR('Retirement Calculations'!A106,\"\")","v":""},{"$f":"IFERROR('Retirement Calculations'!B106,\"\")","v":""},{"$f":"IFERROR('Retirement Calculations'!C106,\"\")","v":""},{"$f":"IFERROR('Retirement Calculations'!D106,\"\")","v":""},{"$f":"IFERROR('Retirement Calculations'!E106,\"\")","v":""},{"$f":"IFERROR('Retirement Calculations'!G106,\"\")","v":""},{"$f":"IFERROR('Retirement Calculations'!H106,\"\")","v":""},{"$f":"IFERROR('Retirement Calculations'!I106,\"\")","v":""},{"$f":"IFERROR('Retirement Calculations'!J106,\"\")","v":""},{"$f":"IFERROR('Retirement Calculations'!K106,\"\")","v":""},{"$f":"IFERROR('Retirement Calculations'!M106,\"\")","v":""},{"$f":"IFERROR('Retirement Calculations'!N106,\"\")","v":""},{"$f":"IFERROR('Retirement Calculations'!O106,\"\")","v":""},{"$f":"IFERROR('Retirement Calculations'!Q106,\"\")","v":""},{"$f":"IFERROR('Retirement Calculations'!R106,\"\")","v":""},{"$f":"IFERROR('Retirement Calculations'!S106,\"\")","v":""}]
[null,null,{"$f":"IFERROR('Retirement Calculations'!A107,\"\")","v":""},{"$f":"IFERROR('Retirement Calculations'!B107,\"\")","v":""},{"$f":"IFERROR('Retirement Calculations'!C107,\"\")","v":""},{"$f":"IFERROR('Retirement Calculations'!D107,\"\")","v":""},{"$f":"IFERROR('Retirement Calculations'!E107,\"\")","v":""},{"$f":"IFERROR('Retirement Calculations'!G107,\"\")","v":""},{"$f":"IFERROR('Retirement Calculations'!H107,\"\")","v":""},{"$f":"IFERROR('Retirement Calculations'!I107,\"\")","v":""},{"$f":"IFERROR('Retirement Calculations'!J107,\"\")","v":""},{"$f":"IFERROR('Retirement Calculations'!K107,\"\")","v":""},{"$f":"IFERROR('Retirement Calculations'!M107,\"\")","v":""},{"$f":"IFERROR('Retirement Calculations'!N107,\"\")","v":""},{"$f":"IFERROR('Retirement Calculations'!O107,\"\")","v":""},{"$f":"IFERROR('Retirement Calculations'!Q107,\"\")","v":""},{"$f":"IFERROR('Retirement Calculations'!R107,\"\")","v":""},{"$f":"IFERROR('Retirement Calculations'!S107,\"\")","v":""}]
[]
[]
[null,null,"Row Labels","Sum of Savings Balance","Sum of Annual Income"]
[null,null,65,800000,95470.277297708933]
[null,null,66,818770.2772977089,97490.49393557146]
[null,null,67,837316.52120727883,99527.137348827528]
[null,null,68,855591.49142763938,101578.82568765269]
[null,null,69,873544.82067700988,103644.06217823844]
[null,null,70,891122.85404034331,105721.22889979495]
[null,null,71,908268.48097522103,107808.58027195366]
[null,null,72,924920.95966248889,109904.23624010329]
[null,null,73,941015.7333750918,112006.17514567949]
[null,null,74,956484.2385252018,114112.22626789741]
[null,null,75,971253.70403586142,116220.06202286156]
[null,null,76,985246.94166892138,118327.18980541252]
[null,null,77,998382.1269260518,120430.94345847084]
[null,null,78,1010572.5701239997,122528.47435401734]
[null,null,79,1021726.4772290516,124616.74206920055]
[null,null,80,1031746.7000187918,126692.50464039094]
[null,null,81,1040530.4751217276,128752.30837730116]
[null,null,82,1047969.1514671243,130792.47721856566]
[null,null,83,1053947.9056584595,132809.10160941668]
[null,null,84,1058345.4447642113,134798.02688130832]
[null,null,85,1061033.6959992412,136754.84111252433]
[null,null,86,1061877.4827487501,138674.86244795576]
[null,null,87,1060734.1863646924,140553.12585535357]
[null,null,88,1057453.39314154,142384.36929444282]
[null,null,89,1051876.5258544208,144163.01927433367]
[null,null,90,1043836.4592178278,145883.17577367308]
[null,null,"Grand Total",25363568.617528662,3151644.4674686561]

{"sheet":"Retirement Calculations","index":1,"n_rows":107,"n_cols":19,"rows_kept":107,"cut":false,"hidden":true,"merged":[[0,1,0,4],[0,12,0,13],[0,6,0,10]]}
[null,"Investments",null,null,null,null,"Annual Income",null,null,null,null,null,"Taxes"]
["Age","Savings","Investment Fees","Return on Investments","Net Investments",null,"Annual Disability","Annual Withdrawal","Pension","SSA","Total Income",null,"Federal Income Taxes","State Income Taxes","Local Income Taxes",null,"Income-Taxes","Annual Expenses","Net Income"]
[{"$f":"'Retirement Worksheet'!B10","v":65},{"$f":"'Retirement Worksheet'!B11","v":800000},{"$f":"B3*'Retirement Worksheet'!$B$18","v":2000},{"$f":"B3*'Retirement Worksheet'!$B$30","v":40000},{"$f":"B3-C3+D3","v":838000},null,{"$f":"FV('Retirement Worksheet'!$B$29,('Retirement Worksheet'!B10-'Retirement Worksheet'!B9),0,-'Retirement Worksheet'!B26)","v":43470.277297708933},{"$f":"B3*'Retirement Worksheet'!$B$12","v":32000},{"$f":"FV('Retirement Worksheet'!B29,('Retirement Worksheet'!B10-'Retirement Worksheet'!B9),0,-'Retirement Worksheet'!B25)","v":0},{"$f":"'Retirement Worksheet'!B19","v":20000},{"$f":"SUM(G3:J3)","v":95470.277297708933},null,{"$f":"((('Retirement Calculations'!I3)+(J3*'Retirement Worksheet'!$B$20))*'Retirement Worksheet'!$B$13)+(H3*'Retirement Worksheet'!$B$14)","v":10140},{"$f":"(H3*'Retirement Worksheet'!$B$15)+IF('Retirement Worksheet'!$B$17=\"Yes\",'Retirement Calculations'!I3*'Retirement Worksheet'!$B$15,0)+IF('Retirement Worksheet'!$B$21=\"Yes\",'Retirement Calculations'!J3*'Retirement Worksheet'!$B$15,0)","v":1920},{"$f":"(H3*'Retirement Worksheet'!$B$16)+IF('Retirement Worksheet'!$B$17=\"Yes\",'Retirement Calculations'!I3*'Retirement Worksheet'!$B$16,0)+IF('Retirement Worksheet'!$B$21=\"Yes\",'Retirement Calculations'!J3*'Retirement Worksheet'!$B$16,0)","v":640},null,{"$f":"SUM(G3:J3)-SUM(M3:O3)","v":82770.277297708933},{"$f":"'Retirement Worksheet'!$B$27","v":70000},{"$f":"Q3-R3","v":12770.277297708933}]
[{"$f":"IF(A3<'Retirement Worksheet'!$B$8,A3+1,NA())","v":66},{"$f":"IF(ISERROR(A4),NA(),E3-H3+S3)","v":818770.2772977089},{"$f":"B4*'Retirement Worksheet'!$B$18","v":2046.9256932442722},{"$f":"B4*'Retirement Worksheet'!$B$30","v":40938.513864885448},{"$f":"B4-C4+D4","v":857661.86546935001},null,{"$f":"IF(ISERROR(A4),NA(),(G3*(1+'Retirement Worksheet'!$B$29)))","v":44339.682843663111},{"$f":"B4*'Retirement Worksheet'!$B$12","v":32750.811091908356},{"$f":"IF(ISERROR(A4),NA(),I3*(1+'Retirement Worksheet'!$B$29))","v":0},{"$f":"IF(ISERROR(A4),NA(),J3*(1+'Retirement Worksheet'!$B$29))","v":20400},{"$f":"SUM(G4:J4)","v":97490.49393557146},null,{"$f":"((('Retirement Calculations'!I4)+(J4*'Retirement Worksheet'!$B$20))*'Retirement Worksheet'!$B$13)+(H4*'Retirement Worksheet'!$B$14)","v":10364.962218381672},{"$f":"(H4*'Retirement Worksheet'!$B$15)+IF('Retirement Worksheet'!$B$17=\"Yes\",'Retirement Calculations'!I4*'Retirement Worksheet'!$B$15,0)+IF('Retirement Worksheet'!$B$21=\"Yes\",'Retirement Calculations'!J4*'Retirement Worksheet'!$B$15,0)","v":1965.0486655145012},{"$f":"(H4*'Retirement Worksheet'!$B$16)+IF('Retirement Worksheet'!$B$17=\"Yes\",'Retirement Calculations'!I4*'Retirement Worksheet'!$B$16,0)+IF('Retirement Worksheet'!$B$21=\"Yes\",'Retirement Calculations'!J4*'Retirement Worksheet'!$B$16,0)","v":655.0162218381671},null,{"$f":"SUM(G4:J4)-SUM(M4:O4)","v":84505.466829837125},{"$f":"IF(ISERROR(A4),NA(),R3*(1+'Retirement Worksheet'!$B$28))","v":72100},{"$f":"Q4-R4","v":12405.466829837125}]
[{"$f":"IF(A4<'Retirement Worksheet'!$B$8,A4+1,NA())","v":67},{"$f":"IF(ISERROR(A5),NA(),E4-H4+S4)","v":837316.52120727883},{"$f":"B5*'Retirement Worksheet'!$B$18","v":2093.2913030181971},{"$f":"B5*'Retirement Worksheet'!$B$30","v":41865.826060363943},{"$f":"B5-C5+D5","v":877089.05596462451},null,{"$f":"IF(ISERROR(A5),NA(),(G4*(1+'Retirement Worksheet'!$B$29)))","v":45226.476500536373},{"$f":"B5*'Retirement Worksheet'!$B$12","v":33492.660848291154},{"$f":"IF(ISERROR(A5),NA(),I4*(1+'Retirement Worksheet'!$B$29))","v":0},{"$f":"IF(ISERROR(A5),NA(),J4*(1+'Retirement Worksheet'!$B$29))","v":20808},99527.137348827528,null,{"$f":"((('Retirement Calculations'!I5)+(J5*'Retirement Worksheet'!$B$20))*'Retirement Worksheet'!$B$13)+(H5*'Retirement Worksheet'!$B$14)","v":10589.628169658232},{"$f":"(H5*'Retirement Worksheet'!$B$15)+IF('Retirement Worksheet'!$B$17=\"Yes\",'Retirement Calculations'!I5*'Retirement Worksheet'!$B$15,0)+IF('Retirement Worksheet'!$B$21=\"Yes\",'Retirement Calculations'!J5*'Retirement Worksheet'!$B$15,0)","v":2009.5596508974693},{"$f":"(H5*'Retirement Worksheet'!$B$16)+IF('Retirement Worksheet'!$B$17=\"Yes\",'Retirement Calculations'!I5*'Retirement Worksheet'!$B$16,0)+IF('Retirement Worksheet'!$B$21=\"Yes\",'Retirement Calculations'!J5*'Retirement Worksheet'!$B$16,0)","v":669.85321696582309},null,86258.096311305999,{"$f":"IF(ISERROR(A5),NA(),R4*(1+'Retirement Worksheet'!$B$28))","v":74263},{"$f":"Q5-R5","v":11995.096311305999}]
[{"$f":"IF(A5<'Retirement Worksheet'!$B$8,A5+1,NA())","v":68},855591.49142763938,{"$f":"B6*'Retirement Worksheet'!$B$18","v":2138.9787285690986},{"$f":"B6*'Retirement Worksheet'!$B$30","v":42779.574571381971},{"$f":"B6-C6+D6","v":896232.08727045229},null,{"$f":"IF(ISERROR(A6),NA(),(G5*(1+'Retirement Worksheet'!$B$29)))","v":46131.006030547105},{"$f":"B6*'Retirement Worksheet'!$B$12","v":34223.659657105578},{"$f":"IF(ISERROR(A6),NA(),I5*(1+'Retirement Worksheet'!$B$29))","v":0},{"$f":"IF(ISERROR(A6),NA(),J5*(1+'Retirement Worksheet'!$B$29))","v":21224.16},101578.82568765269,null,{"$f":"((('Retirement Calculations'!I6)+(J6*'Retirement Worksheet'!$B$20))*'Retirement Worksheet'!$B$13)+(H6*'Retirement Worksheet'!$B$14)","v":10813.649851421116},{"$f":"(H6*'Retirement Worksheet'!$B$15)+IF('Retirement Worksheet'!$B$17=\"Yes\",'Retirement Calculations'!I6*'Retirement Worksheet'!$B$15,0)+IF('Retirement Worksheet'!$B$21=\"Yes\",'Retirement Calculations'!J6*'Retirement Worksheet'!$B$15,0)","v":2053.4195794263346},{"$f":"(H6*'Retirement Worksheet'!$B$16)+IF('Retirement Worksheet'!$B$17=\"Yes\",'Retirement Calculations'!I6*'Retirement Worksheet'!$B$16,0)+IF('Retirement Worksheet'!$B$21=\"Yes\",'Retirement Calculations'!J6*'Retirement Worksheet'!$B$16,0)","v":684.47319314211154},null,88027.283063663126,{"$f":"IF(ISERROR(A6),NA(),R5*(1+'Retirement Worksheet'!$B$28))","v":76490.89},{"$f":"Q6-R6","v":11536.393063663127}]
[{"$f":"IF(A6<'Retirement Worksheet'!$B$8,A6+1,NA())","v":69},873544.82067700988,{"$f":"B7*'Retirement Worksheet'!$B$18","v":2183.8620516925248},{"$f":"B7*'Retirement Worksheet'!$B$30","v":43677.2410338505},{"$f":"B7-C7+D7","v":915038.19965916779},null,{"$f":"IF(ISERROR(A7),NA(),(G6*(1+'Retirement Worksheet'!$B$29)))","v":47053.626151158045},{"$f":"B7*'Retirement Worksheet'!$B$12","v":34941.792827080397},{"$f":"IF(ISERROR(A7),NA(),I6*(1+'Retirement Worksheet'!$B$29))","v":0},{"$f":"IF(ISERROR(A7),NA(),J6*(1+'Retirement Worksheet'!$B$29))","v":21648.643199999999},103644.06217823844,null,{"$f":"((('Retirement Calculations'!I7)+(J7*'Retirement Worksheet'!$B$20))*'Retirement Worksheet'!$B$13)+(H7*'Retirement Worksheet'!$B$14)","v":11036.654843816079},{"$f":"(H7*'Retirement Worksheet'!$B$15)+IF('Retirement Worksheet'!$B$17=\"Yes\",'Retirement Calculations'!I7*'Retirement Worksheet'!$B$15,0)+IF('Retirement Worksheet'!$B$21=\"Yes\",'Retirement Calculations'!J7*'Retirement Worksheet'!$B$15,0)","v":2096.5075696248236},{"$f":"(H7*'Retirement Worksheet'!$B$16)+IF('Retirement Worksheet'!$B$17=\"Yes\",'Retirement Calculations'!I7*'Retirement Worksheet'!$B$16,0)+IF('Retirement Worksheet'!$B$21=\"Yes\",'Retirement Calculations'!J7*'Retirement Worksheet'!$B$16,0)","v":698.835856541608},null,89812.063908255936,{"$f":"IF(ISERROR(A7),NA(),R6*(1+'Retirement Worksheet'!$B$28))","v":78785.616699999999},{"$f":"Q7-R7","v":11026.447208255937}]
[{"$f":"IF(A7<'Retirement Worksheet'!$B$8,A7+1,NA())","v":70},891122.85404034331,{"$f":"B8*'Retirement Worksheet'!$B$18","v":2227.8071351008584},{"$f":"B8*'Retirement Worksheet'!$B$30","v":44556.142702017169},933451.1896072597,null,{"$f":"IF(ISERROR(A8),NA(),(G7*(1+'Retirement Worksheet'!$B$29)))","v":47994.698674181207},{"$f":"B8*'Retirement Worksheet'!$B$12","v":35644.914161613735},{"$f":"IF(ISERROR(A8),NA(),I7*(1+'Retirement Worksheet'!$B$29))","v":0},{"$f":"IF(ISERROR(A8),NA(),J7*(1+'Retirement Worksheet'!$B$29))","v":22081.616063999998},105721.22889979495,null,{"$f":"((('Retirement Calculations'!I8)+(J8*'Retirement Worksheet'!$B$20))*'Retirement Worksheet'!$B$13)+(H8*'Retirement Worksheet'!$B$14)","v":11258.245036290748},{"$f":"(H8*'Retirement Worksheet'!$B$15)+IF('Retirement Worksheet'!$B$17=\"Yes\",'Retirement Calculations'!I8*'Retirement Worksheet'!$B$15,0)+IF('Retirement Worksheet'!$B$21=\"Yes\",'Retirement Calculations'!J8*'Retirement Worksheet'!$B$15,0)","v":2138.6948496968239},{"$f":"(H8*'Retirement Worksheet'!$B$16)+IF('Retirement Worksheet'!$B$17=\"Yes\",'Retirement Calculations'!I8*'Retirement Worksheet'!$B$16,0)+IF('Retirement Worksheet'!$B$21=\"Yes\",'Retirement Calculations'!J8*'Retirement Worksheet'!$B$16,0)","v":712.89828323227471},null,91611.390730575105,{"$f":"IF(ISERROR(A8),NA(),R7*(1+'Retirement Worksheet'!$B$28))","v":81149.185201},10462.205529575105]
[{"$f":"IF(A8<'Retirement Worksheet'!$B$8,A8+1,NA())","v":71},908268.48097522103,{"$f":"B9*'Retirement Worksheet'!$B$18","v":2270.6712024380527},{"$f":"B9*'Retirement Worksheet'!$B$30","v":45413.424048761051},951411.23382154398,null,{"$f":"IF(ISERROR(A9),NA(),(G8*(1+'Retirement Worksheet'!$B$29)))","v":48954.592647664831},{"$f":"B9*'Retirement Worksheet'!$B$12","v":36330.739239008843},{"$f":"IF(ISERROR(A9),NA(),I8*(1+'Retirement Worksheet'!$B$29))","v":0},{"$f":"IF(ISERROR(A9),NA(),J8*(1+'Retirement Worksheet'!$B$29))","v":22523.24838528},107808.58027195366,null,{"$f":"((('Retirement Calculations'!I9)+(J9*'Retirement Worksheet'!$B$20))*'Retirement Worksheet'!$B$13)+(H9*'Retirement Worksheet'!$B$14)","v":11477.995295849129},{"$f":"(H9*'Retirement Worksheet'!$B$15)+IF('Retirement Worksheet'!$B$17=\"Yes\",'Retirement Calculations'!I9*'Retirement Worksheet'!$B$15,0)+IF('Retirement Worksheet'!$B$21=\"Yes\",'Retirement Calculations'!J9*'Retirement Worksheet'!$B$15,0)","v":2179.8443543405306},{"$f":"(H9*'Retirement Worksheet'!$B$16)+IF('Retirement Worksheet'!$B$17=\"Yes\",'Retirement Calculations'!I9*'Retirement Worksheet'!$B$16,0)+IF('Retirement Worksheet'!$B$21=\"Yes\",'Retirement Calculations'!J9*'Retirement Worksheet'!$B$16,0)","v":726.61478478017682},null,93424.125836983818,{"$f":"IF(ISERROR(A9),NA(),R8*(1+'Retirement Worksheet'!$B$28))","v":83583.660757029997},9840.4650799538213]
[{"$f":"IF(A9<'Retirement Worksheet'!$B$8,A9+1,NA())","v":72},924920.95966248889,{"$f":"B10*'Retirement Worksheet'!$B$18","v":2312.3023991562222},{"$f":"B10*'Retirement Worksheet'!$B$30","v":46246.047983124445},968854.70524645713,null,{"$f":"IF(ISERROR(A10),NA(),(G9*(1+'Retirement Worksheet'!$B$29)))","v":49933.684500618132},{"$f":"B10*'Retirement Worksheet'!$B$12","v":36996.838386499556},{"$f":"IF(ISERROR(A10),NA(),I9*(1+'Retirement Worksheet'!$B$29))","v":0},{"$f":"IF(ISERROR(A10),NA(),J9*(1+'Retirement Worksheet'!$B$29))","v":22973.7133529856},109904.23624010329,null,{"$f":"((('Retirement Calculations'!I10)+(J10*'Retirement Worksheet'!$B$20))*'Retirement Worksheet'!$B$13)+(H10*'Retirement Worksheet'!$B$14)","v":11695.452074308218},{"$f":"(H10*'Retirement Worksheet'!$B$15)+IF('Retirement Worksheet'!$B$17=\"Yes\",'Retirement Calculations'!I10*'Retirement Worksheet'!$B$15,0)+IF('Retirement Worksheet'!$B$21=\"Yes\",'Retirement Calculations'!J10*'Retirement Worksheet'!$B$15,0)","v":2219.8103031899732},{"$f":"(H10*'Retirement Worksheet'!$B$16)+IF('Retirement Worksheet'!$B$17=\"Yes\",'Retirement Calculations'!I10*'Retirement Worksheet'!$B$16,0)+IF('Retirement Worksheet'!$B$21=\"Yes\",'Retirement Calculations'!J10*'Retirement Worksheet'!$B$16,0)","v":739.93676772999117},null,95249.037094875108,{"$f":"IF(ISERROR(A10),NA(),R9*(1+'Retirement Worksheet'!$B$28))","v":86091.170579740894},9157.8665151342138]
[{"$f":"IF(A10<'Retirement Worksheet'!$B$8,A10+1,NA())","v":73},941015.7333750918,{"$f":"B11*'Retirement Worksheet'!$B$18","v":2352.5393334377295},{"$f":"B11*'Retirement Worksheet'!$B$30","v":47050.78666875459},985713.98071040865,null,{"$f":"IF(ISERROR(A11),NA(),(G10*(1+'Retirement Worksheet'!$B$29)))","v":50932.358190630497},{"$f":"B11*'Retirement Worksheet'!$B$12","v":37640.629335003672},{"$f":"IF(ISERROR(A11),NA(),I10*(1+'Retirement Worksheet'!$B$29))","v":0},{"$f":"IF(ISERROR(A11),NA(),J10*(1+'Retirement Worksheet'!$B$29))","v":23433.187620045312},112006.17514567949,null,{"$f":"((('Retirement Calculations'!I11)+(J11*'Retirement Worksheet'!$B$20))*'Retirement Worksheet'!$B$13)+(H11*'Retirement Worksheet'!$B$14)","v":11910.131951949208},{"$f":"(H11*'Retirement Worksheet'!$B$15)+IF('Retirement Worksheet'!$B$17=\"Yes\",'Retirement Calculations'!I11*'Retirement Worksheet'!$B$15,0)+IF('Retirement Worksheet'!$B$21=\"Yes\",'Retirement Calculations'!J11*'Retirement Worksheet'!$B$15,0)","v":2258.4377601002202},{"$f":"(H11*'Retirement Worksheet'!$B$16)+IF('Retirement Worksheet'!$B$17=\"Yes\",'Retirement Calculations'!I11*'Retirement Worksheet'!$B$16,0)+IF('Retirement Worksheet'!$B$21=\"Yes\",'Retirement Calculations'!J11*'Retirement Worksheet'!$B$16,0)","v":752.81258670007344},null,97084.79284692998,{"$f":"IF(ISERROR(A11),NA(),R10*(1+'Retirement Worksheet'!$B$28))","v":88673.90569713313},8410.8871497968503]
[{"$f":"IF(A11<'Retirement Worksheet'!$B$8,A11+1,NA())","v":74},956484.2385252018,{"$f":"B12*'Retirement Worksheet'!$B$18","v":2391.2105963130048},{"$f":"B12*'Retirement Worksheet'!$B$30","v":47824.21192626009},1001917.2398551488,null,{"$f":"IF(ISERROR(A12),NA(),(G11*(1+'Retirement Worksheet'!$B$29)))","v":51951.005354443107},{"$f":"B12*'Retirement Worksheet'!$B$12","v":38259.369541008076},{"$f":"IF(ISERROR(A12),NA(),I11*(1+'Retirement Worksheet'!$B$29))","v":0},{"$f":"IF(ISERROR(A12),NA(),J11*(1+'Retirement Worksheet'!$B$29))","v":23901.851372446217},114112.22626789741,null,{"$f":"((('Retirement Calculations'!I12)+(J12*'Retirement Worksheet'!$B$20))*'Retirement Worksheet'!$B$13)+(H12*'Retirement Worksheet'!$B$14)","v":12121.520114849058},{"$f":"(H12*'Retirement Worksheet'!$B$15)+IF('Retirement Worksheet'!$B$17=\"Yes\",'Retirement Calculations'!I12*'Retirement Worksheet'!$B$15,0)+IF('Retirement Worksheet'!$B$21=\"Yes\",'Retirement Calculations'!J12*'Retirement Worksheet'!$B$15,0)","v":2295.5621724604844},{"$f":"(H12*'Retirement Worksheet'!$B$16)+IF('Retirement Worksheet'!$B$17=\"Yes\",'Retirement Calculations'!I12*'Retirement Worksheet'!$B$16,0)+IF('Retirement Worksheet'!$B$21=\"Yes\",'Retirement Calculations'!J12*'Retirement Worksheet'!$B$16,0)","v":765.18739082016157},null,98929.956589767709,{"$f":"IF(ISERROR(A12),NA(),R11*(1+'Retirement Worksheet'!$B$28))","v":91334.122868047125},7595.8337217205844]
[{"$f":"IF(A12<'Retirement Worksheet'!$B$8,A12+1,NA())","v":75},971253.70403586142,{"$f":"B13*'Retirement Worksheet'!$B$18","v":2428.1342600896537},{"$f":"B13*'Retirement Worksheet'!$B$30","v":48562.685201793072},1017388.2549775649,null,{"$f":"IF(ISERROR(A13),NA(),(G12*(1+'Retirement Worksheet'!$B$29)))","v":52990.025461531972},{"$f":"B13*'Retirement Worksheet'!$B$12","v":38850.148161434459},{"$f":"IF(ISERROR(A13),NA(),I12*(1+'Retirement Worksheet'!$B$29))","v":0},{"$f":"IF(ISERROR(A13),NA(),J12*(1+'Retirement Worksheet'!$B$29))","v":24379.888399895142},116220.06202286156,null,{"$f":"((('Retirement Calculations'!I13)+(J13*'Retirement Worksheet'!$B$20))*'Retirement Worksheet'!$B$13)+(H13*'Retirement Worksheet'!$B$14)","v":12329.068763067284},{"$f":"(H13*'Retirement Worksheet'!$B$15)+IF('Retirement Worksheet'!$B$17=\"Yes\",'Retirement Calculations'!I13*'Retirement Worksheet'!$B$15,0)+IF('Retirement Worksheet'!$B$21=\"Yes\",'Retirement Calculations'!J13*'Retirement Worksheet'!$B$15,0)","v":2331.0088896860675},{"$f":"(H13*'Retirement Worksheet'!$B$16)+IF('Retirement Worksheet'!$B$17=\"Yes\",'Retirement Calculations'!I13*'Retirement Worksheet'!$B$16,0)+IF('Retirement Worksheet'!$B$21=\"Yes\",'Retirement Calculations'!J13*'Retirement Worksheet'!$B$16,0)","v":777.00296322868917},null,100782.98140687952,{"$f":"IF(ISERROR(A13),NA(),R12*(1+'Retirement Worksheet'!$B$28))","v":94074.14655408854},6708.8348527909839]
[{"$f":"IF(A13<'Retirement Worksheet'!$B$8,A13+1,NA())","v":76},985246.94166892138,{"$f":"B14*'Retirement Worksheet'!$B$18","v":2463.1173541723033},{"$f":"B14*'Retirement Worksheet'!$B$30","v":49262.347083446075},1032046.1713981952,null,{"$f":"IF(ISERROR(A14),NA(),(G13*(1+'Retirement Worksheet'!$B$29)))","v":54049.825970762613},{"$f":"B14*'Retirement Worksheet'!$B$12","v":39409.877666756853},{"$f":"IF(ISERROR(A14),NA(),I13*(1+'Retirement Worksheet'!$B$29))","v":0},{"$f":"IF(ISERROR(A14),NA(),J13*(1+'Retirement Worksheet'!$B$29))","v":24867.486167893047},118327.18980541252,null,{"$f":"((('Retirement Calculations'!I14)+(J14*'Retirement Worksheet'!$B$20))*'Retirement Worksheet'!$B$13)+(H14*'Retirement Worksheet'!$B$14)","v":12532.19544674737},{"$f":"(H14*'Retirement Worksheet'!$B$15)+IF('Retirement Worksheet'!$B$17=\"Yes\",'Retirement Calculations'!I14*'Retirement Worksheet'!$B$15,0)+IF('Retirement Worksheet'!$B$21=\"Yes\",'Retirement Calculations'!J14*'Retirement Worksheet'!$B$15,0)","v":2364.5926600054113},{"$f":"(H14*'Retirement Worksheet'!$B$16)+IF('Retirement Worksheet'!$B$17=\"Yes\",'Retirement Calculations'!I14*'Retirement Worksheet'!$B$16,0)+IF('Retirement Worksheet'!$B$21=\"Yes\",'Retirement Calculations'!J14*'Retirement Worksheet'!$B$16,0)","v":788.19755333513706},null,102642.20414532461,{"$f":"IF(ISERROR(A14),NA(),R13*(1+'Retirement Worksheet'!$B$28))","v":96896.370950711193},5745.8331946134131]
[{"$f":"IF(A14<'Retirement Worksheet'!$B$8,A14+1,NA())","v":77},998382.1269260518,{"$f":"B15*'Retirement Worksheet'!$B$18","v":2495.9553173151294},{"$f":"B15*'Retirement Worksheet'!$B$30","v":49919.106346302593},1045805.2779550392,null,{"$f":"IF(ISERROR(A15),NA(),(G14*(1+'Retirement Worksheet'!$B$29)))","v":55130.822490177867},{"$f":"B15*'Retirement Worksheet'!$B$12","v":39935.28507704207},{"$f":"IF(ISERROR(A15),NA(),I14*(1+'Retirement Worksheet'!$B$29))","v":0},{"$f":"IF(ISERROR(A15),NA(),J14*(1+'Retirement Worksheet'!$B$29))","v":25364.835891250907},120430.94345847084,null,{"$f":"((('Retirement Calculations'!I15)+(J15*'Retirement Worksheet'!$B$20))*'Retirement Worksheet'!$B$13)+(H15*'Retirement Worksheet'!$B$14)","v":12730.281327072335},{"$f":"(H15*'Retirement Worksheet'!$B$15)+IF('Retirement Worksheet'!$B$17=\"Yes\",'Retirement Calculations'!I15*'Retirement Worksheet'!$B$15,0)+IF('Retirement Worksheet'!$B$21=\"Yes\",'Retirement Calculations'!J15*'Retirement Worksheet'!$B$15,0)","v":2396.117104622524},{"$f":"(H15*'Retirement Worksheet'!$B$16)+IF('Retirement Worksheet'!$B$17=\"Yes\",'Retirement Calculations'!I15*'Retirement Worksheet'!$B$16,0)+IF('Retirement Worksheet'!$B$21=\"Yes\",'Retirement Calculations'!J15*'Retirement Worksheet'!$B$16,0)","v":798.70570154084146},null,104505.83932523514,{"$f":"IF(ISERROR(A15),NA(),R14*(1+'Retirement Worksheet'!$B$28))","v":99803.262079232532},4702.5772460026055]
[{"$f":"IF(A15<'Retirement Worksheet'!$B$8,A15+1,NA())","v":78},1010572.5701239997,{"$f":"B16*'Retirement Worksheet'!$B$18","v":2526.4314253099992},{"$f":"B16*'Retirement Worksheet'!$B$30","v":50528.628506199988},1058574.7672048898,null,{"$f":"IF(ISERROR(A16),NA(),(G15*(1+'Retirement Worksheet'!$B$29)))","v":56233.438939981424},{"$f":"B16*'Retirement Worksheet'!$B$12","v":40422.902804959987},{"$f":"IF(ISERROR(A16),NA(),I15*(1+'Retirement Worksheet'!$B$29))","v":0},{"$f":"IF(ISERROR(A16),NA(),J15*(1+'Retirement Worksheet'!$B$29))","v":25872.132609075925},122528.47435401734,null,{"$f":"((('Retirement Calculations'!I16)+(J16*'Retirement Worksheet'!$B$20))*'Retirement Worksheet'!$B$13)+(H16*'Retirement Worksheet'!$B$14)","v":12922.669358889196},{"$f":"(H16*'Retirement Worksheet'!$B$15)+IF('Retirement Worksheet'!$B$17=\"Yes\",'Retirement Calculations'!I16*'Retirement Worksheet'!$B$15,0)+IF('Retirement Worksheet'!$B$21=\"Yes\",'Retirement Calculations'!J16*'Retirement Worksheet'!$B$15,0)","v":2425.3741682975992},{"$f":"(H16*'Retirement Worksheet'!$B$16)+IF('Retirement Worksheet'!$B$17=\"Yes\",'Retirement Calculations'!I16*'Retirement Worksheet'!$B$16,0)+IF('Retirement Worksheet'!$B$21=\"Yes\",'Retirement Calculations'!J16*'Retirement Worksheet'!$B$16,0)","v":808.45805609919978},null,106371.97277073134,{"$f":"IF(ISERROR(A16),NA(),R15*(1+'Retirement Worksheet'!$B$28))","v":102797.35994160951},3574.6128291218338]
[{"$f":"IF(A16<'Retirement Worksheet'!$B$8,A16+1,NA())","v":79},1021726.4772290516,{"$f":"B17*'Retirement Worksheet'!$B$18","v":2554.3161930726292},{"$f":"B17*'Retirement Worksheet'!$B$30","v":51086.323861452584},1070258.4848974317,null,{"$f":"IF(ISERROR(A17),NA(),(G16*(1+'Retirement Worksheet'!$B$29)))","v":57358.107718781052},{"$f":"B17*'Retirement Worksheet'!$B$12","v":40869.059089162067},{"$f":"IF(ISERROR(A17),NA(),I16*(1+'Retirement Worksheet'!$B$29))","v":0},{"$f":"IF(ISERROR(A17),NA(),J16*(1+'Retirement Worksheet'!$B$29))","v":26389.575261257443},124616.74206920055,null,{"$f":"((('Retirement Calculations'!I17)+(J17*'Retirement Worksheet'!$B$20))*'Retirement Worksheet'!$B$13)+(H17*'Retirement Worksheet'!$B$14)","v":13108.662391687556},{"$f":"(H17*'Retirement Worksheet'!$B$15)+IF('Retirement Worksheet'!$B$17=\"Yes\",'Retirement Calculations'!I17*'Retirement Worksheet'!$B$15,0)+IF('Retirement Worksheet'!$B$21=\"Yes\",'Retirement Calculations'!J17*'Retirement Worksheet'!$B$15,0)","v":2452.1435453497238},{"$f":"(H17*'Retirement Worksheet'!$B$16)+IF('Retirement Worksheet'!$B$17=\"Yes\",'Retirement Calculations'!I17*'Retirement Worksheet'!$B$16,0)+IF('Retirement Worksheet'!$B$21=\"Yes\",'Retirement Calculations'!J17*'Retirement Worksheet'!$B$16,0)","v":817.38118178324135},null,108238.55495038003,{"$f":"IF(ISERROR(A17),NA(),R16*(1+'Retirement Worksheet'!$B$28))","v":105881.2807398578},2357.2742105222278]
[{"$f":"IF(A17<'Retirement Worksheet'!$B$8,A17+1,NA())","v":80},1031746.7000187918,{"$f":"B18*'Retirement Worksheet'!$B$18","v":2579.3667500469796},{"$f":"B18*'Retirement Worksheet'!$B$30","v":51587.335000939594},1080754.6682696845,null,{"$f":"IF(ISERROR(A18),NA(),(G17*(1+'Retirement Worksheet'!$B$29)))","v":58505.269873156671},{"$f":"B18*'Retirement Worksheet'!$B$12","v":41269.868000751674},{"$f":"IF(ISERROR(A18),NA(),I17*(1+'Retirement Worksheet'!$B$29))","v":0},{"$f":"IF(ISERROR(A18),NA(),J17*(1+'Retirement Worksheet'!$B$29))","v":26917.366766482592},126692.50464039094,null,{"$f":"((('Retirement Calculations'!I18)+(J18*'Retirement Worksheet'!$B$20))*'Retirement Worksheet'!$B$13)+(H18*'Retirement Worksheet'!$B$14)","v":13287.521185482579},{"$f":"(H18*'Retirement Worksheet'!$B$15)+IF('Retirement Worksheet'!$B$17=\"Yes\",'Retirement Calculations'!I18*'Retirement Worksheet'!$B$15,0)+IF('Retirement Worksheet'!$B$21=\"Yes\",'Retirement Calculations'!J18*'Retirement Worksheet'!$B$15,0)","v":2476.1920800451003},{"$f":"(H18*'Retirement Worksheet'!$B$16)+IF('Retirement Worksheet'!$B$17=\"Yes\",'Retirement Calculations'!I18*'Retirement Worksheet'!$B$16,0)+IF('Retirement Worksheet'!$B$21=\"Yes\",'Retirement Calculations'!J18*'Retirement Worksheet'!$B$16,0)","v":825.39736001503354},null,110103.39401484822,{"$f":"IF(ISERROR(A18),NA(),R17*(1+'Retirement Worksheet'!$B$28))","v":109057.71916205353},1045.6748527946911]
[{"$f":"IF(A18<'Retirement Worksheet'!$B$8,A18+1,NA())","v":81},1040530.4751217276,{"$f":"B19*'Retirement Worksheet'!$B$18","v":2601.326187804319},{"$f":"B19*'Retirement Worksheet'!$B$30","v":52026.523756086382},1089955.6726900097,null,{"$f":"IF(ISERROR(A19),NA(),(G18*(1+'Retirement Worksheet'!$B$29)))","v":59675.375270619807},{"$f":"B19*'Retirement Worksheet'!$B$12","v":41621.219004869105},{"$f":"IF(ISERROR(A19),NA(),I18*(1+'Retirement Worksheet'!$B$29))","v":0},{"$f":"IF(ISERROR(A19),NA(),J18*(1+'Retirement Worksheet'!$B$29))","v":27455.714101812246},128752.30837730116,null,{"$f":"((('Retirement Calculations'!I19)+(J19*'Retirement Worksheet'!$B$20))*'Retirement Worksheet'!$B$13)+(H19*'Retirement Worksheet'!$B$14)","v":13458.462338012712},{"$f":"(H19*'Retirement Worksheet'!$B$15)+IF('Retirement Worksheet'!$B$17=\"Yes\",'Retirement Calculations'!I19*'Retirement Worksheet'!$B$15,0)+IF('Retirement Worksheet'!$B$21=\"Yes\",'Retirement Calculations'!J19*'Retirement Worksheet'!$B$15,0)","v":2497.2731402921463},{"$f":"(H19*'Retirement Worksheet'!$B$16)+IF('Retirement Worksheet'!$B$17=\"Yes\",'Retirement Calculations'!I19*'Retirement Worksheet'!$B$16,0)+IF('Retirement Worksheet'!$B$21=\"Yes\",'Retirement Calculations'!J19*'Retirement Worksheet'!$B$16,0)","v":832.42438009738214},null,111964.14851889892,{"$f":"IF(ISERROR(A19),NA(),R18*(1+'Retirement Worksheet'!$B$28))","v":112329.45073691514},-365.30221801622247]
[{"$f":"IF(A19<'Retirement Worksheet'!$B$8,A19+1,NA())","v":82},1047969.1514671243,{"$f":"B20*'Retirement Worksheet'!$B$18","v":2619.9228786678109},{"$f":"B20*'Retirement Worksheet'!$B$30","v":52398.457573356223},1097747.6861618129,null,{"$f":"IF(ISERROR(A20),NA(),(G19*(1+'Retirement Worksheet'!$B$29)))","v":60868.882776032202},{"$f":"B20*'Retirement Worksheet'!$B$12","v":41918.766058684974},{"$f":"IF(ISERROR(A20),NA(),I19*(1+'Retirement Worksheet'!$B$29))","v":0},{"$f":"IF(ISERROR(A20),NA(),J19*(1+'Retirement Worksheet'!$B$29))","v":28004.828383848489},130792.47721856566,null,{"$f":"((('Retirement Calculations'!I20)+(J20*'Retirement Worksheet'!$B$20))*'Retirement Worksheet'!$B$13)+(H20*'Retirement Worksheet'!$B$14)","v":13620.656119516663},{"$f":"(H20*'Retirement Worksheet'!$B$15)+IF('Retirement Worksheet'!$B$17=\"Yes\",'Retirement Calculations'!I20*'Retirement Worksheet'!$B$15,0)+IF('Retirement Worksheet'!$B$21=\"Yes\",'Retirement Calculations'!J20*'Retirement Worksheet'!$B$15,0)","v":2515.1259635210986},{"$f":"(H20*'Retirement Worksheet'!$B$16)+IF('Retirement Worksheet'!$B$17=\"Yes\",'Retirement Calculations'!I20*'Retirement Worksheet'!$B$16,0)+IF('Retirement Worksheet'!$B$21=\"Yes\",'Retirement Calculations'!J20*'Retirement Worksheet'!$B$16,0)","v":838.37532117369949},null,113818.3198143542,{"$f":"IF(ISERROR(A20),NA(),R19*(1+'Retirement Worksheet'!$B$28))","v":115699.33425902259},-1881.0144446683989]
[{"$f":"IF(A20<'Retirement Worksheet'!$B$8,A20+1,NA())","v":83},1053947.9056584595,{"$f":"B21*'Retirement Worksheet'!$B$18","v":2634.869764146149},{"$f":"B21*'Retirement Worksheet'!$B$30","v":52697.395282922982},1104010.4311772364,null,{"$f":"IF(ISERROR(A21),NA(),(G20*(1+'Retirement Worksheet'!$B$29)))","v":62086.260431552844},{"$f":"B21*'Retirement Worksheet'!$B$12","v":42157.916226338384},{"$f":"IF(ISERROR(A21),NA(),I20*(1+'Retirement Worksheet'!$B$29))","v":0},{"$f":"IF(ISERROR(A21),NA(),J20*(1+'Retirement Worksheet'!$B$29))","v":28564.92495152546},132809.10160941668,null,{"$f":"((('Retirement Calculations'!I21)+(J21*'Retirement Worksheet'!$B$20))*'Retirement Worksheet'!$B$13)+(H21*'Retirement Worksheet'!$B$14)","v":13773.224211202938},{"$f":"(H21*'Retirement Worksheet'!$B$15)+IF('Retirement Worksheet'!$B$17=\"Yes\",'Retirement Calculations'!I21*'Retirement Worksheet'!$B$15,0)+IF('Retirement Worksheet'!$B$21=\"Yes\",'Retirement Calculations'!J21*'Retirement Worksheet'!$B$15,0)","v":2529.474973580303},{"$f":"(H21*'Retirement Worksheet'!$B$16)+IF('Retirement Worksheet'!$B$17=\"Yes\",'Retirement Calculations'!I21*'Retirement Worksheet'!$B$16,0)+IF('Retirement Worksheet'!$B$21=\"Yes\",'Retirement Calculations'!J21*'Retirement Worksheet'!$B$16,0)","v":843.15832452676773},null,115663.24410010668,{"$f":"IF(ISERROR(A21),NA(),R20*(1+'Retirement Worksheet'!$B$28))","v":119170.31428679328},-3507.0701866866002]
[{"$f":"IF(A21<'Retirement Worksheet'!$B$8,A21+1,NA())","v":84},1058345.4447642113,{"$f":"B22*'Retirement Worksheet'!$B$18","v":2645.8636119105281},{"$f":"B22*'Retirement Worksheet'!$B$30","v":52917.272238210571},1108616.8533905114,null,{"$f":"IF(ISERROR(A22),NA(),(G21*(1+'Retirement Worksheet'!$B$29)))","v":63327.985640183899},{"$f":"B22*'Retirement Worksheet'!$B$12","v":42333.81779056845},{"$f":"IF(ISERROR(A22),NA(),I21*(1+'Retirement Worksheet'!$B$29))","v":0},{"$f":"IF(ISERROR(A22),NA(),J21*(1+'Retirement Worksheet'!$B$29))","v":29136.223450555968},134798.02688130832,null,{"$f":"((('Retirement Calculations'!I22)+(J22*'Retirement Worksheet'!$B$20))*'Retirement Worksheet'!$B$13)+(H22*'Retirement Worksheet'!$B$14)","v":13915.237343367658},{"$f":"(H22*'Retirement Worksheet'!$B$15)+IF('Retirement Worksheet'!$B$17=\"Yes\",'Retirement Calculations'!I22*'Retirement Worksheet'!$B$15,0)+IF('Retirement Worksheet'!$B$21=\"Yes\",'Retirement Calculations'!J22*'Retirement Worksheet'!$B$15,0)","v":2540.0290674341068},{"$f":"(H22*'Retirement Worksheet'!$B$16)+IF('Retirement Worksheet'!$B$17=\"Yes\",'Retirement Calculations'!I22*'Retirement Worksheet'!$B$16,0)+IF('Retirement Worksheet'!$B$21=\"Yes\",'Retirement Calculations'!J22*'Retirement Worksheet'!$B$16,0)","v":846.67635581136904},null,117496.08411469519,{"$f":"IF(ISERROR(A22),NA(),R21*(1+'Retirement Worksheet'!$B$28))","v":122745.42371539708},-5249.3396007018891]
[{"$f":"IF(A22<'Retirement Worksheet'!$B$8,A22+1,NA())","v":85},1061033.6959992412,{"$f":"B23*'Retirement Worksheet'!$B$18","v":2652.5842399981029},{"$f":"B23*'Retirement Worksheet'!$B$30","v":53051.684799962066},1111432.796559205,null,{"$f":"IF(ISERROR(A23),NA(),(G22*(1+'Retirement Worksheet'!$B$29)))","v":64594.545352987581},{"$f":"B23*'Retirement Worksheet'!$B$12","v":42441.347839969647},{"$f":"IF(ISERROR(A23),NA(),I22*(1+'Retirement Worksheet'!$B$29))","v":0},{"$f":"IF(ISERROR(A23),NA(),J22*(1+'Retirement Worksheet'!$B$29))","v":29718.947919567087},136754.84111252433,null,{"$f":"((('Retirement Calculations'!I23)+(J23*'Retirement Worksheet'!$B$20))*'Retirement Worksheet'!$B$13)+(H23*'Retirement Worksheet'!$B$14)","v":14045.712828952976},{"$f":"(H23*'Retirement Worksheet'!$B$15)+IF('Retirement Worksheet'!$B$17=\"Yes\",'Retirement Calculations'!I23*'Retirement Worksheet'!$B$15,0)+IF('Retirement Worksheet'!$B$21=\"Yes\",'Retirement Calculations'!J23*'Retirement Worksheet'!$B$15,0)","v":2546.4808703981789},{"$f":"(H23*'Retirement Worksheet'!$B$16)+IF('Retirement Worksheet'!$B$17=\"Yes\",'Retirement Calculations'!I23*'Retirement Worksheet'!$B$16,0)+IF('Retirement Worksheet'!$B$21=\"Yes\",'Retirement Calculations'!J23*'Retirement Worksheet'!$B$16,0)","v":848.82695679939297},null,119313.82045637378,{"$f":"IF(ISERROR(A23),NA(),R22*(1+'Retirement Worksheet'!$B$28))","v":126427.78642685899},-7113.9659704852093]
[{"$f":"IF(A23<'Retirement Worksheet'!$B$8,A23+1,NA())","v":86},1061877.4827487501,{"$f":"B24*'Retirement Worksheet'!$B$18","v":2654.6937068718753},{"$f":"B24*'Retirement Worksheet'!$B$30","v":53093.874137437509},1112316.6631793156,null,{"$f":"IF(ISERROR(A24),NA(),(G23*(1+'Retirement Worksheet'!$B$29)))","v":65886.43626004734},{"$f":"B24*'Retirement Worksheet'!$B$12","v":42475.099309950005},{"$f":"IF(ISERROR(A24),NA(),I23*(1+'Retirement Worksheet'!$B$29))","v":0},{"$f":"IF(ISERROR(A24),NA(),J23*(1+'Retirement Worksheet'!$B$29))","v":30313.326877958429},138674.86244795576,null,{"$f":"((('Retirement Calculations'!I24)+(J24*'Retirement Worksheet'!$B$20))*'Retirement Worksheet'!$B$13)+(H24*'Retirement Worksheet'!$B$14)","v":14163.611988168228},{"$f":"(H24*'Retirement Worksheet'!$B$15)+IF('Retirement Worksheet'!$B$17=\"Yes\",'Retirement Calculations'!I24*'Retirement Worksheet'!$B$15,0)+IF('Retirement Worksheet'!$B$21=\"Yes\",'Retirement Calculations'!J24*'Retirement Worksheet'!$B$15,0)","v":2548.5059585970002},{"$f":"(H24*'Retirement Worksheet'!$B$16)+IF('Retirement Worksheet'!$B$17=\"Yes\",'Retirement Calculations'!I24*'Retirement Worksheet'!$B$16,0)+IF('Retirement Worksheet'!$B$21=\"Yes\",'Retirement Calculations'!J24*'Retirement Worksheet'!$B$16,0)","v":849.50198619900016},null,121113.24251499154,{"$f":"IF(ISERROR(A24),NA(),R23*(1+'Retirement Worksheet'!$B$28))","v":130220.62001966477},-9107.3775046732335]
[{"$f":"IF(A24<'Retirement Worksheet'!$B$8,A24+1,NA())","v":87},1060734.1863646924,{"$f":"B25*'Retirement Worksheet'!$B$18","v":2651.8354659117313},{"$f":"B25*'Retirement Worksheet'!$B$30","v":53036.709318234622},1111119.0602170152,null,{"$f":"IF(ISERROR(A25),NA(),(G24*(1+'Retirement Worksheet'!$B$29)))","v":67204.164985248281},{"$f":"B25*'Retirement Worksheet'!$B$12","v":42429.3674545877},{"$f":"IF(ISERROR(A25),NA(),I24*(1+'Retirement Worksheet'!$B$29))","v":0},{"$f":"IF(ISERROR(A25),NA(),J24*(1+'Retirement Worksheet'!$B$29))","v":30919.593415517596},140553.12585535357,null,{"$f":"((('Retirement Calculations'!I25)+(J25*'Retirement Worksheet'!$B$20))*'Retirement Worksheet'!$B$13)+(H25*'Retirement Worksheet'!$B$14)","v":14267.837459619332},{"$f":"(H25*'Retirement Worksheet'!$B$15)+IF('Retirement Worksheet'!$B$17=\"Yes\",'Retirement Calculations'!I25*'Retirement Worksheet'!$B$15,0)+IF('Retirement Worksheet'!$B$21=\"Yes\",'Retirement Calculations'!J25*'Retirement Worksheet'!$B$15,0)","v":2545.7620472752619},{"$f":"(H25*'Retirement Worksheet'!$B$16)+IF('Retirement Worksheet'!$B$17=\"Yes\",'Retirement Calculations'!I25*'Retirement Worksheet'!$B$16,0)+IF('Retirement Worksheet'!$B$21=\"Yes\",'Retirement Calculations'!J25*'Retirement Worksheet'!$B$16,0)","v":848.58734909175405},null,122890.93899936722,{"$f":"IF(ISERROR(A25),NA(),R24*(1+'Retirement Worksheet'!$B$28))","v":134127.23862025471},-11236.299620887483]
[{"$f":"IF(A25<'Retirement Worksheet'!$B$8,A25+1,NA())","v":88},1057453.39314154,{"$f":"B26*'Retirement Worksheet'!$B$18","v":2643.6334828538502},{"$f":"B26*'Retirement Worksheet'!$B$30","v":52872.669657077},1107682.4293157631,null,{"$f":"IF(ISERROR(A26),NA(),(G25*(1+'Retirement Worksheet'!$B$29)))","v":68548.248284953253},{"$f":"B26*'Retirement Worksheet'!$B$12","v":42298.135725661603},{"$f":"IF(ISERROR(A26),NA(),I25*(1+'Retirement Worksheet'!$B$29))","v":0},{"$f":"IF(ISERROR(A26),NA(),J25*(1+'Retirement Worksheet'!$B$29))","v":31537.985283827948},142384.36929444282,null,{"$f":"((('Retirement Calculations'!I26)+(J26*'Retirement Worksheet'!$B$20))*'Retirement Worksheet'!$B$13)+(H26*'Retirement Worksheet'!$B$14)","v":14357.230393208147},{"$f":"(H26*'Retirement Worksheet'!$B$15)+IF('Retirement Worksheet'!$B$17=\"Yes\",'Retirement Calculations'!I26*'Retirement Worksheet'!$B$15,0)+IF('Retirement Worksheet'!$B$21=\"Yes\",'Retirement Calculations'!J26*'Retirement Worksheet'!$B$15,0)","v":2537.8881435396961},{"$f":"(H26*'Retirement Worksheet'!$B$16)+IF('Retirement Worksheet'!$B$17=\"Yes\",'Retirement Calculations'!I26*'Retirement Worksheet'!$B$16,0)+IF('Retirement Worksheet'!$B$21=\"Yes\",'Retirement Calculations'!J26*'Retirement Worksheet'!$B$16,0)","v":845.96271451323207},null,124643.28804318175,{"$f":"IF(ISERROR(A26),NA(),R25*(1+'Retirement Worksheet'!$B$28))","v":138151.05577886236},-13507.767735680609]
[{"$f":"IF(A26<'Retirement Worksheet'!$B$8,A26+1,NA())","v":89},1051876.5258544208,{"$f":"B27*'Retirement Worksheet'!$B$18","v":2629.6913146360521},{"$f":"B27*'Retirement Worksheet'!$B$30","v":52593.826292721045},1101840.6608325059,null,{"$f":"IF(ISERROR(A27),NA(),(G26*(1+'Retirement Worksheet'!$B$29)))","v":69919.213250652319},{"$f":"B27*'Retirement Worksheet'!$B$12","v":42075.061034176833},{"$f":"IF(ISERROR(A27),NA(),I26*(1+'Retirement Worksheet'!$B$29))","v":0},{"$f":"IF(ISERROR(A27),NA(),J26*(1+'Retirement Worksheet'!$B$29))","v":32168.744989504507},144163.01927433367,null,{"$f":"((('Retirement Calculations'!I27)+(J27*'Retirement Worksheet'!$B$20))*'Retirement Worksheet'!$B$13)+(H27*'Retirement Worksheet'!$B$14)","v":14430.567519872709},{"$f":"(H27*'Retirement Worksheet'!$B$15)+IF('Retirement Worksheet'!$B$17=\"Yes\",'Retirement Calculations'!I27*'Retirement Worksheet'!$B$15,0)+IF('Retirement Worksheet'!$B$21=\"Yes\",'Retirement Calculations'!J27*'Retirement Worksheet'!$B$15,0)","v":2524.5036620506098},{"$f":"(H27*'Retirement Worksheet'!$B$16)+IF('Retirement Worksheet'!$B$17=\"Yes\",'Retirement Calculations'!I27*'Retirement Worksheet'!$B$16,0)+IF('Retirement Worksheet'!$B$21=\"Yes\",'Retirement Calculations'!J27*'Retirement Worksheet'!$B$16,0)","v":841.50122068353664},null,126366.4468717268,{"$f":"IF(ISERROR(A27),NA(),R26*(1+'Retirement Worksheet'!$B$28))","v":142295.58745222824},-15929.140580501436]
[{"$f":"IF(A27<'Retirement Worksheet'!$B$8,A27+1,NA())","v":90},1043836.4592178278,{"$f":"B28*'Retirement Worksheet'!$B$18","v":2609.5911480445693},{"$f":"B28*'Retirement Worksheet'!$B$30","v":52191.82296089139},1093418.6910306746,null,{"$f":"IF(ISERROR(A28),NA(),(G27*(1+'Retirement Worksheet'!$B$29)))","v":71317.597515665373},{"$f":"B28*'Retirement Worksheet'!$B$12","v":41753.458368713109},{"$f":"IF(ISERROR(A28),NA(),I27*(1+'Retirement Worksheet'!$B$29))","v":0},{"$f":"IF(ISERROR(A28),NA(),J27*(1+'Retirement Worksheet'!$B$29))","v":32812.119889294598},145883.17577367308,null,{"$f":"((('Retirement Calculations'!I28)+(J28*'Retirement Worksheet'!$B$20))*'Retirement Worksheet'!$B$13)+(H28*'Retirement Worksheet'!$B$14)","v":14486.558093040712},{"$f":"(H28*'Retirement Worksheet'!$B$15)+IF('Retirement Worksheet'!$B$17=\"Yes\",'Retirement Calculations'!I28*'Retirement Worksheet'!$B$15,0)+IF('Retirement Worksheet'!$B$21=\"Yes\",'Retirement Calculations'!J28*'Retirement Worksheet'!$B$15,0)","v":2505.2075021227865},{"$f":"(H28*'Retirement Worksheet'!$B$16)+IF('Retirement Worksheet'!$B$17=\"Yes\",'Retirement Calculations'!I28*'Retirement Worksheet'!$B$16,0)+IF('Retirement Worksheet'!$B$21=\"Yes\",'Retirement Calculations'!J28*'Retirement Worksheet'!$B$16,0)","v":835.06916737426218},null,128056.34101113532,{"$f":"IF(ISERROR(A28),NA(),R27*(1+'Retirement Worksheet'!$B$28))","v":146564.45507579509},-18508.114064659778]
[{"$f":"IF(A28<'Retirement Worksheet'!$B$8,A28+1,NA())","v":{"$error":"#N/A"}},{"$error":"#N/A"},{"$f":"B29*'Retirement Worksheet'!$B$18","v":{"$error":"#N/A"}},{"$f":"B29*'Retirement Worksheet'!$B$30","v":{"$error":"#N/A"}},{"$error":"#N/A"},null,{"$f":"IF(ISERROR(A29),NA(),(G28*(1+'Retirement Worksheet'!$B$29)))","v":{"$error":"#N/A"}},{"$f":"B29*'Retirement Worksheet'!$B$12","v":{"$error":"#N/A"}},{"$f":"IF(ISERROR(A29),NA(),I28*(1+'Retirement Worksheet'!$B$29))","v":{"$error":"#N/A"}},{"$f":"IF(ISERROR(A29),NA(),J28*(1+'Retirement Worksheet'!$B$29))","v":{"$error":"#N/A"}},{"$error":"#N/A"},null,{"$f":"((('Retirement Calculations'!I29)+(J29*'Retirement Worksheet'!$B$20))*'Retirement Worksheet'!$B$13)+(H29*'Retirement Worksheet'!$B$14)","v":{"$error":"#N/A"}},{"$f":"(H29*'Retirement Worksheet'!$B$15)+IF('Retirement Worksheet'!$B$17=\"Yes\",'Retirement Calculations'!I29*'Retirement Worksheet'!$B$15,0)+IF('Retirement Worksheet'!$B$21=\"Yes\",'Retirement Calculations'!J29*'Retirement Worksheet'!$B$15,0)","v":{"$error":"#N/A"}},{"$f":"(H29*'Retirement Worksheet'!$B$16)+IF('Retirement Worksheet'!$B$17=\"Yes\",'Retirement Calculations'!I29*'Retirement Worksheet'!$B$16,0)+IF('Retirement Worksheet'!$B$21=\"Yes\",'Retirement Calculations'!J29*'Retirement Worksheet'!$B$16,0)","v":{"$error":"#N/A"}},null,{"$error":"#N/A"},{"$f":"IF(ISERROR(A29),NA(),R28*(1+'Retirement Worksheet'!$B$28))","v":{"$error":"#N/A"}},{"$error":"#N/A"}]
[{"$f":"IF(A29<'Retirement Worksheet'!$B$8,A29+1,NA())","v":{"$error":"#N/A"}},{"$error":"#N/A"},{"$f":"B30*'Retirement Worksheet'!$B$18","v":{"$error":"#N/A"}},{"$f":"B30*'Retirement Worksheet'!$B$30","v":{"$error":"#N/A"}},{"$error":"#N/A"},null,{"$f":"IF(ISERROR(A30),NA(),(G29*(1+'Retirement Worksheet'!$B$29)))","v":{"$error":"#N/A"}},{"$f":"B30*'Retirement Worksheet'!$B$12","v":{"$error":"#N/A"}},{"$f":"IF(ISERROR(A30),NA(),I29*(1+'Retirement Worksheet'!$B$29))","v":{"$error":"#N/A"}},{"$f":"IF(ISERROR(A30),NA(),J29*(1+'Retirement Worksheet'!$B$29))","v":{"$error":"#N/A"}},{"$error":"#N/A"},null,{"$f":"((('Retirement Calculations'!I30)+(J30*'Retirement Worksheet'!$B$20))*'Retirement Worksheet'!$B$13)+(H30*'Retirement Worksheet'!$B$14)","v":{"$error":"#N/A"}},{"$f":"(H30*'Retirement Worksheet'!$B$15)+IF('Retirement Worksheet'!$B$17=\"Yes\",'Retirement Calculations'!I30*'Retirement Worksheet'!$B$15,0)+IF('Retirement Worksheet'!$B$21=\"Yes\",'Retirement Calculations'!J30*'Retirement Worksheet'!$B$15,0)","v":{"$error":"#N/A"}},{"$f":"(H30*'Retirement Worksheet'!$B$16)+IF('Retirement Worksheet'!$B$17=\"Yes\",'Retirement Calculations'!I30*'Retirement Worksheet'!$B$16,0)+IF('Retirement Worksheet'!$B$21=\"Yes\",'Retirement Calculations'!J30*'Retirement Worksheet'!$B$16,0)","v":{"$error":"#N/A"}},null,{"$error":"#N/A"},{"$f":"IF(ISERROR(A30),NA(),R29*(1+'Retirement Worksheet'!$B$28))","v":{"$error":"#N/A"}},{"$error":"#N/A"}]
[{"$f":"IF(A30<'Retirement Worksheet'!$B$8,A30+1,NA())","v":{"$error":"#N/A"}},{"$error":"#N/A"},{"$f":"B31*'Retirement Worksheet'!$B$18","v":{"$error":"#N/A"}},{"$f":"B31*'Retirement Worksheet'!$B$30","v":{"$error":"#N/A"}},{"$error":"#N/A"},null,{"$f":"IF(ISERROR(A31),NA(),(G30*(1+'Retirement Worksheet'!$B$29)))","v":{"$error":"#N/A"}},{"$f":"B31*'Retirement Worksheet'!$B$12","v":{"$error":"#N/A"}},{"$f":"IF(ISERROR(A31),NA(),I30*(1+'Retirement Worksheet'!$B$29))","v":{"$error":"#N/A"}},{"$f":"IF(ISERROR(A31),NA(),J30*(1+'Retirement Worksheet'!$B$29))","v":{"$error":"#N/A"}},{"$error":"#N/A"},null,{"$f":"((('Retirement Calculations'!I31)+(J31*'Retirement Worksheet'!$B$20))*'Retirement Worksheet'!$B$13)+(H31*'Retirement Worksheet'!$B$14)","v":{"$error":"#N/A"}},{"$f":"(H31*'Retirement Worksheet'!$B$15)+IF('Retirement Worksheet'!$B$17=\"Yes\",'Retirement Calculations'!I31*'Retirement Worksheet'!$B$15,0)+IF('Retirement Worksheet'!$B$21=\"Yes\",'Retirement Calculations'!J31*'Retirement Worksheet'!$B$15,0)","v":{"$error":"#N/A"}},{"$f":"(H31*'Retirement Worksheet'!$B$16)+IF('Retirement Worksheet'!$B$17=\"Yes\",'Retirement Calculations'!I31*'Retirement Worksheet'!$B$16,0)+IF('Retirement Worksheet'!$B$21=\"Yes\",'Retirement Calculations'!J31*'Retirement Worksheet'!$B$16,0)","v":{"$error":"#N/A"}},null,{"$error":"#N/A"},{"$f":"IF(ISERROR(A31),NA(),R30*(1+'Retirement Worksheet'!$B$28))","v":{"$error":"#N/A"}},{"$error":"#N/A"}]
[{"$f":"IF(A31<'Retirement Worksheet'!$B$8,A31+1,NA())","v":{"$error":"#N/A"}},{"$error":"#N/A"},{"$f":"B32*'Retirement Worksheet'!$B$18","v":{"$error":"#N/A"}},{"$f":"B32*'Retirement Worksheet'!$B$30","v":{"$error":"#N/A"}},{"$error":"#N/A"},null,{"$f":"IF(ISERROR(A32),NA(),(G31*(1+'Retirement Worksheet'!$B$29)))","v":{"$error":"#N/A"}},{"$f":"B32*'Retirement Worksheet'!$B$12","v":{"$error":"#N/A"}},{"$f":"IF(ISERROR(A32),NA(),I31*(1+'Retirement Worksheet'!$B$29))","v":{"$error":"#N/A"}},{"$f":"IF(ISERROR(A32),NA(),J31*(1+'Retirement Worksheet'!$B$29))","v":{"$error":"#N/A"}},{"$error":"#N/A"},null,{"$f":"((('Retirement Calculations'!I32)+(J32*'Retirement Worksheet'!$B$20))*'Retirement Worksheet'!$B$13)+(H32*'Retirement Worksheet'!$B$14)","v":{"$error":"#N/A"}},{"$f":"(H32*'Retirement Worksheet'!$B$15)+IF('Retirement Worksheet'!$B$17=\"Yes\",'Retirement Calculations'!I32*'Retirement Worksheet'!$B$15,0)+IF('Retirement Worksheet'!$B$21=\"Yes\",'Retirement Calculations'!J32*'Retirement Worksheet'!$B$15,0)","v":{"$error":"#N/A"}},{"$f":"(H32*'Retirement Worksheet'!$B$16)+IF('Retirement Worksheet'!$B$17=\"Yes\",'Retirement Calculations'!I32*'Retirement Worksheet'!$B$16,0)+IF('Retirement Worksheet'!$B$21=\"Yes\",'Retirement Calculations'!J32*'Retirement Worksheet'!$B$16,0)","v":{"$error":"#N/A"}},null,{"$error":"#N/A"},{"$f":"IF(ISERROR(A32),NA(),R31*(1+'Retirement Worksheet'!$B$28))","v":{"$error":"#N/A"}},{"$error":"#N/A"}]
[{"$f":"IF(A32<'Retirement Worksheet'!$B$8,A32+1,NA())","v":{"$error":"#N/A"}},{"$error":"#N/A"},{"$f":"B33*'Retirement Worksheet'!$B$18","v":{"$error":"#N/A"}},{"$f":"B33*'Retirement Worksheet'!$B$30","v":{"$error":"#N/A"}},{"$error":"#N/A"},null,{"$f":"IF(ISERROR(A33),NA(),(G32*(1+'Retirement Worksheet'!$B$29)))","v":{"$error":"#N/A"}},{"$f":"B33*'Retirement Worksheet'!$B$12","v":{"$error":"#N/A"}},{"$f":"IF(ISERROR(A33),NA(),I32*(1+'Retirement Worksheet'!$B$29))","v":{"$error":"#N/A"}},{"$f":"IF(ISERROR(A33),NA(),J32*(1+'Retirement Worksheet'!$B$29))","v":{"$error":"#N/A"}},{"$error":"#N/A"},null,{"$f":"((('Retirement Calculations'!I33)+(J33*'Retirement Worksheet'!$B$20))*'Retirement Worksheet'!$B$13)+(H33*'Retirement Worksheet'!$B$14)","v":{"$error":"#N/A"}},{"$f":"(H33*'Retirement Worksheet'!$B$15)+IF('Retirement Worksheet'!$B$17=\"Yes\",'Retirement Calculations'!I33*'Retirement Worksheet'!$B$15,0)+IF('Retirement Worksheet'!$B$21=\"Yes\",'Retirement Calculations'!J33*'Retirement Worksheet'!$B$15,0)","v":{"$error":"#N/A"}},{"$f":"(H33*'Retirement Worksheet'!$B$16)+IF('Retirement Worksheet'!$B$17=\"Yes\",'Retirement Calculations'!I33*'Retirement Worksheet'!$B$16,0)+IF('Retirement Worksheet'!$B$21=\"Yes\",'Retirement Calculations'!J33*'Retirement Worksheet'!$B$16,0)","v":{"$error":"#N/A"}},null,{"$error":"#N/A"},{"$f":"IF(ISERROR(A33),NA(),R32*(1+'Retirement Worksheet'!$B$28))","v":{"$error":"#N/A"}},{"$error":"#N/A"}]
[{"$f":"IF(A33<'Retirement Worksheet'!$B$8,A33+1,NA())","v":{"$error":"#N/A"}},{"$error":"#N/A"},{"$f":"B34*'Retirement Worksheet'!$B$18","v":{"$error":"#N/A"}},{"$f":"B34*'Retirement Worksheet'!$B$30","v":{"$error":"#N/A"}},{"$error":"#N/A"},null,{"$f":"IF(ISERROR(A34),NA(),(G33*(1+'Retirement Worksheet'!$B$29)))","v":{"$error":"#N/A"}},{"$f":"B34*'Retirement Worksheet'!$B$12","v":{"$error":"#N/A"}},{"$f":"IF(ISERROR(A34),NA(),I33*(1+'Retirement Worksheet'!$B$29))","v":{"$error":"#N/A"}},{"$f":"IF(ISERROR(A34),NA(),J33*(1+'Retirement Worksheet'!$B$29))","v":{"$error":"#N/A"}},{"$error":"#N/A"},null,{"$f":"((('Retirement Calculations'!I34)+(J34*'Retirement Worksheet'!$B$20))*'Retirement Worksheet'!$B$13)+(H34*'Retirement Worksheet'!$B$14)","v":{"$error":"#N/A"}},{"$f":"(H34*'Retirement Worksheet'!$B$15)+IF('Retirement Worksheet'!$B$17=\"Yes\",'Retirement Calculations'!I34*'Retirement Worksheet'!$B$15,0)+IF('Retirement Worksheet'!$B$21=\"Yes\",'Retirement Calculations'!J34*'Retirement Worksheet'!$B$15,0)","v":{"$error":"#N/A"}},{"$f":"(H34*'Retirement Worksheet'!$B$16)+IF('Retirement Worksheet'!$B$17=\"Yes\",'Retirement Calculations'!I34*'Retirement Worksheet'!$B$16,0)+IF('Retirement Worksheet'!$B$21=\"Yes\",'Retirement Calculations'!J34*'Retirement Worksheet'!$B$16,0)","v":{"$error":"#N/A"}},null,{"$error":"#N/A"},{"$f":"IF(ISERROR(A34),NA(),R33*(1+'Retirement Worksheet'!$B$28))","v":{"$error":"#N/A"}},{"$error":"#N/A"}]
[{"$f":"IF(A34<'Retirement Worksheet'!$B$8,A34+1,NA())","v":{"$error":"#N/A"}},{"$error":"#N/A"},{"$f":"B35*'Retirement Worksheet'!$B$18","v":{"$error":"#N/A"}},{"$f":"B35*'Retirement Worksheet'!$B$30","v":{"$error":"#N/A"}},{"$error":"#N/A"},null,{"$f":"IF(ISERROR(A35),NA(),(G34*(1+'Retirement Worksheet'!$B$29)))","v":{"$error":"#N/A"}},{"$f":"B35*'Retirement Worksheet'!$B$12","v":{"$error":"#N/A"}},{"$f":"IF(ISERROR(A35),NA(),I34*(1+'Retirement Worksheet'!$B$29))","v":{"$error":"#N/A"}},{"$f":"IF(ISERROR(A35),NA(),J34*(1+'Retirement Worksheet'!$B$29))","v":{"$error":"#N/A"}},{"$error":"#N/A"},null,{"$f":"((('Retirement Calculations'!I35)+(J35*'Retirement Worksheet'!$B$20))*'Retirement Worksheet'!$B$13)+(H35*'Retirement Worksheet'!$B$14)","v":{"$error":"#N/A"}},{"$f":"(H35*'Retirement Worksheet'!$B$15)+IF('Retirement Worksheet'!$B$17=\"Yes\",'Retirement Calculations'!I35*'Retirement Worksheet'!$B$15,0)+IF('Retirement Worksheet'!$B$21=\"Yes\",'Retirement Calculations'!J35*'Retirement Worksheet'!$B$15,0)","v":{"$error":"#N/A"}},{"$f":"(H35*'Retirement Worksheet'!$B$16)+IF('Retirement Worksheet'!$B$17=\"Yes\",'Retirement Calculations'!I35*'Retirement Worksheet'!$B$16,0)+IF('Retirement Worksheet'!$B$21=\"Yes\",'Retirement Calculations'!J35*'Retirement Worksheet'!$B$16,0)","v":{"$error":"#N/A"}},null,{"$error":"#N/A"},{"$f":"IF(ISERROR(A35),NA(),R34*(1+'Retirement Worksheet'!$B$28))","v":{"$error":"#N/A"}},{"$error":"#N/A"}]
[{"$f":"IF(A35<'Retirement Worksheet'!$B$8,A35+1,NA())","v":{"$error":"#N/A"}},{"$error":"#N/A"},{"$f":"B36*'Retirement Worksheet'!$B$18","v":{"$error":"#N/A"}},{"$f":"B36*'Retirement Worksheet'!$B$30","v":{"$error":"#N/A"}},{"$error":"#N/A"},null,{"$f":"IF(ISERROR(A36),NA(),(G35*(1+'Retirement Worksheet'!$B$29)))","v":{"$error":"#N/A"}},{"$f":"B36*'Retirement Worksheet'!$B$12","v":{"$error":"#N/A"}},{"$f":"IF(ISERROR(A36),NA(),I35*(1+'Retirement Worksheet'!$B$29))","v":{"$error":"#N/A"}},{"$f":"IF(ISERROR(A36),NA(),J35*(1+'Retirement Worksheet'!$B$29))","v":{"$error":"#N/A"}},{"$error":"#N/A"},null,{"$f":"((('Retirement Calculations'!I36)+(J36*'Retirement Worksheet'!$B$20))*'Retirement Worksheet'!$B$13)+(H36*'Retirement Worksheet'!$B$14)","v":{"$error":"#N/A"}},{"$f":"(H36*'Retirement Worksheet'!$B$15)+IF('Retirement Worksheet'!$B$17=\"Yes\",'Retirement Calculations'!I36*'Retirement Worksheet'!$B$15,0)+IF('Retirement Worksheet'!$B$21=\"Yes\",'Retirement Calculations'!J36*'Retirement Worksheet'!$B$15,0)","v":{"$error":"#N/A"}},{"$f":"(H36*'Retirement Worksheet'!$B$16)+IF('Retirement Worksheet'!$B$17=\"Yes\",'Retirement Calculations'!I36*'Retirement Worksheet'!$B$16,0)+IF('Retirement Worksheet'!$B$21=\"Yes\",'Retirement Calculations'!J36*'Retirement Worksheet'!$B$16,0)","v":{"$error":"#N/A"}},null,{"$error":"#N/A"},{"$f":"IF(ISERROR(A36),NA(),R35*(1+'Retirement Worksheet'!$B$28))","v":{"$error":"#N/A"}},{"$error":"#N/A"}]
[{"$f":"IF(A36<'Retirement Worksheet'!$B$8,A36+1,NA())","v":{"$error":"#N/A"}},{"$error":"#N/A"},{"$f":"B37*'Retirement Worksheet'!$B$18","v":{"$error":"#N/A"}},{"$f":"B37*'Retirement Worksheet'!$B$30","v":{"$error":"#N/A"}},{"$error":"#N/A"},null,{"$f":"IF(ISERROR(A37),NA(),(G36*(1+'Retirement Worksheet'!$B$29)))","v":{"$error":"#N/A"}},{"$f":"B37*'Retirement Worksheet'!$B$12","v":{"$error":"#N/A"}},{"$f":"IF(ISERROR(A37),NA(),I36*(1+'Retirement Worksheet'!$B$29))","v":{"$error":"#N/A"}},{"$f":"IF(ISERROR(A37),NA(),J36*(1+'Retirement Worksheet'!$B$29))","v":{"$error":"#N/A"}},{"$error":"#N/A"},null,{"$f":"((('Retirement Calculations'!I37)+(J37*'Retirement Worksheet'!$B$20))*'Retirement Worksheet'!$B$13)+(H37*'Retirement Worksheet'!$B$14)","v":{"$error":"#N/A"}},{"$f":"(H37*'Retirement Worksheet'!$B$15)+IF('Retirement Worksheet'!$B$17=\"Yes\",'Retirement Calculations'!I37*'Retirement Worksheet'!$B$15,0)+IF('Retirement Worksheet'!$B$21=\"Yes\",'Retirement Calculations'!J37*'Retirement Worksheet'!$B$15,0)","v":{"$error":"#N/A"}},{"$f":"(H37*'Retirement Worksheet'!$B$16)+IF('Retirement Worksheet'!$B$17=\"Yes\",'Retirement Calculations'!I37*'Retirement Worksheet'!$B$16,0)+IF('Retirement Worksheet'!$B$21=\"Yes\",'Retirement Calculations'!J37*'Retirement Worksheet'!$B$16,0)","v":{"$error":"#N/A"}},null,{"$error":"#N/A"},{"$f":"IF(ISERROR(A37),NA(),R36*(1+'Retirement Worksheet'!$B$28))","v":{"$error":"#N/A"}},{"$error":"#N/A"}]
[{"$f":"IF(A37<'Retirement Worksheet'!$B$8,A37+1,NA())","v":{"$error":"#N/A"}},{"$error":"#N/A"},{"$f":"B38*'Retirement Worksheet'!$B$18","v":{"$error":"#N/A"}},{"$f":"B38*'Retirement Worksheet'!$B$30","v":{"$error":"#N/A"}},{"$error":"#N/A"},null,{"$f":"IF(ISERROR(A38),NA(),(G37*(1+'Retirement Worksheet'!$B$29)))","v":{"$error":"#N/A"}},{"$f":"B38*'Retirement Worksheet'!$B$12","v":{"$error":"#N/A"}},{"$f":"IF(ISERROR(A38),NA(),I37*(1+'Retirement Worksheet'!$B$29))","v":{"$error":"#N/A"}},{"$f":"IF(ISERROR(A38),NA(),J37*(1+'Retirement Worksheet'!$B$29))","v":{"$error":"#N/A"}},{"$error":"#N/A"},null,{"$f":"((('Retirement Calculations'!I38)+(J38*'Retirement Worksheet'!$B$20))*'Retirement Worksheet'!$B$13)+(H38*'Retirement Worksheet'!$B$14)","v":{"$error":"#N/A"}},{"$f":"(H38*'Retirement Worksheet'!$B$15)+IF('Retirement Worksheet'!$B$17=\"Yes\",'Retirement Calculations'!I38*'Retirement Worksheet'!$B$15,0)+IF('Retirement Worksheet'!$B$21=\"Yes\",'Retirement Calculations'!J38*'Retirement Worksheet'!$B$15,0)","v":{"$error":"#N/A"}},{"$f":"(H38*'Retirement Worksheet'!$B$16)+IF('Retirement Worksheet'!$B$17=\"Yes\",'Retirement Calculations'!I38*'Retirement Worksheet'!$B$16,0)+IF('Retirement Worksheet'!$B$21=\"Yes\",'Retirement Calculations'!J38*'Retirement Worksheet'!$B$16,0)","v":{"$error":"#N/A"}},null,{"$error":"#N/A"},{"$f":"IF(ISERROR(A38),NA(),R37*(1+'Retirement Worksheet'!$B$28))","v":{"$error":"#N/A"}},{"$error":"#N/A"}]
[{"$f":"IF(A38<'Retirement Worksheet'!$B$8,A38+1,NA())","v":{"$error":"#N/A"}},{"$error":"#N/A"},{"$f":"B39*'Retirement Worksheet'!$B$18","v":{"$error":"#N/A"}},{"$f":"B39*'Retirement Worksheet'!$B$30","v":{"$error":"#N/A"}},{"$error":"#N/A"},null,{"$f":"IF(ISERROR(A39),NA(),(G38*(1+'Retirement Worksheet'!$B$29)))","v":{"$error":"#N/A"}},{"$f":"B39*'Retirement Worksheet'!$B$12","v":{"$error":"#N/A"}},{"$f":"IF(ISERROR(A39),NA(),I38*(1+'Retirement Worksheet'!$B$29))","v":{"$error":"#N/A"}},{"$f":"IF(ISERROR(A39),NA(),J38*(1+'Retirement Worksheet'!$B$29))","v":{"$error":"#N/A"}},{"$error":"#N/A"},null,{"$f":"((('Retirement Calculations'!I39)+(J39*'Retirement Worksheet'!$B$20))*'Retirement Worksheet'!$B$13)+(H39*'Retirement Worksheet'!$B$14)","v":{"$error":"#N/A"}},{"$f":"(H39*'Retirement Worksheet'!$B$15)+IF('Retirement Worksheet'!$B$17=\"Yes\",'Retirement Calculations'!I39*'Retirement Worksheet'!$B$15,0)+IF('Retirement Worksheet'!$B$21=\"Yes\",'Retirement Calculations'!J39*'Retirement Worksheet'!$B$15,0)","v":{"$error":"#N/A"}},{"$f":"(H39*'Retirement Worksheet'!$B$16)+IF('Retirement Worksheet'!$B$17=\"Yes\",'Retirement Calculations'!I39*'Retirement Worksheet'!$B$16,0)+IF('Retirement Worksheet'!$B$21=\"Yes\",'Retirement Calculations'!J39*'Retirement Worksheet'!$B$16,0)","v":{"$error":"#N/A"}},null,{"$error":"#N/A"},{"$f":"IF(ISERROR(A39),NA(),R38*(1+'Retirement Worksheet'!$B$28))","v":{"$error":"#N/A"}},{"$error":"#N/A"}]
[{"$f":"IF(A39<'Retirement Worksheet'!$B$8,A39+1,NA())","v":{"$error":"#N/A"}},{"$error":"#N/A"},{"$f":"B40*'Retirement Worksheet'!$B$18","v":{"$error":"#N/A"}},{"$f":"B40*'Retirement Worksheet'!$B$30","v":{"$error":"#N/A"}},{"$error":"#N/A"},null,{"$f":"IF(ISERROR(A40),NA(),(G39*(1+'Retirement Worksheet'!$B$29)))","v":{"$error":"#N/A"}},{"$f":"B40*'Retirement Worksheet'!$B$12","v":{"$error":"#N/A"}},{"$f":"IF(ISERROR(A40),NA(),I39*(1+'Retirement Worksheet'!$B$29))","v":{"$error":"#N/A"}},{"$f":"IF(ISERROR(A40),NA(),J39*(1+'Retirement Worksheet'!$B$29))","v":{"$error":"#N/A"}},{"$error":"#N/A"},null,{"$f":"((('Retirement Calculations'!I40)+(J40*'Retirement Worksheet'!$B$20))*'Retirement Worksheet'!$B$13)+(H40*'Retirement Worksheet'!$B$14)","v":{"$error":"#N/A"}},{"$f":"(H40*'Retirement Worksheet'!$B$15)+IF('Retirement Worksheet'!$B$17=\"Yes\",'Retirement Calculations'!I40*'Retirement Worksheet'!$B$15,0)+IF('Retirement Worksheet'!$B$21=\"Yes\",'Retirement Calculations'!J40*'Retirement Worksheet'!$B$15,0)","v":{"$error":"#N/A"}},{"$f":"(H40*'Retirement Worksheet'!$B$16)+IF('Retirement Worksheet'!$B$17=\"Yes\",'Retirement Calculations'!I40*'Retirement Worksheet'!$B$16,0)+IF('Retirement Worksheet'!$B$21=\"Yes\",'Retirement Calculations'!J40*'Retirement Worksheet'!$B$16,0)","v":{"$error":"#N/A"}},null,{"$error":"#N/A"},{"$f":"IF(ISERROR(A40),NA(),R39*(1+'Retirement Worksheet'!$B$28))","v":{"$error":"#N/A"}},{"$error":"#N/A"}]
[{"$f":"IF(A40<'Retirement Worksheet'!$B$8,A40+1,NA())","v":{"$error":"#N/A"}},{"$error":"#N/A"},{"$f":"B41*'Retirement Worksheet'!$B$18","v":{"$error":"#N/A"}},{"$f":"B41*'Retirement Worksheet'!$B$30","v":{"$error":"#N/A"}},{"$error":"#N/A"},null,{"$f":"IF(ISERROR(A41),NA(),(G40*(1+'Retirement Worksheet'!$B$29)))","v":{"$error":"#N/A"}},{"$f":"B41*'Retirement Worksheet'!$B$12","v":{"$error":"#N/A"}},{"$f":"IF(ISERROR(A41),NA(),I40*(1+'Retirement Worksheet'!$B$29))","v":{"$error":"#N/A"}},{"$f":"IF(ISERROR(A41),NA(),J40*(1+'Retirement Worksheet'!$B$29))","v":{"$error":"#N/A"}},{"$error":"#N/A"},null,{"$f":"((('Retirement Calculations'!I41)+(J41*'Retirement Worksheet'!$B$20))*'Retirement Worksheet'!$B$13)+(H41*'Retirement Worksheet'!$B$14)","v":{"$error":"#N/A"}},{"$f":"(H41*'Retirement Worksheet'!$B$15)+IF('Retirement Worksheet'!$B$17=\"Yes\",'Retirement Calculations'!I41*'Retirement Worksheet'!$B$15,0)+IF('Retirement Worksheet'!$B$21=\"Yes\",'Retirement Calculations'!J41*'Retirement Worksheet'!$B$15,0)","v":{"$error":"#N/A"}},{"$f":"(H41*'Retirement Worksheet'!$B$16)+IF('Retirement Worksheet'!$B$17=\"Yes\",'Retirement Calculations'!I41*'Retirement Worksheet'!$B$16,0)+IF('Retirement Worksheet'!$B$21=\"Yes\",'Retirement Calculations'!J41*'Retirement Worksheet'!$B$16,0)","v":{"$error":"#N/A"}},null,{"$error":"#N/A"},{"$f":"IF(ISERROR(A41),NA(),R40*(1+'Retirement Worksheet'!$B$28))","v":{"$error":"#N/A"}},{"$error":"#N/A"}]
[{"$f":"IF(A41<'Retirement Worksheet'!$B$8,A41+1,NA())","v":{"$error":"#N/A"}},{"$error":"#N/A"},{"$f":"B42*'Retirement Worksheet'!$B$18","v":{"$error":"#N/A"}},{"$f":"B42*'Retirement Worksheet'!$B$30","v":{"$error":"#N/A"}},{"$error":"#N/A"},null,{"$f":"IF(ISERROR(A42),NA(),(G41*(1+'Retirement Worksheet'!$B$29)))","v":{"$error":"#N/A"}},{"$f":"B42*'Retirement Worksheet'!$B$12","v":{"$error":"#N/A"}},{"$f":"IF(ISERROR(A42),NA(),I41*(1+'Retirement Worksheet'!$B$29))","v":{"$error":"#N/A"}},{"$f":"IF(ISERROR(A42),NA(),J41*(1+'Retirement Worksheet'!$B$29))","v":{"$error":"#N/A"}},{"$error":"#N/A"},null,{"$f":"((('Retirement Calculations'!I42)+(J42*'Retirement Worksheet'!$B$20))*'Retirement Worksheet'!$B$13)+(H42*'Retirement Worksheet'!$B$14)","v":{"$error":"#N/A"}},{"$f":"(H42*'Retirement Worksheet'!$B$15)+IF('Retirement Worksheet'!$B$17=\"Yes\",'Retirement Calculations'!I42*'Retirement Worksheet'!$B$15,0)+IF('Retirement Worksheet'!$B$21=\"Yes\",'Retirement Calculations'!J42*'Retirement Worksheet'!$B$15,0)","v":{"$error":"#N/A"}},{"$f":"(H42*'Retirement Worksheet'!$B$16)+IF('Retirement Worksheet'!$B$17=\"Yes\",'Retirement Calculations'!I42*'Retirement Worksheet'!$B$16,0)+IF('Retirement Worksheet'!$B$21=\"Yes\",'Retirement Calculations'!J42*'Retirement Worksheet'!$B$16,0)","v":{"$error":"#N/A"}},null,{"$error":"#N/A"},{"$f":"IF(ISERROR(A42),NA(),R41*(1+'Retirement Worksheet'!$B$28))","v":{"$error":"#N/A"}},{"$error":"#N/A"}]
[{"$f":"IF(A42<'Retirement Worksheet'!$B$8,A42+1,NA())","v":{"$error":"#N/A"}},{"$error":"#N/A"},{"$f":"B43*'Retirement Worksheet'!$B$18","v":{"$error":"#N/A"}},{"$f":"B43*'Retirement Worksheet'!$B$30","v":{"$error":"#N/A"}},{"$error":"#N/A"},null,{"$f":"IF(ISERROR(A43),NA(),(G42*(1+'Retirement Worksheet'!$B$29)))","v":{"$error":"#N/A"}},{"$f":"B43*'Retirement Worksheet'!$B$12","v":{"$error":"#N/A"}},{"$f":"IF(ISERROR(A43),NA(),I42*(1+'Retirement Worksheet'!$B$29))","v":{"$error":"#N/A"}},{"$f":"IF(ISERROR(A43),NA(),J42*(1+'Retirement Worksheet'!$B$29))","v":{"$error":"#N/A"}},{"$error":"#N/A"},null,{"$f":"((('Retirement Calculations'!I43)+(J43*'Retirement Worksheet'!$B$20))*'Retirement Worksheet'!$B$13)+(H43*'Retirement Worksheet'!$B$14)","v":{"$error":"#N/A"}},{"$f":"(H43*'Retirement Worksheet'!$B$15)+IF('Retirement Worksheet'!$B$17=\"Yes\",'Retirement Calculations'!I43*'Retirement Worksheet'!$B$15,0)+IF('Retirement Worksheet'!$B$21=\"Yes\",'Retirement Calculations'!J43*'Retirement Worksheet'!$B$15,0)","v":{"$error":"#N/A"}},{"$f":"(H43*'Retirement Worksheet'!$B$16)+IF('Retirement Worksheet'!$B$17=\"Yes\",'Retirement Calculations'!I43*'Retirement Worksheet'!$B$16,0)+IF('Retirement Worksheet'!$B$21=\"Yes\",'Retirement Calculations'!J43*'Retirement Worksheet'!$B$16,0)","v":{"$error":"#N/A"}},null,{"$error":"#N/A"},{"$f":"IF(ISERROR(A43),NA(),R42*(1+'Retirement Worksheet'!$B$28))","v":{"$error":"#N/A"}},{"$error":"#N/A"}]
[{"$f":"IF(A43<'Retirement Worksheet'!$B$8,A43+1,NA())","v":{"$error":"#N/A"}},{"$error":"#N/A"},{"$f":"B44*'Retirement Worksheet'!$B$18","v":{"$error":"#N/A"}},{"$f":"B44*'Retirement Worksheet'!$B$30","v":{"$error":"#N/A"}},{"$error":"#N/A"},null,{"$f":"IF(ISERROR(A44),NA(),(G43*(1+'Retirement Worksheet'!$B$29)))","v":{"$error":"#N/A"}},{"$f":"B44*'Retirement Worksheet'!$B$12","v":{"$error":"#N/A"}},{"$f":"IF(ISERROR(A44),NA(),I43*(1+'Retirement Worksheet'!$B$29))","v":{"$error":"#N/A"}},{"$f":"IF(ISERROR(A44),NA(),J43*(1+'Retirement Worksheet'!$B$29))","v":{"$error":"#N/A"}},{"$error":"#N/A"},null,{"$f":"((('Retirement Calculations'!I44)+(J44*'Retirement Worksheet'!$B$20))*'Retirement Worksheet'!$B$13)+(H44*'Retirement Worksheet'!$B$14)","v":{"$error":"#N/A"}},{"$f":"(H44*'Retirement Worksheet'!$B$15)+IF('Retirement Worksheet'!$B$17=\"Yes\",'Retirement Calculations'!I44*'Retirement Worksheet'!$B$15,0)+IF('Retirement Worksheet'!$B$21=\"Yes\",'Retirement Calculations'!J44*'Retirement Worksheet'!$B$15,0)","v":{"$error":"#N/A"}},{"$f":"(H44*'Retirement Worksheet'!$B$16)+IF('Retirement Worksheet'!$B$17=\"Yes\",'Retirement Calculations'!I44*'Retirement Worksheet'!$B$16,0)+IF('Retirement Worksheet'!$B$21=\"Yes\",'Retirement Calculations'!J44*'Retirement Worksheet'!$B$16,0)","v":{"$error":"#N/A"}},null,{"$error":"#N/A"},{"$f":"IF(ISERROR(A44),NA(),R43*(1+'Retirement Worksheet'!$B$28))","v":{"$error":"#N/A"}},{"$error":"#N/A"}]
[{"$f":"IF(A44<'Retirement Worksheet'!$B$8,A44+1,NA())","v":{"$error":"#N/A"}},{"$error":"#N/A"},{"$f":"B45*'Retirement Worksheet'!$B$18","v":{"$error":"#N/A"}},{"$f":"B45*'Retirement Worksheet'!$B$30","v":{"$error":"#N/A"}},{"$error":"#N/A"},null,{"$f":"IF(ISERROR(A45),NA(),(G44*(1+'Retirement Worksheet'!$B$29)))","v":{"$error":"#N/A"}},{"$f":"B45*'Retirement Worksheet'!$B$12","v":{"$error":"#N/A"}},{"$f":"IF(ISERROR(A45),NA(),I44*(1+'Retirement Worksheet'!$B$29))","v":{"$error":"#N/A"}},{"$f":"IF(ISERROR(A45),NA(),J44*(1+'Retirement Worksheet'!$B$29))","v":{"$error":"#N/A"}},{"$error":"#N/A"},null,{"$f":"((('Retirement Calculations'!I45)+(J45*'Retirement Worksheet'!$B$20))*'Retirement Worksheet'!$B$13)+(H45*'Retirement Worksheet'!$B$14)","v":{"$error":"#N/A"}},{"$f":"(H45*'Retirement Worksheet'!$B$15)+IF('Retirement Worksheet'!$B$17=\"Yes\",'Retirement Calculations'!I45*'Retirement Worksheet'!$B$15,0)+IF('Retirement Worksheet'!$B$21=\"Yes\",'Retirement Calculations'!J45*'Retirement Worksheet'!$B$15,0)","v":{"$error":"#N/A"}},{"$f":"(H45*'Retirement Worksheet'!$B$16)+IF('Retirement Worksheet'!$B$17=\"Yes\",'Retirement Calculations'!I45*'Retirement Worksheet'!$B$16,0)+IF('Retirement Worksheet'!$B$21=\"Yes\",'Retirement Calculations'!J45*'Retirement Worksheet'!$B$16,0)","v":{"$error":"#N/A"}},null,{"$error":"#N/A"},{"$f":"IF(ISERROR(A45),NA(),R44*(1+'Retirement Worksheet'!$B$28))","v":{"$error":"#N/A"}},{"$error":"#N/A"}]
[{"$f":"IF(A45<'Retirement Worksheet'!$B$8,A45+1,NA())","v":{"$error":"#N/A"}},{"$error":"#N/A"},{"$f":"B46*'Retirement Worksheet'!$B$18","v":{"$error":"#N/A"}},{"$f":"B46*'Retirement Worksheet'!$B$30","v":{"$error":"#N/A"}},{"$error":"#N/A"},null,{"$f":"IF(ISERROR(A46),NA(),(G45*(1+'Retirement Worksheet'!$B$29)))","v":{"$error":"#N/A"}},{"$f":"B46*'Retirement Worksheet'!$B$12","v":{"$error":"#N/A"}},{"$f":"IF(ISERROR(A46),NA(),I45*(1+'Retirement Worksheet'!$B$29))","v":{"$error":"#N/A"}},{"$f":"IF(ISERROR(A46),NA(),J45*(1+'Retirement Worksheet'!$B$29))","v":{"$error":"#N/A"}},{"$error":"#N/A"},null,{"$f":"((('Retirement Calculations'!I46)+(J46*'Retirement Worksheet'!$B$20))*'Retirement Worksheet'!$B$13)+(H46*'Retirement Worksheet'!$B$14)","v":{"$error":"#N/A"}},{"$f":"(H46*'Retirement Worksheet'!$B$15)+IF('Retirement Worksheet'!$B$17=\"Yes\",'Retirement Calculations'!I46*'Retirement Worksheet'!$B$15,0)+IF('Retirement Worksheet'!$B$21=\"Yes\",'Retirement Calculations'!J46*'Retirement Worksheet'!$B$15,0)","v":{"$error":"#N/A"}},{"$f":"(H46*'Retirement Worksheet'!$B$16)+IF('Retirement Worksheet'!$B$17=\"Yes\",'Retirement Calculations'!I46*'Retirement Worksheet'!$B$16,0)+IF('Retirement Worksheet'!$B$21=\"Yes\",'Retirement Calculations'!J46*'Retirement Worksheet'!$B$16,0)","v":{"$error":"#N/A"}},null,{"$error":"#N/A"},{"$f":"IF(ISERROR(A46),NA(),R45*(1+'Retirement Worksheet'!$B$28))","v":{"$error":"#N/A"}},{"$error":"#N/A"}]
[{"$f":"IF(A46<'Retirement Worksheet'!$B$8,A46+1,NA())","v":{"$error":"#N/A"}},{"$error":"#N/A"},{"$f":"B47*'Retirement Worksheet'!$B$18","v":{"$error":"#N/A"}},{"$f":"B47*'Retirement Worksheet'!$B$30","v":{"$error":"#N/A"}},{"$error":"#N/A"},null,{"$f":"IF(ISERROR(A47),NA(),(G46*(1+'Retirement Worksheet'!$B$29)))","v":{"$error":"#N/A"}},{"$f":"B47*'Retirement Worksheet'!$B$12","v":{"$error":"#N/A"}},{"$f":"IF(ISERROR(A47),NA(),I46*(1+'Retirement Worksheet'!$B$29))","v":{"$error":"#N/A"}},{"$f":"IF(ISERROR(A47),NA(),J46*(1+'Retirement Worksheet'!$B$29))","v":{"$error":"#N/A"}},{"$error":"#N/A"},null,{"$f":"((('Retirement Calculations'!I47)+(J47*'Retirement Worksheet'!$B$20))*'Retirement Worksheet'!$B$13)+(H47*'Retirement Worksheet'!$B$14)","v":{"$error":"#N/A"}},{"$f":"(H47*'Retirement Worksheet'!$B$15)+IF('Retirement Worksheet'!$B$17=\"Yes\",'Retirement Calculations'!I47*'Retirement Worksheet'!$B$15,0)+IF('Retirement Worksheet'!$B$21=\"Yes\",'Retirement Calculations'!J47*'Retirement Worksheet'!$B$15,0)","v":{"$error":"#N/A"}},{"$f":"(H47*'Retirement Worksheet'!$B$16)+IF('Retirement Worksheet'!$B$17=\"Yes\",'Retirement Calculations'!I47*'Retirement Worksheet'!$B$16,0)+IF('Retirement Worksheet'!$B$21=\"Yes\",'Retirement Calculations'!J47*'Retirement Worksheet'!$B$16,0)","v":{"$error":"#N/A"}},null,{"$error":"#N/A"},{"$f":"IF(ISERROR(A47),NA(),R46*(1+'Retirement Worksheet'!$B$28))","v":{"$error":"#N/A"}},{"$error":"#N/A"}]
[{"$f":"IF(A47<'Retirement Worksheet'!$B$8,A47+1,NA())","v":{"$error":"#N/A"}},{"$error":"#N/A"},{"$f":"B48*'Retirement Worksheet'!$B$18","v":{"$error":"#N/A"}},{"$f":"B48*'Retirement Worksheet'!$B$30","v":{"$error":"#N/A"}},{"$error":"#N/A"},null,{"$f":"IF(ISERROR(A48),NA(),(G47*(1+'Retirement Worksheet'!$B$29)))","v":{"$error":"#N/A"}},{"$f":"B48*'Retirement Worksheet'!$B$12","v":{"$error":"#N/A"}},{"$f":"IF(ISERROR(A48),NA(),I47*(1+'Retirement Worksheet'!$B$29))","v":{"$error":"#N/A"}},{"$f":"IF(ISERROR(A48),NA(),J47*(1+'Retirement Worksheet'!$B$29))","v":{"$error":"#N/A"}},{"$error":"#N/A"},null,{"$f":"((('Retirement Calculations'!I48)+(J48*'Retirement Worksheet'!$B$20))*'Retirement Worksheet'!$B$13)+(H48*'Retirement Worksheet'!$B$14)","v":{"$error":"#N/A"}},{"$f":"(H48*'Retirement Worksheet'!$B$15)+IF('Retirement Worksheet'!$B$17=\"Yes\",'Retirement Calculations'!I48*'Retirement Worksheet'!$B$15,0)+IF('Retirement Worksheet'!$B$21=\"Yes\",'Retirement Calculations'!J48*'Retirement Worksheet'!$B$15,0)","v":{"$error":"#N/A"}},{"$f":"(H48*'Retirement Worksheet'!$B$16)+IF('Retirement Worksheet'!$B$17=\"Yes\",'Retirement Calculations'!I48*'Retirement Worksheet'!$B$16,0)+IF('Retirement Worksheet'!$B$21=\"Yes\",'Retirement Calculations'!J48*'Retirement Worksheet'!$B$16,0)","v":{"$error":"#N/A"}},null,{"$error":"#N/A"},{"$f":"IF(ISERROR(A48),NA(),R47*(1+'Retirement Worksheet'!$B$28))","v":{"$error":"#N/A"}},{"$error":"#N/A"}]
[{"$f":"IF(A48<'Retirement Worksheet'!$B$8,A48+1,NA())","v":{"$error":"#N/A"}},{"$error":"#N/A"},{"$f":"B49*'Retirement Worksheet'!$B$18","v":{"$error":"#N/A"}},{"$f":"B49*'Retirement Worksheet'!$B$30","v":{"$error":"#N/A"}},{"$error":"#N/A"},null,{"$f":"IF(ISERROR(A49),NA(),(G48*(1+'Retirement Worksheet'!$B$29)))","v":{"$error":"#N/A"}},{"$f":"B49*'Retirement Worksheet'!$B$12","v":{"$error":"#N/A"}},{"$f":"IF(ISERROR(A49),NA(),I48*(1+'Retirement Worksheet'!$B$29))","v":{"$error":"#N/A"}},{"$f":"IF(ISERROR(A49),NA(),J48*(1+'Retirement Worksheet'!$B$29))","v":{"$error":"#N/A"}},{"$error":"#N/A"},null,{"$f":"((('Retirement Calculations'!I49)+(J49*'Retirement Worksheet'!$B$20))*'Retirement Worksheet'!$B$13)+(H49*'Retirement Worksheet'!$B$14)","v":{"$error":"#N/A"}},{"$f":"(H49*'Retirement Worksheet'!$B$15)+IF('Retirement Worksheet'!$B$17=\"Yes\",'Retirement Calculations'!I49*'Retirement Worksheet'!$B$15,0)+IF('Retirement Worksheet'!$B$21=\"Yes\",'Retirement Calculations'!J49*'Retirement Worksheet'!$B$15,0)","v":{"$error":"#N/A"}},{"$f":"(H49*'Retirement Worksheet'!$B$16)+IF('Retirement Worksheet'!$B$17=\"Yes\",'Retirement Calculations'!I49*'Retirement Worksheet'!$B$16,0)+IF('Retirement Worksheet'!$B$21=\"Yes\",'Retirement Calculations'!J49*'Retirement Worksheet'!$B$16,0)","v":{"$error":"#N/A"}},null,{"$error":"#N/A"},{"$f":"IF(ISERROR(A49),NA(),R48*(1+'Retirement Worksheet'!$B$28))","v":{"$error":"#N/A"}},{"$error":"#N/A"}]
[{"$f":"IF(A49<'Retirement Worksheet'!$B$8,A49+1,NA())","v":{"$error":"#N/A"}},{"$error":"#N/A"},{"$f":"B50*'Retirement Worksheet'!$B$18","v":{"$error":"#N/A"}},{"$f":"B50*'Retirement Worksheet'!$B$30","v":{"$error":"#N/A"}},{"$error":"#N/A"},null,{"$f":"IF(ISERROR(A50),NA(),(G49*(1+'Retirement Worksheet'!$B$29)))","v":{"$error":"#N/A"}},{"$f":"B50*'Retirement Worksheet'!$B$12","v":{"$error":"#N/A"}},{"$f":"IF(ISERROR(A50),NA(),I49*(1+'Retirement Worksheet'!$B$29))","v":{"$error":"#N/A"}},{"$f":"IF(ISERROR(A50),NA(),J49*(1+'Retirement Worksheet'!$B$29))","v":{"$error":"#N/A"}},{"$error":"#N/A"},null,{"$f":"((('Retirement Calculations'!I50)+(J50*'Retirement Worksheet'!$B$20))*'Retirement Worksheet'!$B$13)+(H50*'Retirement Worksheet'!$B$14)","v":{"$error":"#N/A"}},{"$f":"(H50*'Retirement Worksheet'!$B$15)+IF('Retirement Worksheet'!$B$17=\"Yes\",'Retirement Calculations'!I50*'Retirement Worksheet'!$B$15,0)+IF('Retirement Worksheet'!$B$21=\"Yes\",'Retirement Calculations'!J50*'Retirement Worksheet'!$B$15,0)","v":{"$error":"#N/A"}},{"$f":"(H50*'Retirement Worksheet'!$B$16)+IF('Retirement Worksheet'!$B$17=\"Yes\",'Retirement Calculations'!I50*'Retirement Worksheet'!$B$16,0)+IF('Retirement Worksheet'!$B$21=\"Yes\",'Retirement Calculations'!J50*'Retirement Worksheet'!$B$16,0)","v":{"$error":"#N/A"}},null,{"$error":"#N/A"},{"$f":"IF(ISERROR(A50),NA(),R49*(1+'Retirement Worksheet'!$B$28))","v":{"$error":"#N/A"}},{"$error":"#N/A"}]
[{"$f":"IF(A50<'Retirement Worksheet'!$B$8,A50+1,NA())","v":{"$error":"#N/A"}},{"$error":"#N/A"},{"$f":"B51*'Retirement Worksheet'!$B$18","v":{"$error":"#N/A"}},{"$f":"B51*'Retirement Worksheet'!$B$30","v":{"$error":"#N/A"}},{"$error":"#N/A"},null,{"$f":"IF(ISERROR(A51),NA(),(G50*(1+'Retirement Worksheet'!$B$29)))","v":{"$error":"#N/A"}},{"$f":"B51*'Retirement Worksheet'!$B$12","v":{"$error":"#N/A"}},{"$f":"IF(ISERROR(A51),NA(),I50*(1+'Retirement Worksheet'!$B$29))","v":{"$error":"#N/A"}},{"$f":"IF(ISERROR(A51),NA(),J50*(1+'Retirement Worksheet'!$B$29))","v":{"$error":"#N/A"}},{"$error":"#N/A"},null,{"$f":"((('Retirement Calculations'!I51)+(J51*'Retirement Worksheet'!$B$20))*'Retirement Worksheet'!$B$13)+(H51*'Retirement Worksheet'!$B$14)","v":{"$error":"#N/A"}},{"$f":"(H51*'Retirement Worksheet'!$B$15)+IF('Retirement Worksheet'!$B$17=\"Yes\",'Retirement Calculations'!I51*'Retirement Worksheet'!$B$15,0)+IF('Retirement Worksheet'!$B$21=\"Yes\",'Retirement Calculations'!J51*'Retirement Worksheet'!$B$15,0)","v":{"$error":"#N/A"}},{"$f":"(H51*'Retirement Worksheet'!$B$16)+IF('Retirement Worksheet'!$B$17=\"Yes\",'Retirement Calculations'!I51*'Retirement Worksheet'!$B$16,0)+IF('Retirement Worksheet'!$B$21=\"Yes\",'Retirement Calculations'!J51*'Retirement Worksheet'!$B$16,0)","v":{"$error":"#N/A"}},null,{"$error":"#N/A"},{"$f":"IF(ISERROR(A51),NA(),R50*(1+'Retirement Worksheet'!$B$28))","v":{"$error":"#N/A"}},{"$error":"#N/A"}]
[{"$f":"IF(A51<'Retirement Worksheet'!$B$8,A51+1,NA())","v":{"$error":"#N/A"}},{"$error":"#N/A"},{"$f":"B52*'Retirement Worksheet'!$B$18","v":{"$error":"#N/A"}},{"$f":"B52*'Retirement Worksheet'!$B$30","v":{"$error":"#N/A"}},{"$error":"#N/A"},null,{"$f":"IF(ISERROR(A52),NA(),(G51*(1+'Retirement Worksheet'!$B$29)))","v":{"$error":"#N/A"}},{"$f":"B52*'Retirement Worksheet'!$B$12","v":{"$error":"#N/A"}},{"$f":"IF(ISERROR(A52),NA(),I51*(1+'Retirement Worksheet'!$B$29))","v":{"$error":"#N/A"}},{"$f":"IF(ISERROR(A52),NA(),J51*(1+'Retirement Worksheet'!$B$29))","v":{"$error":"#N/A"}},{"$error":"#N/A"},null,{"$f":"((('Retirement Calculations'!I52)+(J52*'Retirement Worksheet'!$B$20))*'Retirement Worksheet'!$B$13)+(H52*'Retirement Worksheet'!$B$14)","v":{"$error":"#N/A"}},{"$f":"(H52*'Retirement Worksheet'!$B$15)+IF('Retirement Worksheet'!$B$17=\"Yes\",'Retirement Calculations'!I52*'Retirement Worksheet'!$B$15,0)+IF('Retirement Worksheet'!$B$21=\"Yes\",'Retirement Calculations'!J52*'Retirement Worksheet'!$B$15,0)","v":{"$error":"#N/A"}},{"$f":"(H52*'Retirement Worksheet'!$B$16)+IF('Retirement Worksheet'!$B$17=\"Yes\",'Retirement Calculations'!I52*'Retirement Worksheet'!$B$16,0)+IF('Retirement Worksheet'!$B$21=\"Yes\",'Retirement Calculations'!J52*'Retirement Worksheet'!$B$16,0)","v":{"$error":"#N/A"}},null,{"$error":"#N/A"},{"$f":"IF(ISERROR(A52),NA(),R51*(1+'Retirement Worksheet'!$B$28))","v":{"$error":"#N/A"}},{"$error":"#N/A"}]
[{"$f":"IF(A52<'Retirement Worksheet'!$B$8,A52+1,NA())","v":{"$error":"#N/A"}},{"$error":"#N/A"},{"$f":"B53*'Retirement Worksheet'!$B$18","v":{"$error":"#N/A"}},{"$f":"B53*'Retirement Worksheet'!$B$30","v":{"$error":"#N/A"}},{"$error":"#N/A"},null,{"$f":"IF(ISERROR(A53),NA(),(G52*(1+'Retirement Worksheet'!$B$29)))","v":{"$error":"#N/A"}},{"$f":"B53*'Retirement Worksheet'!$B$12","v":{"$error":"#N/A"}},{"$f":"IF(ISERROR(A53),NA(),I52*(1+'Retirement Worksheet'!$B$29))","v":{"$error":"#N/A"}},{"$f":"IF(ISERROR(A53),NA(),J52*(1+'Retirement Worksheet'!$B$29))","v":{"$error":"#N/A"}},{"$error":"#N/A"},null,{"$f":"((('Retirement Calculations'!I53)+(J53*'Retirement Worksheet'!$B$20))*'Retirement Worksheet'!$B$13)+(H53*'Retirement Worksheet'!$B$14)","v":{"$error":"#N/A"}},{"$f":"(H53*'Retirement Worksheet'!$B$15)+IF('Retirement Worksheet'!$B$17=\"Yes\",'Retirement Calculations'!I53*'Retirement Worksheet'!$B$15,0)+IF('Retirement Worksheet'!$B$21=\"Yes\",'Retirement Calculations'!J53*'Retirement Worksheet'!$B$15,0)","v":{"$error":"#N/A"}},{"$f":"(H53*'Retirement Worksheet'!$B$16)+IF('Retirement Worksheet'!$B$17=\"Yes\",'Retirement Calculations'!I53*'Retirement Worksheet'!$B$16,0)+IF('Retirement Worksheet'!$B$21=\"Yes\",'Retirement Calculations'!J53*'Retirement Worksheet'!$B$16,0)","v":{"$error":"#N/A"}},null,{"$error":"#N/A"},{"$f":"IF(ISERROR(A53),NA(),R52*(1+'Retirement Worksheet'!$B$28))","v":{"$error":"#N/A"}},{"$error":"#N/A"}]
[{"$f":"IF(A53<'Retirement Worksheet'!$B$8,A53+1,NA())","v":{"$error":"#N/A"}},{"$error":"#N/A"},{"$f":"B54*'Retirement Worksheet'!$B$18","v":{"$error":"#N/A"}},{"$f":"B54*'Retirement Worksheet'!$B$30","v":{"$error":"#N/A"}},{"$error":"#N/A"},null,{"$f":"IF(ISERROR(A54),NA(),(G53*(1+'Retirement Worksheet'!$B$29)))","v":{"$error":"#N/A"}},{"$f":"B54*'Retirement Worksheet'!$B$12","v":{"$error":"#N/A"}},{"$f":"IF(ISERROR(A54),NA(),I53*(1+'Retirement Worksheet'!$B$29))","v":{"$error":"#N/A"}},{"$f":"IF(ISERROR(A54),NA(),J53*(1+'Retirement Worksheet'!$B$29))","v":{"$error":"#N/A"}},{"$error":"#N/A"},null,{"$f":"((('Retirement Calculations'!I54)+(J54*'Retirement Worksheet'!$B$20))*'Retirement Worksheet'!$B$13)+(H54*'Retirement Worksheet'!$B$14)","v":{"$error":"#N/A"}},{"$f":"(H54*'Retirement Worksheet'!$B$15)+IF('Retirement Worksheet'!$B$17=\"Yes\",'Retirement Calculations'!I54*'Retirement Worksheet'!$B$15,0)+IF('Retirement Worksheet'!$B$21=\"Yes\",'Retirement Calculations'!J54*'Retirement Worksheet'!$B$15,0)","v":{"$error":"#N/A"}},{"$f":"(H54*'Retirement Worksheet'!$B$16)+IF('Retirement Worksheet'!$B$17=\"Yes\",'Retirement Calculations'!I54*'Retirement Worksheet'!$B$16,0)+IF('Retirement Worksheet'!$B$21=\"Yes\",'Retirement Calculations'!J54*'Retirement Worksheet'!$B$16,0)","v":{"$error":"#N/A"}},null,{"$error":"#N/A"},{"$f":"IF(ISERROR(A54),NA(),R53*(1+'Retirement Worksheet'!$B$28))","v":{"$error":"#N/A"}},{"$error":"#N/A"}]
[{"$f":"IF(A54<'Retirement Worksheet'!$B$8,A54+1,NA())","v":{"$error":"#N/A"}},{"$error":"#N/A"},{"$f":"B55*'Retirement Worksheet'!$B$18","v":{"$error":"#N/A"}},{"$f":"B55*'Retirement Worksheet'!$B$30","v":{"$error":"#N/A"}},{"$error":"#N/A"},null,{"$f":"IF(ISERROR(A55),NA(),(G54*(1+'Retirement Worksheet'!$B$29)))","v":{"$error":"#N/A"}},{"$f":"B55*'Retirement Worksheet'!$B$12","v":{"$error":"#N/A"}},{"$f":"IF(ISERROR(A55),NA(),I54*(1+'Retirement Worksheet'!$B$29))","v":{"$error":"#N/A"}},{"$f":"IF(ISERROR(A55),NA(),J54*(1+'Retirement Worksheet'!$B$29))","v":{"$error":"#N/A"}},{"$error":"#N/A"},null,{"$f":"((('Retirement Calculations'!I55)+(J55*'Retirement Worksheet'!$B$20))*'Retirement Worksheet'!$B$13)+(H55*'Retirement Worksheet'!$B$14)","v":{"$error":"#N/A"}},{"$f":"(H55*'Retirement Worksheet'!$B$15)+IF('Retirement Worksheet'!$B$17=\"Yes\",'Retirement Calculations'!I55*'Retirement Worksheet'!$B$15,0)+IF('Retirement Worksheet'!$B$21=\"Yes\",'Retirement Calculations'!J55*'Retirement Worksheet'!$B$15,0)","v":{"$error":"#N/A"}},{"$f":"(H55*'Retirement Worksheet'!$B$16)+IF('Retirement Worksheet'!$B$17=\"Yes\",'Retirement Calculations'!I55*'Retirement Worksheet'!$B$16,0)+IF('Retirement Worksheet'!$B$21=\"Yes\",'Retirement Calculations'!J55*'Retirement Worksheet'!$B$16,0)","v":{"$error":"#N/A"}},null,{"$error":"#N/A"},{"$f":"IF(ISERROR(A55),NA(),R54*(1+'Retirement Worksheet'!$B$28))","v":{"$error":"#N/A"}},{"$error":"#N/A"}]
[{"$f":"IF(A55<'Retirement Worksheet'!$B$8,A55+1,NA())","v":{"$error":"#N/A"}},{"$error":"#N/A"},{"$f":"B56*'Retirement Worksheet'!$B$18","v":{"$error":"#N/A"}},{"$f":"B56*'Retirement Worksheet'!$B$30","v":{"$error":"#N/A"}},{"$error":"#N/A"},null,{"$f":"IF(ISERROR(A56),NA(),(G55*(1+'Retirement Worksheet'!$B$29)))","v":{"$error":"#N/A"}},{"$f":"B56*'Retirement Worksheet'!$B$12","v":{"$error":"#N/A"}},{"$f":"IF(ISERROR(A56),NA(),I55*(1+'Retirement Worksheet'!$B$29))","v":{"$error":"#N/A"}},{"$f":"IF(ISERROR(A56),NA(),J55*(1+'Retirement Worksheet'!$B$29))","v":{"$error":"#N/A"}},{"$error":"#N/A"},null,{"$f":"((('Retirement Calculations'!I56)+(J56*'Retirement Worksheet'!$B$20))*'Retirement Worksheet'!$B$13)+(H56*'Retirement Worksheet'!$B$14)","v":{"$error":"#N/A"}},{"$f":"(H56*'Retirement Worksheet'!$B$15)+IF('Retirement Worksheet'!$B$17=\"Yes\",'Retirement Calculations'!I56*'Retirement Worksheet'!$B$15,0)+IF('Retirement Worksheet'!$B$21=\"Yes\",'Retirement Calculations'!J56*'Retirement Worksheet'!$B$15,0)","v":{"$error":"#N/A"}},{"$f":"(H56*'Retirement Worksheet'!$B$16)+IF('Retirement Worksheet'!$B$17=\"Yes\",'Retirement Calculations'!I56*'Retirement Worksheet'!$B$16,0)+IF('Retirement Worksheet'!$B$21=\"Yes\",'Retirement Calculations'!J56*'Retirement Worksheet'!$B$16,0)","v":{"$error":"#N/A"}},null,{"$error":"#N/A"},{"$f":"IF(ISERROR(A56),NA(),R55*(1+'Retirement Worksheet'!$B$28))","v":{"$error":"#N/A"}},{"$error":"#N/A"}]
[{"$f":"IF(A56<'Retirement Worksheet'!$B$8,A56+1,NA())","v":{"$error":"#N/A"}},{"$error":"#N/A"},{"$f":"B57*'Retirement Worksheet'!$B$18","v":{"$error":"#N/A"}},{"$f":"B57*'Retirement Worksheet'!$B$30","v":{"$error":"#N/A"}},{"$error":"#N/A"},null,{"$f":"IF(ISERROR(A57),NA(),(G56*(1+'Retirement Worksheet'!$B$29)))","v":{"$error":"#N/A"}},{"$f":"B57*'Retirement Worksheet'!$B$12","v":{"$error":"#N/A"}},{"$f":"IF(ISERROR(A57),NA(),I56*(1+'Retirement Worksheet'!$B$29))","v":{"$error":"#N/A"}},{"$f":"IF(ISERROR(A57),NA(),J56*(1+'Retirement Worksheet'!$B$29))","v":{"$error":"#N/A"}},{"$error":"#N/A"},null,{"$f":"((('Retirement Calculations'!I57)+(J57*'Retirement Worksheet'!$B$20))*'Retirement Worksheet'!$B$13)+(H57*'Retirement Worksheet'!$B$14)","v":{"$error":"#N/A"}},{"$f":"(H57*'Retirement Worksheet'!$B$15)+IF('Retirement Worksheet'!$B$17=\"Yes\",'Retirement Calculations'!I57*'Retirement Worksheet'!$B$15,0)+IF('Retirement Worksheet'!$B$21=\"Yes\",'Retirement Calculations'!J57*'Retirement Worksheet'!$B$15,0)","v":{"$error":"#N/A"}},{"$f":"(H57*'Retirement Worksheet'!$B$16)+IF('Retirement Worksheet'!$B$17=\"Yes\",'Retirement Calculations'!I57*'Retirement Worksheet'!$B$16,0)+IF('Retirement Worksheet'!$B$21=\"Yes\",'Retirement Calculations'!J57*'Retirement Worksheet'!$B$16,0)","v":{"$error":"#N/A"}},null,{"$error":"#N/A"},{"$f":"IF(ISERROR(A57),NA(),R56*(1+'Retirement Worksheet'!$B$28))","v":{"$error":"#N/A"}},{"$error":"#N/A"}]
[{"$f":"IF(A57<'Retirement Worksheet'!$B$8,A57+1,NA())","v":{"$error":"#N/A"}},{"$error":"#N/A"},{"$f":"B58*'Retirement Worksheet'!$B$18","v":{"$error":"#N/A"}},{"$f":"B58*'Retirement Worksheet'!$B$30","v":{"$error":"#N/A"}},{"$error":"#N/A"},null,{"$f":"IF(ISERROR(A58),NA(),(G57*(1+'Retirement Worksheet'!$B$29)))","v":{"$error":"#N/A"}},{"$f":"B58*'Retirement Worksheet'!$B$12","v":{"$error":"#N/A"}},{"$f":"IF(ISERROR(A58),NA(),I57*(1+'Retirement Worksheet'!$B$29))","v":{"$error":"#N/A"}},{"$f":"IF(ISERROR(A58),NA(),J57*(1+'Retirement Worksheet'!$B$29))","v":{"$error":"#N/A"}},{"$error":"#N/A"},null,{"$f":"((('Retirement Calculations'!I58)+(J58*'Retirement Worksheet'!$B$20))*'Retirement Worksheet'!$B$13)+(H58*'Retirement Worksheet'!$B$14)","v":{"$error":"#N/A"}},{"$f":"(H58*'Retirement Worksheet'!$B$15)+IF('Retirement Worksheet'!$B$17=\"Yes\",'Retirement Calculations'!I58*'Retirement Worksheet'!$B$15,0)+IF('Retirement Worksheet'!$B$21=\"Yes\",'Retirement Calculations'!J58*'Retirement Worksheet'!$B$15,0)","v":{"$error":"#N/A"}},{"$f":"(H58*'Retirement Worksheet'!$B$16)+IF('Retirement Worksheet'!$B$17=\"Yes\",'Retirement Calculations'!I58*'Retirement Worksheet'!$B$16,0)+IF('Retirement Worksheet'!$B$21=\"Yes\",'Retirement Calculations'!J58*'Retirement Worksheet'!$B$16,0)","v":{"$error":"#N/A"}},null,{"$error":"#N/A"},{"$f":"IF(ISERROR(A58),NA(),R57*(1+'Retirement Worksheet'!$B$28))","v":{"$error":"#N/A"}},{"$error":"#N/A"}]
[{"$f":"IF(A58<'Retirement Worksheet'!$B$8,A58+1,NA())","v":{"$error":"#N/A"}},{"$error":"#N/A"},{"$f":"B59*'Retirement Worksheet'!$B$18","v":{"$error":"#N/A"}},{"$f":"B59*'Retirement Worksheet'!$B$30","v":{"$error":"#N/A"}},{"$error":"#N/A"},null,{"$f":"IF(ISERROR(A59),NA(),(G58*(1+'Retirement Worksheet'!$B$29)))","v":{"$error":"#N/A"}},{"$f":"B59*'Retirement Worksheet'!$B$12","v":{"$error":"#N/A"}},{"$f":"IF(ISERROR(A59),NA(),I58*(1+'Retirement Worksheet'!$B$29))","v":{"$error":"#N/A"}},{"$f":"IF(ISERROR(A59),NA(),J58*(1+'Retirement Worksheet'!$B$29))","v":{"$error":"#N/A"}},{"$error":"#N/A"},null,{"$f":"((('Retirement Calculations'!I59)+(J59*'Retirement Worksheet'!$B$20))*'Retirement Worksheet'!$B$13)+(H59*'Retirement Worksheet'!$B$14)","v":{"$error":"#N/A"}},{"$f":"(H59*'Retirement Worksheet'!$B$15)+IF('Retirement Worksheet'!$B$17=\"Yes\",'Retirement Calculations'!I59*'Retirement Worksheet'!$B$15,0)+IF('Retirement Worksheet'!$B$21=\"Yes\",'Retirement Calculations'!J59*'Retirement Worksheet'!$B$15,0)","v":{"$error":"#N/A"}},{"$f":"(H59*'Retirement Worksheet'!$B$16)+IF('Retirement Worksheet'!$B$17=\"Yes\",'Retirement Calculations'!I59*'Retirement Worksheet'!$B$16,0)+IF('Retirement Worksheet'!$B$21=\"Yes\",'Retirement Calculations'!J59*'Retirement Worksheet'!$B$16,0)","v":{"$error":"#N/A"}},null,{"$error":"#N/A"},{"$f":"IF(ISERROR(A59),NA(),R58*(1+'Retirement Worksheet'!$B$28))","v":{"$error":"#N/A"}},{"$error":"#N/A"}]
[{"$f":"IF(A59<'Retirement Worksheet'!$B$8,A59+1,NA())","v":{"$error":"#N/A"}},{"$error":"#N/A"},{"$f":"B60*'Retirement Worksheet'!$B$18","v":{"$error":"#N/A"}},{"$f":"B60*'Retirement Worksheet'!$B$30","v":{"$error":"#N/A"}},{"$error":"#N/A"},null,{"$f":"IF(ISERROR(A60),NA(),(G59*(1+'Retirement Worksheet'!$B$29)))","v":{"$error":"#N/A"}},{"$f":"B60*'Retirement Worksheet'!$B$12","v":{"$error":"#N/A"}},{"$f":"IF(ISERROR(A60),NA(),I59*(1+'Retirement Worksheet'!$B$29))","v":{"$error":"#N/A"}},{"$f":"IF(ISERROR(A60),NA(),J59*(1+'Retirement Worksheet'!$B$29))","v":{"$error":"#N/A"}},{"$error":"#N/A"},null,{"$f":"((('Retirement Calculations'!I60)+(J60*'Retirement Worksheet'!$B$20))*'Retirement Worksheet'!$B$13)+(H60*'Retirement Worksheet'!$B$14)","v":{"$error":"#N/A"}},{"$f":"(H60*'Retirement Worksheet'!$B$15)+IF('Retirement Worksheet'!$B$17=\"Yes\",'Retirement Calculations'!I60*'Retirement Worksheet'!$B$15,0)+IF('Retirement Worksheet'!$B$21=\"Yes\",'Retirement Calculations'!J60*'Retirement Worksheet'!$B$15,0)","v":{"$error":"#N/A"}},{"$f":"(H60*'Retirement Worksheet'!$B$16)+IF('Retirement Worksheet'!$B$17=\"Yes\",'Retirement Calculations'!I60*'Retirement Worksheet'!$B$16,0)+IF('Retirement Worksheet'!$B$21=\"Yes\",'Retirement Calculations'!J60*'Retirement Worksheet'!$B$16,0)","v":{"$error":"#N/A"}},null,{"$error":"#N/A"},{"$f":"IF(ISERROR(A60),NA(),R59*(1+'Retirement Worksheet'!$B$28))","v":{"$error":"#N/A"}},{"$error":"#N/A"}]
[{"$f":"IF(A60<'Retirement Worksheet'!$B$8,A60+1,NA())","v":{"$error":"#N/A"}},{"$error":"#N/A"},{"$f":"B61*'Retirement Worksheet'!$B$18","v":{"$error":"#N/A"}},{"$f":"B61*'Retirement Worksheet'!$B$30","v":{"$error":"#N/A"}},{"$error":"#N/A"},null,{"$f":"IF(ISERROR(A61),NA(),(G60*(1+'Retirement Worksheet'!$B$29)))","v":{"$error":"#N/A"}},{"$f":"B61*'Retirement Worksheet'!$B$12","v":{"$error":"#N/A"}},{"$f":"IF(ISERROR(A61),NA(),I60*(1+'Retirement Worksheet'!$B$29))","v":{"$error":"#N/A"}},{"$f":"IF(ISERROR(A61),NA(),J60*(1+'Retirement Worksheet'!$B$29))","v":{"$error":"#N/A"}},{"$error":"#N/A"},null,{"$f":"((('Retirement Calculations'!I61)+(J61*'Retirement Worksheet'!$B$20))*'Retirement Worksheet'!$B$13)+(H61*'Retirement Worksheet'!$B$14)","v":{"$error":"#N/A"}},{"$f":"(H61*'Retirement Worksheet'!$B$15)+IF('Retirement Worksheet'!$B$17=\"Yes\",'Retirement Calculations'!I61*'Retirement Worksheet'!$B$15,0)+IF('Retirement Worksheet'!$B$21=\"Yes\",'Retirement Calculations'!J61*'Retirement Worksheet'!$B$15,0)","v":{"$error":"#N/A"}},{"$f":"(H61*'Retirement Worksheet'!$B$16)+IF('Retirement Worksheet'!$B$17=\"Yes\",'Retirement Calculations'!I61*'Retirement Worksheet'!$B$16,0)+IF('Retirement Worksheet'!$B$21=\"Yes\",'Retirement Calculations'!J61*'Retirement Worksheet'!$B$16,0)","v":{"$error":"#N/A"}},null,{"$error":"#N/A"},{"$f":"IF(ISERROR(A61),NA(),R60*(1+'Retirement Worksheet'!$B$28))","v":{"$error":"#N/A"}},{"$error":"#N/A"}]
[{"$f":"IF(A61<'Retirement Worksheet'!$B$8,A61+1,NA())","v":{"$error":"#N/A"}},{"$error":"#N/A"},{"$f":"B62*'Retirement Worksheet'!$B$18","v":{"$error":"#N/A"}},{"$f":"B62*'Retirement Worksheet'!$B$30","v":{"$error":"#N/A"}},{"$error":"#N/A"},null,{"$f":"IF(ISERROR(A62),NA(),(G61*(1+'Retirement Worksheet'!$B$29)))","v":{"$error":"#N/A"}},{"$f":"B62*'Retirement Worksheet'!$B$12","v":{"$error":"#N/A"}},{"$f":"IF(ISERROR(A62),NA(),I61*(1+'Retirement Worksheet'!$B$29))","v":{"$error":"#N/A"}},{"$f":"IF(ISERROR(A62),NA(),J61*(1+'Retirement Worksheet'!$B$29))","v":{"$error":"#N/A"}},{"$error":"#N/A"},null,{"$f":"((('Retirement Calculations'!I62)+(J62*'Retirement Worksheet'!$B$20))*'Retirement Worksheet'!$B$13)+(H62*'Retirement Worksheet'!$B$14)","v":{"$error":"#N/A"}},{"$f":"(H62*'Retirement Worksheet'!$B$15)+IF('Retirement Worksheet'!$B$17=\"Yes\",'Retirement Calculations'!I62*'Retirement Worksheet'!$B$15,0)+IF('Retirement Worksheet'!$B$21=\"Yes\",'Retirement Calculations'!J62*'Retirement Worksheet'!$B$15,0)","v":{"$error":"#N/A"}},{"$f":"(H62*'Retirement Worksheet'!$B$16)+IF('Retirement Worksheet'!$B$17=\"Yes\",'Retirement Calculations'!I62*'Retirement Worksheet'!$B$16,0)+IF('Retirement Worksheet'!$B$21=\"Yes\",'Retirement Calculations'!J62*'Retirement Worksheet'!$B$16,0)","v":{"$error":"#N/A"}},null,{"$error":"#N/A"},{"$f":"IF(ISERROR(A62),NA(),R61*(1+'Retirement Worksheet'!$B$28))","v":{"$error":"#N/A"}},{"$error":"#N/A"}]
[{"$f":"IF(A62<'Retirement Worksheet'!$B$8,A62+1,NA())","v":{"$error":"#N/A"}},{"$error":"#N/A"},{"$f":"B63*'Retirement Worksheet'!$B$18","v":{"$error":"#N/A"}},{"$f":"B63*'Retirement Worksheet'!$B$30","v":{"$error":"#N/A"}},{"$error":"#N/A"},null,{"$f":"IF(ISERROR(A63),NA(),(G62*(1+'Retirement Worksheet'!$B$29)))","v":{"$error":"#N/A"}},{"$f":"B63*'Retirement Worksheet'!$B$12","v":{"$error":"#N/A"}},{"$f":"IF(ISERROR(A63),NA(),I62*(1+'Retirement Worksheet'!$B$29))","v":{"$error":"#N/A"}},{"$f":"IF(ISERROR(A63),NA(),J62*(1+'Retirement Worksheet'!$B$29))","v":{"$error":"#N/A"}},{"$error":"#N/A"},null,{"$f":"((('Retirement Calculations'!I63)+(J63*'Retirement Worksheet'!$B$20))*'Retirement Worksheet'!$B$13)+(H63*'Retirement Worksheet'!$B$14)","v":{"$error":"#N/A"}},{"$f":"(H63*'Retirement Worksheet'!$B$15)+IF('Retirement Worksheet'!$B$17=\"Yes\",'Retirement Calculations'!I63*'Retirement Worksheet'!$B$15,0)+IF('Retirement Worksheet'!$B$21=\"Yes\",'Retirement Calculations'!J63*'Retirement Worksheet'!$B$15,0)","v":{"$error":"#N/A"}},{"$f":"(H63*'Retirement Worksheet'!$B$16)+IF('Retirement Worksheet'!$B$17=\"Yes\",'Retirement Calculations'!I63*'Retirement Worksheet'!$B$16,0)+IF('Retirement Worksheet'!$B$21=\"Yes\",'Retirement Calculations'!J63*'Retirement Worksheet'!$B$16,0)","v":{"$error":"#N/A"}},null,{"$error":"#N/A"},{"$f":"IF(ISERROR(A63),NA(),R62*(1+'Retirement Worksheet'!$B$28))","v":{"$error":"#N/A"}},{"$error":"#N/A"}]
[{"$f":"IF(A63<'Retirement Worksheet'!$B$8,A63+1,NA())","v":{"$error":"#N/A"}},{"$error":"#N/A"},{"$f":"B64*'Retirement Worksheet'!$B$18","v":{"$error":"#N/A"}},{"$f":"B64*'Retirement Worksheet'!$B$30","v":{"$error":"#N/A"}},{"$error":"#N/A"},null,{"$f":"IF(ISERROR(A64),NA(),(G63*(1+'Retirement Worksheet'!$B$29)))","v":{"$error":"#N/A"}},{"$f":"B64*'Retirement Worksheet'!$B$12","v":{"$error":"#N/A"}},{"$f":"IF(ISERROR(A64),NA(),I63*(1+'Retirement Worksheet'!$B$29))","v":{"$error":"#N/A"}},{"$f":"IF(ISERROR(A64),NA(),J63*(1+'Retirement Worksheet'!$B$29))","v":{"$error":"#N/A"}},{"$error":"#N/A"},null,{"$f":"((('Retirement Calculations'!I64)+(J64*'Retirement Worksheet'!$B$20))*'Retirement Worksheet'!$B$13)+(H64*'Retirement Worksheet'!$B$14)","v":{"$error":"#N/A"}},{"$f":"(H64*'Retirement Worksheet'!$B$15)+IF('Retirement Worksheet'!$B$17=\"Yes\",'Retirement Calculations'!I64*'Retirement Worksheet'!$B$15,0)+IF('Retirement Worksheet'!$B$21=\"Yes\",'Retirement Calculations'!J64*'Retirement Worksheet'!$B$15,0)","v":{"$error":"#N/A"}},{"$f":"(H64*'Retirement Worksheet'!$B$16)+IF('Retirement Worksheet'!$B$17=\"Yes\",'Retirement Calculations'!I64*'Retirement Worksheet'!$B$16,0)+IF('Retirement Worksheet'!$B$21=\"Yes\",'Retirement Calculations'!J64*'Retirement Worksheet'!$B$16,0)","v":{"$error":"#N/A"}},null,{"$error":"#N/A"},{"$f":"IF(ISERROR(A64),NA(),R63*(1+'Retirement Worksheet'!$B$28))","v":{"$error":"#N/A"}},{"$error":"#N/A"}]
[{"$f":"IF(A64<'Retirement Worksheet'!$B$8,A64+1,NA())","v":{"$error":"#N/A"}},{"$error":"#N/A"},{"$f":"B65*'Retirement Worksheet'!$B$18","v":{"$error":"#N/A"}},{"$f":"B65*'Retirement Worksheet'!$B$30","v":{"$error":"#N/A"}},{"$error":"#N/A"},null,{"$f":"IF(ISERROR(A65),NA(),(G64*(1+'Retirement Worksheet'!$B$29)))","v":{"$error":"#N/A"}},{"$f":"B65*'Retirement Worksheet'!$B$12","v":{"$error":"#N/A"}},{"$f":"IF(ISERROR(A65),NA(),I64*(1+'Retirement Worksheet'!$B$29))","v":{"$error":"#N/A"}},{"$f":"IF(ISERROR(A65),NA(),J64*(1+'Retirement Worksheet'!$B$29))","v":{"$error":"#N/A"}},{"$error":"#N/A"},null,{"$f":"((('Retirement Calculations'!I65)+(J65*'Retirement Worksheet'!$B$20))*'Retirement Worksheet'!$B$13)+(H65*'Retirement Worksheet'!$B$14)","v":{"$error":"#N/A"}},{"$f":"(H65*'Retirement Worksheet'!$B$15)+IF('Retirement Worksheet'!$B$17=\"Yes\",'Retirement Calculations'!I65*'Retirement Worksheet'!$B$15,0)+IF('Retirement Worksheet'!$B$21=\"Yes\",'Retirement Calculations'!J65*'Retirement Worksheet'!$B$15,0)","v":{"$error":"#N/A"}},{"$f":"(H65*'Retirement Worksheet'!$B$16)+IF('Retirement Worksheet'!$B$17=\"Yes\",'Retirement Calculations'!I65*'Retirement Worksheet'!$B$16,0)+IF('Retirement Worksheet'!$B$21=\"Yes\",'Retirement Calculations'!J65*'Retirement Worksheet'!$B$16,0)","v":{"$error":"#N/A"}},null,{"$error":"#N/A"},{"$f":"IF(ISERROR(A65),NA(),R64*(1+'Retirement Worksheet'!$B$28))","v":{"$error":"#N/A"}},{"$error":"#N/A"}]
[{"$f":"IF(A65<'Retirement Worksheet'!$B$8,A65+1,NA())","v":{"$error":"#N/A"}},{"$error":"#N/A"},{"$f":"B66*'Retirement Worksheet'!$B$18","v":{"$error":"#N/A"}},{"$f":"B66*'Retirement Worksheet'!$B$30","v":{"$error":"#N/A"}},{"$error":"#N/A"},null,{"$f":"IF(ISERROR(A66),NA(),(G65*(1+'Retirement Worksheet'!$B$29)))","v":{"$error":"#N/A"}},{"$f":"B66*'Retirement Worksheet'!$B$12","v":{"$error":"#N/A"}},{"$f":"IF(ISERROR(A66),NA(),I65*(1+'Retirement Worksheet'!$B$29))","v":{"$error":"#N/A"}},{"$f":"IF(ISERROR(A66),NA(),J65*(1+'Retirement Worksheet'!$B$29))","v":{"$error":"#N/A"}},{"$error":"#N/A"},null,{"$f":"((('Retirement Calculations'!I66)+(J66*'Retirement Worksheet'!$B$20))*'Retirement Worksheet'!$B$13)+(H66*'Retirement Worksheet'!$B$14)","v":{"$error":"#N/A"}},{"$f":"(H66*'Retirement Worksheet'!$B$15)+IF('Retirement Worksheet'!$B$17=\"Yes\",'Retirement Calculations'!I66*'Retirement Worksheet'!$B$15,0)+IF('Retirement Worksheet'!$B$21=\"Yes\",'Retirement Calculations'!J66*'Retirement Worksheet'!$B$15,0)","v":{"$error":"#N/A"}},{"$f":"(H66*'Retirement Worksheet'!$B$16)+IF('Retirement Worksheet'!$B$17=\"Yes\",'Retirement Calculations'!I66*'Retirement Worksheet'!$B$16,0)+IF('Retirement Worksheet'!$B$21=\"Yes\",'Retirement Calculations'!J66*'Retirement Worksheet'!$B$16,0)","v":{"$error":"#N/A"}},null,{"$error":"#N/A"},{"$f":"IF(ISERROR(A66),NA(),R65*(1+'Retirement Worksheet'!$B$28))","v":{"$error":"#N/A"}},{"$error":"#N/A"}]
[{"$f":"IF(A66<'Retirement Worksheet'!$B$8,A66+1,NA())","v":{"$error":"#N/A"}},{"$error":"#N/A"},{"$f":"B67*'Retirement Worksheet'!$B$18","v":{"$error":"#N/A"}},{"$f":"B67*'Retirement Worksheet'!$B$30","v":{"$error":"#N/A"}},{"$error":"#N/A"},null,{"$f":"IF(ISERROR(A67),NA(),(G66*(1+'Retirement Worksheet'!$B$29)))","v":{"$error":"#N/A"}},{"$f":"B67*'Retirement Worksheet'!$B$12","v":{"$error":"#N/A"}},{"$f":"IF(ISERROR(A67),NA(),I66*(1+'Retirement Worksheet'!$B$29))","v":{"$error":"#N/A"}},{"$f":"IF(ISERROR(A67),NA(),J66*(1+'Retirement Worksheet'!$B$29))","v":{"$error":"#N/A"}},{"$error":"#N/A"},null,{"$f":"((('Retirement Calculations'!I67)+(J67*'Retirement Worksheet'!$B$20))*'Retirement Worksheet'!$B$13)+(H67*'Retirement Worksheet'!$B$14)","v":{"$error":"#N/A"}},{"$f":"(H67*'Retirement Worksheet'!$B$15)+IF('Retirement Worksheet'!$B$17=\"Yes\",'Retirement Calculations'!I67*'Retirement Worksheet'!$B$15,0)+IF('Retirement Worksheet'!$B$21=\"Yes\",'Retirement Calculations'!J67*'Retirement Worksheet'!$B$15,0)","v":{"$error":"#N/A"}},{"$f":"(H67*'Retirement Worksheet'!$B$16)+IF('Retirement Worksheet'!$B$17=\"Yes\",'Retirement Calculations'!I67*'Retirement Worksheet'!$B$16,0)+IF('Retirement Worksheet'!$B$21=\"Yes\",'Retirement Calculations'!J67*'Retirement Worksheet'!$B$16,0)","v":{"$error":"#N/A"}},null,{"$error":"#N/A"},{"$f":"IF(ISERROR(A67),NA(),R66*(1+'Retirement Worksheet'!$B$28))","v":{"$error":"#N/A"}},{"$error":"#N/A"}]
[{"$f":"IF(A67<'Retirement Worksheet'!$B$8,A67+1,NA())","v":{"$error":"#N/A"}},{"$error":"#N/A"},{"$f":"B68*'Retirement Worksheet'!$B$18","v":{"$error":"#N/A"}},{"$f":"B68*'Retirement Worksheet'!$B$30","v":{"$error":"#N/A"}},{"$error":"#N/A"},null,{"$f":"IF(ISERROR(A68),NA(),(G67*(1+'Retirement Worksheet'!$B$29)))","v":{"$error":"#N/A"}},{"$f":"B68*'Retirement Worksheet'!$B$12","v":{"$error":"#N/A"}},{"$f":"IF(ISERROR(A68),NA(),I67*(1+'Retirement Worksheet'!$B$29))","v":{"$error":"#N/A"}},{"$f":"IF(ISERROR(A68),NA(),J67*(1+'Retirement Worksheet'!$B$29))","v":{"$error":"#N/A"}},{"$f":"SUM(G68:J68)","v":{"$error":"#N/A"}},null,{"$f":"((('Retirement Calculations'!I68)+(J68*'Retirement Worksheet'!$B$20))*'Retirement Worksheet'!$B$13)+(H68*'Retirement Worksheet'!$B$14)","v":{"$error":"#N/A"}},{"$f":"(H68*'Retirement Worksheet'!$B$15)+IF('Retirement Worksheet'!$B$17=\"Yes\",'Retirement Calculations'!I68*'Retirement Worksheet'!$B$15,0)+IF('Retirement Worksheet'!$B$21=\"Yes\",'Retirement Calculations'!J68*'Retirement Worksheet'!$B$15,0)","v":{"$error":"#N/A"}},{"$f":"(H68*'Retirement Worksheet'!$B$16)+IF('Retirement Worksheet'!$B$17=\"Yes\",'Retirement Calculations'!I68*'Retirement Worksheet'!$B$16,0)+IF('Retirement Worksheet'!$B$21=\"Yes\",'Retirement Calculations'!J68*'Retirement Worksheet'!$B$16,0)","v":{"$error":"#N/A"}},null,{"$f":"SUM(G68:J68)-SUM(M68:O68)","v":{"$error":"#N/A"}},{"$f":"IF(ISERROR(A68),NA(),R67*(1+'Retirement Worksheet'!$B$28))","v":{"$error":"#N/A"}},{"$error":"#N/A"}]
[{"$f":"IF(A68<'Retirement Worksheet'!$B$8,A68+1,NA())","v":{"$error":"#N/A"}},{"$f":"IF(ISERROR(A69),NA(),E68-H68+S68)","v":{"$error":"#N/A"}},{"$f":"B69*'Retirement Worksheet'!$B$18","v":{"$error":"#N/A"}},{"$f":"B69*'Retirement Worksheet'!$B$30","v":{"$error":"#N/A"}},{"$error":"#N/A"},null,{"$f":"IF(ISERROR(A69),NA(),(G68*(1+'Retirement Worksheet'!$B$29)))","v":{"$error":"#N/A"}},{"$f":"B69*'Retirement Worksheet'!$B$12","v":{"$error":"#N/A"}},{"$f":"IF(ISERROR(A69),NA(),I68*(1+'Retirement Worksheet'!$B$29))","v":{"$error":"#N/A"}},{"$f":"IF(ISERROR(A69),NA(),J68*(1+'Retirement Worksheet'!$B$29))","v":{"$error":"#N/A"}},{"$error":"#N/A"},null,{"$f":"((('Retirement Calculations'!I69)+(J69*'Retirement Worksheet'!$B$20))*'Retirement Worksheet'!$B$13)+(H69*'Retirement Worksheet'!$B$14)","v":{"$error":"#N/A"}},{"$f":"(H69*'Retirement Worksheet'!$B$15)+IF('Retirement Worksheet'!$B$17=\"Yes\",'Retirement Calculations'!I69*'Retirement Worksheet'!$B$15,0)+IF('Retirement Worksheet'!$B$21=\"Yes\",'Retirement Calculations'!J69*'Retirement Worksheet'!$B$15,0)","v":{"$error":"#N/A"}},{"$f":"(H69*'Retirement Worksheet'!$B$16)+IF('Retirement Worksheet'!$B$17=\"Yes\",'Retirement Calculations'!I69*'Retirement Worksheet'!$B$16,0)+IF('Retirement Worksheet'!$B$21=\"Yes\",'Retirement Calculations'!J69*'Retirement Worksheet'!$B$16,0)","v":{"$error":"#N/A"}},null,{"$error":"#N/A"},{"$f":"IF(ISERROR(A69),NA(),R68*(1+'Retirement Worksheet'!$B$28))","v":{"$error":"#N/A"}},{"$error":"#N/A"}]
[{"$f":"IF(A69<'Retirement Worksheet'!$B$8,A69+1,NA())","v":{"$error":"#N/A"}},{"$error":"#N/A"},{"$f":"B70*'Retirement Worksheet'!$B$18","v":{"$error":"#N/A"}},{"$f":"B70*'Retirement Worksheet'!$B$30","v":{"$error":"#N/A"}},{"$error":"#N/A"},null,{"$f":"IF(ISERROR(A70),NA(),(G69*(1+'Retirement Worksheet'!$B$29)))","v":{"$error":"#N/A"}},{"$f":"B70*'Retirement Worksheet'!$B$12","v":{"$error":"#N/A"}},{"$f":"IF(ISERROR(A70),NA(),I69*(1+'Retirement Worksheet'!$B$29))","v":{"$error":"#N/A"}},{"$f":"IF(ISERROR(A70),NA(),J69*(1+'Retirement Worksheet'!$B$29))","v":{"$error":"#N/A"}},{"$error":"#N/A"},null,{"$f":"((('Retirement Calculations'!I70)+(J70*'Retirement Worksheet'!$B$20))*'Retirement Worksheet'!$B$13)+(H70*'Retirement Worksheet'!$B$14)","v":{"$error":"#N/A"}},{"$f":"(H70*'Retirement Worksheet'!$B$15)+IF('Retirement Worksheet'!$B$17=\"Yes\",'Retirement Calculations'!I70*'Retirement Worksheet'!$B$15,0)+IF('Retirement Worksheet'!$B$21=\"Yes\",'Retirement Calculations'!J70*'Retirement Worksheet'!$B$15,0)","v":{"$error":"#N/A"}},{"$f":"(H70*'Retirement Worksheet'!$B$16)+IF('Retirement Worksheet'!$B$17=\"Yes\",'Retirement Calculations'!I70*'Retirement Worksheet'!$B$16,0)+IF('Retirement Worksheet'!$B$21=\"Yes\",'Retirement Calculations'!J70*'Retirement Worksheet'!$B$16,0)","v":{"$error":"#N/A"}},null,{"$error":"#N/A"},{"$f":"IF(ISERROR(A70),NA(),R69*(1+'Retirement Worksheet'!$B$28))","v":{"$error":"#N/A"}},{"$error":"#N/A"}]
[{"$f":"IF(A70<'Retirement Worksheet'!$B$8,A70+1,NA())","v":{"$error":"#N/A"}},{"$error":"#N/A"},{"$f":"B71*'Retirement Worksheet'!$B$18","v":{"$error":"#N/A"}},{"$f":"B71*'Retirement Worksheet'!$B$30","v":{"$error":"#N/A"}},{"$f":"B71-C71+D71","v":{"$error":"#N/A"}},null,{"$f":"IF(ISERROR(A71),NA(),(G70*(1+'Retirement Worksheet'!$B$29)))","v":{"$error":"#N/A"}},{"$f":"B71*'Retirement Worksheet'!$B$12","v":{"$error":"#N/A"}},{"$f":"IF(ISERROR(A71),NA(),I70*(1+'Retirement Worksheet'!$B$29))","v":{"$error":"#N/A"}},{"$f":"IF(ISERROR(A71),NA(),J70*(1+'Retirement Worksheet'!$B$29))","v":{"$error":"#N/A"}},{"$error":"#N/A"},null,{"$f":"((('Retirement Calculations'!I71)+(J71*'Retirement Worksheet'!$B$20))*'Retirement Worksheet'!$B$13)+(H71*'Retirement Worksheet'!$B$14)","v":{"$error":"#N/A"}},{"$f":"(H71*'Retirement Worksheet'!$B$15)+IF('Retirement Worksheet'!$B$17=\"Yes\",'Retirement Calculations'!I71*'Retirement Worksheet'!$B$15,0)+IF('Retirement Worksheet'!$B$21=\"Yes\",'Retirement Calculations'!J71*'Retirement Worksheet'!$B$15,0)","v":{"$error":"#N/A"}},{"$f":"(H71*'Retirement Worksheet'!$B$16)+IF('Retirement Worksheet'!$B$17=\"Yes\",'Retirement Calculations'!I71*'Retirement Worksheet'!$B$16,0)+IF('Retirement Worksheet'!$B$21=\"Yes\",'Retirement Calculations'!J71*'Retirement Worksheet'!$B$16,0)","v":{"$error":"#N/A"}},null,{"$error":"#N/A"},{"$f":"IF(ISERROR(A71),NA(),R70*(1+'Retirement Worksheet'!$B$28))","v":{"$error":"#N/A"}},{"$f":"Q71-R71","v":{"$error":"#N/A"}}]
[{"$f":"IF(A71<'Retirement Worksheet'!$B$8,A71+1,NA())","v":{"$error":"#N/A"}},{"$error":"#N/A"},{"$f":"B72*'Retirement Worksheet'!$B$18","v":{"$error":"#N/A"}},{"$f":"B72*'Retirement Worksheet'!$B$30","v":{"$error":"#N/A"}},{"$error":"#N/A"},null,{"$f":"IF(ISERROR(A72),NA(),(G71*(1+'Retirement Worksheet'!$B$29)))","v":{"$error":"#N/A"}},{"$f":"B72*'Retirement Worksheet'!$B$12","v":{"$error":"#N/A"}},{"$f":"IF(ISERROR(A72),NA(),I71*(1+'Retirement Worksheet'!$B$29))","v":{"$error":"#N/A"}},{"$f":"IF(ISERROR(A72),NA(),J71*(1+'Retirement Worksheet'!$B$29))","v":{"$error":"#N/A"}},{"$error":"#N/A"},null,{"$f":"((('Retirement Calculations'!I72)+(J72*'Retirement Worksheet'!$B$20))*'Retirement Worksheet'!$B$13)+(H72*'Retirement Worksheet'!$B$14)","v":{"$error":"#N/A"}},{"$f":"(H72*'Retirement Worksheet'!$B$15)+IF('Retirement Worksheet'!$B$17=\"Yes\",'Retirement Calculations'!I72*'Retirement Worksheet'!$B$15,0)+IF('Retirement Worksheet'!$B$21=\"Yes\",'Retirement Calculations'!J72*'Retirement Worksheet'!$B$15,0)","v":{"$error":"#N/A"}},{"$f":"(H72*'Retirement Worksheet'!$B$16)+IF('Retirement Worksheet'!$B$17=\"Yes\",'Retirement Calculations'!I72*'Retirement Worksheet'!$B$16,0)+IF('Retirement Worksheet'!$B$21=\"Yes\",'Retirement Calculations'!J72*'Retirement Worksheet'!$B$16,0)","v":{"$error":"#N/A"}},null,{"$error":"#N/A"},{"$f":"IF(ISERROR(A72),NA(),R71*(1+'Retirement Worksheet'!$B$28))","v":{"$error":"#N/A"}},{"$error":"#N/A"}]
[{"$f":"IF(A72<'Retirement Worksheet'!$B$8,A72+1,NA())","v":{"$error":"#N/A"}},{"$error":"#N/A"},{"$f":"B73*'Retirement Worksheet'!$B$18","v":{"$error":"#N/A"}},{"$f":"B73*'Retirement Worksheet'!$B$30","v":{"$error":"#N/A"}},{"$error":"#N/A"},null,{"$f":"IF(ISERROR(A73),NA(),(G72*(1+'Retirement Worksheet'!$B$29)))","v":{"$error":"#N/A"}},{"$f":"B73*'Retirement Worksheet'!$B$12","v":{"$error":"#N/A"}},{"$f":"IF(ISERROR(A73),NA(),I72*(1+'Retirement Worksheet'!$B$29))","v":{"$error":"#N/A"}},{"$f":"IF(ISERROR(A73),NA(),J72*(1+'Retirement Worksheet'!$B$29))","v":{"$error":"#N/A"}},{"$error":"#N/A"},null,{"$f":"((('Retirement Calculations'!I73)+(J73*'Retirement Worksheet'!$B$20))*'Retirement Worksheet'!$B$13)+(H73*'Retirement Worksheet'!$B$14)","v":{"$error":"#N/A"}},{"$f":"(H73*'Retirement Worksheet'!$B$15)+IF('Retirement Worksheet'!$B$17=\"Yes\",'Retirement Calculations'!I73*'Retirement Worksheet'!$B$15,0)+IF('Retirement Worksheet'!$B$21=\"Yes\",'Retirement Calculations'!J73*'Retirement Worksheet'!$B$15,0)","v":{"$error":"#N/A"}},{"$f":"(H73*'Retirement Worksheet'!$B$16)+IF('Retirement Worksheet'!$B$17=\"Yes\",'Retirement Calculations'!I73*'Retirement Worksheet'!$B$16,0)+IF('Retirement Worksheet'!$B$21=\"Yes\",'Retirement Calculations'!J73*'Retirement Worksheet'!$B$16,0)","v":{"$error":"#N/A"}},null,{"$error":"#N/A"},{"$f":"IF(ISERROR(A73),NA(),R72*(1+'Retirement Worksheet'!$B$28))","v":{"$error":"#N/A"}},{"$error":"#N/A"}]
[{"$f":"IF(A73<'Retirement Worksheet'!$B$8,A73+1,NA())","v":{"$error":"#N/A"}},{"$error":"#N/A"},{"$f":"B74*'Retirement Worksheet'!$B$18","v":{"$error":"#N/A"}},{"$f":"B74*'Retirement Worksheet'!$B$30","v":{"$error":"#N/A"}},{"$error":"#N/A"},null,{"$f":"IF(ISERROR(A74),NA(),(G73*(1+'Retirement Worksheet'!$B$29)))","v":{"$error":"#N/A"}},{"$f":"B74*'Retirement Worksheet'!$B$12","v":{"$error":"#N/A"}},{"$f":"IF(ISERROR(A74),NA(),I73*(1+'Retirement Worksheet'!$B$29))","v":{"$error":"#N/A"}},{"$f":"IF(ISERROR(A74),NA(),J73*(1+'Retirement Worksheet'!$B$29))","v":{"$error":"#N/A"}},{"$error":"#N/A"},null,{"$f":"((('Retirement Calculations'!I74)+(J74*'Retirement Worksheet'!$B$20))*'Retirement Worksheet'!$B$13)+(H74*'Retirement Worksheet'!$B$14)","v":{"$error":"#N/A"}},{"$f":"(H74*'Retirement Worksheet'!$B$15)+IF('Retirement Worksheet'!$B$17=\"Yes\",'Retirement Calculations'!I74*'Retirement Worksheet'!$B$15,0)+IF('Retirement Worksheet'!$B$21=\"Yes\",'Retirement Calculations'!J74*'Retirement Worksheet'!$B$15,0)","v":{"$error":"#N/A"}},{"$f":"(H74*'Retirement Worksheet'!$B$16)+IF('Retirement Worksheet'!$B$17=\"Yes\",'Retirement Calculations'!I74*'Retirement Worksheet'!$B$16,0)+IF('Retirement Worksheet'!$B$21=\"Yes\",'Retirement Calculations'!J74*'Retirement Worksheet'!$B$16,0)","v":{"$error":"#N/A"}},null,{"$error":"#N/A"},{"$f":"IF(ISERROR(A74),NA(),R73*(1+'Retirement Worksheet'!$B$28))","v":{"$error":"#N/A"}},{"$error":"#N/A"}]
[{"$f":"IF(A74<'Retirement Worksheet'!$B$8,A74+1,NA())","v":{"$error":"#N/A"}},{"$error":"#N/A"},{"$f":"B75*'Retirement Worksheet'!$B$18","v":{"$error":"#N/A"}},{"$f":"B75*'Retirement Worksheet'!$B$30","v":{"$error":"#N/A"}},{"$error":"#N/A"},null,{"$f":"IF(ISERROR(A75),NA(),(G74*(1+'Retirement Worksheet'!$B$29)))","v":{"$error":"#N/A"}},{"$f":"B75*'Retirement Worksheet'!$B$12","v":{"$error":"#N/A"}},{"$f":"IF(ISERROR(A75),NA(),I74*(1+'Retirement Worksheet'!$B$29))","v":{"$error":"#N/A"}},{"$f":"IF(ISERROR(A75),NA(),J74*(1+'Retirement Worksheet'!$B$29))","v":{"$error":"#N/A"}},{"$error":"#N/A"},null,{"$f":"((('Retirement Calculations'!I75)+(J75*'Retirement Worksheet'!$B$20))*'Retirement Worksheet'!$B$13)+(H75*'Retirement Worksheet'!$B$14)","v":{"$error":"#N/A"}},{"$f":"(H75*'Retirement Worksheet'!$B$15)+IF('Retirement Worksheet'!$B$17=\"Yes\",'Retirement Calculations'!I75*'Retirement Worksheet'!$B$15,0)+IF('Retirement Worksheet'!$B$21=\"Yes\",'Retirement Calculations'!J75*'Retirement Worksheet'!$B$15,0)","v":{"$error":"#N/A"}},{"$f":"(H75*'Retirement Worksheet'!$B$16)+IF('Retirement Worksheet'!$B$17=\"Yes\",'Retirement Calculations'!I75*'Retirement Worksheet'!$B$16,0)+IF('Retirement Worksheet'!$B$21=\"Yes\",'Retirement Calculations'!J75*'Retirement Worksheet'!$B$16,0)","v":{"$error":"#N/A"}},null,{"$error":"#N/A"},{"$f":"IF(ISERROR(A75),NA(),R74*(1+'Retirement Worksheet'!$B$28))","v":{"$error":"#N/A"}},{"$error":"#N/A"}]
[{"$f":"IF(A75<'Retirement Worksheet'!$B$8,A75+1,NA())","v":{"$error":"#N/A"}},{"$error":"#N/A"},{"$f":"B76*'Retirement Worksheet'!$B$18","v":{"$error":"#N/A"}},{"$f":"B76*'Retirement Worksheet'!$B$30","v":{"$error":"#N/A"}},{"$error":"#N/A"},null,{"$f":"IF(ISERROR(A76),NA(),(G75*(1+'Retirement Worksheet'!$B$29)))","v":{"$error":"#N/A"}},{"$f":"B76*'Retirement Worksheet'!$B$12","v":{"$error":"#N/A"}},{"$f":"IF(ISERROR(A76),NA(),I75*(1+'Retirement Worksheet'!$B$29))","v":{"$error":"#N/A"}},{"$f":"IF(ISERROR(A76),NA(),J75*(1+'Retirement Worksheet'!$B$29))","v":{"$error":"#N/A"}},{"$error":"#N/A"},null,{"$f":"((('Retirement Calculations'!I76)+(J76*'Retirement Worksheet'!$B$20))*'Retirement Worksheet'!$B$13)+(H76*'Retirement Worksheet'!$B$14)","v":{"$error":"#N/A"}},{"$f":"(H76*'Retirement Worksheet'!$B$15)+IF('Retirement Worksheet'!$B$17=\"Yes\",'Retirement Calculations'!I76*'Retirement Worksheet'!$B$15,0)+IF('Retirement Worksheet'!$B$21=\"Yes\",'Retirement Calculations'!J76*'Retirement Worksheet'!$B$15,0)","v":{"$error":"#N/A"}},{"$f":"(H76*'Retirement Worksheet'!$B$16)+IF('Retirement Worksheet'!$B$17=\"Yes\",'Retirement Calculations'!I76*'Retirement Worksheet'!$B$16,0)+IF('Retirement Worksheet'!$B$21=\"Yes\",'Retirement Calculations'!J76*'Retirement Worksheet'!$B$16,0)","v":{"$error":"#N/A"}},null,{"$error":"#N/A"},{"$f":"IF(ISERROR(A76),NA(),R75*(1+'Retirement Worksheet'!$B$28))","v":{"$error":"#N/A"}},{"$error":"#N/A"}]
[{"$f":"IF(A76<'Retirement Worksheet'!$B$8,A76+1,NA())","v":{"$error":"#N/A"}},{"$error":"#N/A"},{"$f":"B77*'Retirement Worksheet'!$B$18","v":{"$error":"#N/A"}},{"$f":"B77*'Retirement Worksheet'!$B$30","v":{"$error":"#N/A"}},{"$error":"#N/A"},null,{"$f":"IF(ISERROR(A77),NA(),(G76*(1+'Retirement Worksheet'!$B$29)))","v":{"$error":"#N/A"}},{"$f":"B77*'Retirement Worksheet'!$B$12","v":{"$error":"#N/A"}},{"$f":"IF(ISERROR(A77),NA(),I76*(1+'Retirement Worksheet'!$B$29))","v":{"$error":"#N/A"}},{"$f":"IF(ISERROR(A77),NA(),J76*(1+'Retirement Worksheet'!$B$29))","v":{"$error":"#N/A"}},{"$error":"#N/A"},null,{"$f":"((('Retirement Calculations'!I77)+(J77*'Retirement Worksheet'!$B$20))*'Retirement Worksheet'!$B$13)+(H77*'Retirement Worksheet'!$B$14)","v":{"$error":"#N/A"}},{"$f":"(H77*'Retirement Worksheet'!$B$15)+IF('Retirement Worksheet'!$B$17=\"Yes\",'Retirement Calculations'!I77*'Retirement Worksheet'!$B$15,0)+IF('Retirement Worksheet'!$B$21=\"Yes\",'Retirement Calculations'!J77*'Retirement Worksheet'!$B$15,0)","v":{"$error":"#N/A"}},{"$f":"(H77*'Retirement Worksheet'!$B$16)+IF('Retirement Worksheet'!$B$17=\"Yes\",'Retirement Calculations'!I77*'Retirement Worksheet'!$B$16,0)+IF('Retirement Worksheet'!$B$21=\"Yes\",'Retirement Calculations'!J77*'Retirement Worksheet'!$B$16,0)","v":{"$error":"#N/A"}},null,{"$error":"#N/A"},{"$f":"IF(ISERROR(A77),NA(),R76*(1+'Retirement Worksheet'!$B$28))","v":{"$error":"#N/A"}},{"$error":"#N/A"}]
[{"$f":"IF(A77<'Retirement Worksheet'!$B$8,A77+1,NA())","v":{"$error":"#N/A"}},{"$error":"#N/A"},{"$f":"B78*'Retirement Worksheet'!$B$18","v":{"$error":"#N/A"}},{"$f":"B78*'Retirement Worksheet'!$B$30","v":{"$error":"#N/A"}},{"$error":"#N/A"},null,{"$f":"IF(ISERROR(A78),NA(),(G77*(1+'Retirement Worksheet'!$B$29)))","v":{"$error":"#N/A"}},{"$f":"B78*'Retirement Worksheet'!$B$12","v":{"$error":"#N/A"}},{"$f":"IF(ISERROR(A78),NA(),I77*(1+'Retirement Worksheet'!$B$29))","v":{"$error":"#N/A"}},{"$f":"IF(ISERROR(A78),NA(),J77*(1+'Retirement Worksheet'!$B$29))","v":{"$error":"#N/A"}},{"$error":"#N/A"},null,{"$f":"((('Retirement Calculations'!I78)+(J78*'Retirement Worksheet'!$B$20))*'Retirement Worksheet'!$B$13)+(H78*'Retirement Worksheet'!$B$14)","v":{"$error":"#N/A"}},{"$f":"(H78*'Retirement Worksheet'!$B$15)+IF('Retirement Worksheet'!$B$17=\"Yes\",'Retirement Calculations'!I78*'Retirement Worksheet'!$B$15,0)+IF('Retirement Worksheet'!$B$21=\"Yes\",'Retirement Calculations'!J78*'Retirement Worksheet'!$B$15,0)","v":{"$error":"#N/A"}},{"$f":"(H78*'Retirement Worksheet'!$B$16)+IF('Retirement Worksheet'!$B$17=\"Yes\",'Retirement Calculations'!I78*'Retirement Worksheet'!$B$16,0)+IF('Retirement Worksheet'!$B$21=\"Yes\",'Retirement Calculations'!J78*'Retirement Worksheet'!$B$16,0)","v":{"$error":"#N/A"}},null,{"$error":"#N/A"},{"$f":"IF(ISERROR(A78),NA(),R77*(1+'Retirement Worksheet'!$B$28))","v":{"$error":"#N/A"}},{"$error":"#N/A"}]
[{"$f":"IF(A78<'Retirement Worksheet'!$B$8,A78+1,NA())","v":{"$error":"#N/A"}},{"$error":"#N/A"},{"$f":"B79*'Retirement Worksheet'!$B$18","v":{"$error":"#N/A"}},{"$f":"B79*'Retirement Worksheet'!$B$30","v":{"$error":"#N/A"}},{"$error":"#N/A"},null,{"$f":"IF(ISERROR(A79),NA(),(G78*(1+'Retirement Worksheet'!$B$29)))","v":{"$error":"#N/A"}},{"$f":"B79*'Retirement Worksheet'!$B$12","v":{"$error":"#N/A"}},{"$f":"IF(ISERROR(A79),NA(),I78*(1+'Retirement Worksheet'!$B$29))","v":{"$error":"#N/A"}},{"$f":"IF(ISERROR(A79),NA(),J78*(1+'Retirement Worksheet'!$B$29))","v":{"$error":"#N/A"}},{"$error":"#N/A"},null,{"$f":"((('Retirement Calculations'!I79)+(J79*'Retirement Worksheet'!$B$20))*'Retirement Worksheet'!$B$13)+(H79*'Retirement Worksheet'!$B$14)","v":{"$error":"#N/A"}},{"$f":"(H79*'Retirement Worksheet'!$B$15)+IF('Retirement Worksheet'!$B$17=\"Yes\",'Retirement Calculations'!I79*'Retirement Worksheet'!$B$15,0)+IF('Retirement Worksheet'!$B$21=\"Yes\",'Retirement Calculations'!J79*'Retirement Worksheet'!$B$15,0)","v":{"$error":"#N/A"}},{"$f":"(H79*'Retirement Worksheet'!$B$16)+IF('Retirement Worksheet'!$B$17=\"Yes\",'Retirement Calculations'!I79*'Retirement Worksheet'!$B$16,0)+IF('Retirement Worksheet'!$B$21=\"Yes\",'Retirement Calculations'!J79*'Retirement Worksheet'!$B$16,0)","v":{"$error":"#N/A"}},null,{"$error":"#N/A"},{"$f":"IF(ISERROR(A79),NA(),R78*(1+'Retirement Worksheet'!$B$28))","v":{"$error":"#N/A"}},{"$error":"#N/A"}]
[{"$f":"IF(A79<'Retirement Worksheet'!$B$8,A79+1,NA())","v":{"$error":"#N/A"}},{"$error":"#N/A"},{"$f":"B80*'Retirement Worksheet'!$B$18","v":{"$error":"#N/A"}},{"$f":"B80*'Retirement Worksheet'!$B$30","v":{"$error":"#N/A"}},{"$error":"#N/A"},null,{"$f":"IF(ISERROR(A80),NA(),(G79*(1+'Retirement Worksheet'!$B$29)))","v":{"$error":"#N/A"}},{"$f":"B80*'Retirement Worksheet'!$B$12","v":{"$error":"#N/A"}},{"$f":"IF(ISERROR(A80),NA(),I79*(1+'Retirement Worksheet'!$B$29))","v":{"$error":"#N/A"}},{"$f":"IF(ISERROR(A80),NA(),J79*(1+'Retirement Worksheet'!$B$29))","v":{"$error":"#N/A"}},{"$error":"#N/A"},null,{"$f":"((('Retirement Calculations'!I80)+(J80*'Retirement Worksheet'!$B$20))*'Retirement Worksheet'!$B$13)+(H80*'Retirement Worksheet'!$B$14)","v":{"$error":"#N/A"}},{"$f":"(H80*'Retirement Worksheet'!$B$15)+IF('Retirement Worksheet'!$B$17=\"Yes\",'Retirement Calculations'!I80*'Retirement Worksheet'!$B$15,0)+IF('Retirement Worksheet'!$B$21=\"Yes\",'Retirement Calculations'!J80*'Retirement Worksheet'!$B$15,0)","v":{"$error":"#N/A"}},{"$f":"(H80*'Retirement Worksheet'!$B$16)+IF('Retirement Worksheet'!$B$17=\"Yes\",'Retirement Calculations'!I80*'Retirement Worksheet'!$B$16,0)+IF('Retirement Worksheet'!$B$21=\"Yes\",'Retirement Calculations'!J80*'Retirement Worksheet'!$B$16,0)","v":{"$error":"#N/A"}},null,{"$error":"#N/A"},{"$f":"IF(ISERROR(A80),NA(),R79*(1+'Retirement Worksheet'!$B$28))","v":{"$error":"#N/A"}},{"$error":"#N/A"}]
[{"$f":"IF(A80<'Retirement Worksheet'!$B$8,A80+1,NA())","v":{"$error":"#N/A"}},{"$error":"#N/A"},{"$f":"B81*'Retirement Worksheet'!$B$18","v":{"$error":"#N/A"}},{"$f":"B81*'Retirement Worksheet'!$B$30","v":{"$error":"#N/A"}},{"$error":"#N/A"},null,{"$f":"IF(ISERROR(A81),NA(),(G80*(1+'Retirement Worksheet'!$B$29)))","v":{"$error":"#N/A"}},{"$f":"B81*'Retirement Worksheet'!$B$12","v":{"$error":"#N/A"}},{"$f":"IF(ISERROR(A81),NA(),I80*(1+'Retirement Worksheet'!$B$29))","v":{"$error":"#N/A"}},{"$f":"IF(ISERROR(A81),NA(),J80*(1+'Retirement Worksheet'!$B$29))","v":{"$error":"#N/A"}},{"$error":"#N/A"},null,{"$f":"((('Retirement Calculations'!I81)+(J81*'Retirement Worksheet'!$B$20))*'Retirement Worksheet'!$B$13)+(H81*'Retirement Worksheet'!$B$14)","v":{"$error":"#N/A"}},{"$f":"(H81*'Retirement Worksheet'!$B$15)+IF('Retirement Worksheet'!$B$17=\"Yes\",'Retirement Calculations'!I81*'Retirement Worksheet'!$B$15,0)+IF('Retirement Worksheet'!$B$21=\"Yes\",'Retirement Calculations'!J81*'Retirement Worksheet'!$B$15,0)","v":{"$error":"#N/A"}},{"$f":"(H81*'Retirement Worksheet'!$B$16)+IF('Retirement Worksheet'!$B$17=\"Yes\",'Retirement Calculations'!I81*'Retirement Worksheet'!$B$16,0)+IF('Retirement Worksheet'!$B$21=\"Yes\",'Retirement Calculations'!J81*'Retirement Worksheet'!$B$16,0)","v":{"$error":"#N/A"}},null,{"$error":"#N/A"},{"$f":"IF(ISERROR(A81),NA(),R80*(1+'Retirement Worksheet'!$B$28))","v":{"$error":"#N/A"}},{"$error":"#N/A"}]
[{"$f":"IF(A81<'Retirement Worksheet'!$B$8,A81+1,NA())","v":{"$error":"#N/A"}},{"$error":"#N/A"},{"$f":"B82*'Retirement Worksheet'!$B$18","v":{"$error":"#N/A"}},{"$f":"B82*'Retirement Worksheet'!$B$30","v":{"$error":"#N/A"}},{"$error":"#N/A"},null,{"$f":"IF(ISERROR(A82),NA(),(G81*(1+'Retirement Worksheet'!$B$29)))","v":{"$error":"#N/A"}},{"$f":"B82*'Retirement Worksheet'!$B$12","v":{"$error":"#N/A"}},{"$f":"IF(ISERROR(A82),NA(),I81*(1+'Retirement Worksheet'!$B$29))","v":{"$error":"#N/A"}},{"$f":"IF(ISERROR(A82),NA(),J81*(1+'Retirement Worksheet'!$B$29))","v":{"$error":"#N/A"}},{"$error":"#N/A"},null,{"$f":"((('Retirement Calculations'!I82)+(J82*'Retirement Worksheet'!$B$20))*'Retirement Worksheet'!$B$13)+(H82*'Retirement Worksheet'!$B$14)","v":{"$error":"#N/A"}},{"$f":"(H82*'Retirement Worksheet'!$B$15)+IF('Retirement Worksheet'!$B$17=\"Yes\",'Retirement Calculations'!I82*'Retirement Worksheet'!$B$15,0)+IF('Retirement Worksheet'!$B$21=\"Yes\",'Retirement Calculations'!J82*'Retirement Worksheet'!$B$15,0)","v":{"$error":"#N/A"}},{"$f":"(H82*'Retirement Worksheet'!$B$16)+IF('Retirement Worksheet'!$B$17=\"Yes\",'Retirement Calculations'!I82*'Retirement Worksheet'!$B$16,0)+IF('Retirement Worksheet'!$B$21=\"Yes\",'Retirement Calculations'!J82*'Retirement Worksheet'!$B$16,0)","v":{"$error":"#N/A"}},null,{"$error":"#N/A"},{"$f":"IF(ISERROR(A82),NA(),R81*(1+'Retirement Worksheet'!$B$28))","v":{"$error":"#N/A"}},{"$error":"#N/A"}]
[{"$f":"IF(A82<'Retirement Worksheet'!$B$8,A82+1,NA())","v":{"$error":"#N/A"}},{"$error":"#N/A"},{"$f":"B83*'Retirement Worksheet'!$B$18","v":{"$error":"#N/A"}},{"$f":"B83*'Retirement Worksheet'!$B$30","v":{"$error":"#N/A"}},{"$error":"#N/A"},null,{"$f":"IF(ISERROR(A83),NA(),(G82*(1+'Retirement Worksheet'!$B$29)))","v":{"$error":"#N/A"}},{"$f":"B83*'Retirement Worksheet'!$B$12","v":{"$error":"#N/A"}},{"$f":"IF(ISERROR(A83),NA(),I82*(1+'Retirement Worksheet'!$B$29))","v":{"$error":"#N/A"}},{"$f":"IF(ISERROR(A83),NA(),J82*(1+'Retirement Worksheet'!$B$29))","v":{"$error":"#N/A"}},{"$error":"#N/A"},null,{"$f":"((('Retirement Calculations'!I83)+(J83*'Retirement Worksheet'!$B$20))*'Retirement Worksheet'!$B$13)+(H83*'Retirement Worksheet'!$B$14)","v":{"$error":"#N/A"}},{"$f":"(H83*'Retirement Worksheet'!$B$15)+IF('Retirement Worksheet'!$B$17=\"Yes\",'Retirement Calculations'!I83*'Retirement Worksheet'!$B$15,0)+IF('Retirement Worksheet'!$B$21=\"Yes\",'Retirement Calculations'!J83*'Retirement Worksheet'!$B$15,0)","v":{"$error":"#N/A"}},{"$f":"(H83*'Retirement Worksheet'!$B$16)+IF('Retirement Worksheet'!$B$17=\"Yes\",'Retirement Calculations'!I83*'Retirement Worksheet'!$B$16,0)+IF('Retirement Worksheet'!$B$21=\"Yes\",'Retirement Calculations'!J83*'Retirement Worksheet'!$B$16,0)","v":{"$error":"#N/A"}},null,{"$error":"#N/A"},{"$f":"IF(ISERROR(A83),NA(),R82*(1+'Retirement Worksheet'!$B$28))","v":{"$error":"#N/A"}},{"$error":"#N/A"}]
[{"$f":"IF(A83<'Retirement Worksheet'!$B$8,A83+1,NA())","v":{"$error":"#N/A"}},{"$error":"#N/A"},{"$f":"B84*'Retirement Worksheet'!$B$18","v":{"$error":"#N/A"}},{"$f":"B84*'Retirement Worksheet'!$B$30","v":{"$error":"#N/A"}},{"$error":"#N/A"},null,{"$f":"IF(ISERROR(A84),NA(),(G83*(1+'Retirement Worksheet'!$B$29)))","v":{"$error":"#N/A"}},{"$f":"B84*'Retirement Worksheet'!$B$12","v":{"$error":"#N/A"}},{"$f":"IF(ISERROR(A84),NA(),I83*(1+'Retirement Worksheet'!$B$29))","v":{"$error":"#N/A"}},{"$f":"IF(ISERROR(A84),NA(),J83*(1+'Retirement Worksheet'!$B$29))","v":{"$error":"#N/A"}},{"$error":"#N/A"},null,{"$f":"((('Retirement Calculations'!I84)+(J84*'Retirement Worksheet'!$B$20))*'Retirement Worksheet'!$B$13)+(H84*'Retirement Worksheet'!$B$14)","v":{"$error":"#N/A"}},{"$f":"(H84*'Retirement Worksheet'!$B$15)+IF('Retirement Worksheet'!$B$17=\"Yes\",'Retirement Calculations'!I84*'Retirement Worksheet'!$B$15,0)+IF('Retirement Worksheet'!$B$21=\"Yes\",'Retirement Calculations'!J84*'Retirement Worksheet'!$B$15,0)","v":{"$error":"#N/A"}},{"$f":"(H84*'Retirement Worksheet'!$B$16)+IF('Retirement Worksheet'!$B$17=\"Yes\",'Retirement Calculations'!I84*'Retirement Worksheet'!$B$16,0)+IF('Retirement Worksheet'!$B$21=\"Yes\",'Retirement Calculations'!J84*'Retirement Worksheet'!$B$16,0)","v":{"$error":"#N/A"}},null,{"$error":"#N/A"},{"$f":"IF(ISERROR(A84),NA(),R83*(1+'Retirement Worksheet'!$B$28))","v":{"$error":"#N/A"}},{"$error":"#N/A"}]
[{"$f":"IF(A84<'Retirement Worksheet'!$B$8,A84+1,NA())","v":{"$error":"#N/A"}},{"$error":"#N/A"},{"$f":"B85*'Retirement Worksheet'!$B$18","v":{"$error":"#N/A"}},{"$f":"B85*'Retirement Worksheet'!$B$30","v":{"$error":"#N/A"}},{"$error":"#N/A"},null,{"$f":"IF(ISERROR(A85),NA(),(G84*(1+'Retirement Worksheet'!$B$29)))","v":{"$error":"#N/A"}},{"$f":"B85*'Retirement Worksheet'!$B$12","v":{"$error":"#N/A"}},{"$f":"IF(ISERROR(A85),NA(),I84*(1+'Retirement Worksheet'!$B$29))","v":{"$error":"#N/A"}},{"$f":"IF(ISERROR(A85),NA(),J84*(1+'Retirement Worksheet'!$B$29))","v":{"$error":"#N/A"}},{"$error":"#N/A"},null,{"$f":"((('Retirement Calculations'!I85)+(J85*'Retirement Worksheet'!$B$20))*'Retirement Worksheet'!$B$13)+(H85*'Retirement Worksheet'!$B$14)","v":{"$error":"#N/A"}},{"$f":"(H85*'Retirement Worksheet'!$B$15)+IF('Retirement Worksheet'!$B$17=\"Yes\",'Retirement Calculations'!I85*'Retirement Worksheet'!$B$15,0)+IF('Retirement Worksheet'!$B$21=\"Yes\",'Retirement Calculations'!J85*'Retirement Worksheet'!$B$15,0)","v":{"$error":"#N/A"}},{"$f":"(H85*'Retirement Worksheet'!$B$16)+IF('Retirement Worksheet'!$B$17=\"Yes\",'Retirement Calculations'!I85*'Retirement Worksheet'!$B$16,0)+IF('Retirement Worksheet'!$B$21=\"Yes\",'Retirement Calculations'!J85*'Retirement Worksheet'!$B$16,0)","v":{"$error":"#N/A"}},null,{"$error":"#N/A"},{"$f":"IF(ISERROR(A85),NA(),R84*(1+'Retirement Worksheet'!$B$28))","v":{"$error":"#N/A"}},{"$error":"#N/A"}]
[{"$f":"IF(A85<'Retirement Worksheet'!$B$8,A85+1,NA())","v":{"$error":"#N/A"}},{"$error":"#N/A"},{"$f":"B86*'Retirement Worksheet'!$B$18","v":{"$error":"#N/A"}},{"$f":"B86*'Retirement Worksheet'!$B$30","v":{"$error":"#N/A"}},{"$error":"#N/A"},null,{"$f":"IF(ISERROR(A86),NA(),(G85*(1+'Retirement Worksheet'!$B$29)))","v":{"$error":"#N/A"}},{"$f":"B86*'Retirement Worksheet'!$B$12","v":{"$error":"#N/A"}},{"$f":"IF(ISERROR(A86),NA(),I85*(1+'Retirement Worksheet'!$B$29))","v":{"$error":"#N/A"}},{"$f":"IF(ISERROR(A86),NA(),J85*(1+'Retirement Worksheet'!$B$29))","v":{"$error":"#N/A"}},{"$error":"#N/A"},null,{"$f":"((('Retirement Calculations'!I86)+(J86*'Retirement Worksheet'!$B$20))*'Retirement Worksheet'!$B$13)+(H86*'Retirement Worksheet'!$B$14)","v":{"$error":"#N/A"}},{"$f":"(H86*'Retirement Worksheet'!$B$15)+IF('Retirement Worksheet'!$B$17=\"Yes\",'Retirement Calculations'!I86*'Retirement Worksheet'!$B$15,0)+IF('Retirement Worksheet'!$B$21=\"Yes\",'Retirement Calculations'!J86*'Retirement Worksheet'!$B$15,0)","v":{"$error":"#N/A"}},{"$f":"(H86*'Retirement Worksheet'!$B$16)+IF('Retirement Worksheet'!$B$17=\"Yes\",'Retirement Calculations'!I86*'Retirement Worksheet'!$B$16,0)+IF('Retirement Worksheet'!$B$21=\"Yes\",'Retirement Calculations'!J86*'Retirement Worksheet'!$B$16,0)","v":{"$error":"#N/A"}},null,{"$error":"#N/A"},{"$f":"IF(ISERROR(A86),NA(),R85*(1+'Retirement Worksheet'!$B$28))","v":{"$error":"#N/A"}},{"$error":"#N/A"}]
[{"$f":"IF(A86<'Retirement Worksheet'!$B$8,A86+1,NA())","v":{"$error":"#N/A"}},{"$error":"#N/A"},{"$f":"B87*'Retirement Worksheet'!$B$18","v":{"$error":"#N/A"}},{"$f":"B87*'Retirement Worksheet'!$B$30","v":{"$error":"#N/A"}},{"$error":"#N/A"},null,{"$f":"IF(ISERROR(A87),NA(),(G86*(1+'Retirement Worksheet'!$B$29)))","v":{"$error":"#N/A"}},{"$f":"B87*'Retirement Worksheet'!$B$12","v":{"$error":"#N/A"}},{"$f":"IF(ISERROR(A87),NA(),I86*(1+'Retirement Worksheet'!$B$29))","v":{"$error":"#N/A"}},{"$f":"IF(ISERROR(A87),NA(),J86*(1+'Retirement Worksheet'!$B$29))","v":{"$error":"#N/A"}},{"$error":"#N/A"},null,{"$f":"((('Retirement Calculations'!I87)+(J87*'Retirement Worksheet'!$B$20))*'Retirement Worksheet'!$B$13)+(H87*'Retirement Worksheet'!$B$14)","v":{"$error":"#N/A"}},{"$f":"(H87*'Retirement Worksheet'!$B$15)+IF('Retirement Worksheet'!$B$17=\"Yes\",'Retirement Calculations'!I87*'Retirement Worksheet'!$B$15,0)+IF('Retirement Worksheet'!$B$21=\"Yes\",'Retirement Calculations'!J87*'Retirement Worksheet'!$B$15,0)","v":{"$error":"#N/A"}},{"$f":"(H87*'Retirement Worksheet'!$B$16)+IF('Retirement Worksheet'!$B$17=\"Yes\",'Retirement Calculations'!I87*'Retirement Worksheet'!$B$16,0)+IF('Retirement Worksheet'!$B$21=\"Yes\",'Retirement Calculations'!J87*'Retirement Worksheet'!$B$16,0)","v":{"$error":"#N/A"}},null,{"$error":"#N/A"},{"$f":"IF(ISERROR(A87),NA(),R86*(1+'Retirement Worksheet'!$B$28))","v":{"$error":"#N/A"}},{"$error":"#N/A"}]
[{"$f":"IF(A87<'Retirement Worksheet'!$B$8,A87+1,NA())","v":{"$error":"#N/A"}},{"$error":"#N/A"},{"$f":"B88*'Retirement Worksheet'!$B$18","v":{"$error":"#N/A"}},{"$f":"B88*'Retirement Worksheet'!$B$30","v":{"$error":"#N/A"}},{"$error":"#N/A"},null,{"$f":"IF(ISERROR(A88),NA(),(G87*(1+'Retirement Worksheet'!$B$29)))","v":{"$error":"#N/A"}},{"$f":"B88*'Retirement Worksheet'!$B$12","v":{"$error":"#N/A"}},{"$f":"IF(ISERROR(A88),NA(),I87*(1+'Retirement Worksheet'!$B$29))","v":{"$error":"#N/A"}},{"$f":"IF(ISERROR(A88),NA(),J87*(1+'Retirement Worksheet'!$B$29))","v":{"$error":"#N/A"}},{"$error":"#N/A"},null,{"$f":"((('Retirement Calculations'!I88)+(J88*'Retirement Worksheet'!$B$20))*'Retirement Worksheet'!$B$13)+(H88*'Retirement Worksheet'!$B$14)","v":{"$error":"#N/A"}},{"$f":"(H88*'Retirement Worksheet'!$B$15)+IF('Retirement Worksheet'!$B$17=\"Yes\",'Retirement Calculations'!I88*'Retirement Worksheet'!$B$15,0)+IF('Retirement Worksheet'!$B$21=\"Yes\",'Retirement Calculations'!J88*'Retirement Worksheet'!$B$15,0)","v":{"$error":"#N/A"}},{"$f":"(H88*'Retirement Worksheet'!$B$16)+IF('Retirement Worksheet'!$B$17=\"Yes\",'Retirement Calculations'!I88*'Retirement Worksheet'!$B$16,0)+IF('Retirement Worksheet'!$B$21=\"Yes\",'Retirement Calculations'!J88*'Retirement Worksheet'!$B$16,0)","v":{"$error":"#N/A"}},null,{"$error":"#N/A"},{"$f":"IF(ISERROR(A88),NA(),R87*(1+'Retirement Worksheet'!$B$28))","v":{"$error":"#N/A"}},{"$error":"#N/A"}]
[{"$f":"IF(A88<'Retirement Worksheet'!$B$8,A88+1,NA())","v":{"$error":"#N/A"}},{"$error":"#N/A"},{"$f":"B89*'Retirement Worksheet'!$B$18","v":{"$error":"#N/A"}},{"$f":"B89*'Retirement Worksheet'!$B$30","v":{"$error":"#N/A"}},{"$error":"#N/A"},null,{"$f":"IF(ISERROR(A89),NA(),(G88*(1+'Retirement Worksheet'!$B$29)))","v":{"$error":"#N/A"}},{"$f":"B89*'Retirement Worksheet'!$B$12","v":{"$error":"#N/A"}},{"$f":"IF(ISERROR(A89),NA(),I88*(1+'Retirement Worksheet'!$B$29))","v":{"$error":"#N/A"}},{"$f":"IF(ISERROR(A89),NA(),J88*(1+'Retirement Worksheet'!$B$29))","v":{"$error":"#N/A"}},{"$error":"#N/A"},null,{"$f":"((('Retirement Calculations'!I89)+(J89*'Retirement Worksheet'!$B$20))*'Retirement Worksheet'!$B$13)+(H89*'Retirement Worksheet'!$B$14)","v":{"$error":"#N/A"}},{"$f":"(H89*'Retirement Worksheet'!$B$15)+IF('Retirement Worksheet'!$B$17=\"Yes\",'Retirement Calculations'!I89*'Retirement Worksheet'!$B$15,0)+IF('Retirement Worksheet'!$B$21=\"Yes\",'Retirement Calculations'!J89*'Retirement Worksheet'!$B$15,0)","v":{"$error":"#N/A"}},{"$f":"(H89*'Retirement Worksheet'!$B$16)+IF('Retirement Worksheet'!$B$17=\"Yes\",'Retirement Calculations'!I89*'Retirement Worksheet'!$B$16,0)+IF('Retirement Worksheet'!$B$21=\"Yes\",'Retirement Calculations'!J89*'Retirement Worksheet'!$B$16,0)","v":{"$error":"#N/A"}},null,{"$error":"#N/A"},{"$f":"IF(ISERROR(A89),NA(),R88*(1+'Retirement Worksheet'!$B$28))","v":{"$error":"#N/A"}},{"$error":"#N/A"}]
[{"$f":"IF(A89<'Retirement Worksheet'!$B$8,A89+1,NA())","v":{"$error":"#N/A"}},{"$error":"#N/A"},{"$f":"B90*'Retirement Worksheet'!$B$18","v":{"$error":"#N/A"}},{"$f":"B90*'Retirement Worksheet'!$B$30","v":{"$error":"#N/A"}},{"$error":"#N/A"},null,{"$f":"IF(ISERROR(A90),NA(),(G89*(1+'Retirement Worksheet'!$B$29)))","v":{"$error":"#N/A"}},{"$f":"B90*'Retirement Worksheet'!$B$12","v":{"$error":"#N/A"}},{"$f":"IF(ISERROR(A90),NA(),I89*(1+'Retirement Worksheet'!$B$29))","v":{"$error":"#N/A"}},{"$f":"IF(ISERROR(A90),NA(),J89*(1+'Retirement Worksheet'!$B$29))","v":{"$error":"#N/A"}},{"$error":"#N/A"},null,{"$f":"((('Retirement Calculations'!I90)+(J90*'Retirement Worksheet'!$B$20))*'Retirement Worksheet'!$B$13)+(H90*'Retirement Worksheet'!$B$14)","v":{"$error":"#N/A"}},{"$f":"(H90*'Retirement Worksheet'!$B$15)+IF('Retirement Worksheet'!$B$17=\"Yes\",'Retirement Calculations'!I90*'Retirement Worksheet'!$B$15,0)+IF('Retirement Worksheet'!$B$21=\"Yes\",'Retirement Calculations'!J90*'Retirement Worksheet'!$B$15,0)","v":{"$error":"#N/A"}},{"$f":"(H90*'Retirement Worksheet'!$B$16)+IF('Retirement Worksheet'!$B$17=\"Yes\",'Retirement Calculations'!I90*'Retirement Worksheet'!$B$16,0)+IF('Retirement Worksheet'!$B$21=\"Yes\",'Retirement Calculations'!J90*'Retirement Worksheet'!$B$16,0)","v":{"$error":"#N/A"}},null,{"$error":"#N/A"},{"$f":"IF(ISERROR(A90),NA(),R89*(1+'Retirement Worksheet'!$B$28))","v":{"$error":"#N/A"}},{"$error":"#N/A"}]
[{"$f":"IF(A90<'Retirement Worksheet'!$B$8,A90+1,NA())","v":{"$error":"#N/A"}},{"$error":"#N/A"},{"$f":"B91*'Retirement Worksheet'!$B$18","v":{"$error":"#N/A"}},{"$f":"B91*'Retirement Worksheet'!$B$30","v":{"$error":"#N/A"}},{"$error":"#N/A"},null,{"$f":"IF(ISERROR(A91),NA(),(G90*(1+'Retirement Worksheet'!$B$29)))","v":{"$error":"#N/A"}},{"$f":"B91*'Retirement Worksheet'!$B$12","v":{"$error":"#N/A"}},{"$f":"IF(ISERROR(A91),NA(),I90*(1+'Retirement Worksheet'!$B$29))","v":{"$error":"#N/A"}},{"$f":"IF(ISERROR(A91),NA(),J90*(1+'Retirement Worksheet'!$B$29))","v":{"$error":"#N/A"}},{"$error":"#N/A"},null,{"$f":"((('Retirement Calculations'!I91)+(J91*'Retirement Worksheet'!$B$20))*'Retirement Worksheet'!$B$13)+(H91*'Retirement Worksheet'!$B$14)","v":{"$error":"#N/A"}},{"$f":"(H91*'Retirement Worksheet'!$B$15)+IF('Retirement Worksheet'!$B$17=\"Yes\",'Retirement Calculations'!I91*'Retirement Worksheet'!$B$15,0)+IF('Retirement Worksheet'!$B$21=\"Yes\",'Retirement Calculations'!J91*'Retirement Worksheet'!$B$15,0)","v":{"$error":"#N/A"}},{"$f":"(H91*'Retirement Worksheet'!$B$16)+IF('Retirement Worksheet'!$B$17=\"Yes\",'Retirement Calculations'!I91*'Retirement Worksheet'!$B$16,0)+IF('Retirement Worksheet'!$B$21=\"Yes\",'Retirement Calculations'!J91*'Retirement Worksheet'!$B$16,0)","v":{"$error":"#N/A"}},null,{"$error":"#N/A"},{"$f":"IF(ISERROR(A91),NA(),R90*(1+'Retirement Worksheet'!$B$28))","v":{"$error":"#N/A"}},{"$error":"#N/A"}]
[{"$f":"IF(A91<'Retirement Worksheet'!$B$8,A91+1,NA())","v":{"$error":"#N/A"}},{"$error":"#N/A"},{"$f":"B92*'Retirement Worksheet'!$B$18","v":{"$error":"#N/A"}},{"$f":"B92*'Retirement Worksheet'!$B$30","v":{"$error":"#N/A"}},{"$error":"#N/A"},null,{"$f":"IF(ISERROR(A92),NA(),(G91*(1+'Retirement Worksheet'!$B$29)))","v":{"$error":"#N/A"}},{"$f":"B92*'Retirement Worksheet'!$B$12","v":{"$error":"#N/A"}},{"$f":"IF(ISERROR(A92),NA(),I91*(1+'Retirement Worksheet'!$B$29))","v":{"$error":"#N/A"}},{"$f":"IF(ISERROR(A92),NA(),J91*(1+'Retirement Worksheet'!$B$29))","v":{"$error":"#N/A"}},{"$error":"#N/A"},null,{"$f":"((('Retirement Calculations'!I92)+(J92*'Retirement Worksheet'!$B$20))*'Retirement Worksheet'!$B$13)+(H92*'Retirement Worksheet'!$B$14)","v":{"$error":"#N/A"}},{"$f":"(H92*'Retirement Worksheet'!$B$15)+IF('Retirement Worksheet'!$B$17=\"Yes\",'Retirement Calculations'!I92*'Retirement Worksheet'!$B$15,0)+IF('Retirement Worksheet'!$B$21=\"Yes\",'Retirement Calculations'!J92*'Retirement Worksheet'!$B$15,0)","v":{"$error":"#N/A"}},{"$f":"(H92*'Retirement Worksheet'!$B$16)+IF('Retirement Worksheet'!$B$17=\"Yes\",'Retirement Calculations'!I92*'Retirement Worksheet'!$B$16,0)+IF('Retirement Worksheet'!$B$21=\"Yes\",'Retirement Calculations'!J92*'Retirement Worksheet'!$B$16,0)","v":{"$error":"#N/A"}},null,{"$error":"#N/A"},{"$f":"IF(ISERROR(A92),NA(),R91*(1+'Retirement Worksheet'!$B$28))","v":{"$error":"#N/A"}},{"$error":"#N/A"}]
[{"$f":"IF(A92<'Retirement Worksheet'!$B$8,A92+1,NA())","v":{"$error":"#N/A"}},{"$error":"#N/A"},{"$f":"B93*'Retirement Worksheet'!$B$18","v":{"$error":"#N/A"}},{"$f":"B93*'Retirement Worksheet'!$B$30","v":{"$error":"#N/A"}},{"$error":"#N/A"},null,{"$f":"IF(ISERROR(A93),NA(),(G92*(1+'Retirement Worksheet'!$B$29)))","v":{"$error":"#N/A"}},{"$f":"B93*'Retirement Worksheet'!$B$12","v":{"$error":"#N/A"}},{"$f":"IF(ISERROR(A93),NA(),I92*(1+'Retirement Worksheet'!$B$29))","v":{"$error":"#N/A"}},{"$f":"IF(ISERROR(A93),NA(),J92*(1+'Retirement Worksheet'!$B$29))","v":{"$error":"#N/A"}},{"$error":"#N/A"},null,{"$f":"((('Retirement Calculations'!I93)+(J93*'Retirement Worksheet'!$B$20))*'Retirement Worksheet'!$B$13)+(H93*'Retirement Worksheet'!$B$14)","v":{"$error":"#N/A"}},{"$f":"(H93*'Retirement Worksheet'!$B$15)+IF('Retirement Worksheet'!$B$17=\"Yes\",'Retirement Calculations'!I93*'Retirement Worksheet'!$B$15,0)+IF('Retirement Worksheet'!$B$21=\"Yes\",'Retirement Calculations'!J93*'Retirement Worksheet'!$B$15,0)","v":{"$error":"#N/A"}},{"$f":"(H93*'Retirement Worksheet'!$B$16)+IF('Retirement Worksheet'!$B$17=\"Yes\",'Retirement Calculations'!I93*'Retirement Worksheet'!$B$16,0)+IF('Retirement Worksheet'!$B$21=\"Yes\",'Retirement Calculations'!J93*'Retirement Worksheet'!$B$16,0)","v":{"$error":"#N/A"}},null,{"$error":"#N/A"},{"$f":"IF(ISERROR(A93),NA(),R92*(1+'Retirement Worksheet'!$B$28))","v":{"$error":"#N/A"}},{"$error":"#N/A"}]
[{"$f":"IF(A93<'Retirement Worksheet'!$B$8,A93+1,NA())","v":{"$error":"#N/A"}},{"$error":"#N/A"},{"$f":"B94*'Retirement Worksheet'!$B$18","v":{"$error":"#N/A"}},{"$f":"B94*'Retirement Worksheet'!$B$30","v":{"$error":"#N/A"}},{"$error":"#N/A"},null,{"$f":"IF(ISERROR(A94),NA(),(G93*(1+'Retirement Worksheet'!$B$29)))","v":{"$error":"#N/A"}},{"$f":"B94*'Retirement Worksheet'!$B$12","v":{"$error":"#N/A"}},{"$f":"IF(ISERROR(A94),NA(),I93*(1+'Retirement Worksheet'!$B$29))","v":{"$error":"#N/A"}},{"$f":"IF(ISERROR(A94),NA(),J93*(1+'Retirement Worksheet'!$B$29))","v":{"$error":"#N/A"}},{"$error":"#N/A"},null,{"$f":"((('Retirement Calculations'!I94)+(J94*'Retirement Worksheet'!$B$20))*'Retirement Worksheet'!$B$13)+(H94*'Retirement Worksheet'!$B$14)","v":{"$error":"#N/A"}},{"$f":"(H94*'Retirement Worksheet'!$B$15)+IF('Retirement Worksheet'!$B$17=\"Yes\",'Retirement Calculations'!I94*'Retirement Worksheet'!$B$15,0)+IF('Retirement Worksheet'!$B$21=\"Yes\",'Retirement Calculations'!J94*'Retirement Worksheet'!$B$15,0)","v":{"$error":"#N/A"}},{"$f":"(H94*'Retirement Worksheet'!$B$16)+IF('Retirement Worksheet'!$B$17=\"Yes\",'Retirement Calculations'!I94*'Retirement Worksheet'!$B$16,0)+IF('Retirement Worksheet'!$B$21=\"Yes\",'Retirement Calculations'!J94*'Retirement Worksheet'!$B$16,0)","v":{"$error":"#N/A"}},null,{"$error":"#N/A"},{"$f":"IF(ISERROR(A94),NA(),R93*(1+'Retirement Worksheet'!$B$28))","v":{"$error":"#N/A"}},{"$error":"#N/A"}]
[{"$f":"IF(A94<'Retirement Worksheet'!$B$8,A94+1,NA())","v":{"$error":"#N/A"}},{"$error":"#N/A"},{"$f":"B95*'Retirement Worksheet'!$B$18","v":{"$error":"#N/A"}},{"$f":"B95*'Retirement Worksheet'!$B$30","v":{"$error":"#N/A"}},{"$error":"#N/A"},null,{"$f":"IF(ISERROR(A95),NA(),(G94*(1+'Retirement Worksheet'!$B$29)))","v":{"$error":"#N/A"}},{"$f":"B95*'Retirement Worksheet'!$B$12","v":{"$error":"#N/A"}},{"$f":"IF(ISERROR(A95),NA(),I94*(1+'Retirement Worksheet'!$B$29))","v":{"$error":"#N/A"}},{"$f":"IF(ISERROR(A95),NA(),J94*(1+'Retirement Worksheet'!$B$29))","v":{"$error":"#N/A"}},{"$error":"#N/A"},null,{"$f":"((('Retirement Calculations'!I95)+(J95*'Retirement Worksheet'!$B$20))*'Retirement Worksheet'!$B$13)+(H95*'Retirement Worksheet'!$B$14)","v":{"$error":"#N/A"}},{"$f":"(H95*'Retirement Worksheet'!$B$15)+IF('Retirement Worksheet'!$B$17=\"Yes\",'Retirement Calculations'!I95*'Retirement Worksheet'!$B$15,0)+IF('Retirement Worksheet'!$B$21=\"Yes\",'Retirement Calculations'!J95*'Retirement Worksheet'!$B$15,0)","v":{"$error":"#N/A"}},{"$f":"(H95*'Retirement Worksheet'!$B$16)+IF('Retirement Worksheet'!$B$17=\"Yes\",'Retirement Calculations'!I95*'Retirement Worksheet'!$B$16,0)+IF('Retirement Worksheet'!$B$21=\"Yes\",'Retirement Calculations'!J95*'Retirement Worksheet'!$B$16,0)","v":{"$error":"#N/A"}},null,{"$error":"#N/A"},{"$f":"IF(ISERROR(A95),NA(),R94*(1+'Retirement Worksheet'!$B$28))","v":{"$error":"#N/A"}},{"$error":"#N/A"}]
[{"$f":"IF(A95<'Retirement Worksheet'!$B$8,A95+1,NA())","v":{"$error":"#N/A"}},{"$error":"#N/A"},{"$f":"B96*'Retirement Worksheet'!$B$18","v":{"$error":"#N/A"}},{"$f":"B96*'Retirement Worksheet'!$B$30","v":{"$error":"#N/A"}},{"$error":"#N/A"},null,{"$f":"IF(ISERROR(A96),NA(),(G95*(1+'Retirement Worksheet'!$B$29)))","v":{"$error":"#N/A"}},{"$f":"B96*'Retirement Worksheet'!$B$12","v":{"$error":"#N/A"}},{"$f":"IF(ISERROR(A96),NA(),I95*(1+'Retirement Worksheet'!$B$29))","v":{"$error":"#N/A"}},{"$f":"IF(ISERROR(A96),NA(),J95*(1+'Retirement Worksheet'!$B$29))","v":{"$error":"#N/A"}},{"$error":"#N/A"},null,{"$f":"((('Retirement Calculations'!I96)+(J96*'Retirement Worksheet'!$B$20))*'Retirement Worksheet'!$B$13)+(H96*'Retirement Worksheet'!$B$14)","v":{"$error":"#N/A"}},{"$f":"(H96*'Retirement Worksheet'!$B$15)+IF('Retirement Worksheet'!$B$17=\"Yes\",'Retirement Calculations'!I96*'Retirement Worksheet'!$B$15,0)+IF('Retirement Worksheet'!$B$21=\"Yes\",'Retirement Calculations'!J96*'Retirement Worksheet'!$B$15,0)","v":{"$error":"#N/A"}},{"$f":"(H96*'Retirement Worksheet'!$B$16)+IF('Retirement Worksheet'!$B$17=\"Yes\",'Retirement Calculations'!I96*'Retirement Worksheet'!$B$16,0)+IF('Retirement Worksheet'!$B$21=\"Yes\",'Retirement Calculations'!J96*'Retirement Worksheet'!$B$16,0)","v":{"$error":"#N/A"}},null,{"$error":"#N/A"},{"$f":"IF(ISERROR(A96),NA(),R95*(1+'Retirement Worksheet'!$B$28))","v":{"$error":"#N/A"}},{"$error":"#N/A"}]
[{"$f":"IF(A96<'Retirement Worksheet'!$B$8,A96+1,NA())","v":{"$error":"#N/A"}},{"$error":"#N/A"},{"$f":"B97*'Retirement Worksheet'!$B$18","v":{"$error":"#N/A"}},{"$f":"B97*'Retirement Worksheet'!$B$30","v":{"$error":"#N/A"}},{"$error":"#N/A"},null,{"$f":"IF(ISERROR(A97),NA(),(G96*(1+'Retirement Worksheet'!$B$29)))","v":{"$error":"#N/A"}},{"$f":"B97*'Retirement Worksheet'!$B$12","v":{"$error":"#N/A"}},{"$f":"IF(ISERROR(A97),NA(),I96*(1+'Retirement Worksheet'!$B$29))","v":{"$error":"#N/A"}},{"$f":"IF(ISERROR(A97),NA(),J96*(1+'Retirement Worksheet'!$B$29))","v":{"$error":"#N/A"}},{"$error":"#N/A"},null,{"$f":"((('Retirement Calculations'!I97)+(J97*'Retirement Worksheet'!$B$20))*'Retirement Worksheet'!$B$13)+(H97*'Retirement Worksheet'!$B$14)","v":{"$error":"#N/A"}},{"$f":"(H97*'Retirement Worksheet'!$B$15)+IF('Retirement Worksheet'!$B$17=\"Yes\",'Retirement Calculations'!I97*'Retirement Worksheet'!$B$15,0)+IF('Retirement Worksheet'!$B$21=\"Yes\",'Retirement Calculations'!J97*'Retirement Worksheet'!$B$15,0)","v":{"$error":"#N/A"}},{"$f":"(H97*'Retirement Worksheet'!$B$16)+IF('Retirement Worksheet'!$B$17=\"Yes\",'Retirement Calculations'!I97*'Retirement Worksheet'!$B$16,0)+IF('Retirement Worksheet'!$B$21=\"Yes\",'Retirement Calculations'!J97*'Retirement Worksheet'!$B$16,0)","v":{"$error":"#N/A"}},null,{"$error":"#N/A"},{"$f":"IF(ISERROR(A97),NA(),R96*(1+'Retirement Worksheet'!$B$28))","v":{"$error":"#N/A"}},{"$error":"#N/A"}]
[{"$f":"IF(A97<'Retirement Worksheet'!$B$8,A97+1,NA())","v":{"$error":"#N/A"}},{"$error":"#N/A"},{"$f":"B98*'Retirement Worksheet'!$B$18","v":{"$error":"#N/A"}},{"$f":"B98*'Retirement Worksheet'!$B$30","v":{"$error":"#N/A"}},{"$error":"#N/A"},null,{"$f":"IF(ISERROR(A98),NA(),(G97*(1+'Retirement Worksheet'!$B$29)))","v":{"$error":"#N/A"}},{"$f":"B98*'Retirement Worksheet'!$B$12","v":{"$error":"#N/A"}},{"$f":"IF(ISERROR(A98),NA(),I97*(1+'Retirement Worksheet'!$B$29))","v":{"$error":"#N/A"}},{"$f":"IF(ISERROR(A98),NA(),J97*(1+'Retirement Worksheet'!$B$29))","v":{"$error":"#N/A"}},{"$error":"#N/A"},null,{"$f":"((('Retirement Calculations'!I98)+(J98*'Retirement Worksheet'!$B$20))*'Retirement Worksheet'!$B$13)+(H98*'Retirement Worksheet'!$B$14)","v":{"$error":"#N/A"}},{"$f":"(H98*'Retirement Worksheet'!$B$15)+IF('Retirement Worksheet'!$B$17=\"Yes\",'Retirement Calculations'!I98*'Retirement Worksheet'!$B$15,0)+IF('Retirement Worksheet'!$B$21=\"Yes\",'Retirement Calculations'!J98*'Retirement Worksheet'!$B$15,0)","v":{"$error":"#N/A"}},{"$f":"(H98*'Retirement Worksheet'!$B$16)+IF('Retirement Worksheet'!$B$17=\"Yes\",'Retirement Calculations'!I98*'Retirement Worksheet'!$B$16,0)+IF('Retirement Worksheet'!$B$21=\"Yes\",'Retirement Calculations'!J98*'Retirement Worksheet'!$B$16,0)","v":{"$error":"#N/A"}},null,{"$error":"#N/A"},{"$f":"IF(ISERROR(A98),NA(),R97*(1+'Retirement Worksheet'!$B$28))","v":{"$error":"#N/A"}},{"$error":"#N/A"}]
[{"$f":"IF(A98<'Retirement Worksheet'!$B$8,A98+1,NA())","v":{"$error":"#N/A"}},{"$error":"#N/A"},{"$f":"B99*'Retirement Worksheet'!$B$18","v":{"$error":"#N/A"}},{"$f":"B99*'Retirement Worksheet'!$B$30","v":{"$error":"#N/A"}},{"$error":"#N/A"},null,{"$f":"IF(ISERROR(A99),NA(),(G98*(1+'Retirement Worksheet'!$B$29)))","v":{"$error":"#N/A"}},{"$f":"B99*'Retirement Worksheet'!$B$12","v":{"$error":"#N/A"}},{"$f":"IF(ISERROR(A99),NA(),I98*(1+'Retirement Worksheet'!$B$29))","v":{"$error":"#N/A"}},{"$f":"IF(ISERROR(A99),NA(),J98*(1+'Retirement Worksheet'!$B$29))","v":{"$error":"#N/A"}},{"$error":"#N/A"},null,{"$f":"((('Retirement Calculations'!I99)+(J99*'Retirement Worksheet'!$B$20))*'Retirement Worksheet'!$B$13)+(H99*'Retirement Worksheet'!$B$14)","v":{"$error":"#N/A"}},{"$f":"(H99*'Retirement Worksheet'!$B$15)+IF('Retirement Worksheet'!$B$17=\"Yes\",'Retirement Calculations'!I99*'Retirement Worksheet'!$B$15,0)+IF('Retirement Worksheet'!$B$21=\"Yes\",'Retirement Calculations'!J99*'Retirement Worksheet'!$B$15,0)","v":{"$error":"#N/A"}},{"$f":"(H99*'Retirement Worksheet'!$B$16)+IF('Retirement Worksheet'!$B$17=\"Yes\",'Retirement Calculations'!I99*'Retirement Worksheet'!$B$16,0)+IF('Retirement Worksheet'!$B$21=\"Yes\",'Retirement Calculations'!J99*'Retirement Worksheet'!$B$16,0)","v":{"$error":"#N/A"}},null,{"$error":"#N/A"},{"$f":"IF(ISERROR(A99),NA(),R98*(1+'Retirement Worksheet'!$B$28))","v":{"$error":"#N/A"}},{"$error":"#N/A"}]
[{"$f":"IF(A99<'Retirement Worksheet'!$B$8,A99+1,NA())","v":{"$error":"#N/A"}},{"$error":"#N/A"},{"$f":"B100*'Retirement Worksheet'!$B$18","v":{"$error":"#N/A"}},{"$f":"B100*'Retirement Worksheet'!$B$30","v":{"$error":"#N/A"}},{"$error":"#N/A"},null,{"$f":"IF(ISERROR(A100),NA(),(G99*(1+'Retirement Worksheet'!$B$29)))","v":{"$error":"#N/A"}},{"$f":"B100*'Retirement Worksheet'!$B$12","v":{"$error":"#N/A"}},{"$f":"IF(ISERROR(A100),NA(),I99*(1+'Retirement Worksheet'!$B$29))","v":{"$error":"#N/A"}},{"$f":"IF(ISERROR(A100),NA(),J99*(1+'Retirement Worksheet'!$B$29))","v":{"$error":"#N/A"}},{"$error":"#N/A"},null,{"$f":"((('Retirement Calculations'!I100)+(J100*'Retirement Worksheet'!$B$20))*'Retirement Worksheet'!$B$13)+(H100*'Retirement Worksheet'!$B$14)","v":{"$error":"#N/A"}},{"$f":"(H100*'Retirement Worksheet'!$B$15)+IF('Retirement Worksheet'!$B$17=\"Yes\",'Retirement Calculations'!I100*'Retirement Worksheet'!$B$15,0)+IF('Retirement Worksheet'!$B$21=\"Yes\",'Retirement Calculations'!J100*'Retirement Worksheet'!$B$15,0)","v":{"$error":"#N/A"}},{"$f":"(H100*'Retirement Worksheet'!$B$16)+IF('Retirement Worksheet'!$B$17=\"Yes\",'Retirement Calculations'!I100*'Retirement Worksheet'!$B$16,0)+IF('Retirement Worksheet'!$B$21=\"Yes\",'Retirement Calculations'!J100*'Retirement Worksheet'!$B$16,0)","v":{"$error":"#N/A"}},null,{"$error":"#N/A"},{"$f":"IF(ISERROR(A100),NA(),R99*(1+'Retirement Worksheet'!$B$28))","v":{"$error":"#N/A"}},{"$error":"#N/A"}]
[{"$f":"IF(A100<'Retirement Worksheet'!$B$8,A100+1,NA())","v":{"$error":"#N/A"}},{"$error":"#N/A"},{"$f":"B101*'Retirement Worksheet'!$B$18","v":{"$error":"#N/A"}},{"$f":"B101*'Retirement Worksheet'!$B$30","v":{"$error":"#N/A"}},{"$error":"#N/A"},null,{"$f":"IF(ISERROR(A101),NA(),(G100*(1+'Retirement Worksheet'!$B$29)))","v":{"$error":"#N/A"}},{"$f":"B101*'Retirement Worksheet'!$B$12","v":{"$error":"#N/A"}},{"$f":"IF(ISERROR(A101),NA(),I100*(1+'Retirement Worksheet'!$B$29))","v":{"$error":"#N/A"}},{"$f":"IF(ISERROR(A101),NA(),J100*(1+'Retirement Worksheet'!$B$29))","v":{"$error":"#N/A"}},{"$error":"#N/A"},null,{"$f":"((('Retirement Calculations'!I101)+(J101*'Retirement Worksheet'!$B$20))*'Retirement Worksheet'!$B$13)+(H101*'Retirement Worksheet'!$B$14)","v":{"$error":"#N/A"}},{"$f":"(H101*'Retirement Worksheet'!$B$15)+IF('Retirement Worksheet'!$B$17=\"Yes\",'Retirement Calculations'!I101*'Retirement Worksheet'!$B$15,0)+IF('Retirement Worksheet'!$B$21=\"Yes\",'Retirement Calculations'!J101*'Retirement Worksheet'!$B$15,0)","v":{"$error":"#N/A"}},{"$f":"(H101*'Retirement Worksheet'!$B$16)+IF('Retirement Worksheet'!$B$17=\"Yes\",'Retirement Calculations'!I101*'Retirement Worksheet'!$B$16,0)+IF('Retirement Worksheet'!$B$21=\"Yes\",'Retirement Calculations'!J101*'Retirement Worksheet'!$B$16,0)","v":{"$error":"#N/A"}},null,{"$error":"#N/A"},{"$f":"IF(ISERROR(A101),NA(),R100*(1+'Retirement Worksheet'!$B$28))","v":{"$error":"#N/A"}},{"$error":"#N/A"}]
[{"$f":"IF(A101<'Retirement Worksheet'!$B$8,A101+1,NA())","v":{"$error":"#N/A"}},{"$error":"#N/A"},{"$f":"B102*'Retirement Worksheet'!$B$18","v":{"$error":"#N/A"}},{"$f":"B102*'Retirement Worksheet'!$B$30","v":{"$error":"#N/A"}},{"$error":"#N/A"},null,{"$f":"IF(ISERROR(A102),NA(),(G101*(1+'Retirement Worksheet'!$B$29)))","v":{"$error":"#N/A"}},{"$f":"B102*'Retirement Worksheet'!$B$12","v":{"$error":"#N/A"}},{"$f":"IF(ISERROR(A102),NA(),I101*(1+'Retirement Worksheet'!$B$29))","v":{"$error":"#N/A"}},{"$f":"IF(ISERROR(A102),NA(),J101*(1+'Retirement Worksheet'!$B$29))","v":{"$error":"#N/A"}},{"$error":"#N/A"},null,{"$f":"((('Retirement Calculations'!I102)+(J102*'Retirement Worksheet'!$B$20))*'Retirement Worksheet'!$B$13)+(H102*'Retirement Worksheet'!$B$14)","v":{"$error":"#N/A"}},{"$f":"(H102*'Retirement Worksheet'!$B$15)+IF('Retirement Worksheet'!$B$17=\"Yes\",'Retirement Calculations'!I102*'Retirement Worksheet'!$B$15,0)+IF('Retirement Worksheet'!$B$21=\"Yes\",'Retirement Calculations'!J102*'Retirement Worksheet'!$B$15,0)","v":{"$error":"#N/A"}},{"$f":"(H102*'Retirement Worksheet'!$B$16)+IF('Retirement Worksheet'!$B$17=\"Yes\",'Retirement Calculations'!I102*'Retirement Worksheet'!$B$16,0)+IF('Retirement Worksheet'!$B$21=\"Yes\",'Retirement Calculations'!J102*'Retirement Worksheet'!$B$16,0)","v":{"$error":"#N/A"}},null,{"$error":"#N/A"},{"$f":"IF(ISERROR(A102),NA(),R101*(1+'Retirement Worksheet'!$B$28))","v":{"$error":"#N/A"}},{"$error":"#N/A"}]
[{"$f":"IF(A102<'Retirement Worksheet'!$B$8,A102+1,NA())","v":{"$error":"#N/A"}},{"$error":"#N/A"},{"$f":"B103*'Retirement Worksheet'!$B$18","v":{"$error":"#N/A"}},{"$f":"B103*'Retirement Worksheet'!$B$30","v":{"$error":"#N/A"}},{"$error":"#N/A"},null,{"$f":"IF(ISERROR(A103),NA(),(G102*(1+'Retirement Worksheet'!$B$29)))","v":{"$error":"#N/A"}},{"$f":"B103*'Retirement Worksheet'!$B$12","v":{"$error":"#N/A"}},{"$f":"IF(ISERROR(A103),NA(),I102*(1+'Retirement Worksheet'!$B$29))","v":{"$error":"#N/A"}},{"$f":"IF(ISERROR(A103),NA(),J102*(1+'Retirement Worksheet'!$B$29))","v":{"$error":"#N/A"}},{"$error":"#N/A"},null,{"$f":"((('Retirement Calculations'!I103)+(J103*'Retirement Worksheet'!$B$20))*'Retirement Worksheet'!$B$13)+(H103*'Retirement Worksheet'!$B$14)","v":{"$error":"#N/A"}},{"$f":"(H103*'Retirement Worksheet'!$B$15)+IF('Retirement Worksheet'!$B$17=\"Yes\",'Retirement Calculations'!I103*'Retirement Worksheet'!$B$15,0)+IF('Retirement Worksheet'!$B$21=\"Yes\",'Retirement Calculations'!J103*'Retirement Worksheet'!$B$15,0)","v":{"$error":"#N/A"}},{"$f":"(H103*'Retirement Worksheet'!$B$16)+IF('Retirement Worksheet'!$B$17=\"Yes\",'Retirement Calculations'!I103*'Retirement Worksheet'!$B$16,0)+IF('Retirement Worksheet'!$B$21=\"Yes\",'Retirement Calculations'!J103*'Retirement Worksheet'!$B$16,0)","v":{"$error":"#N/A"}},null,{"$error":"#N/A"},{"$f":"IF(ISERROR(A103),NA(),R102*(1+'Retirement Worksheet'!$B$28))","v":{"$error":"#N/A"}},{"$error":"#N/A"}]
[{"$f":"IF(A103<'Retirement Worksheet'!$B$8,A103+1,NA())","v":{"$error":"#N/A"}},{"$error":"#N/A"},{"$f":"B104*'Retirement Worksheet'!$B$18","v":{"$error":"#N/A"}},{"$f":"B104*'Retirement Worksheet'!$B$30","v":{"$error":"#N/A"}},{"$error":"#N/A"},null,{"$f":"IF(ISERROR(A104),NA(),(G103*(1+'Retirement Worksheet'!$B$29)))","v":{"$error":"#N/A"}},{"$f":"B104*'Retirement Worksheet'!$B$12","v":{"$error":"#N/A"}},{"$f":"IF(ISERROR(A104),NA(),I103*(1+'Retirement Worksheet'!$B$29))","v":{"$error":"#N/A"}},{"$f":"IF(ISERROR(A104),NA(),J103*(1+'Retirement Worksheet'!$B$29))","v":{"$error":"#N/A"}},{"$error":"#N/A"},null,{"$f":"((('Retirement Calculations'!I104)+(J104*'Retirement Worksheet'!$B$20))*'Retirement Worksheet'!$B$13)+(H104*'Retirement Worksheet'!$B$14)","v":{"$error":"#N/A"}},{"$f":"(H104*'Retirement Worksheet'!$B$15)+IF('Retirement Worksheet'!$B$17=\"Yes\",'Retirement Calculations'!I104*'Retirement Worksheet'!$B$15,0)+IF('Retirement Worksheet'!$B$21=\"Yes\",'Retirement Calculations'!J104*'Retirement Worksheet'!$B$15,0)","v":{"$error":"#N/A"}},{"$f":"(H104*'Retirement Worksheet'!$B$16)+IF('Retirement Worksheet'!$B$17=\"Yes\",'Retirement Calculations'!I104*'Retirement Worksheet'!$B$16,0)+IF('Retirement Worksheet'!$B$21=\"Yes\",'Retirement Calculations'!J104*'Retirement Worksheet'!$B$16,0)","v":{"$error":"#N/A"}},null,{"$error":"#N/A"},{"$f":"IF(ISERROR(A104),NA(),R103*(1+'Retirement Worksheet'!$B$28))","v":{"$error":"#N/A"}},{"$error":"#N/A"}]
[{"$f":"IF(A104<'Retirement Worksheet'!$B$8,A104+1,NA())","v":{"$error":"#N/A"}},{"$error":"#N/A"},{"$f":"B105*'Retirement Worksheet'!$B$18","v":{"$error":"#N/A"}},{"$f":"B105*'Retirement Worksheet'!$B$30","v":{"$error":"#N/A"}},{"$error":"#N/A"},null,{"$f":"IF(ISERROR(A105),NA(),(G104*(1+'Retirement Worksheet'!$B$29)))","v":{"$error":"#N/A"}},{"$f":"B105*'Retirement Worksheet'!$B$12","v":{"$error":"#N/A"}},{"$f":"IF(ISERROR(A105),NA(),I104*(1+'Retirement Worksheet'!$B$29))","v":{"$error":"#N/A"}},{"$f":"IF(ISERROR(A105),NA(),J104*(1+'Retirement Worksheet'!$B$29))","v":{"$error":"#N/A"}},{"$error":"#N/A"},null,{"$f":"((('Retirement Calculations'!I105)+(J105*'Retirement Worksheet'!$B$20))*'Retirement Worksheet'!$B$13)+(H105*'Retirement Worksheet'!$B$14)","v":{"$error":"#N/A"}},{"$f":"(H105*'Retirement Worksheet'!$B$15)+IF('Retirement Worksheet'!$B$17=\"Yes\",'Retirement Calculations'!I105*'Retirement Worksheet'!$B$15,0)+IF('Retirement Worksheet'!$B$21=\"Yes\",'Retirement Calculations'!J105*'Retirement Worksheet'!$B$15,0)","v":{"$error":"#N/A"}},{"$f":"(H105*'Retirement Worksheet'!$B$16)+IF('Retirement Worksheet'!$B$17=\"Yes\",'Retirement Calculations'!I105*'Retirement Worksheet'!$B$16,0)+IF('Retirement Worksheet'!$B$21=\"Yes\",'Retirement Calculations'!J105*'Retirement Worksheet'!$B$16,0)","v":{"$error":"#N/A"}},null,{"$error":"#N/A"},{"$f":"IF(ISERROR(A105),NA(),R104*(1+'Retirement Worksheet'!$B$28))","v":{"$error":"#N/A"}},{"$error":"#N/A"}]
[{"$f":"IF(A105<'Retirement Worksheet'!$B$8,A105+1,NA())","v":{"$error":"#N/A"}},{"$error":"#N/A"},{"$f":"B106*'Retirement Worksheet'!$B$18","v":{"$error":"#N/A"}},{"$f":"B106*'Retirement Worksheet'!$B$30","v":{"$error":"#N/A"}},{"$error":"#N/A"},null,{"$f":"IF(ISERROR(A106),NA(),(G105*(1+'Retirement Worksheet'!$B$29)))","v":{"$error":"#N/A"}},{"$f":"B106*'Retirement Worksheet'!$B$12","v":{"$error":"#N/A"}},{"$f":"IF(ISERROR(A106),NA(),I105*(1+'Retirement Worksheet'!$B$29))","v":{"$error":"#N/A"}},{"$f":"IF(ISERROR(A106),NA(),J105*(1+'Retirement Worksheet'!$B$29))","v":{"$error":"#N/A"}},{"$error":"#N/A"},null,{"$f":"((('Retirement Calculations'!I106)+(J106*'Retirement Worksheet'!$B$20))*'Retirement Worksheet'!$B$13)+(H106*'Retirement Worksheet'!$B$14)","v":{"$error":"#N/A"}},{"$f":"(H106*'Retirement Worksheet'!$B$15)+IF('Retirement Worksheet'!$B$17=\"Yes\",'Retirement Calculations'!I106*'Retirement Worksheet'!$B$15,0)+IF('Retirement Worksheet'!$B$21=\"Yes\",'Retirement Calculations'!J106*'Retirement Worksheet'!$B$15,0)","v":{"$error":"#N/A"}},{"$f":"(H106*'Retirement Worksheet'!$B$16)+IF('Retirement Worksheet'!$B$17=\"Yes\",'Retirement Calculations'!I106*'Retirement Worksheet'!$B$16,0)+IF('Retirement Worksheet'!$B$21=\"Yes\",'Retirement Calculations'!J106*'Retirement Worksheet'!$B$16,0)","v":{"$error":"#N/A"}},null,{"$error":"#N/A"},{"$f":"IF(ISERROR(A106),NA(),R105*(1+'Retirement Worksheet'!$B$28))","v":{"$error":"#N/A"}},{"$error":"#N/A"}]
[{"$f":"IF(A106<'Retirement Worksheet'!$B$8,A106+1,NA())","v":{"$error":"#N/A"}},{"$error":"#N/A"},{"$f":"B107*'Retirement Worksheet'!$B$18","v":{"$error":"#N/A"}},{"$f":"B107*'Retirement Worksheet'!$B$30","v":{"$error":"#N/A"}},{"$error":"#N/A"},null,{"$f":"IF(ISERROR(A107),NA(),(G106*(1+'Retirement Worksheet'!$B$29)))","v":{"$error":"#N/A"}},{"$f":"B107*'Retirement Worksheet'!$B$12","v":{"$error":"#N/A"}},{"$f":"IF(ISERROR(A107),NA(),I106*(1+'Retirement Worksheet'!$B$29))","v":{"$error":"#N/A"}},{"$f":"IF(ISERROR(A107),NA(),J106*(1+'Retirement Worksheet'!$B$29))","v":{"$error":"#N/A"}},{"$error":"#N/A"},null,{"$f":"((('Retirement Calculations'!I107)+(J107*'Retirement Worksheet'!$B$20))*'Retirement Worksheet'!$B$13)+(H107*'Retirement Worksheet'!$B$14)","v":{"$error":"#N/A"}},{"$f":"(H107*'Retirement Worksheet'!$B$15)+IF('Retirement Worksheet'!$B$17=\"Yes\",'Retirement Calculations'!I107*'Retirement Worksheet'!$B$15,0)+IF('Retirement Worksheet'!$B$21=\"Yes\",'Retirement Calculations'!J107*'Retirement Worksheet'!$B$15,0)","v":{"$error":"#N/A"}},{"$f":"(H107*'Retirement Worksheet'!$B$16)+IF('Retirement Worksheet'!$B$17=\"Yes\",'Retirement Calculations'!I107*'Retirement Worksheet'!$B$16,0)+IF('Retirement Worksheet'!$B$21=\"Yes\",'Retirement Calculations'!J107*'Retirement Worksheet'!$B$16,0)","v":{"$error":"#N/A"}},null,{"$error":"#N/A"},{"$f":"IF(ISERROR(A107),NA(),R106*(1+'Retirement Worksheet'!$B$28))","v":{"$error":"#N/A"}},{"$error":"#N/A"}]

{"sheet":"Salary Worksheet","index":2,"n_rows":104,"n_cols":27,"rows_kept":104,"cut":false,"hidden":false,"merged":[[6,0,6,1],[34,13,34,18],[0,3,0,12],[34,4,34,8],[34,9,34,12]]}
["SALARY WORKSHEET",null,null,"Salary Requirement Graph"]
["DIRECTIONS: 1) Enter assumptions, 2) click 'Enter'->"]
["3) Review the outcome using the text box to the right of the graph"]
["4) As needed, adjust the \"Projected Annual Salary at Current Age\""]
["5) Repeat the process until your answer is \"Yes\""]
[]
["Assumptions"]
["Current age (# years old)",30]
["Projected Final Retirement age (# years old)",65]
["Military Retirement Age (# years old)"]
["Current Savings Available ($)",200000]
["Federal Tax rate (%)",0.12]
["State Tax rate (%)",0.06]
["Local Tax rate (%)",0.02]
["Annual investment fees (%)",2.5000000000000001E-3]
["Annual return on investments (%)",7.0000000000000007E-2]
["Social Security tax rate (%)",6.2E-2]
["Social Security tax wage base limit ($)",176100]
["Medicare tax rate (%)",1.4500000000000001E-2]
["Additional Medicare tax rate (%)",8.9999999999999998E-4]
["Tax Filing Status","Married-Joint"]
["Required Savings upon Final Retirement ($)",800000]
["Projected Annual Salary at Current Age ($)",80000]
["Final Military Pay (annual $)",0]
["Military Retirement Multiplier (%)",2.5000000000000001E-2]
["Years of Military Service (#)",30]
["Annual Military Pension ($)",0]
["Annual Military Disability Payments ($)",12000]
["Military Pension Taxed by State & Local?","Yes",null,null,null,null,null,null,null,null,null,null,null,null,null,null,null,null,null,null,null,null,"Row Labels","Sum of Savings","Sum of Savings Requirement","Sum of Salary","Sum of Net Income"]
["Annual expenses ($)",50000,null,null,null,null,null,null,null,null,null,null,null,null,null,null,null,null,null,null,null,null,30,200000,800000,80000,20033]
["Annual inflation rate (%)",0.03,null,null,null,null,null,null,null,null,null,null,null,null,null,null,null,null,null,null,null,null,31,233533,800000,81600,7689.1600000000035]
["Annual COLA / income increase (%)",0.02,null,null,null,null,null,null,null,null,null,null,null,null,null,null,null,null,null,null,null,null,32,256985.63750000001,800000,83232,7323.4432000000015]
["Include prior year net income in following year's savings?","Yes",null,"Chart Detail",null,null,null,null,null,null,null,null,null,null,null,null,null,null,null,null,null,null,33,281655.61123124999,800000,84896.639999999999,6934.9620639999994]
[null,null,null,null,null,null,null,null,null,null,null,null,null,null,null,null,null,null,null,null,null,null,34,307602.32705335942,800000,86594.572799999994,6522.7978052800026]
[null,null,null,null,"Investments",null,null,null,null,"Income",null,null,null,"Deductions",null,null,null,null,null,"Expenses",null,null,35,334888.28193474119,800000,88326.464255999992,6085.9993563855969]
[null,null,null,{"$f":"'Salary Calculations'!A2","v":"Age"},{"$f":"'Salary Calculations'!B2","v":"Savings"},{"$f":"'Salary Calculations'!C2","v":"Savings Requirement"},{"$f":"'Salary Calculations'!D2","v":"Investment Fees"},{"$f":"'Salary Calculations'!E2","v":"Return on Investments"},{"$f":"'Salary Calculations'!F2","v":"Net Investments"},"Disability",{"$f":"'Salary Calculations'!H2","v":"Salary"},{"$f":"'Salary Calculations'!I2","v":"Pension"},{"$f":"'Salary Calculations'!J2","v":"Total Income"},{"$f":"'Salary Calculations'!K2","v":"Federal Taxes"},{"$f":"'Salary Calculations'!L2","v":"Social Security"},{"$f":"'Salary Calculations'!M2","v":"Medicare"},{"$f":"'Salary Calculations'!N2","v":"State Taxes"},{"$f":"'Salary Calculations'!O2","v":"Local Taxes"},{"$f":"'Salary Calculations'!P2","v":"Total Deductions"},{"$f":"'Salary Calculations'!Q2","v":"Expenses"},{"$f":"'Salary Calculations'!R2","v":"Net Income"},null,36,363579.24032172182,800000,90092.993541119999,5623.582306363307]
[null,null,null,{"$f":"IFERROR('Salary Calculations'!A3,\"\")","v":30},{"$f":"IFERROR('Salary Calculations'!B3,\"\")","v":200000},{"$f":"IFERROR('Salary Calculations'!C3,\"\")","v":800000},{"$f":"IFERROR('Salary Calculations'!D3,\"\")","v":500},{"$f":"IFERROR('Salary Calculations'!E3,\"\")","v":14000.000000000002},{"$f":"IFERROR('Salary Calculations'!F3,\"\")","v":213500},{"$f":"IFERROR('Salary Calculations'!G3,\"\")","v":12000},{"$f":"IFERROR('Salary Calculations'!H3,\"\")","v":80000},{"$f":"IFERROR('Salary Calculations'!I3,\"\")","v":0},{"$f":"IFERROR('Salary Calculations'!J3,\"\")","v":92000},{"$f":"IFERROR('Salary Calculations'!K3,\"\")","v":9600},{"$f":"IFERROR('Salary Calculations'!L3,\"\")","v":4960},{"$f":"IFERROR('Salary Calculations'!M3,\"\")","v":1007},{"$f":"IFERROR('Salary Calculations'!N3,\"\")","v":4800},{"$f":"IFERROR('Salary Calculations'!O3,\"\")","v":1600},{"$f":"IFERROR('Salary Calculations'!P3,\"\")","v":21967},{"$f":"IFERROR('Salary Calculations'!Q3,\"\")","v":50000},{"$f":"IFERROR('Salary Calculations'!R3,\"\")","v":20033},null,37,393744.42134980141,800000,91894.8534119424,5134.5278042260688]
[null,null,null,{"$f":"IFERROR('Salary Calculations'!A4,\"\")","v":31},{"$f":"IFERROR('Salary Calculations'!B4,\"\")","v":233533},{"$f":"IFERROR('Salary Calculations'!C4,\"\")","v":800000},{"$f":"IFERROR('Salary Calculations'!D4,\"\")","v":583.83249999999998},{"$f":"IFERROR('Salary Calculations'!E4,\"\")","v":16347.310000000001},{"$f":"IFERROR('Salary Calculations'!F4,\"\")","v":249296.47750000001},{"$f":"IFERROR('Salary Calculations'!G4,\"\")","v":12240},{"$f":"IFERROR('Salary Calculations'!H4,\"\")","v":81600},{"$f":"IFERROR('Salary Calculations'!I4,\"\")","v":0},{"$f":"IFERROR('Salary Calculations'!J4,\"\")","v":81600},{"$f":"IFERROR('Salary Calculations'!K4,\"\")","v":9792},{"$f":"IFERROR('Salary Calculations'!L4,\"\")","v":5059.2},{"$f":"IFERROR('Salary Calculations'!M4,\"\")","v":1031.6400000000001},{"$f":"IFERROR('Salary Calculations'!N4,\"\")","v":4896},{"$f":"IFERROR('Salary Calculations'!O4,\"\")","v":1632},{"$f":"IFERROR('Salary Calculations'!P4,\"\")","v":22410.84},{"$f":"IFERROR('Salary Calculations'!Q4,\"\")","v":51500},{"$f":"IFERROR('Salary Calculations'!R4,\"\")","v":7689.1600000000035},null,38,425456.69759513915,800000,93732.750480181247,4617.7814275981582]
[null,null,null,{"$f":"IFERROR('Salary Calculations'!A5,\"\")","v":32},{"$f":"IFERROR('Salary Calculations'!B5,\"\")","v":256985.63750000001},{"$f":"IFERROR('Salary Calculations'!C5,\"\")","v":800000},{"$f":"IFERROR('Salary Calculations'!D5,\"\")","v":642.46409375000007},{"$f":"IFERROR('Salary Calculations'!E5,\"\")","v":17988.994625000003},{"$f":"IFERROR('Salary Calculations'!F5,\"\")","v":274332.16803125001},{"$f":"IFERROR('Salary Calculations'!G5,\"\")","v":12484.800000000001},{"$f":"IFERROR('Salary Calculations'!H5,\"\")","v":83232},{"$f":"IFERROR('Salary Calculations'!I5,\"\")","v":0},{"$f":"IFERROR('Salary Calculations'!J5,\"\")","v":83232},{"$f":"IFERROR('Salary Calculations'!K5,\"\")","v":9987.84},{"$f":"IFERROR('Salary Calculations'!L5,\"\")","v":5160.384},{"$f":"IFERROR('Salary Calculations'!M5,\"\")","v":1056.7728},{"$f":"IFERROR('Salary Calculations'!N5,\"\")","v":4993.92},{"$f":"IFERROR('Salary Calculations'!O5,\"\")","v":1664.64},{"$f":"IFERROR('Salary Calculations'!P5,\"\")","v":22863.556799999998},{"$f":"IFERROR('Salary Calculations'!Q5,\"\")","v":53045},{"$f":"IFERROR('Salary Calculations'!R5,\"\")","v":7323.4432000000015},null,39,458792.8061104092,800000,95607.405489784869,4072.2520154563172]
[null,null,null,{"$f":"IFERROR('Salary Calculations'!A6,\"\")","v":33},{"$f":"IFERROR('Salary Calculations'!B6,\"\")","v":281655.61123124999},{"$f":"IFERROR('Salary Calculations'!C6,\"\")","v":800000},{"$f":"IFERROR('Salary Calculations'!D6,\"\")","v":704.13902807812497},{"$f":"IFERROR('Salary Calculations'!E6,\"\")","v":19715.892786187502},{"$f":"IFERROR('Salary Calculations'!F6,\"\")","v":300667.3649893594},{"$f":"IFERROR('Salary Calculations'!G6,\"\")","v":12734.496000000001},{"$f":"IFERROR('Salary Calculations'!H6,\"\")","v":84896.639999999999},{"$f":"IFERROR('Salary Calculations'!I6,\"\")","v":0},{"$f":"IFERROR('Salary Calculations'!J6,\"\")","v":84896.639999999999},{"$f":"IFERROR('Salary Calculations'!K6,\"\")","v":10187.596799999999},{"$f":"IFERROR('Salary Calculations'!L6,\"\")","v":5263.5916799999995},{"$f":"IFERROR('Salary Calculations'!M6,\"\")","v":1082.4082559999999},{"$f":"IFERROR('Salary Calculations'!N6,\"\")","v":5093.7983999999997},{"$f":"IFERROR('Salary Calculations'!O6,\"\")","v":1697.9328},{"$f":"IFERROR('Salary Calculations'!P6,\"\")","v":23325.327935999998},{"$f":"IFERROR('Salary Calculations'!Q6,\"\")","v":54636.35},{"$f":"IFERROR('Salary Calculations'!R6,\"\")","v":6934.9620639999994},null,40,493833.57253831811,800000,97519.553599580569,3496.810463850823]
[null,null,null,{"$f":"IFERROR('Salary Calculations'!A7,\"\")","v":34},{"$f":"IFERROR('Salary Calculations'!B7,\"\")","v":307602.32705335942},{"$f":"IFERROR('Salary Calculations'!C7,\"\")","v":800000},{"$f":"IFERROR('Salary Calculations'!D7,\"\")","v":769.00581763339858},{"$f":"IFERROR('Salary Calculations'!E7,\"\")","v":21532.16289373516},{"$f":"IFERROR('Salary Calculations'!F7,\"\")","v":328365.48412946117},{"$f":"IFERROR('Salary Calculations'!G7,\"\")","v":12989.185920000002},{"$f":"IFERROR('Salary Calculations'!H7,\"\")","v":86594.572799999994},{"$f":"IFERROR('Salary Calculations'!I7,\"\")","v":0},{"$f":"IFERROR('Salary Calculations'!J7,\"\")","v":86594.572799999994},{"$f":"IFERROR('Salary Calculations'!K7,\"\")","v":10391.348735999998},{"$f":"IFERROR('Salary Calculations'!L7,\"\")","v":5368.8635135999994},{"$f":"IFERROR('Salary Calculations'!M7,\"\")","v":1108.5564211199999},{"$f":"IFERROR('Salary Calculations'!N7,\"\")","v":5195.674367999999},{"$f":"IFERROR('Salary Calculations'!O7,\"\")","v":1731.8914559999998},{"$f":"IFERROR('Salary Calculations'!P7,\"\")","v":23796.334494719998},{"$f":"IFERROR('Salary Calculations'!Q7,\"\")","v":56275.440499999997},{"$f":"IFERROR('Salary Calculations'!R7,\"\")","v":6522.7978052800026},null,41,530664.14914850541,800000,99469.944671572186,2890.2884834557772]
[null,null,null,{"$f":"IFERROR('Salary Calculations'!A8,\"\")","v":35},{"$f":"IFERROR('Salary Calculations'!B8,\"\")","v":334888.28193474119},{"$f":"IFERROR('Salary Calculations'!C8,\"\")","v":800000},{"$f":"IFERROR('Salary Calculations'!D8,\"\")","v":837.22070483685297},{"$f":"IFERROR('Salary Calculations'!E8,\"\")","v":23442.179735431884},{"$f":"IFERROR('Salary Calculations'!F8,\"\")","v":357493.24096533621},{"$f":"IFERROR('Salary Calculations'!G8,\"\")","v":13248.969638400002},{"$f":"IFERROR('Salary Calculations'!H8,\"\")","v":88326.464255999992},{"$f":"IFERROR('Salary Calculations'!I8,\"\")","v":0},{"$f":"IFERROR('Salary Calculations'!J8,\"\")","v":88326.464255999992},{"$f":"IFERROR('Salary Calculations'!K8,\"\")","v":10599.175710719999},{"$f":"IFERROR('Salary Calculations'!L8,\"\")","v":5476.2407838719992},{"$f":"IFERROR('Salary Calculations'!M8,\"\")","v":1135.2275495424001},{"$f":"IFERROR('Salary Calculations'!N8,\"\")","v":5299.5878553599996},{"$f":"IFERROR('Salary Calculations'!O8,\"\")","v":1766.5292851199999},{"$f":"IFERROR('Salary Calculations'!P8,\"\")","v":24276.761184614399},{"$f":"IFERROR('Salary Calculations'!Q8,\"\")","v":57963.703714999996},{"$f":"IFERROR('Salary Calculations'!R8,\"\")","v":6085.9993563855969},null,42,569374.26769948541,800000,101459.34356500363,2251.477317762663]
[null,null,null,{"$f":"IFERROR('Salary Calculations'!A9,\"\")","v":36},{"$f":"IFERROR('Salary Calculations'!B9,\"\")","v":363579.24032172182},{"$f":"IFERROR('Salary Calculations'!C9,\"\")","v":800000},{"$f":"IFERROR('Salary Calculations'!D9,\"\")","v":908.94810080430454},{"$f":"IFERROR('Salary Calculations'!E9,\"\")","v":25450.54682252053},{"$f":"IFERROR('Salary Calculations'!F9,\"\")","v":388120.83904343809},{"$f":"IFERROR('Salary Calculations'!G9,\"\")","v":13513.949031168002},{"$f":"IFERROR('Salary Calculations'!H9,\"\")","v":90092.993541119999},{"$f":"IFERROR('Salary Calculations'!I9,\"\")","v":0},{"$f":"IFERROR('Salary Calculations'!J9,\"\")","v":90092.993541119999},{"$f":"IFERROR('Salary Calculations'!K9,\"\")","v":10811.159224934399},{"$f":"IFERROR('Salary Calculations'!L9,\"\")","v":5585.7655995494397},{"$f":"IFERROR('Salary Calculations'!M9,\"\")","v":1162.4321005332481},{"$f":"IFERROR('Salary Calculations'!N9,\"\")","v":5405.5796124671997},{"$f":"IFERROR('Salary Calculations'!O9,\"\")","v":1801.8598708223999},{"$f":"IFERROR('Salary Calculations'!P9,\"\")","v":24766.796408306691},{"$f":"IFERROR('Salary Calculations'!Q9,\"\")","v":59702.614826450001},{"$f":"IFERROR('Salary Calculations'!R9,\"\")","v":5623.582306363307},null,43,610058.50808696344,800000,103488.5304363037,1579.1264206948254]
[null,null,null,{"$f":"IFERROR('Salary Calculations'!A10,\"\")","v":37},{"$f":"IFERROR('Salary Calculations'!B10,\"\")","v":393744.42134980141},{"$f":"IFERROR('Salary Calculations'!C10,\"\")","v":800000},{"$f":"IFERROR('Salary Calculations'!D10,\"\")","v":984.36105337450351},{"$f":"IFERROR('Salary Calculations'!E10,\"\")","v":27562.109494486103},{"$f":"IFERROR('Salary Calculations'!F10,\"\")","v":420322.16979091306},{"$f":"IFERROR('Salary Calculations'!G10,\"\")","v":13784.228011791361},{"$f":"IFERROR('Salary Calculations'!H10,\"\")","v":91894.8534119424},{"$f":"IFERROR('Salary Calculations'!I10,\"\")","v":0},{"$f":"IFERROR('Salary Calculations'!J10,\"\")","v":91894.8534119424},{"$f":"IFERROR('Salary Calculations'!K10,\"\")","v":11027.382409433088},{"$f":"IFERROR('Salary Calculations'!L10,\"\")","v":5697.4809115404287},{"$f":"IFERROR('Salary Calculations'!M10,\"\")","v":1190.1807425439131},{"$f":"IFERROR('Salary Calculations'!N10,\"\")","v":5513.6912047165442},{"$f":"IFERROR('Salary Calculations'!O10,\"\")","v":1837.8970682388481},{"$f":"IFERROR('Salary Calculations'!P10,\"\")","v":25266.632336472823},{"$f":"IFERROR('Salary Calculations'!Q10,\"\")","v":61493.693271243501},{"$f":"IFERROR('Salary Calculations'!R10,\"\")","v":5134.5278042260688},null,44,652816.58380352834,800000,105558.30104502977,871.94209238293115]
[null,null,null,{"$f":"IFERROR('Salary Calculations'!A11,\"\")","v":38},{"$f":"IFERROR('Salary Calculations'!B11,\"\")","v":425456.69759513915},{"$f":"IFERROR('Salary Calculations'!C11,\"\")","v":800000},{"$f":"IFERROR('Salary Calculations'!D11,\"\")","v":1063.6417439878478},{"$f":"IFERROR('Salary Calculations'!E11,\"\")","v":29781.968831659742},{"$f":"IFERROR('Salary Calculations'!F11,\"\")","v":454175.02468281105},{"$f":"IFERROR('Salary Calculations'!G11,\"\")","v":14059.91257202719},{"$f":"IFERROR('Salary Calculations'!H11,\"\")","v":93732.750480181247},{"$f":"IFERROR('Salary Calculations'!I11,\"\")","v":0},{"$f":"IFERROR('Salary Calculations'!J11,\"\")","v":93732.750480181247},{"$f":"IFERROR('Salary Calculations'!K11,\"\")","v":11247.930057621748},{"$f":"IFERROR('Salary Calculations'!L11,\"\")","v":5811.4305297712372},{"$f":"IFERROR('Salary Calculations'!M11,\"\")","v":1218.4843573947915},{"$f":"IFERROR('Salary Calculations'!N11,\"\")","v":5623.9650288108742},{"$f":"IFERROR('Salary Calculations'!O11,\"\")","v":1874.6550096036249},{"$f":"IFERROR('Salary Calculations'!P11,\"\")","v":25776.464983202277},{"$f":"IFERROR('Salary Calculations'!Q11,\"\")","v":63338.504069380804},{"$f":"IFERROR('Salary Calculations'!R11,\"\")","v":4617.7814275981582},null,45,697753.64530264947,800000,107669.46706593037,128.58607180303079]
[null,null,null,{"$f":"IFERROR('Salary Calculations'!A12,\"\")","v":39},{"$f":"IFERROR('Salary Calculations'!B12,\"\")","v":458792.8061104092},{"$f":"IFERROR('Salary Calculations'!C12,\"\")","v":800000},{"$f":"IFERROR('Salary Calculations'!D12,\"\")","v":1146.982015276023},{"$f":"IFERROR('Salary Calculations'!E12,\"\")","v":32115.496427728649},{"$f":"IFERROR('Salary Calculations'!F12,\"\")","v":489761.32052286179},{"$f":"IFERROR('Salary Calculations'!G12,\"\")","v":14341.110823467734},{"$f":"IFERROR('Salary Calculations'!H12,\"\")","v":95607.405489784869},{"$f":"IFERROR('Salary Calculations'!I12,\"\")","v":0},{"$f":"IFERROR('Salary Calculations'!J12,\"\")","v":95607.405489784869},{"$f":"IFERROR('Salary Calculations'!K12,\"\")","v":11472.888658774184},{"$f":"IFERROR('Salary Calculations'!L12,\"\")","v":5927.6591403666616},{"$f":"IFERROR('Salary Calculations'!M12,\"\")","v":1247.354044542687},{"$f":"IFERROR('Salary Calculations'!N12,\"\")","v":5736.4443293870918},{"$f":"IFERROR('Salary Calculations'!O12,\"\")","v":1912.1481097956973},{"$f":"IFERROR('Salary Calculations'!P12,\"\")","v":26296.494282866322},{"$f":"IFERROR('Salary Calculations'!Q12,\"\")","v":65238.659191462233},{"$f":"IFERROR('Salary Calculations'!R12,\"\")","v":4072.2520154563172},null,46,744980.60243238136,800000,109822.85640724898,-652.32591506128665]
[null,null,null,{"$f":"IFERROR('Salary Calculations'!A13,\"\")","v":40},{"$f":"IFERROR('Salary Calculations'!B13,\"\")","v":493833.57253831811},{"$f":"IFERROR('Salary Calculations'!C13,\"\")","v":800000},{"$f":"IFERROR('Salary Calculations'!D13,\"\")","v":1234.5839313457952},{"$f":"IFERROR('Salary Calculations'!E13,\"\")","v":34568.350077682269},{"$f":"IFERROR('Salary Calculations'!F13,\"\")","v":527167.33868465456},{"$f":"IFERROR('Salary Calculations'!G13,\"\")","v":14627.933039937088},{"$f":"IFERROR('Salary Calculations'!H13,\"\")","v":97519.553599580569},{"$f":"IFERROR('Salary Calculations'!I13,\"\")","v":0},{"$f":"IFERROR('Salary Calculations'!J13,\"\")","v":97519.553599580569},{"$f":"IFERROR('Salary Calculations'!K13,\"\")","v":11702.346431949667},{"$f":"IFERROR('Salary Calculations'!L13,\"\")","v":6046.2123231739952},{"$f":"IFERROR('Salary Calculations'!M13,\"\")","v":1276.8011254335408},{"$f":"IFERROR('Salary Calculations'!N13,\"\")","v":5851.1732159748335},{"$f":"IFERROR('Salary Calculations'!O13,\"\")","v":1950.3910719916114},{"$f":"IFERROR('Salary Calculations'!P13,\"\")","v":26826.924168523645},{"$f":"IFERROR('Salary Calculations'!Q13,\"\")","v":67195.818967206098},{"$f":"IFERROR('Salary Calculations'!R13,\"\")","v":3496.810463850823},null,47,794614.46718150587,800000,112019.31353539396,-1472.225652911904]
[null,null,null,{"$f":"IFERROR('Salary Calculations'!A14,\"\")","v":41},{"$f":"IFERROR('Salary Calculations'!B14,\"\")","v":530664.14914850541},{"$f":"IFERROR('Salary Calculations'!C14,\"\")","v":800000},{"$f":"IFERROR('Salary Calculations'!D14,\"\")","v":1326.6603728712635},{"$f":"IFERROR('Salary Calculations'!E14,\"\")","v":37146.490440395384},{"$f":"IFERROR('Salary Calculations'!F14,\"\")","v":566483.97921602963},{"$f":"IFERROR('Salary Calculations'!G14,\"\")","v":14920.491700735831},{"$f":"IFERROR('Salary Calculations'!H14,\"\")","v":99469.944671572186},{"$f":"IFERROR('Salary Calculations'!I14,\"\")","v":0},{"$f":"IFERROR('Salary Calculations'!J14,\"\")","v":99469.944671572186},{"$f":"IFERROR('Salary Calculations'!K14,\"\")","v":11936.393360588661},{"$f":"IFERROR('Salary Calculations'!L14,\"\")","v":6167.1365696374751},{"$f":"IFERROR('Salary Calculations'!M14,\"\")","v":1306.8371479422117},{"$f":"IFERROR('Salary Calculations'!N14,\"\")","v":5968.1966802943307},{"$f":"IFERROR('Salary Calculations'!O14,\"\")","v":1989.3988934314439},{"$f":"IFERROR('Salary Calculations'!P14,\"\")","v":27367.962651894126},{"$f":"IFERROR('Salary Calculations'!Q14,\"\")","v":69211.693536222287},{"$f":"IFERROR('Salary Calculations'!R14,\"\")","v":2890.2884834557772},null,48,846778.71806334564,800000,114259.69980610184,-2332.5939821060165]
[null,null,null,{"$f":"IFERROR('Salary Calculations'!A15,\"\")","v":42},{"$f":"IFERROR('Salary Calculations'!B15,\"\")","v":569374.26769948541},{"$f":"IFERROR('Salary Calculations'!C15,\"\")","v":800000},{"$f":"IFERROR('Salary Calculations'!D15,\"\")","v":1423.4356692487136},{"$f":"IFERROR('Salary Calculations'!E15,\"\")","v":39856.198738963983},{"$f":"IFERROR('Salary Calculations'!F15,\"\")","v":607807.03076920076},{"$f":"IFERROR('Salary Calculations'!G15,\"\")","v":15218.901534750548},{"$f":"IFERROR('Salary Calculations'!H15,\"\")","v":101459.34356500363},{"$f":"IFERROR('Salary Calculations'!I15,\"\")","v":0},{"$f":"IFERROR('Salary Calculations'!J15,\"\")","v":101459.34356500363},{"$f":"IFERROR('Salary Calculations'!K15,\"\")","v":12175.121227800435},{"$f":"IFERROR('Salary Calculations'!L15,\"\")","v":6290.4793010302246},{"$f":"IFERROR('Salary Calculations'!M15,\"\")","v":1337.4738909010559},{"$f":"IFERROR('Salary Calculations'!N15,\"\")","v":6087.5606139002175},{"$f":"IFERROR('Salary Calculations'!O15,\"\")","v":2029.1868713000727},{"$f":"IFERROR('Salary Calculations'!P15,\"\")","v":27919.821904932003},{"$f":"IFERROR('Salary Calculations'!Q15,\"\")","v":71288.04434230896},{"$f":"IFERROR('Salary Calculations'!R15,\"\")","v":2251.477317762663},null,49,901603.6875505154,800000,116544.89380222387,-3234.962392368092]
[null,null,null,{"$f":"IFERROR('Salary Calculations'!A16,\"\")","v":43},{"$f":"IFERROR('Salary Calculations'!B16,\"\")","v":610058.50808696344},{"$f":"IFERROR('Salary Calculations'!C16,\"\")","v":800000},{"$f":"IFERROR('Salary Calculations'!D16,\"\")","v":1525.1462702174085},{"$f":"IFERROR('Salary Calculations'!E16,\"\")","v":42704.095566087446},{"$f":"IFERROR('Salary Calculations'!F16,\"\")","v":651237.45738283347},{"$f":"IFERROR('Salary Calculations'!G16,\"\")","v":15523.27956544556},{"$f":"IFERROR('Salary Calculations'!H16,\"\")","v":103488.5304363037},{"$f":"IFERROR('Salary Calculations'!I16,\"\")","v":0},{"$f":"IFERROR('Salary Calculations'!J16,\"\")","v":103488.5304363037},{"$f":"IFERROR('Salary Calculations'!K16,\"\")","v":12418.623652356444},{"$f":"IFERROR('Salary Calculations'!L16,\"\")","v":6416.2888870508295},{"$f":"IFERROR('Salary Calculations'!M16,\"\")","v":1368.7233687190771},{"$f":"IFERROR('Salary Calculations'!N16,\"\")","v":6209.311826178222},{"$f":"IFERROR('Salary Calculations'!O16,\"\")","v":2069.770608726074},{"$f":"IFERROR('Salary Calculations'!P16,\"\")","v":28482.718343030647},{"$f":"IFERROR('Salary Calculations'!Q16,\"\")","v":73426.685672578227},{"$f":"IFERROR('Salary Calculations'!R16,\"\")","v":1579.1264206948254},null,50,959226.97406780708,800000,118875.79167826835,-4180.9146667540044]
[null,null,null,{"$f":"IFERROR('Salary Calculations'!A17,\"\")","v":44},{"$f":"IFERROR('Salary Calculations'!B17,\"\")","v":652816.58380352834},{"$f":"IFERROR('Salary Calculations'!C17,\"\")","v":800000},{"$f":"IFERROR('Salary Calculations'!D17,\"\")","v":1632.0414595088209},{"$f":"IFERROR('Salary Calculations'!E17,\"\")","v":45697.160866246988},{"$f":"IFERROR('Salary Calculations'!F17,\"\")","v":696881.70321026654},{"$f":"IFERROR('Salary Calculations'!G17,\"\")","v":15833.745156754472},{"$f":"IFERROR('Salary Calculations'!H17,\"\")","v":105558.30104502977},{"$f":"IFERROR('Salary Calculations'!I17,\"\")","v":0},{"$f":"IFERROR('Salary Calculations'!J17,\"\")","v":105558.30104502977},{"$f":"IFERROR('Salary Calculations'!K17,\"\")","v":12666.996125403572},{"$f":"IFERROR('Salary Calculations'!L17,\"\")","v":6544.6146647918458},{"$f":"IFERROR('Salary Calculations'!M17,\"\")","v":1400.5978360934587},{"$f":"IFERROR('Salary Calculations'!N17,\"\")","v":6333.4980627017858},{"$f":"IFERROR('Salary Calculations'!O17,\"\")","v":2111.1660209005954},{"$f":"IFERROR('Salary Calculations'!P17,\"\")","v":29056.87270989126},{"$f":"IFERROR('Salary Calculations'!Q17,\"\")","v":75629.486242755578},{"$f":"IFERROR('Salary Calculations'!R17,\"\")","v":871.94209238293115},null,51,1019793.8801506301,800000,121253.30751183371,-5172.0885774238122]
[null,null,null,{"$f":"IFERROR('Salary Calculations'!A18,\"\")","v":45},{"$f":"IFERROR('Salary Calculations'!B18,\"\")","v":697753.64530264947},{"$f":"IFERROR('Salary Calculations'!C18,\"\")","v":800000},{"$f":"IFERROR('Salary Calculations'!D18,\"\")","v":1744.3841132566238},{"$f":"IFERROR('Salary Calculations'!E18,\"\")","v":48842.755171185468},{"$f":"IFERROR('Salary Calculations'!F18,\"\")","v":744852.01636057836},{"$f":"IFERROR('Salary Calculations'!G18,\"\")","v":16150.420059889562},{"$f":"IFERROR('Salary Calculations'!H18,\"\")","v":107669.46706593037},{"$f":"IFERROR('Salary Calculations'!I18,\"\")","v":0},{"$f":"IFERROR('Salary Calculations'!J18,\"\")","v":107669.46706593037},{"$f":"IFERROR('Salary Calculations'!K18,\"\")","v":12920.336047911644},{"$f":"IFERROR('Salary Calculations'!L18,\"\")","v":6675.5069580876825},{"$f":"IFERROR('Salary Calculations'!M18,\"\")","v":1433.1097928153279},{"$f":"IFERROR('Salary Calculations'!N18,\"\")","v":6460.1680239558218},{"$f":"IFERROR('Salary Calculations'!O18,\"\")","v":2153.3893413186074},{"$f":"IFERROR('Salary Calculations'!P18,\"\")","v":29642.510164089086},{"$f":"IFERROR('Salary Calculations'!Q18,\"\")","v":77898.370830038242},{"$f":"IFERROR('Salary Calculations'!R18,\"\")","v":128.58607180303079},null,52,1083457.8784833739,800000,123678.37366207039,-6210.1776348270359]
[null,null,null,{"$f":"IFERROR('Salary Calculations'!A19,\"\")","v":46},{"$f":"IFERROR('Salary Calculations'!B19,\"\")","v":744980.60243238136},{"$f":"IFERROR('Salary Calculations'!C19,\"\")","v":800000},{"$f":"IFERROR('Salary Calculations'!D19,\"\")","v":1862.4515060809535},{"$f":"IFERROR('Salary Calculations'!E19,\"\")","v":52148.642170266699},{"$f":"IFERROR('Salary Calculations'!F19,\"\")","v":795266.79309656715},{"$f":"IFERROR('Salary Calculations'!G19,\"\")","v":16473.428461087355},{"$f":"IFERROR('Salary Calculations'!H19,\"\")","v":109822.85640724898},{"$f":"IFERROR('Salary Calculations'!I19,\"\")","v":0},{"$f":"IFERROR('Salary Calculations'!J19,\"\")","v":109822.85640724898},{"$f":"IFERROR('Salary Calculations'!K19,\"\")","v":13178.742768869877},{"$f":"IFERROR('Salary Calculations'!L19,\"\")","v":6809.017097249437},{"$f":"IFERROR('Salary Calculations'!M19,\"\")","v":1466.2719886716343},{"$f":"IFERROR('Salary Calculations'!N19,\"\")","v":6589.3713844349386},{"$f":"IFERROR('Salary Calculations'!O19,\"\")","v":2196.4571281449798},{"$f":"IFERROR('Salary Calculations'!P19,\"\")","v":30239.860367370868},{"$f":"IFERROR('Salary Calculations'!Q19,\"\")","v":80235.321954939398},{"$f":"IFERROR('Salary Calculations'!R19,\"\")","v":-652.32591506128665},null,53,1150381.1076461745,800000,126151.94113531179,-7296.9328919539694]
[null,null,null,{"$f":"IFERROR('Salary Calculations'!A20,\"\")","v":47},{"$f":"IFERROR('Salary Calculations'!B20,\"\")","v":794614.46718150587},{"$f":"IFERROR('Salary Calculations'!C20,\"\")","v":800000},{"$f":"IFERROR('Salary Calculations'!D20,\"\")","v":1986.5361679537648},{"$f":"IFERROR('Salary Calculations'!E20,\"\")","v":55623.012702705419},{"$f":"IFERROR('Salary Calculations'!F20,\"\")","v":848250.94371625758},{"$f":"IFERROR('Salary Calculations'!G20,\"\")","v":16802.897030309101},{"$f":"IFERROR('Salary Calculations'!H20,\"\")","v":112019.31353539396},{"$f":"IFERROR('Salary Calculations'!I20,\"\")","v":0},{"$f":"IFERROR('Salary Calculations'!J20,\"\")","v":112019.31353539396},{"$f":"IFERROR('Salary Calculations'!K20,\"\")","v":13442.317624247275},{"$f":"IFERROR('Salary Calculations'!L20,\"\")","v":6945.197439194425},{"$f":"IFERROR('Salary Calculations'!M20,\"\")","v":1500.097428445067},{"$f":"IFERROR('Salary Calculations'!N20,\"\")","v":6721.1588121236373},{"$f":"IFERROR('Salary Calculations'!O20,\"\")","v":2240.3862707078792},{"$f":"IFERROR('Salary Calculations'!P20,\"\")","v":30849.157574718287},{"$f":"IFERROR('Salary Calculations'!Q20,\"\")","v":82642.381613587582},{"$f":"IFERROR('Salary Calculations'!R20,\"\")","v":-1472.225652911904},null,54,1220734.8995203373,800000,128674.97995801803,-8434.1648053563404]
[null,null,null,{"$f":"IFERROR('Salary Calculations'!A21,\"\")","v":48},{"$f":"IFERROR('Salary Calculations'!B21,\"\")","v":846778.71806334564},{"$f":"IFERROR('Salary Calculations'!C21,\"\")","v":800000},{"$f":"IFERROR('Salary Calculations'!D21,\"\")","v":2116.9467951583642},{"$f":"IFERROR('Salary Calculations'!E21,\"\")","v":59274.510264434204},{"$f":"IFERROR('Salary Calculations'!F21,\"\")","v":903936.28153262148},{"$f":"IFERROR('Salary Calculations'!G21,\"\")","v":17138.954970915282},{"$f":"IFERROR('Salary Calculations'!H21,\"\")","v":114259.69980610184},{"$f":"IFERROR('Salary Calculations'!I21,\"\")","v":0},{"$f":"IFERROR('Salary Calculations'!J21,\"\")","v":114259.69980610184},{"$f":"IFERROR('Salary Calculations'!K21,\"\")","v":13711.163976732219},{"$f":"IFERROR('Salary Calculations'!L21,\"\")","v":7084.1013879783141},{"$f":"IFERROR('Salary Calculations'!M21,\"\")","v":1534.5993770139685},{"$f":"IFERROR('Salary Calculations'!N21,\"\")","v":6855.5819883661097},{"$f":"IFERROR('Salary Calculations'!O21,\"\")","v":2285.1939961220369},{"$f":"IFERROR('Salary Calculations'!P21,\"\")","v":31470.640726212649},{"$f":"IFERROR('Salary Calculations'!Q21,\"\")","v":85121.65306199521},{"$f":"IFERROR('Salary Calculations'!R21,\"\")","v":-2332.5939821060165},null,55,1294700.3404326038,800000,131248.47955717839,-9623.7451546936791]
[null,null,null,{"$f":"IFERROR('Salary Calculations'!A22,\"\")","v":49},{"$f":"IFERROR('Salary Calculations'!B22,\"\")","v":901603.6875505154},{"$f":"IFERROR('Salary Calculations'!C22,\"\")","v":800000},{"$f":"IFERROR('Salary Calculations'!D22,\"\")","v":2254.0092188762887},{"$f":"IFERROR('Salary Calculations'!E22,\"\")","v":63112.258128536087},{"$f":"IFERROR('Salary Calculations'!F22,\"\")","v":962461.9364601752},{"$f":"IFERROR('Salary Calculations'!G22,\"\")","v":17481.734070333587},{"$f":"IFERROR('Salary Calculations'!H22,\"\")","v":116544.89380222387},{"$f":"IFERROR('Salary Calculations'!I22,\"\")","v":0},{"$f":"IFERROR('Salary Calculations'!J22,\"\")","v":116544.89380222387},{"$f":"IFERROR('Salary Calculations'!K22,\"\")","v":13985.387256266864},{"$f":"IFERROR('Salary Calculations'!L22,\"\")","v":7225.7834157378802},{"$f":"IFERROR('Salary Calculations'!M22,\"\")","v":1569.7913645542476},{"$f":"IFERROR('Salary Calculations'!N22,\"\")","v":6992.693628133432},{"$f":"IFERROR('Salary Calculations'!O22,\"\")","v":2330.8978760444775},{"$f":"IFERROR('Salary Calculations'!P22,\"\")","v":32104.553540736899},{"$f":"IFERROR('Salary Calculations'!Q22,\"\")","v":87675.302653855062},{"$f":"IFERROR('Salary Calculations'!R22,\"\")","v":-3234.962392368092},null,56,1372468.8682571109,800000,133873.44914832196,-10867.609022614663]
[null,null,null,{"$f":"IFERROR('Salary Calculations'!A23,\"\")","v":50},{"$f":"IFERROR('Salary Calculations'!B23,\"\")","v":959226.97406780708},{"$f":"IFERROR('Salary Calculations'!C23,\"\")","v":800000},{"$f":"IFERROR('Salary Calculations'!D23,\"\")","v":2398.0674351695179},{"$f":"IFERROR('Salary Calculations'!E23,\"\")","v":67145.888184746509},{"$f":"IFERROR('Salary Calculations'!F23,\"\")","v":1023974.7948173841},{"$f":"IFERROR('Salary Calculations'!G23,\"\")","v":17831.368751740258},{"$f":"IFERROR('Salary Calculations'!H23,\"\")","v":118875.79167826835},{"$f":"IFERROR('Salary Calculations'!I23,\"\")","v":0},{"$f":"IFERROR('Salary Calculations'!J23,\"\")","v":118875.79167826835},{"$f":"IFERROR('Salary Calculations'!K23,\"\")","v":14265.095001392201},{"$f":"IFERROR('Salary Calculations'!L23,\"\")","v":7370.2990840526372},{"$f":"IFERROR('Salary Calculations'!M23,\"\")","v":1605.6871918453328},{"$f":"IFERROR('Salary Calculations'!N23,\"\")","v":7132.5475006961005},{"$f":"IFERROR('Salary Calculations'!O23,\"\")","v":2377.5158335653668},{"$f":"IFERROR('Salary Calculations'!P23,\"\")","v":32751.144611551637},{"$f":"IFERROR('Salary Calculations'!Q23,\"\")","v":90305.56173347072},{"$f":"IFERROR('Salary Calculations'!R23,\"\")","v":-4180.9146667540044},null,57,1454242.9078418515,800000,136550.9181312884,-12167.756836838889]
[null,null,null,{"$f":"IFERROR('Salary Calculations'!A24,\"\")","v":51},{"$f":"IFERROR('Salary Calculations'!B24,\"\")","v":1019793.8801506301},{"$f":"IFERROR('Salary Calculations'!C24,\"\")","v":800000},{"$f":"IFERROR('Salary Calculations'!D24,\"\")","v":2549.4847003765753},{"$f":"IFERROR('Salary Calculations'!E24,\"\")","v":71385.57161054411},{"$f":"IFERROR('Salary Calculations'!F24,\"\")","v":1088629.9670607976},{"$f":"IFERROR('Salary Calculations'!G24,\"\")","v":18187.996126775062},{"$f":"IFERROR('Salary Calculations'!H24,\"\")","v":121253.30751183371},{"$f":"IFERROR('Salary Calculations'!I24,\"\")","v":0},{"$f":"IFERROR('Salary Calculations'!J24,\"\")","v":121253.30751183371},{"$f":"IFERROR('Salary Calculations'!K24,\"\")","v":14550.396901420045},{"$f":"IFERROR('Salary Calculations'!L24,\"\")","v":7517.7050657336904},{"$f":"IFERROR('Salary Calculations'!M24,\"\")","v":1642.3009356822395},{"$f":"IFERROR('Salary Calculations'!N24,\"\")","v":7275.1984507100224},{"$f":"IFERROR('Salary Calculations'!O24,\"\")","v":2425.0661502366743},{"$f":"IFERROR('Salary Calculations'!P24,\"\")","v":33410.667503782672},{"$f":"IFERROR('Salary Calculations'!Q24,\"\")","v":93014.728585474848},{"$f":"IFERROR('Salary Calculations'!R24,\"\")","v":-5172.0885774238122},null,58,1540236.5472843377,800000,139281.93649391417,-13526.256476360752]
[null,null,null,{"$f":"IFERROR('Salary Calculations'!A25,\"\")","v":52},{"$f":"IFERROR('Salary Calculations'!B25,\"\")","v":1083457.8784833739},{"$f":"IFERROR('Salary Calculations'!C25,\"\")","v":800000},{"$f":"IFERROR('Salary Calculations'!D25,\"\")","v":2708.6446962084347},{"$f":"IFERROR('Salary Calculations'!E25,\"\")","v":75842.051493836174},{"$f":"IFERROR('Salary Calculations'!F25,\"\")","v":1156591.2852810016},{"$f":"IFERROR('Salary Calculations'!G25,\"\")","v":18551.756049310563},{"$f":"IFERROR('Salary Calculations'!H25,\"\")","v":123678.37366207039},{"$f":"IFERROR('Salary Calculations'!I25,\"\")","v":0},{"$f":"IFERROR('Salary Calculations'!J25,\"\")","v":123678.37366207039},{"$f":"IFERROR('Salary Calculations'!K25,\"\")","v":14841.404839448445},{"$f":"IFERROR('Salary Calculations'!L25,\"\")","v":7668.0591670483636},{"$f":"IFERROR('Salary Calculations'!M25,\"\")","v":1679.646954395884},{"$f":"IFERROR('Salary Calculations'!N25,\"\")","v":7420.7024197242226},{"$f":"IFERROR('Salary Calculations'!O25,\"\")","v":2473.5674732414077},{"$f":"IFERROR('Salary Calculations'!P25,\"\")","v":34083.380853858318},{"$f":"IFERROR('Salary Calculations'!Q25,\"\")","v":95805.170443039096},{"$f":"IFERROR('Salary Calculations'!R25,\"\")","v":-6210.1776348270359},null,59,1630676.2577496697,800000,142067.57522379246,-14945.245443756576]
[null,null,null,{"$f":"IFERROR('Salary Calculations'!A26,\"\")","v":53},{"$f":"IFERROR('Salary Calculations'!B26,\"\")","v":1150381.1076461745},{"$f":"IFERROR('Salary Calculations'!C26,\"\")","v":800000},{"$f":"IFERROR('Salary Calculations'!D26,\"\")","v":2875.9527691154362},{"$f":"IFERROR('Salary Calculations'!E26,\"\")","v":80526.677535232229},{"$f":"IFERROR('Salary Calculations'!F26,\"\")","v":1228031.8324122913},{"$f":"IFERROR('Salary Calculations'!G26,\"\")","v":18922.791170296776},{"$f":"IFERROR('Salary Calculations'!H26,\"\")","v":126151.94113531179},{"$f":"IFERROR('Salary Calculations'!I26,\"\")","v":0},{"$f":"IFERROR('Salary Calculations'!J26,\"\")","v":126151.94113531179},{"$f":"IFERROR('Salary Calculations'!K26,\"\")","v":15138.232936237415},{"$f":"IFERROR('Salary Calculations'!L26,\"\")","v":7821.4203503893314},{"$f":"IFERROR('Salary Calculations'!M26,\"\")","v":1717.7398934838018},{"$f":"IFERROR('Salary Calculations'!N26,\"\")","v":7569.1164681187074},{"$f":"IFERROR('Salary Calculations'!O26,\"\")","v":2523.0388227062358},{"$f":"IFERROR('Salary Calculations'!P26,\"\")","v":34769.548470935493},{"$f":"IFERROR('Salary Calculations'!Q26,\"\")","v":98679.325556330266},{"$f":"IFERROR('Salary Calculations'!R26,\"\")","v":-7296.9328919539694},null,60,1725801.6597040161,800000,144908.9267282683,-16426.933105636417]
[null,null,null,{"$f":"IFERROR('Salary Calculations'!A27,\"\")","v":54},{"$f":"IFERROR('Salary Calculations'!B27,\"\")","v":1220734.8995203373},{"$f":"IFERROR('Salary Calculations'!C27,\"\")","v":800000},{"$f":"IFERROR('Salary Calculations'!D27,\"\")","v":3051.8372488008436},{"$f":"IFERROR('Salary Calculations'!E27,\"\")","v":85451.442966423623},{"$f":"IFERROR('Salary Calculations'!F27,\"\")","v":1303134.5052379603},{"$f":"IFERROR('Salary Calculations'!G27,\"\")","v":19301.246993702713},{"$f":"IFERROR('Salary Calculations'!H27,\"\")","v":128674.97995801803},{"$f":"IFERROR('Salary Calculations'!I27,\"\")","v":0},{"$f":"IFERROR('Salary Calculations'!J27,\"\")","v":128674.97995801803},{"$f":"IFERROR('Salary Calculations'!K27,\"\")","v":15440.997594962162},{"$f":"IFERROR('Salary Calculations'!L27,\"\")","v":7977.8487573971179},{"$f":"IFERROR('Salary Calculations'!M27,\"\")","v":1756.5946913534776},{"$f":"IFERROR('Salary Calculations'!N27,\"\")","v":7720.4987974810811},{"$f":"IFERROR('Salary Calculations'!O27,\"\")","v":2573.4995991603605},{"$f":"IFERROR('Salary Calculations'!P27,\"\")","v":35469.439440354196},{"$f":"IFERROR('Salary Calculations'!Q27,\"\")","v":101639.70532302017},{"$f":"IFERROR('Salary Calculations'!R27,\"\")","v":-8434.1648053563404},null,61,1825866.3386284008,800000,147807.10526283368,-17973.603003343975]
[null,null,null,{"$f":"IFERROR('Salary Calculations'!A28,\"\")","v":55},{"$f":"IFERROR('Salary Calculations'!B28,\"\")","v":1294700.3404326038},{"$f":"IFERROR('Salary Calculations'!C28,\"\")","v":800000},{"$f":"IFERROR('Salary Calculations'!D28,\"\")","v":3236.7508510815096},{"$f":"IFERROR('Salary Calculations'!E28,\"\")","v":90629.023830282284},{"$f":"IFERROR('Salary Calculations'!F28,\"\")","v":1382092.6134118047},{"$f":"IFERROR('Salary Calculations'!G28,\"\")","v":19687.271933576769},{"$f":"IFERROR('Salary Calculations'!H28,\"\")","v":131248.47955717839},{"$f":"IFERROR('Salary Calculations'!I28,\"\")","v":0},{"$f":"IFERROR('Salary Calculations'!J28,\"\")","v":131248.47955717839},{"$f":"IFERROR('Salary Calculations'!K28,\"\")","v":15749.817546861406},{"$f":"IFERROR('Salary Calculations'!L28,\"\")","v":8137.4057325450603},{"$f":"IFERROR('Salary Calculations'!M28,\"\")","v":1796.2265851805473},{"$f":"IFERROR('Salary Calculations'!N28,\"\")","v":7874.9087734307031},{"$f":"IFERROR('Salary Calculations'!O28,\"\")","v":2624.9695911435679},{"$f":"IFERROR('Salary Calculations'!P28,\"\")","v":36183.328229161285},{"$f":"IFERROR('Salary Calculations'!Q28,\"\")","v":104688.89648271078},{"$f":"IFERROR('Salary Calculations'!R28,\"\")","v":-9623.7451546936791},null,62,1931138.7134824737,800000,150763.24736809035,-19587.615236073543]
[null,null,null,{"$f":"IFERROR('Salary Calculations'!A29,\"\")","v":56},{"$f":"IFERROR('Salary Calculations'!B29,\"\")","v":1372468.8682571109},{"$f":"IFERROR('Salary Calculations'!C29,\"\")","v":800000},{"$f":"IFERROR('Salary Calculations'!D29,\"\")","v":3431.1721706427775},{"$f":"IFERROR('Salary Calculations'!E29,\"\")","v":96072.820777997782},{"$f":"IFERROR('Salary Calculations'!F29,\"\")","v":1465110.516864466},{"$f":"IFERROR('Salary Calculations'!G29,\"\")","v":20081.017372248305},{"$f":"IFERROR('Salary Calculations'!H29,\"\")","v":133873.44914832196},{"$f":"IFERROR('Salary Calculations'!I29,\"\")","v":0},{"$f":"IFERROR('Salary Calculations'!J29,\"\")","v":133873.44914832196},{"$f":"IFERROR('Salary Calculations'!K29,\"\")","v":16064.813897798635},{"$f":"IFERROR('Salary Calculations'!L29,\"\")","v":8300.1538471959611},{"$f":"IFERROR('Salary Calculations'!M29,\"\")","v":1836.6511168841585},{"$f":"IFERROR('Salary Calculations'!N29,\"\")","v":8032.4069488993173},{"$f":"IFERROR('Salary Calculations'!O29,\"\")","v":2677.4689829664394},{"$f":"IFERROR('Salary Calculations'!P29,\"\")","v":36911.49479374451},{"$f":"IFERROR('Salary Calculations'!Q29,\"\")","v":107829.56337719211},{"$f":"IFERROR('Salary Calculations'!R29,\"\")","v":-10867.609022614663},null,63,2041902.9614064672,800000,153778.51231545216,-21271.408918637564]
[null,null,null,{"$f":"IFERROR('Salary Calculations'!A30,\"\")","v":57},{"$f":"IFERROR('Salary Calculations'!B30,\"\")","v":1454242.9078418515},{"$f":"IFERROR('Salary Calculations'!C30,\"\")","v":800000},{"$f":"IFERROR('Salary Calculations'!D30,\"\")","v":3635.6072696046285},{"$f":"IFERROR('Salary Calculations'!E30,\"\")","v":101797.00354892961},{"$f":"IFERROR('Salary Calculations'!F30,\"\")","v":1552404.3041211765},{"$f":"IFERROR('Salary Calculations'!G30,\"\")","v":20482.63771969327},{"$f":"IFERROR('Salary Calculations'!H30,\"\")","v":136550.9181312884},{"$f":"IFERROR('Salary Calculations'!I30,\"\")","v":0},{"$f":"IFERROR('Salary Calculations'!J30,\"\")","v":136550.9181312884},{"$f":"IFERROR('Salary Calculations'!K30,\"\")","v":16386.110175754609},{"$f":"IFERROR('Salary Calculations'!L30,\"\")","v":8466.1569241398811},{"$f":"IFERROR('Salary Calculations'!M30,\"\")","v":1877.8841392218415},{"$f":"IFERROR('Salary Calculations'!N30,\"\")","v":8193.0550878773047},{"$f":"IFERROR('Salary Calculations'!O30,\"\")","v":2731.0183626257681},{"$f":"IFERROR('Salary Calculations'!P30,\"\")","v":37654.224689619405},{"$f":"IFERROR('Salary Calculations'!Q30,\"\")","v":111064.45027850788},{"$f":"IFERROR('Salary Calculations'!R30,\"\")","v":-12167.756836838889},null,64,2158460.002382766,800000,156854.0825617612,-23027.504716188181]
[null,null,null,{"$f":"IFERROR('Salary Calculations'!A31,\"\")","v":58},{"$f":"IFERROR('Salary Calculations'!B31,\"\")","v":1540236.5472843377},{"$f":"IFERROR('Salary Calculations'!C31,\"\")","v":800000},{"$f":"IFERROR('Salary Calculations'!D31,\"\")","v":3850.5913682108444},{"$f":"IFERROR('Salary Calculations'!E31,\"\")","v":107816.55830990364},{"$f":"IFERROR('Salary Calculations'!F31,\"\")","v":1644202.5142260306},{"$f":"IFERROR('Salary Calculations'!G31,\"\")","v":20892.290474087134},{"$f":"IFERROR('Salary Calculations'!H31,\"\")","v":139281.93649391417},{"$f":"IFERROR('Salary Calculations'!I31,\"\")","v":0},{"$f":"IFERROR('Salary Calculations'!J31,\"\")","v":139281.93649391417},{"$f":"IFERROR('Salary Calculations'!K31,\"\")","v":16713.832379269701},{"$f":"IFERROR('Salary Calculations'!L31,\"\")","v":8635.4800626226788},{"$f":"IFERROR('Salary Calculations'!M31,\"\")","v":1919.9418220062782},{"$f":"IFERROR('Salary Calculations'!N31,\"\")","v":8356.9161896348505},{"$f":"IFERROR('Salary Calculations'!O31,\"\")","v":2785.6387298782834},{"$f":"IFERROR('Salary Calculations'!P31,\"\")","v":38411.809183411795},{"$f":"IFERROR('Salary Calculations'!Q31,\"\")","v":114396.38378686312},{"$f":"IFERROR('Salary Calculations'!R31,\"\")","v":-13526.256476360752},null,65,2281128.5478274142,800000,159991.16421299643,-24858.5074582651]
[null,null,null,{"$f":"IFERROR('Salary Calculations'!A32,\"\")","v":59},{"$f":"IFERROR('Salary Calculations'!B32,\"\")","v":1630676.2577496697},{"$f":"IFERROR('Salary Calculations'!C32,\"\")","v":800000},{"$f":"IFERROR('Salary Calculations'!D32,\"\")","v":4076.6906443741746},{"$f":"IFERROR('Salary Calculations'!E32,\"\")","v":114147.3380424769},{"$f":"IFERROR('Salary Calculations'!F32,\"\")","v":1740746.9051477725},{"$f":"IFERROR('Salary Calculations'!G32,\"\")","v":21310.136283568878},{"$f":"IFERROR('Salary Calculations'!H32,\"\")","v":142067.57522379246},{"$f":"IFERROR('Salary Calculations'!I32,\"\")","v":0},{"$f":"IFERROR('Salary Calculations'!J32,\"\")","v":142067.57522379246},{"$f":"IFERROR('Salary Calculations'!K32,\"\")","v":17048.109026855094},{"$f":"IFERROR('Salary Calculations'!L32,\"\")","v":8808.1896638751332},{"$f":"IFERROR('Salary Calculations'!M32,\"\")","v":1962.8406584464039},{"$f":"IFERROR('Salary Calculations'!N32,\"\")","v":8524.0545134275471},{"$f":"IFERROR('Salary Calculations'!O32,\"\")","v":2841.3515044758492},{"$f":"IFERROR('Salary Calculations'!P32,\"\")","v":39184.54536708002},{"$f":"IFERROR('Salary Calculations'!Q32,\"\")","v":117828.27530046902},{"$f":"IFERROR('Salary Calculations'!R32,\"\")","v":-14945.245443756576},null,"Grand Total",34788934.109769054,28800000,4159549.3748628167,-138006.83506191228]
[null,null,null,{"$f":"IFERROR('Salary Calculations'!A33,\"\")","v":60},{"$f":"IFERROR('Salary Calculations'!B33,\"\")","v":1725801.6597040161},{"$f":"IFERROR('Salary Calculations'!C33,\"\")","v":800000},{"$f":"IFERROR('Salary Calculations'!D33,\"\")","v":4314.5041492600403},{"$f":"IFERROR('Salary Calculations'!E33,\"\")","v":120806.11617928113},{"$f":"IFERROR('Salary Calculations'!F33,\"\")","v":1842293.2717340372},{"$f":"IFERROR('Salary Calculations'!G33,\"\")","v":21736.339009240255},{"$f":"IFERROR('Salary Calculations'!H33,\"\")","v":144908.9267282683},{"$f":"IFERROR('Salary Calculations'!I33,\"\")","v":0},{"$f":"IFERROR('Salary Calculations'!J33,\"\")","v":144908.9267282683},{"$f":"IFERROR('Salary Calculations'!K33,\"\")","v":17389.071207392197},{"$f":"IFERROR('Salary Calculations'!L33,\"\")","v":8984.3534571526343},{"$f":"IFERROR('Salary Calculations'!M33,\"\")","v":2006.5974716153321},{"$f":"IFERROR('Salary Calculations'!N33,\"\")","v":8694.5356036960984},{"$f":"IFERROR('Salary Calculations'!O33,\"\")","v":2898.1785345653661},{"$f":"IFERROR('Salary Calculations'!P33,\"\")","v":39972.736274421623},{"$f":"IFERROR('Salary Calculations'!Q33,\"\")","v":121363.12355948309},{"$f":"IFERROR('Salary Calculations'!R33,\"\")","v":-16426.933105636417}]
[null,null,null,{"$f":"IFERROR('Salary Calculations'!A34,\"\")","v":61},{"$f":"IFERROR('Salary Calculations'!B34,\"\")","v":1825866.3386284008},{"$f":"IFERROR('Salary Calculations'!C34,\"\")","v":800000},{"$f":"IFERROR('Salary Calculations'!D34,\"\")","v":4564.6658465710025},{"$f":"IFERROR('Salary Calculations'!E34,\"\")","v":127810.64370398807},{"$f":"IFERROR('Salary Calculations'!F34,\"\")","v":1949112.3164858178},{"$f":"IFERROR('Salary Calculations'!G34,\"\")","v":22171.065789425062},{"$f":"IFERROR('Salary Calculations'!H34,\"\")","v":147807.10526283368},{"$f":"IFERROR('Salary Calculations'!I34,\"\")","v":0},{"$f":"IFERROR('Salary Calculations'!J34,\"\")","v":147807.10526283368},{"$f":"IFERROR('Salary Calculations'!K34,\"\")","v":17736.852631540041},{"$f":"IFERROR('Salary Calculations'!L34,\"\")","v":9164.0405262956883},{"$f":"IFERROR('Salary Calculations'!M34,\"\")","v":2051.2294210476384},{"$f":"IFERROR('Salary Calculations'!N34,\"\")","v":8868.4263157700207},{"$f":"IFERROR('Salary Calculations'!O34,\"\")","v":2956.1421052566734},{"$f":"IFERROR('Salary Calculations'!P34,\"\")","v":40776.690999910061},{"$f":"IFERROR('Salary Calculations'!Q34,\"\")","v":125004.01726626759},{"$f":"IFERROR('Salary Calculations'!R34,\"\")","v":-17973.603003343975}]
[null,null,null,{"$f":"IFERROR('Salary Calculations'!A35,\"\")","v":62},{"$f":"IFERROR('Salary Calculations'!B35,\"\")","v":1931138.7134824737},{"$f":"IFERROR('Salary Calculations'!C35,\"\")","v":800000},{"$f":"IFERROR('Salary Calculations'!D35,\"\")","v":4827.8467837061844},{"$f":"IFERROR('Salary Calculations'!E35,\"\")","v":135179.70994377317},{"$f":"IFERROR('Salary Calculations'!F35,\"\")","v":2061490.5766425407},{"$f":"IFERROR('Salary Calculations'!G35,\"\")","v":22614.487105213564},{"$f":"IFERROR('Salary Calculations'!H35,\"\")","v":150763.24736809035},{"$f":"IFERROR('Salary Calculations'!I35,\"\")","v":0},{"$f":"IFERROR('Salary Calculations'!J35,\"\")","v":150763.24736809035},{"$f":"IFERROR('Salary Calculations'!K35,\"\")","v":18091.589684170842},{"$f":"IFERROR('Salary Calculations'!L35,\"\")","v":9347.321336821602},{"$f":"IFERROR('Salary Calculations'!M35,\"\")","v":2096.7540094685919},{"$f":"IFERROR('Salary Calculations'!N35,\"\")","v":9045.7948420854209},{"$f":"IFERROR('Salary Calculations'!O35,\"\")","v":3015.2649473618071},{"$f":"IFERROR('Salary Calculations'!P35,\"\")","v":41596.724819908268},{"$f":"IFERROR('Salary Calculations'!Q35,\"\")","v":128754.13778425562},{"$f":"IFERROR('Salary Calculations'!R35,\"\")","v":-19587.615236073543}]
[null,null,null,{"$f":"IFERROR('Salary Calculations'!A36,\"\")","v":63},{"$f":"IFERROR('Salary Calculations'!B36,\"\")","v":2041902.9614064672},{"$f":"IFERROR('Salary Calculations'!C36,\"\")","v":800000},{"$f":"IFERROR('Salary Calculations'!D36,\"\")","v":5104.7574035161679},{"$f":"IFERROR('Salary Calculations'!E36,\"\")","v":142933.20729845273},{"$f":"IFERROR('Salary Calculations'!F36,\"\")","v":2179731.4113014038},{"$f":"IFERROR('Salary Calculations'!G36,\"\")","v":23066.776847317837},{"$f":"IFERROR('Salary Calculations'!H36,\"\")","v":153778.51231545216},{"$f":"IFERROR('Salary Calculations'!I36,\"\")","v":0},{"$f":"IFERROR('Salary Calculations'!J36,\"\")","v":153778.51231545216},{"$f":"IFERROR('Salary Calculations'!K36,\"\")","v":18453.421477854259},{"$f":"IFERROR('Salary Calculations'!L36,\"\")","v":9534.267763558033},{"$f":"IFERROR('Salary Calculations'!M36,\"\")","v":2143.1890896579635},{"$f":"IFERROR('Salary Calculations'!N36,\"\")","v":9226.7107389271296},{"$f":"IFERROR('Salary Calculations'!O36,\"\")","v":3075.5702463090433},{"$f":"IFERROR('Salary Calculations'!P36,\"\")","v":42433.159316306424},{"$f":"IFERROR('Salary Calculations'!Q36,\"\")","v":132616.7619177833},{"$f":"IFERROR('Salary Calculations'!R36,\"\")","v":-21271.408918637564}]
[null,null,null,{"$f":"IFERROR('Salary Calculations'!A37,\"\")","v":64},{"$f":"IFERROR('Salary Calculations'!B37,\"\")","v":2158460.002382766},{"$f":"IFERROR('Salary Calculations'!C37,\"\")","v":800000},{"$f":"IFERROR('Salary Calculations'!D37,\"\")","v":5396.1500059569153},{"$f":"IFERROR('Salary Calculations'!E37,\"\")","v":151092.20016679363},{"$f":"IFERROR('Salary Calculations'!F37,\"\")","v":2304156.0525436024},{"$f":"IFERROR('Salary Calculations'!G37,\"\")","v":23528.112384264194},{"$f":"IFERROR('Salary Calculations'!H37,\"\")","v":156854.0825617612},{"$f":"IFERROR('Salary Calculations'!I37,\"\")","v":0},{"$f":"IFERROR('Salary Calculations'!J37,\"\")","v":156854.0825617612},{"$f":"IFERROR('Salary Calculations'!K37,\"\")","v":18822.489907411342},{"$f":"IFERROR('Salary Calculations'!L37,\"\")","v":9724.9531188291949},{"$f":"IFERROR('Salary Calculations'!M37,\"\")","v":2190.5528714511229},{"$f":"IFERROR('Salary Calculations'!N37,\"\")","v":9411.2449537056709},{"$f":"IFERROR('Salary Calculations'!O37,\"\")","v":3137.0816512352239},{"$f":"IFERROR('Salary Calculations'!P37,\"\")","v":43286.32250263256},{"$f":"IFERROR('Salary Calculations'!Q37,\"\")","v":136595.26477531681},{"$f":"IFERROR('Salary Calculations'!R37,\"\")","v":-23027.504716188181}]
[null,null,null,{"$f":"IFERROR('Salary Calculations'!A38,\"\")","v":65},{"$f":"IFERROR('Salary Calculations'!B38,\"\")","v":2281128.5478274142},{"$f":"IFERROR('Salary Calculations'!C38,\"\")","v":800000},{"$f":"IFERROR('Salary Calculations'!D38,\"\")","v":5702.8213695685354},{"$f":"IFERROR('Salary Calculations'!E38,\"\")","v":159678.998347919},{"$f":"IFERROR('Salary Calculations'!F38,\"\")","v":2435104.7248057649},{"$f":"IFERROR('Salary Calculations'!G38,\"\")","v":23998.674631949478},{"$f":"IFERROR('Salary Calculations'!H38,\"\")","v":159991.16421299643},{"$f":"IFERROR('Salary Calculations'!I38,\"\")","v":0},{"$f":"IFERROR('Salary Calculations'!J38,\"\")","v":159991.16421299643},{"$f":"IFERROR('Salary Calculations'!K38,\"\")","v":19198.939705559573},{"$f":"IFERROR('Salary Calculations'!L38,\"\")","v":9919.4521812057792},{"$f":"IFERROR('Salary Calculations'!M38,\"\")","v":2238.8639288801451},{"$f":"IFERROR('Salary Calculations'!N38,\"\")","v":9599.4698527797864},{"$f":"IFERROR('Salary Calculations'!O38,\"\")","v":3199.8232842599286},{"$f":"IFERROR('Salary Calculations'!P38,\"\")","v":44156.548952685218},{"$f":"IFERROR('Salary Calculations'!Q38,\"\")","v":140693.12271857631},{"$f":"IFERROR('Salary Calculations'!R38,\"\")","v":-24858.5074582651}]
[null,null,null,{"$f":"IFERROR('Salary Calculations'!A39,\"\")","v":""},{"$f":"IFERROR('Salary Calculations'!B39,\"\")","v":""},{"$f":"IFERROR('Salary Calculations'!C39,\"\")","v":""},{"$f":"IFERROR('Salary Calculations'!D39,\"\")","v":""},{"$f":"IFERROR('Salary Calculations'!E39,\"\")","v":""},{"$f":"IFERROR('Salary Calculations'!F39,\"\")","v":""},{"$f":"IFERROR('Salary Calculations'!G39,\"\")","v":""},{"$f":"IFERROR('Salary Calculations'!H39,\"\")","v":""},{"$f":"IFERROR('Salary Calculations'!I39,\"\")","v":""},{"$f":"IFERROR('Salary Calculations'!J39,\"\")","v":""},{"$f":"IFERROR('Salary Calculations'!K39,\"\")","v":""},{"$f":"IFERROR('Salary Calculations'!L39,\"\")","v":""},{"$f":"IFERROR('Salary Calculations'!M39,\"\")","v":""},{"$f":"IFERROR('Salary Calculations'!N39,\"\")","v":""},{"$f":"IFERROR('Salary Calculations'!O39,\"\")","v":""},{"$f":"IFERROR('Salary Calculations'!P39,\"\")","v":""},{"$f":"IFERROR('Salary Calculations'!Q39,\"\")","v":""},{"$f":"IFERROR('Salary Calculations'!R39,\"\")","v":""}]
[null,null,null,{"$f":"IFERROR('Salary Calculations'!A40,\"\")","v":""},{"$f":"IFERROR('Salary Calculations'!B40,\"\")","v":""},{"$f":"IFERROR('Salary Calculations'!C40,\"\")","v":""},{"$f":"IFERROR('Salary Calculations'!D40,\"\")","v":""},{"$f":"IFERROR('Salary Calculations'!E40,\"\")","v":""},{"$f":"IFERROR('Salary Calculations'!F40,\"\")","v":""},{"$f":"IFERROR('Salary Calculations'!G40,\"\")","v":""},{"$f":"IFERROR('Salary Calculations'!H40,\"\")","v":""},{"$f":"IFERROR('Salary Calculations'!I40,\"\")","v":""},{"$f":"IFERROR('Salary Calculations'!J40,\"\")","v":""},{"$f":"IFERROR('Salary Calculations'!K40,\"\")","v":""},{"$f":"IFERROR('Salary Calculations'!L40,\"\")","v":""},{"$f":"IFERROR('Salary Calculations'!M40,\"\")","v":""},{"$f":"IFERROR('Salary Calculations'!N40,\"\")","v":""},{"$f":"IFERROR('Salary Calculations'!O40,\"\")","v":""},{"$f":"IFERROR('Salary Calculations'!P40,\"\")","v":""},{"$f":"IFERROR('Salary Calculations'!Q40,\"\")","v":""},{"$f":"IFERROR('Salary Calculations'!R40,\"\")","v":""}]
[null,null,null,{"$f":"IFERROR('Salary Calculations'!A41,\"\")","v":""},{"$f":"IFERROR('Salary Calculations'!B41,\"\")","v":""},{"$f":"IFERROR('Salary Calculations'!C41,\"\")","v":""},{"$f":"IFERROR('Salary Calculations'!D41,\"\")","v":""},{"$f":"IFERROR('Salary Calculations'!E41,\"\")","v":""},{"$f":"IFERROR('Salary Calculations'!F41,\"\")","v":""},{"$f":"IFERROR('Salary Calculations'!G41,\"\")","v":""},{"$f":"IFERROR('Salary Calculations'!H41,\"\")","v":""},{"$f":"IFERROR('Salary Calculations'!I41,\"\")","v":""},{"$f":"IFERROR('Salary Calculations'!J41,\"\")","v":""},{"$f":"IFERROR('Salary Calculations'!K41,\"\")","v":""},{"$f":"IFERROR('Salary Calculations'!L41,\"\")","v":""},{"$f":"IFERROR('Salary Calculations'!M41,\"\")","v":""},{"$f":"IFERROR('Salary Calculations'!N41,\"\")","v":""},{"$f":"IFERROR('Salary Calculations'!O41,\"\")","v":""},{"$f":"IFERROR('Salary Calculations'!P41,\"\")","v":""},{"$f":"IFERROR('Salary Calculations'!Q41,\"\")","v":""},{"$f":"IFERROR('Salary Calculations'!R41,\"\")","v":""}]
[null,null,null,{"$f":"IFERROR('Salary Calculations'!A42,\"\")","v":""},{"$f":"IFERROR('Salary Calculations'!B42,\"\")","v":""},{"$f":"IFERROR('Salary Calculations'!C42,\"\")","v":""},{"$f":"IFERROR('Salary Calculations'!D42,\"\")","v":""},{"$f":"IFERROR('Salary Calculations'!E42,\"\")","v":""},{"$f":"IFERROR('Salary Calculations'!F42,\"\")","v":""},{"$f":"IFERROR('Salary Calculations'!G42,\"\")","v":""},{"$f":"IFERROR('Salary Calculations'!H42,\"\")","v":""},{"$f":"IFERROR('Salary Calculations'!I42,\"\")","v":""},{"$f":"IFERROR('Salary Calculations'!J42,\"\")","v":""},{"$f":"IFERROR('Salary Calculations'!K42,\"\")","v":""},{"$f":"IFERROR('Salary Calculations'!L42,\"\")","v":""},{"$f":"IFERROR('Salary Calculations'!M42,\"\")","v":""},{"$f":"IFERROR('Salary Calculations'!N42,\"\")","v":""},{"$f":"IFERROR('Salary Calculations'!O42,\"\")","v":""},{"$f":"IFERROR('Salary Calculations'!P42,\"\")","v":""},{"$f":"IFERROR('Salary Calculations'!Q42,\"\")","v":""},{"$f":"IFERROR('Salary Calculations'!R42,\"\")","v":""}]
[null,null,null,{"$f":"IFERROR('Salary Calculations'!A43,\"\")","v":""},{"$f":"IFERROR('Salary Calculations'!B43,\"\")","v":""},{"$f":"IFERROR('Salary Calculations'!C43,\"\")","v":""},{"$f":"IFERROR('Salary Calculations'!D43,\"\")","v":""},{"$f":"IFERROR('Salary Calculations'!E43,\"\")","v":""},{"$f":"IFERROR('Salary Calculations'!F43,\"\")","v":""},{"$f":"IFERROR('Salary Calculations'!G43,\"\")","v":""},{"$f":"IFERROR('Salary Calculations'!H43,\"\")","v":""},{"$f":"IFERROR('Salary Calculations'!I43,\"\")","v":""},{"$f":"IFERROR('Salary Calculations'!J43,\"\")","v":""},{"$f":"IFERROR('Salary Calculations'!K43,\"\")","v":""},{"$f":"IFERROR('Salary Calculations'!L43,\"\")","v":""},{"$f":"IFERROR('Salary Calculations'!M43,\"\")","v":""},{"$f":"IFERROR('Salary Calculations'!N43,\"\")","v":""},{"$f":"IFERROR('Salary Calculations'!O43,\"\")","v":""},{"$f":"IFERROR('Salary Calculations'!P43,\"\")","v":""},{"$f":"IFERROR('Salary Calculations'!Q43,\"\")","v":""},{"$f":"IFERROR('Salary Calculations'!R43,\"\")","v":""}]
[null,null,null,{"$f":"IFERROR('Salary Calculations'!A44,\"\")","v":""},{"$f":"IFERROR('Salary Calculations'!B44,\"\")","v":""},{"$f":"IFERROR('Salary Calculations'!C44,\"\")","v":""},{"$f":"IFERROR('Salary Calculations'!D44,\"\")","v":""},{"$f":"IFERROR('Salary Calculations'!E44,\"\")","v":""},{"$f":"IFERROR('Salary Calculations'!F44,\"\")","v":""},{"$f":"IFERROR('Salary Calculations'!G44,\"\")","v":""},{"$f":"IFERROR('Salary Calculations'!H44,\"\")","v":""},{"$f":"IFERROR('Salary Calculations'!I44,\"\")","v":""},{"$f":"IFERROR('Salary Calculations'!J44,\"\")","v":""},{"$f":"IFERROR('Salary Calculations'!K44,\"\")","v":""},{"$f":"IFERROR('Salary Calculations'!L44,\"\")","v":""},{"$f":"IFERROR('Salary Calculations'!M44,\"\")","v":""},{"$f":"IFERROR('Salary Calculations'!N44,\"\")","v":""},{"$f":"IFERROR('Salary Calculations'!O44,\"\")","v":""},{"$f":"IFERROR('Salary Calculations'!P44,\"\")","v":""},{"$f":"IFERROR('Salary Calculations'!Q44,\"\")","v":""},{"$f":"IFERROR('Salary Calculations'!R44,\"\")","v":""}]
[null,null,null,{"$f":"IFERROR('Salary Calculations'!A45,\"\")","v":""},{"$f":"IFERROR('Salary Calculations'!B45,\"\")","v":""},{"$f":"IFERROR('Salary Calculations'!C45,\"\")","v":""},{"$f":"IFERROR('Salary Calculations'!D45,\"\")","v":""},{"$f":"IFERROR('Salary Calculations'!E45,\"\")","v":""},{"$f":"IFERROR('Salary Calculations'!F45,\"\")","v":""},{"$f":"IFERROR('Salary Calculations'!G45,\"\")","v":""},{"$f":"IFERROR('Salary Calculations'!H45,\"\")","v":""},{"$f":"IFERROR('Salary Calculations'!I45,\"\")","v":""},{"$f":"IFERROR('Salary Calculations'!J45,\"\")","v":""},{"$f":"IFERROR('Salary Calculations'!K45,\"\")","v":""},{"$f":"IFERROR('Salary Calculations'!L45,\"\")","v":""},{"$f":"IFERROR('Salary Calculations'!M45,\"\")","v":""},{"$f":"IFERROR('Salary Calculations'!N45,\"\")","v":""},{"$f":"IFERROR('Salary Calculations'!O45,\"\")","v":""},{"$f":"IFERROR('Salary Calculations'!P45,\"\")","v":""},{"$f":"IFERROR('Salary Calculations'!Q45,\"\")","v":""},{"$f":"IFERROR('Salary Calculations'!R45,\"\")","v":""}]
[null,null,null,{"$f":"IFERROR('Salary Calculations'!A46,\"\")","v":""},{"$f":"IFERROR('Salary Calculations'!B46,\"\")","v":""},{"$f":"IFERROR('Salary Calculations'!C46,\"\")","v":""},{"$f":"IFERROR('Salary Calculations'!D46,\"\")","v":""},{"$f":"IFERROR('Salary Calculations'!E46,\"\")","v":""},{"$f":"IFERROR('Salary Calculations'!F46,\"\")","v":""},{"$f":"IFERROR('Salary Calculations'!G46,\"\")","v":""},{"$f":"IFERROR('Salary Calculations'!H46,\"\")","v":""},{"$f":"IFERROR('Salary Calculations'!I46,\"\")","v":""},{"$f":"IFERROR('Salary Calculations'!J46,\"\")","v":""},{"$f":"IFERROR('Salary Calculations'!K46,\"\")","v":""},{"$f":"IFERROR('Salary Calculations'!L46,\"\")","v":""},{"$f":"IFERROR('Salary Calculations'!M46,\"\")","v":""},{"$f":"IFERROR('Salary Calculations'!N46,\"\")","v":""},{"$f":"IFERROR('Salary Calculations'!O46,\"\")","v":""},{"$f":"IFERROR('Salary Calculations'!P46,\"\")","v":""},{"$f":"IFERROR('Salary Calculations'!Q46,\"\")","v":""},{"$f":"IFERROR('Salary Calculations'!R46,\"\")","v":""}]
[null,null,null,{"$f":"IFERROR('Salary Calculations'!A47,\"\")","v":""},{"$f":"IFERROR('Salary Calculations'!B47,\"\")","v":""},{"$f":"IFERROR('Salary Calculations'!C47,\"\")","v":""},{"$f":"IFERROR('Salary Calculations'!D47,\"\")","v":""},{"$f":"IFERROR('Salary Calculations'!E47,\"\")","v":""},{"$f":"IFERROR('Salary Calculations'!F47,\"\")","v":""},{"$f":"IFERROR('Salary Calculations'!G47,\"\")","v":""},{"$f":"IFERROR('Salary Calculations'!H47,\"\")","v":""},{"$f":"IFERROR('Salary Calculations'!I47,\"\")","v":""},{"$f":"IFERROR('Salary Calculations'!J47,\"\")","v":""},{"$f":"IFERROR('Salary Calculations'!K47,\"\")","v":""},{"$f":"IFERROR('Salary Calculations'!L47,\"\")","v":""},{"$f":"IFERROR('Salary Calculations'!M47,\"\")","v":""},{"$f":"IFERROR('Salary Calculations'!N47,\"\")","v":""},{"$f":"IFERROR('Salary Calculations'!O47,\"\")","v":""},{"$f":"IFERROR('Salary Calculations'!P47,\"\")","v":""},{"$f":"IFERROR('Salary Calculations'!Q47,\"\")","v":""},{"$f":"IFERROR('Salary Calculations'!R47,\"\")","v":""}]
[null,null,null,{"$f":"IFERROR('Salary Calculations'!A48,\"\")","v":""},{"$f":"IFERROR('Salary Calculations'!B48,\"\")","v":""},{"$f":"IFERROR('Salary Calculations'!C48,\"\")","v":""},{"$f":"IFERROR('Salary Calculations'!D48,\"\")","v":""},{"$f":"IFERROR('Salary Calculations'!E48,\"\")","v":""},{"$f":"IFERROR('Salary Calculations'!F48,\"\")","v":""},{"$f":"IFERROR('Salary Calculations'!G48,\"\")","v":""},{"$f":"IFERROR('Salary Calculations'!H48,\"\")","v":""},{"$f":"IFERROR('Salary Calculations'!I48,\"\")","v":""},{"$f":"IFERROR('Salary Calculations'!J48,\"\")","v":""},{"$f":"IFERROR('Salary Calculations'!K48,\"\")","v":""},{"$f":"IFERROR('Salary Calculations'!L48,\"\")","v":""},{"$f":"IFERROR('Salary Calculations'!M48,\"\")","v":""},{"$f":"IFERROR('Salary Calculations'!N48,\"\")","v":""},{"$f":"IFERROR('Salary Calculations'!O48,\"\")","v":""},{"$f":"IFERROR('Salary Calculations'!P48,\"\")","v":""},{"$f":"IFERROR('Salary Calculations'!Q48,\"\")","v":""},{"$f":"IFERROR('Salary Calculations'!R48,\"\")","v":""}]
[null,null,null,{"$f":"IFERROR('Salary Calculations'!A49,\"\")","v":""},{"$f":"IFERROR('Salary Calculations'!B49,\"\")","v":""},{"$f":"IFERROR('Salary Calculations'!C49,\"\")","v":""},{"$f":"IFERROR('Salary Calculations'!D49,\"\")","v":""},{"$f":"IFERROR('Salary Calculations'!E49,\"\")","v":""},{"$f":"IFERROR('Salary Calculations'!F49,\"\")","v":""},{"$f":"IFERROR('Salary Calculations'!G49,\"\")","v":""},{"$f":"IFERROR('Salary Calculations'!H49,\"\")","v":""},{"$f":"IFERROR('Salary Calculations'!I49,\"\")","v":""},{"$f":"IFERROR('Salary Calculations'!J49,\"\")","v":""},{"$f":"IFERROR('Salary Calculations'!K49,\"\")","v":""},{"$f":"IFERROR('Salary Calculations'!L49,\"\")","v":""},{"$f":"IFERROR('Salary Calculations'!M49,\"\")","v":""},{"$f":"IFERROR('Salary Calculations'!N49,\"\")","v":""},{"$f":"IFERROR('Salary Calculations'!O49,\"\")","v":""},{"$f":"IFERROR('Salary Calculations'!P49,\"\")","v":""},{"$f":"IFERROR('Salary Calculations'!Q49,\"\")","v":""},{"$f":"IFERROR('Salary Calculations'!R49,\"\")","v":""}]
[null,null,null,{"$f":"IFERROR('Salary Calculations'!A50,\"\")","v":""},{"$f":"IFERROR('Salary Calculations'!B50,\"\")","v":""},{"$f":"IFERROR('Salary Calculations'!C50,\"\")","v":""},{"$f":"IFERROR('Salary Calculations'!D50,\"\")","v":""},{"$f":"IFERROR('Salary Calculations'!E50,\"\")","v":""},{"$f":"IFERROR('Salary Calculations'!F50,\"\")","v":""},{"$f":"IFERROR('Salary Calculations'!G50,\"\")","v":""},{"$f":"IFERROR('Salary Calculations'!H50,\"\")","v":""},{"$f":"IFERROR('Salary Calculations'!I50,\"\")","v":""},{"$f":"IFERROR('Salary Calculations'!J50,\"\")","v":""},{"$f":"IFERROR('Salary Calculations'!K50,\"\")","v":""},{"$f":"IFERROR('Salary Calculations'!L50,\"\")","v":""},{"$f":"IFERROR('Salary Calculations'!M50,\"\")","v":""},{"$f":"IFERROR('Salary Calculations'!N50,\"\")","v":""},{"$f":"IFERROR('Salary Calculations'!O50,\"\")","v":""},{"$f":"IFERROR('Salary Calculations'!P50,\"\")","v":""},{"$f":"IFERROR('Salary Calculations'!Q50,\"\")","v":""},{"$f":"IFERROR('Salary Calculations'!R50,\"\")","v":""}]
[null,null,null,{"$f":"IFERROR('Salary Calculations'!A51,\"\")","v":""},{"$f":"IFERROR('Salary Calculations'!B51,\"\")","v":""},{"$f":"IFERROR('Salary Calculations'!C51,\"\")","v":""},{"$f":"IFERROR('Salary Calculations'!D51,\"\")","v":""},{"$f":"IFERROR('Salary Calculations'!E51,\"\")","v":""},{"$f":"IFERROR('Salary Calculations'!F51,\"\")","v":""},{"$f":"IFERROR('Salary Calculations'!G51,\"\")","v":""},{"$f":"IFERROR('Salary Calculations'!H51,\"\")","v":""},{"$f":"IFERROR('Salary Calculations'!I51,\"\")","v":""},{"$f":"IFERROR('Salary Calculations'!J51,\"\")","v":""},{"$f":"IFERROR('Salary Calculations'!K51,\"\")","v":""},{"$f":"IFERROR('Salary Calculations'!L51,\"\")","v":""},{"$f":"IFERROR('Salary Calculations'!M51,\"\")","v":""},{"$f":"IFERROR('Salary Calculations'!N51,\"\")","v":""},{"$f":"IFERROR('Salary Calculations'!O51,\"\")","v":""},{"$f":"IFERROR('Salary Calculations'!P51,\"\")","v":""},{"$f":"IFERROR('Salary Calculations'!Q51,\"\")","v":""},{"$f":"IFERROR('Salary Calculations'!R51,\"\")","v":""}]
[null,null,null,{"$f":"IFERROR('Salary Calculations'!A52,\"\")","v":""},{"$f":"IFERROR('Salary Calculations'!B52,\"\")","v":""},{"$f":"IFERROR('Salary Calculations'!C52,\"\")","v":""},{"$f":"IFERROR('Salary Calculations'!D52,\"\")","v":""},{"$f":"IFERROR('Salary Calculations'!E52,\"\")","v":""},{"$f":"IFERROR('Salary Calculations'!F52,\"\")","v":""},{"$f":"IFERROR('Salary Calculations'!G52,\"\")","v":""},{"$f":"IFERROR('Salary Calculations'!H52,\"\")","v":""},{"$f":"IFERROR('Salary Calculations'!I52,\"\")","v":""},{"$f":"IFERROR('Salary Calculations'!J52,\"\")","v":""},{"$f":"IFERROR('Salary Calculations'!K52,\"\")","v":""},{"$f":"IFERROR('Salary Calculations'!L52,\"\")","v":""},{"$f":"IFERROR('Salary Calculations'!M52,\"\")","v":""},{"$f":"IFERROR('Salary Calculations'!N52,\"\")","v":""},{"$f":"IFERROR('Salary Calculations'!O52,\"\")","v":""},{"$f":"IFERROR('Salary Calculations'!P52,\"\")","v":""},{"$f":"IFERROR('Salary Calculations'!Q52,\"\")","v":""},{"$f":"IFERROR('Salary Calculations'!R52,\"\")","v":""}]
[null,null,null,{"$f":"IFERROR('Salary Calculations'!A53,\"\")","v":""},{"$f":"IFERROR('Salary Calculations'!B53,\"\")","v":""},{"$f":"IFERROR('Salary Calculations'!C53,\"\")","v":""},{"$f":"IFERROR('Salary Calculations'!D53,\"\")","v":""},{"$f":"IFERROR('Salary Calculations'!E53,\"\")","v":""},{"$f":"IFERROR('Salary Calculations'!F53,\"\")","v":""},{"$f":"IFERROR('Salary Calculations'!G53,\"\")","v":""},{"$f":"IFERROR('Salary Calculations'!H53,\"\")","v":""},{"$f":"IFERROR('Salary Calculations'!I53,\"\")","v":""},{"$f":"IFERROR('Salary Calculations'!J53,\"\")","v":""},{"$f":"IFERROR('Salary Calculations'!K53,\"\")","v":""},{"$f":"IFERROR('Salary Calculations'!L53,\"\")","v":""},{"$f":"IFERROR('Salary Calculations'!M53,\"\")","v":""},{"$f":"IFERROR('Salary Calculations'!N53,\"\")","v":""},{"$f":"IFERROR('Salary Calculations'!O53,\"\")","v":""},{"$f":"IFERROR('Salary Calculations'!P53,\"\")","v":""},{"$f":"IFERROR('Salary Calculations'!Q53,\"\")","v":""},{"$f":"IFERROR('Salary Calculations'!R53,\"\")","v":""}]
[null,null,null,{"$f":"IFERROR('Salary Calculations'!A54,\"\")","v":""},{"$f":"IFERROR('Salary Calculations'!B54,\"\")","v":""},{"$f":"IFERROR('Salary Calculations'!C54,\"\")","v":""},{"$f":"IFERROR('Salary Calculations'!D54,\"\")","v":""},{"$f":"IFERROR('Salary Calculations'!E54,\"\")","v":""},{"$f":"IFERROR('Salary Calculations'!F54,\"\")","v":""},{"$f":"IFERROR('Salary Calculations'!G54,\"\")","v":""},{"$f":"IFERROR('Salary Calculations'!H54,\"\")","v":""},{"$f":"IFERROR('Salary Calculations'!I54,\"\")","v":""},{"$f":"IFERROR('Salary Calculations'!J54,\"\")","v":""},{"$f":"IFERROR('Salary Calculations'!K54,\"\")","v":""},{"$f":"IFERROR('Salary Calculations'!L54,\"\")","v":""},{"$f":"IFERROR('Salary Calculations'!M54,\"\")","v":""},{"$f":"IFERROR('Salary Calculations'!N54,\"\")","v":""},{"$f":"IFERROR('Salary Calculations'!O54,\"\")","v":""},{"$f":"IFERROR('Salary Calculations'!P54,\"\")","v":""},{"$f":"IFERROR('Salary Calculations'!Q54,\"\")","v":""},{"$f":"IFERROR('Salary Calculations'!R54,\"\")","v":""}]
[null,null,null,{"$f":"IFERROR('Salary Calculations'!A55,\"\")","v":""},{"$f":"IFERROR('Salary Calculations'!B55,\"\")","v":""},{"$f":"IFERROR('Salary Calculations'!C55,\"\")","v":""},{"$f":"IFERROR('Salary Calculations'!D55,\"\")","v":""},{"$f":"IFERROR('Salary Calculations'!E55,\"\")","v":""},{"$f":"IFERROR('Salary Calculations'!F55,\"\")","v":""},{"$f":"IFERROR('Salary Calculations'!G55,\"\")","v":""},{"$f":"IFERROR('Salary Calculations'!H55,\"\")","v":""},{"$f":"IFERROR('Salary Calculations'!I55,\"\")","v":""},{"$f":"IFERROR('Salary Calculations'!J55,\"\")","v":""},{"$f":"IFERROR('Salary Calculations'!K55,\"\")","v":""},{"$f":"IFERROR('Salary Calculations'!L55,\"\")","v":""},{"$f":"IFERROR('Salary Calculations'!M55,\"\")","v":""},{"$f":"IFERROR('Salary Calculations'!N55,\"\")","v":""},{"$f":"IFERROR('Salary Calculations'!O55,\"\")","v":""},{"$f":"IFERROR('Salary Calculations'!P55,\"\")","v":""},{"$f":"IFERROR('Salary Calculations'!Q55,\"\")","v":""},{"$f":"IFERROR('Salary Calculations'!R55,\"\")","v":""}]
[null,null,null,{"$f":"IFERROR('Salary Calculations'!A56,\"\")","v":""},{"$f":"IFERROR('Salary Calculations'!B56,\"\")","v":""},{"$f":"IFERROR('Salary Calculations'!C56,\"\")","v":""},{"$f":"IFERROR('Salary Calculations'!D56,\"\")","v":""},{"$f":"IFERROR('Salary Calculations'!E56,\"\")","v":""},{"$f":"IFERROR('Salary Calculations'!F56,\"\")","v":""},{"$f":"IFERROR('Salary Calculations'!G56,\"\")","v":""},{"$f":"IFERROR('Salary Calculations'!H56,\"\")","v":""},{"$f":"IFERROR('Salary Calculations'!I56,\"\")","v":""},{"$f":"IFERROR('Salary Calculations'!J56,\"\")","v":""},{"$f":"IFERROR('Salary Calculations'!K56,\"\")","v":""},{"$f":"IFERROR('Salary Calculations'!L56,\"\")","v":""},{"$f":"IFERROR('Salary Calculations'!M56,\"\")","v":""},{"$f":"IFERROR('Salary Calculations'!N56,\"\")","v":""},{"$f":"IFERROR('Salary Calculations'!O56,\"\")","v":""},{"$f":"IFERROR('Salary Calculations'!P56,\"\")","v":""},{"$f":"IFERROR('Salary Calculations'!Q56,\"\")","v":""},{"$f":"IFERROR('Salary Calculations'!R56,\"\")","v":""}]
[null,null,null,{"$f":"IFERROR('Salary Calculations'!A57,\"\")","v":""},{"$f":"IFERROR('Salary Calculations'!B57,\"\")","v":""},{"$f":"IFERROR('Salary Calculations'!C57,\"\")","v":""},{"$f":"IFERROR('Salary Calculations'!D57,\"\")","v":""},{"$f":"IFERROR('Salary Calculations'!E57,\"\")","v":""},{"$f":"IFERROR('Salary Calculations'!F57,\"\")","v":""},{"$f":"IFERROR('Salary Calculations'!G57,\"\")","v":""},{"$f":"IFERROR('Salary Calculations'!H57,\"\")","v":""},{"$f":"IFERROR('Salary Calculations'!I57,\"\")","v":""},{"$f":"IFERROR('Salary Calculations'!J57,\"\")","v":""},{"$f":"IFERROR('Salary Calculations'!K57,\"\")","v":""},{"$f":"IFERROR('Salary Calculations'!L57,\"\")","v":""},{"$f":"IFERROR('Salary Calculations'!M57,\"\")","v":""},{"$f":"IFERROR('Salary Calculations'!N57,\"\")","v":""},{"$f":"IFERROR('Salary Calculations'!O57,\"\")","v":""},{"$f":"IFERROR('Salary Calculations'!P57,\"\")","v":""},{"$f":"IFERROR('Salary Calculations'!Q57,\"\")","v":""},{"$f":"IFERROR('Salary Calculations'!R57,\"\")","v":""}]
[null,null,null,{"$f":"IFERROR('Salary Calculations'!A58,\"\")","v":""},{"$f":"IFERROR('Salary Calculations'!B58,\"\")","v":""},{"$f":"IFERROR('Salary Calculations'!C58,\"\")","v":""},{"$f":"IFERROR('Salary Calculations'!D58,\"\")","v":""},{"$f":"IFERROR('Salary Calculations'!E58,\"\")","v":""},{"$f":"IFERROR('Salary Calculations'!F58,\"\")","v":""},{"$f":"IFERROR('Salary Calculations'!G58,\"\")","v":""},{"$f":"IFERROR('Salary Calculations'!H58,\"\")","v":""},{"$f":"IFERROR('Salary Calculations'!I58,\"\")","v":""},{"$f":"IFERROR('Salary Calculations'!J58,\"\")","v":""},{"$f":"IFERROR('Salary Calculations'!K58,\"\")","v":""},{"$f":"IFERROR('Salary Calculations'!L58,\"\")","v":""},{"$f":"IFERROR('Salary Calculations'!M58,\"\")","v":""},{"$f":"IFERROR('Salary Calculations'!N58,\"\")","v":""},{"$f":"IFERROR('Salary Calculations'!O58,\"\")","v":""},{"$f":"IFERROR('Salary Calculations'!P58,\"\")","v":""},{"$f":"IFERROR('Salary Calculations'!Q58,\"\")","v":""},{"$f":"IFERROR('Salary Calculations'!R58,\"\")","v":""}]
[null,null,null,{"$f":"IFERROR('Salary Calculations'!A59,\"\")","v":""},{"$f":"IFERROR('Salary Calculations'!B59,\"\")","v":""},{"$f":"IFERROR('Salary Calculations'!C59,\"\")","v":""},{"$f":"IFERROR('Salary Calculations'!D59,\"\")","v":""},{"$f":"IFERROR('Salary Calculations'!E59,\"\")","v":""},{"$f":"IFERROR('Salary Calculations'!F59,\"\")","v":""},{"$f":"IFERROR('Salary Calculations'!G59,\"\")","v":""},{"$f":"IFERROR('Salary Calculations'!H59,\"\")","v":""},{"$f":"IFERROR('Salary Calculations'!I59,\"\")","v":""},{"$f":"IFERROR('Salary Calculations'!J59,\"\")","v":""},{"$f":"IFERROR('Salary Calculations'!K59,\"\")","v":""},{"$f":"IFERROR('Salary Calculations'!L59,\"\")","v":""},{"$f":"IFERROR('Salary Calculations'!M59,\"\")","v":""},{"$f":"IFERROR('Salary Calculations'!N59,\"\")","v":""},{"$f":"IFERROR('Salary Calculations'!O59,\"\")","v":""},{"$f":"IFERROR('Salary Calculations'!P59,\"\")","v":""},{"$f":"IFERROR('Salary Calculations'!Q59,\"\")","v":""},{"$f":"IFERROR('Salary Calculations'!R59,\"\")","v":""}]
[null,null,null,{"$f":"IFERROR('Salary Calculations'!A60,\"\")","v":""},{"$f":"IFERROR('Salary Calculations'!B60,\"\")","v":""},{"$f":"IFERROR('Salary Calculations'!C60,\"\")","v":""},{"$f":"IFERROR('Salary Calculations'!D60,\"\")","v":""},{"$f":"IFERROR('Salary Calculations'!E60,\"\")","v":""},{"$f":"IFERROR('Salary Calculations'!F60,\"\")","v":""},{"$f":"IFERROR('Salary Calculations'!G60,\"\")","v":""},{"$f":"IFERROR('Salary Calculations'!H60,\"\")","v":""},{"$f":"IFERROR('Salary Calculations'!I60,\"\")","v":""},{"$f":"IFERROR('Salary Calculations'!J60,\"\")","v":""},{"$f":"IFERROR('Salary Calculations'!K60,\"\")","v":""},{"$f":"IFERROR('Salary Calculations'!L60,\"\")","v":""},{"$f":"IFERROR('Salary Calculations'!M60,\"\")","v":""},{"$f":"IFERROR('Salary Calculations'!N60,\"\")","v":""},{"$f":"IFERROR('Salary Calculations'!O60,\"\")","v":""},{"$f":"IFERROR('Salary Calculations'!P60,\"\")","v":""},{"$f":"IFERROR('Salary Calculations'!Q60,\"\")","v":""},{"$f":"IFERROR('Salary Calculations'!R60,\"\")","v":""}]
[null,null,null,{"$f":"IFERROR('Salary Calculations'!A61,\"\")","v":""},{"$f":"IFERROR('Salary Calculations'!B61,\"\")","v":""},{"$f":"IFERROR('Salary Calculations'!C61,\"\")","v":""},{"$f":"IFERROR('Salary Calculations'!D61,\"\")","v":""},{"$f":"IFERROR('Salary Calculations'!E61,\"\")","v":""},{"$f":"IFERROR('Salary Calculations'!F61,\"\")","v":""},{"$f":"IFERROR('Salary Calculations'!G61,\"\")","v":""},{"$f":"IFERROR('Salary Calculations'!H61,\"\")","v":""},{"$f":"IFERROR('Salary Calculations'!I61,\"\")","v":""},{"$f":"IFERROR('Salary Calculations'!J61,\"\")","v":""},{"$f":"IFERROR('Salary Calculations'!K61,\"\")","v":""},{"$f":"IFERROR('Salary Calculations'!L61,\"\")","v":""},{"$f":"IFERROR('Salary Calculations'!M61,\"\")","v":""},{"$f":"IFERROR('Salary Calculations'!N61,\"\")","v":""},{"$f":"IFERROR('Salary Calculations'!O61,\"\")","v":""},{"$f":"IFERROR('Salary Calculations'!P61,\"\")","v":""},{"$f":"IFERROR('Salary Calculations'!Q61,\"\")","v":""},{"$f":"IFERROR('Salary Calculations'!R61,\"\")","v":""}]
[null,null,null,{"$f":"IFERROR('Salary Calculations'!A62,\"\")","v":""},{"$f":"IFERROR('Salary Calculations'!B62,\"\")","v":""},{"$f":"IFERROR('Salary Calculations'!C62,\"\")","v":""},{"$f":"IFERROR('Salary Calculations'!D62,\"\")","v":""},{"$f":"IFERROR('Salary Calculations'!E62,\"\")","v":""},{"$f":"IFERROR('Salary Calculations'!F62,\"\")","v":""},{"$f":"IFERROR('Salary Calculations'!G62,\"\")","v":""},{"$f":"IFERROR('Salary Calculations'!H62,\"\")","v":""},{"$f":"IFERROR('Salary Calculations'!I62,\"\")","v":""},{"$f":"IFERROR('Salary Calculations'!J62,\"\")","v":""},{"$f":"IFERROR('Salary Calculations'!K62,\"\")","v":""},{"$f":"IFERROR('Salary Calculations'!L62,\"\")","v":""},{"$f":"IFERROR('Salary Calculations'!M62,\"\")","v":""},{"$f":"IFERROR('Salary Calculations'!N62,\"\")","v":""},{"$f":"IFERROR('Salary Calculations'!O62,\"\")","v":""},{"$f":"IFERROR('Salary Calculations'!P62,\"\")","v":""},{"$f":"IFERROR('Salary Calculations'!Q62,\"\")","v":""},{"$f":"IFERROR('Salary Calculations'!R62,\"\")","v":""}]
[null,null,null,{"$f":"IFERROR('Salary Calculations'!A63,\"\")","v":""},{"$f":"IFERROR('Salary Calculations'!B63,\"\")","v":""},{"$f":"IFERROR('Salary Calculations'!C63,\"\")","v":""},{"$f":"IFERROR('Salary Calculations'!D63,\"\")","v":""},{"$f":"IFERROR('Salary Calculations'!E63,\"\")","v":""},{"$f":"IFERROR('Salary Calculations'!F63,\"\")","v":""},{"$f":"IFERROR('Salary Calculations'!G63,\"\")","v":""},{"$f":"IFERROR('Salary Calculations'!H63,\"\")","v":""},{"$f":"IFERROR('Salary Calculations'!I63,\"\")","v":""},{"$f":"IFERROR('Salary Calculations'!J63,\"\")","v":""},{"$f":"IFERROR('Salary Calculations'!K63,\"\")","v":""},{"$f":"IFERROR('Salary Calculations'!L63,\"\")","v":""},{"$f":"IFERROR('Salary Calculations'!M63,\"\")","v":""},{"$f":"IFERROR('Salary Calculations'!N63,\"\")","v":""},{"$f":"IFERROR('Salary Calculations'!O63,\"\")","v":""},{"$f":"IFERROR('Salary Calculations'!P63,\"\")","v":""},{"$f":"IFERROR('Salary Calculations'!Q63,\"\")","v":""},{"$f":"IFERROR('Salary Calculations'!R63,\"\")","v":""}]
[null,null,null,{"$f":"IFERROR('Salary Calculations'!A64,\"\")","v":""},{"$f":"IFERROR('Salary Calculations'!B64,\"\")","v":""},{"$f":"IFERROR('Salary Calculations'!C64,\"\")","v":""},{"$f":"IFERROR('Salary Calculations'!D64,\"\")","v":""},{"$f":"IFERROR('Salary Calculations'!E64,\"\")","v":""},{"$f":"IFERROR('Salary Calculations'!F64,\"\")","v":""},{"$f":"IFERROR('Salary Calculations'!G64,\"\")","v":""},{"$f":"IFERROR('Salary Calculations'!H64,\"\")","v":""},{"$f":"IFERROR('Salary Calculations'!I64,\"\")","v":""},{"$f":"IFERROR('Salary Calculations'!J64,\"\")","v":""},{"$f":"IFERROR('Salary Calculations'!K64,\"\")","v":""},{"$f":"IFERROR('Salary Calculations'!L64,\"\")","v":""},{"$f":"IFERROR('Salary Calculations'!M64,\"\")","v":""},{"$f":"IFERROR('Salary Calculations'!N64,\"\")","v":""},{"$f":"IFERROR('Salary Calculations'!O64,\"\")","v":""},{"$f":"IFERROR('Salary Calculations'!P64,\"\")","v":""},{"$f":"IFERROR('Salary Calculations'!Q64,\"\")","v":""},{"$f":"IFERROR('Salary Calculations'!R64,\"\")","v":""}]
[null,null,null,{"$f":"IFERROR('Salary Calculations'!A65,\"\")","v":""},{"$f":"IFERROR('Salary Calculations'!B65,\"\")","v":""},{"$f":"IFERROR('Salary Calculations'!C65,\"\")","v":""},{"$f":"IFERROR('Salary Calculations'!D65,\"\")","v":""},{"$f":"IFERROR('Salary Calculations'!E65,\"\")","v":""},{"$f":"IFERROR('Salary Calculations'!F65,\"\")","v":""},{"$f":"IFERROR('Salary Calculations'!G65,\"\")","v":""},{"$f":"IFERROR('Salary Calculations'!H65,\"\")","v":""},{"$f":"IFERROR('Salary Calculations'!I65,\"\")","v":""},{"$f":"IFERROR('Salary Calculations'!J65,\"\")","v":""},{"$f":"IFERROR('Salary Calculations'!K65,\"\")","v":""},{"$f":"IFERROR('Salary Calculations'!L65,\"\")","v":""},{"$f":"IFERROR('Salary Calculations'!M65,\"\")","v":""},{"$f":"IFERROR('Salary Calculations'!N65,\"\")","v":""},{"$f":"IFERROR('Salary Calculations'!O65,\"\")","v":""},{"$f":"IFERROR('Salary Calculations'!P65,\"\")","v":""},{"$f":"IFERROR('Salary Calculations'!Q65,\"\")","v":""},{"$f":"IFERROR('Salary Calculations'!R65,\"\")","v":""}]
[null,null,null,{"$f":"IFERROR('Salary Calculations'!A66,\"\")","v":""},{"$f":"IFERROR('Salary Calculations'!B66,\"\")","v":""},{"$f":"IFERROR('Salary Calculations'!C66,\"\")","v":""},{"$f":"IFERROR('Salary Calculations'!D66,\"\")","v":""},{"$f":"IFERROR('Salary Calculations'!E66,\"\")","v":""},{"$f":"IFERROR('Salary Calculations'!F66,\"\")","v":""},{"$f":"IFERROR('Salary Calculations'!G66,\"\")","v":""},{"$f":"IFERROR('Salary Calculations'!H66,\"\")","v":""},{"$f":"IFERROR('Salary Calculations'!I66,\"\")","v":""},{"$f":"IFERROR('Salary Calculations'!J66,\"\")","v":""},{"$f":"IFERROR('Salary Calculations'!K66,\"\")","v":""},{"$f":"IFERROR('Salary Calculations'!L66,\"\")","v":""},{"$f":"IFERROR('Salary Calculations'!M66,\"\")","v":""},{"$f":"IFERROR('Salary Calculations'!N66,\"\")","v":""},{"$f":"IFERROR('Salary Calculations'!O66,\"\")","v":""},{"$f":"IFERROR('Salary Calculations'!P66,\"\")","v":""},{"$f":"IFERROR('Salary Calculations'!Q66,\"\")","v":""},{"$f":"IFERROR('Salary Calculations'!R66,\"\")","v":""}]
[null,null,null,{"$f":"IFERROR('Salary Calculations'!A67,\"\")","v":""},{"$f":"IFERROR('Salary Calculations'!B67,\"\")","v":""},{"$f":"IFERROR('Salary Calculations'!C67,\"\")","v":""},{"$f":"IFERROR('Salary Calculations'!D67,\"\")","v":""},{"$f":"IFERROR('Salary Calculations'!E67,\"\")","v":""},{"$f":"IFERROR('Salary Calculations'!F67,\"\")","v":""},{"$f":"IFERROR('Salary Calculations'!G67,\"\")","v":""},{"$f":"IFERROR('Salary Calculations'!H67,\"\")","v":""},{"$f":"IFERROR('Salary Calculations'!I67,\"\")","v":""},{"$f":"IFERROR('Salary Calculations'!J67,\"\")","v":""},{"$f":"IFERROR('Salary Calculations'!K67,\"\")","v":""},{"$f":"IFERROR('Salary Calculations'!L67,\"\")","v":""},{"$f":"IFERROR('Salary Calculations'!M67,\"\")","v":""},{"$f":"IFERROR('Salary Calculations'!N67,\"\")","v":""},{"$f":"IFERROR('Salary Calculations'!O67,\"\")","v":""},{"$f":"IFERROR('Salary Calculations'!P67,\"\")","v":""},{"$f":"IFERROR('Salary Calculations'!Q67,\"\")","v":""},{"$f":"IFERROR('Salary Calculations'!R67,\"\")","v":""}]
[null,null,null,{"$f":"IFERROR('Salary Calculations'!A68,\"\")","v":""},{"$f":"IFERROR('Salary Calculations'!B68,\"\")","v":""},{"$f":"IFERROR('Salary Calculations'!C68,\"\")","v":""},{"$f":"IFERROR('Salary Calculations'!D68,\"\")","v":""},{"$f":"IFERROR('Salary Calculations'!E68,\"\")","v":""},{"$f":"IFERROR('Salary Calculations'!F68,\"\")","v":""},{"$f":"IFERROR('Salary Calculations'!G68,\"\")","v":""},{"$f":"IFERROR('Salary Calculations'!H68,\"\")","v":""},{"$f":"IFERROR('Salary Calculations'!I68,\"\")","v":""},{"$f":"IFERROR('Salary Calculations'!J68,\"\")","v":""},{"$f":"IFERROR('Salary Calculations'!K68,\"\")","v":""},{"$f":"IFERROR('Salary Calculations'!L68,\"\")","v":""},{"$f":"IFERROR('Salary Calculations'!M68,\"\")","v":""},{"$f":"IFERROR('Salary Calculations'!N68,\"\")","v":""},{"$f":"IFERROR('Salary Calculations'!O68,\"\")","v":""},{"$f":"IFERROR('Salary Calculations'!P68,\"\")","v":""},{"$f":"IFERROR('Salary Calculations'!Q68,\"\")","v":""},{"$f":"IFERROR('Salary Calculations'!R68,\"\")","v":""}]
[null,null,null,{"$f":"IFERROR('Salary Calculations'!A69,\"\")","v":""},{"$f":"IFERROR('Salary Calculations'!B69,\"\")","v":""},{"$f":"IFERROR('Salary Calculations'!C69,\"\")","v":""},{"$f":"IFERROR('Salary Calculations'!D69,\"\")","v":""},{"$f":"IFERROR('Salary Calculations'!E69,\"\")","v":""},{"$f":"IFERROR('Salary Calculations'!F69,\"\")","v":""},{"$f":"IFERROR('Salary Calculations'!G69,\"\")","v":""},{"$f":"IFERROR('Salary Calculations'!H69,\"\")","v":""},{"$f":"IFERROR('Salary Calculations'!I69,\"\")","v":""},{"$f":"IFERROR('Salary Calculations'!J69,\"\")","v":""},{"$f":"IFERROR('Salary Calculations'!K69,\"\")","v":""},{"$f":"IFERROR('Salary Calculations'!L69,\"\")","v":""},{"$f":"IFERROR('Salary Calculations'!M69,\"\")","v":""},{"$f":"IFERROR('Salary Calculations'!N69,\"\")","v":""},{"$f":"IFERROR('Salary Calculations'!O69,\"\")","v":""},{"$f":"IFERROR('Salary Calculations'!P69,\"\")","v":""},{"$f":"IFERROR('Salary Calculations'!Q69,\"\")","v":""},{"$f":"IFERROR('Salary Calculations'!R69,\"\")","v":""}]
[null,null,null,{"$f":"IFERROR('Salary Calculations'!A70,\"\")","v":""},{"$f":"IFERROR('Salary Calculations'!B70,\"\")","v":""},{"$f":"IFERROR('Salary Calculations'!C70,\"\")","v":""},{"$f":"IFERROR('Salary Calculations'!D70,\"\")","v":""},{"$f":"IFERROR('Salary Calculations'!E70,\"\")","v":""},{"$f":"IFERROR('Salary Calculations'!F70,\"\")","v":""},{"$f":"IFERROR('Salary Calculations'!G70,\"\")","v":""},{"$f":"IFERROR('Salary Calculations'!H70,\"\")","v":""},{"$f":"IFERROR('Salary Calculations'!I70,\"\")","v":""},{"$f":"IFERROR('Salary Calculations'!J70,\"\")","v":""},{"$f":"IFERROR('Salary Calculations'!K70,\"\")","v":""},{"$f":"IFERROR('Salary Calculations'!L70,\"\")","v":""},{"$f":"IFERROR('Salary Calculations'!M70,\"\")","v":""},{"$f":"IFERROR('Salary Calculations'!N70,\"\")","v":""},{"$f":"IFERROR('Salary Calculations'!O70,\"\")","v":""},{"$f":"IFERROR('Salary Calculations'!P70,\"\")","v":""},{"$f":"IFERROR('Salary Calculations'!Q70,\"\")","v":""},{"$f":"IFERROR('Salary Calculations'!R70,\"\")","v":""}]

{"sheet":"Salary Calculations","index":3,"n_rows":70,"n_cols":18,"rows_kept":70,"cut":false,"hidden":true,"merged":[[0,1,0,5],[0,10,0,15],[0,6,0,9]]}
[null,"Investments",null,null,null,null,"Income",null,null,null,"Deductions"]
["Age","Savings","Savings Requirement","Investment Fees","Return on Investments","Net Investments","Disability","Salary","Pension","Total Income","Federal Taxes","Social Security","Medicare","State Taxes","Local Taxes","Total Deductions","Expenses","Net Income"]
[{"$f":"'Salary Worksheet'!B8","v":30},{"$f":"'Salary Worksheet'!B11","v":200000},{"$f":"IF(ISERROR(A3),NA(),'Salary Worksheet'!$B$22)","v":800000},{"$f":"'Salary Worksheet'!$B$15*'Salary Calculations'!B3","v":500},{"$f":"'Salary Worksheet'!$B$16*'Salary Calculations'!B3","v":14000.000000000002},{"$f":"B3-D3+E3","v":213500},{"$f":"'Salary Worksheet'!$B$28","v":12000},{"$f":"'Salary Worksheet'!$B$23","v":80000},{"$f":"IF('Salary Calculations'!A3<'Salary Worksheet'!$B$10,0,('Salary Worksheet'!$B$27*(1+'Salary Worksheet'!$B$32)^('Salary Calculations'!A3-'Salary Worksheet'!$B$10)))","v":0},{"$f":"SUM(G3:I3)","v":92000},{"$f":"'Salary Worksheet'!$B$12*SUM(H3:I3)","v":9600},{"$f":"IF(H3>'Salary Worksheet'!$B$18,'Salary Worksheet'!$B$18*'Salary Worksheet'!$B$17,'Salary Worksheet'!$B$17*'Salary Calculations'!H3)","v":4960},{"$f":"'Salary Worksheet'!$B$19*'Salary Calculations'!H3+IF('Salary Worksheet'!$B$21=\"Single\",('Salary Calculations'!H3-200000)*'Salary Worksheet'!$B$20,IF('Salary Worksheet'!$B$21=\"Married-Joint\",('Salary Calculations'!H3-250000)*'Salary Worksheet'!$B$20,IF('Salary Worksheet'!$B$21=\"Married-Separate\",('Salary Calculations'!H3-125000)*'Salary Worksheet'!$B$20)))","v":1007},{"$f":"IF('Salary Worksheet'!$B$29=\"Yes\",'Salary Worksheet'!$B$13*SUM(H3:I3),'Salary Worksheet'!$B$13*'Salary Calculations'!H3)","v":4800},{"$f":"IF('Salary Worksheet'!$B$29=\"Yes\",'Salary Worksheet'!$B$14*SUM('Salary Calculations'!H3:I3),'Salary Worksheet'!$B$13*'Salary Calculations'!H3)","v":1600},{"$f":"SUM(K3:O3)","v":21967},{"$f":"'Salary Worksheet'!$B$30","v":50000},{"$f":"J3-P3-Q3","v":20033}]
[{"$f":"IF(A3<'Salary Worksheet'!$B$9,A3+1,NA())","v":31},{"$f":"IF('Salary Worksheet'!$B$33=\"Yes\",IF(ISERROR(A4),NA(),F3+R3),IF(ISERROR(A4),NA(),F3))","v":233533},{"$f":"IF(ISERROR(A4),NA(),'Salary Worksheet'!$B$22)","v":800000},{"$f":"'Salary Worksheet'!$B$15*'Salary Calculations'!B4","v":583.83249999999998},{"$f":"'Salary Worksheet'!$B$16*'Salary Calculations'!B4","v":16347.310000000001},{"$f":"B4-D4+E4","v":249296.47750000001},{"$f":"IF(ISERROR(A4),NA(),G3*(1+'Salary Worksheet'!$B$32))","v":12240},{"$f":"IF(ISERROR(A4),NA(),H3*(1+'Salary Worksheet'!$B$32))","v":81600},{"$f":"IF('Salary Calculations'!A4<'Salary Worksheet'!$B$10,0,('Salary Worksheet'!$B$27*(1+'Salary Worksheet'!$B$32)^('Salary Calculations'!A4-'Salary Worksheet'!$B$10)))","v":0},{"$f":"SUM(H4:I4)","v":81600},{"$f":"'Salary Worksheet'!$B$12*'Salary Calculations'!J4","v":9792},{"$f":"IF(H4>'Salary Worksheet'!$B$18,'Salary Worksheet'!$B$18*'Salary Worksheet'!$B$17,'Salary Worksheet'!$B$17*'Salary Calculations'!H4)","v":5059.2},{"$f":"'Salary Worksheet'!$B$19*'Salary Calculations'!H4+IF('Salary Worksheet'!$B$21=\"Single\",('Salary Calculations'!H4-200000)*'Salary Worksheet'!$B$20,IF('Salary Worksheet'!$B$21=\"Married-Joint\",('Salary Calculations'!H4-250000)*'Salary Worksheet'!$B$20,IF('Salary Worksheet'!$B$21=\"Married-Separate\",('Salary Calculations'!H4-125000)*'Salary Worksheet'!$B$20)))","v":1031.6400000000001},{"$f":"IF('Salary Worksheet'!$B$29=\"Yes\",'Salary Worksheet'!$B$13*SUM(H4:I4),'Salary Worksheet'!$B$13*'Salary Calculations'!H4)","v":4896},{"$f":"IF('Salary Worksheet'!$B$29=\"Yes\",'Salary Worksheet'!$B$14*SUM('Salary Calculations'!H4:I4),'Salary Worksheet'!$B$13*'Salary Calculations'!H4)","v":1632},{"$f":"SUM(K4:O4)","v":22410.84},{"$f":"IF(ISERROR(A4),NA(),Q3*(1+'Salary Worksheet'!$B$31))","v":51500},{"$f":"J4-P4-Q4","v":7689.1600000000035}]
[{"$f":"IF(A4<'Salary Worksheet'!$B$9,A4+1,NA())","v":32},{"$f":"IF('Salary Worksheet'!$B$33=\"Yes\",IF(ISERROR(A5),NA(),F4+R4),IF(ISERROR(A5),NA(),F4))","v":256985.63750000001},{"$f":"IF(ISERROR(A5),NA(),'Salary Worksheet'!$B$22)","v":800000},{"$f":"'Salary Worksheet'!$B$15*'Salary Calculations'!B5","v":642.46409375000007},{"$f":"'Salary Worksheet'!$B$16*'Salary Calculations'!B5","v":17988.994625000003},{"$f":"B5-D5+E5","v":274332.16803125001},{"$f":"IF(ISERROR(A5),NA(),G4*(1+'Salary Worksheet'!$B$32))","v":12484.800000000001},{"$f":"IF(ISERROR(A5),NA(),H4*(1+'Salary Worksheet'!$B$32))","v":83232},{"$f":"IF('Salary Calculations'!A5<'Salary Worksheet'!$B$10,0,('Salary Worksheet'!$B$27*(1+'Salary Worksheet'!$B$32)^('Salary Calculations'!A5-'Salary Worksheet'!$B$10)))","v":0},{"$f":"SUM(H5:I5)","v":83232},{"$f":"'Salary Worksheet'!$B$12*'Salary Calculations'!J5","v":9987.84},{"$f":"IF(H5>'Salary Worksheet'!$B$18,'Salary Worksheet'!$B$18*'Salary Worksheet'!$B$17,'Salary Worksheet'!$B$17*'Salary Calculations'!H5)","v":5160.384},{"$f":"'Salary Worksheet'!$B$19*'Salary Calculations'!H5+IF('Salary Worksheet'!$B$21=\"Single\",('Salary Calculations'!H5-200000)*'Salary Worksheet'!$B$20,IF('Salary Worksheet'!$B$21=\"Married-Joint\",('Salary Calculations'!H5-250000)*'Salary Worksheet'!$B$20,IF('Salary Worksheet'!$B$21=\"Married-Separate\",('Salary Calculations'!H5-125000)*'Salary Worksheet'!$B$20)))","v":1056.7728},{"$f":"IF('Salary Worksheet'!$B$29=\"Yes\",'Salary Worksheet'!$B$13*SUM(H5:I5),'Salary Worksheet'!$B$13*'Salary Calculations'!H5)","v":4993.92},{"$f":"IF('Salary Worksheet'!$B$29=\"Yes\",'Salary Worksheet'!$B$14*SUM('Salary Calculations'!H5:I5),'Salary Worksheet'!$B$13*'Salary Calculations'!H5)","v":1664.64},22863.556799999998,{"$f":"IF(ISERROR(A5),NA(),Q4*(1+'Salary Worksheet'!$B$31))","v":53045},{"$f":"J5-P5-Q5","v":7323.4432000000015}]
[{"$f":"IF(A5<'Salary Worksheet'!$B$9,A5+1,NA())","v":33},{"$f":"IF('Salary Worksheet'!$B$33=\"Yes\",IF(ISERROR(A6),NA(),F5+R5),IF(ISERROR(A6),NA(),F5))","v":281655.61123124999},{"$f":"IF(ISERROR(A6),NA(),'Salary Worksheet'!$B$22)","v":800000},{"$f":"'Salary Worksheet'!$B$15*'Salary Calculations'!B6","v":704.13902807812497},{"$f":"'Salary Worksheet'!$B$16*'Salary Calculations'!B6","v":19715.892786187502},{"$f":"B6-D6+E6","v":300667.3649893594},{"$f":"IF(ISERROR(A6),NA(),G5*(1+'Salary Worksheet'!$B$32))","v":12734.496000000001},{"$f":"IF(ISERROR(A6),NA(),H5*(1+'Salary Worksheet'!$B$32))","v":84896.639999999999},{"$f":"IF('Salary Calculations'!A6<'Salary Worksheet'!$B$10,0,('Salary Worksheet'!$B$27*(1+'Salary Worksheet'!$B$32)^('Salary Calculations'!A6-'Salary Worksheet'!$B$10)))","v":0},{"$f":"SUM(H6:I6)","v":84896.639999999999},{"$f":"'Salary Worksheet'!$B$12*'Salary Calculations'!J6","v":10187.596799999999},{"$f":"IF(H6>'Salary Worksheet'!$B$18,'Salary Worksheet'!$B$18*'Salary Worksheet'!$B$17,'Salary Worksheet'!$B$17*'Salary Calculations'!H6)","v":5263.5916799999995},{"$f":"'Salary Worksheet'!$B$19*'Salary Calculations'!H6+IF('Salary Worksheet'!$B$21=\"Single\",('Salary Calculations'!H6-200000)*'Salary Worksheet'!$B$20,IF('Salary Worksheet'!$B$21=\"Married-Joint\",('Salary Calculations'!H6-250000)*'Salary Worksheet'!$B$20,IF('Salary Worksheet'!$B$21=\"Married-Separate\",('Salary Calculations'!H6-125000)*'Salary Worksheet'!$B$20)))","v":1082.4082559999999},{"$f":"IF('Salary Worksheet'!$B$29=\"Yes\",'Salary Worksheet'!$B$13*SUM(H6:I6),'Salary Worksheet'!$B$13*'Salary Calculations'!H6)","v":5093.7983999999997},{"$f":"IF('Salary Worksheet'!$B$29=\"Yes\",'Salary Worksheet'!$B$14*SUM('Salary Calculations'!H6:I6),'Salary Worksheet'!$B$13*'Salary Calculations'!H6)","v":1697.9328},23325.327935999998,{"$f":"IF(ISERROR(A6),NA(),Q5*(1+'Salary Worksheet'!$B$31))","v":54636.35},{"$f":"J6-P6-Q6","v":6934.9620639999994}]
[{"$f":"IF(A6<'Salary Worksheet'!$B$9,A6+1,NA())","v":34},{"$f":"IF('Salary Worksheet'!$B$33=\"Yes\",IF(ISERROR(A7),NA(),F6+R6),IF(ISERROR(A7),NA(),F6))","v":307602.32705335942},{"$f":"IF(ISERROR(A7),NA(),'Salary Worksheet'!$B$22)","v":800000},{"$f":"'Salary Worksheet'!$B$15*'Salary Calculations'!B7","v":769.00581763339858},{"$f":"'Salary Worksheet'!$B$16*'Salary Calculations'!B7","v":21532.16289373516},{"$f":"B7-D7+E7","v":328365.48412946117},{"$f":"IF(ISERROR(A7),NA(),G6*(1+'Salary Worksheet'!$B$32))","v":12989.185920000002},{"$f":"IF(ISERROR(A7),NA(),H6*(1+'Salary Worksheet'!$B$32))","v":86594.572799999994},{"$f":"IF('Salary Calculations'!A7<'Salary Worksheet'!$B$10,0,('Salary Worksheet'!$B$27*(1+'Salary Worksheet'!$B$32)^('Salary Calculations'!A7-'Salary Worksheet'!$B$10)))","v":0},{"$f":"SUM(H7:I7)","v":86594.572799999994},{"$f":"'Salary Worksheet'!$B$12*'Salary Calculations'!J7","v":10391.348735999998},{"$f":"IF(H7>'Salary Worksheet'!$B$18,'Salary Worksheet'!$B$18*'Salary Worksheet'!$B$17,'Salary Worksheet'!$B$17*'Salary Calculations'!H7)","v":5368.8635135999994},{"$f":"'Salary Worksheet'!$B$19*'Salary Calculations'!H7+IF('Salary Worksheet'!$B$21=\"Single\",('Salary Calculations'!H7-200000)*'Salary Worksheet'!$B$20,IF('Salary Worksheet'!$B$21=\"Married-Joint\",('Salary Calculations'!H7-250000)*'Salary Worksheet'!$B$20,IF('Salary Worksheet'!$B$21=\"Married-Separate\",('Salary Calculations'!H7-125000)*'Salary Worksheet'!$B$20)))","v":1108.5564211199999},{"$f":"IF('Salary Worksheet'!$B$29=\"Yes\",'Salary Worksheet'!$B$13*SUM(H7:I7),'Salary Worksheet'!$B$13*'Salary Calculations'!H7)","v":5195.674367999999},{"$f":"IF('Salary Worksheet'!$B$29=\"Yes\",'Salary Worksheet'!$B$14*SUM('Salary Calculations'!H7:I7),'Salary Worksheet'!$B$13*'Salary Calculations'!H7)","v":1731.8914559999998},23796.334494719998,{"$f":"IF(ISERROR(A7),NA(),Q6*(1+'Salary Worksheet'!$B$31))","v":56275.440499999997},{"$f":"J7-P7-Q7","v":6522.7978052800026}]
[{"$f":"IF(A7<'Salary Worksheet'!$B$9,A7+1,NA())","v":35},{"$f":"IF('Salary Worksheet'!$B$33=\"Yes\",IF(ISERROR(A8),NA(),F7+R7),IF(ISERROR(A8),NA(),F7))","v":334888.28193474119},{"$f":"IF(ISERROR(A8),NA(),'Salary Worksheet'!$B$22)","v":800000},{"$f":"'Salary Worksheet'!$B$15*'Salary Calculations'!B8","v":837.22070483685297},{"$f":"'Salary Worksheet'!$B$16*'Salary Calculations'!B8","v":23442.179735431884},357493.24096533621,{"$f":"IF(ISERROR(A8),NA(),G7*(1+'Salary Worksheet'!$B$32))","v":13248.969638400002},{"$f":"IF(ISERROR(A8),NA(),H7*(1+'Salary Worksheet'!$B$32))","v":88326.464255999992},{"$f":"IF('Salary Calculations'!A8<'Salary Worksheet'!$B$10,0,('Salary Worksheet'!$B$27*(1+'Salary Worksheet'!$B$32)^('Salary Calculations'!A8-'Salary Worksheet'!$B$10)))","v":0},88326.464255999992,{"$f":"'Salary Worksheet'!$B$12*'Salary Calculations'!J8","v":10599.175710719999},{"$f":"IF(H8>'Salary Worksheet'!$B$18,'Salary Worksheet'!$B$18*'Salary Worksheet'!$B$17,'Salary Worksheet'!$B$17*'Salary Calculations'!H8)","v":5476.2407838719992},{"$f":"'Salary Worksheet'!$B$19*'Salary Calculations'!H8+IF('Salary Worksheet'!$B$21=\"Single\",('Salary Calculations'!H8-200000)*'Salary Worksheet'!$B$20,IF('Salary Worksheet'!$B$21=\"Married-Joint\",('Salary Calculations'!H8-250000)*'Salary Worksheet'!$B$20,IF('Salary Worksheet'!$B$21=\"Married-Separate\",('Salary Calculations'!H8-125000)*'Salary Worksheet'!$B$20)))","v":1135.2275495424001},{"$f":"IF('Salary Worksheet'!$B$29=\"Yes\",'Salary Worksheet'!$B$13*SUM(H8:I8),'Salary Worksheet'!$B$13*'Salary Calculations'!H8)","v":5299.5878553599996},{"$f":"IF('Salary Worksheet'!$B$29=\"Yes\",'Salary Worksheet'!$B$14*SUM('Salary Calculations'!H8:I8),'Salary Worksheet'!$B$13*'Salary Calculations'!H8)","v":1766.5292851199999},24276.761184614399,{"$f":"IF(ISERROR(A8),NA(),Q7*(1+'Salary Worksheet'!$B$31))","v":57963.703714999996},6085.9993563855969]
[{"$f":"IF(A8<'Salary Worksheet'!$B$9,A8+1,NA())","v":36},{"$f":"IF('Salary Worksheet'!$B$33=\"Yes\",IF(ISERROR(A9),NA(),F8+R8),IF(ISERROR(A9),NA(),F8))","v":363579.24032172182},{"$f":"IF(ISERROR(A9),NA(),'Salary Worksheet'!$B$22)","v":800000},{"$f":"'Salary Worksheet'!$B$15*'Salary Calculations'!B9","v":908.94810080430454},{"$f":"'Salary Worksheet'!$B$16*'Salary Calculations'!B9","v":25450.54682252053},388120.83904343809,{"$f":"IF(ISERROR(A9),NA(),G8*(1+'Salary Worksheet'!$B$32))","v":13513.949031168002},{"$f":"IF(ISERROR(A9),NA(),H8*(1+'Salary Worksheet'!$B$32))","v":90092.993541119999},{"$f":"IF('Salary Calculations'!A9<'Salary Worksheet'!$B$10,0,('Salary Worksheet'!$B$27*(1+'Salary Worksheet'!$B$32)^('Salary Calculations'!A9-'Salary Worksheet'!$B$10)))","v":0},90092.993541119999,{"$f":"'Salary Worksheet'!$B$12*'Salary Calculations'!J9","v":10811.159224934399},{"$f":"IF(H9>'Salary Worksheet'!$B$18,'Salary Worksheet'!$B$18*'Salary Worksheet'!$B$17,'Salary Worksheet'!$B$17*'Salary Calculations'!H9)","v":5585.7655995494397},{"$f":"'Salary Worksheet'!$B$19*'Salary Calculations'!H9+IF('Salary Worksheet'!$B$21=\"Single\",('Salary Calculations'!H9-200000)*'Salary Worksheet'!$B$20,IF('Salary Worksheet'!$B$21=\"Married-Joint\",('Salary Calculations'!H9-250000)*'Salary Worksheet'!$B$20,IF('Salary Worksheet'!$B$21=\"Married-Separate\",('Salary Calculations'!H9-125000)*'Salary Worksheet'!$B$20)))","v":1162.4321005332481},{"$f":"IF('Salary Worksheet'!$B$29=\"Yes\",'Salary Worksheet'!$B$13*SUM(H9:I9),'Salary Worksheet'!$B$13*'Salary Calculations'!H9)","v":5405.5796124671997},{"$f":"IF('Salary Worksheet'!$B$29=\"Yes\",'Salary Worksheet'!$B$14*SUM('Salary Calculations'!H9:I9),'Salary Worksheet'!$B$13*'Salary Calculations'!H9)","v":1801.8598708223999},24766.796408306691,{"$f":"IF(ISERROR(A9),NA(),Q8*(1+'Salary Worksheet'!$B$31))","v":59702.614826450001},5623.582306363307]
[{"$f":"IF(A9<'Salary Worksheet'!$B$9,A9+1,NA())","v":37},{"$f":"IF('Salary Worksheet'!$B$33=\"Yes\",IF(ISERROR(A10),NA(),F9+R9),IF(ISERROR(A10),NA(),F9))","v":393744.42134980141},{"$f":"IF(ISERROR(A10),NA(),'Salary Worksheet'!$B$22)","v":800000},{"$f":"'Salary Worksheet'!$B$15*'Salary Calculations'!B10","v":984.36105337450351},{"$f":"'Salary Worksheet'!$B$16*'Salary Calculations'!B10","v":27562.109494486103},420322.16979091306,{"$f":"IF(ISERROR(A10),NA(),G9*(1+'Salary Worksheet'!$B$32))","v":13784.228011791361},{"$f":"IF(ISERROR(A10),NA(),H9*(1+'Salary Worksheet'!$B$32))","v":91894.8534119424},{"$f":"IF('Salary Calculations'!A10<'Salary Worksheet'!$B$10,0,('Salary Worksheet'!$B$27*(1+'Salary Worksheet'!$B$32)^('Salary Calculations'!A10-'Salary Worksheet'!$B$10)))","v":0},91894.8534119424,{"$f":"'Salary Worksheet'!$B$12*'Salary Calculations'!J10","v":11027.382409433088},{"$f":"IF(H10>'Salary Worksheet'!$B$18,'Salary Worksheet'!$B$18*'Salary Worksheet'!$B$17,'Salary Worksheet'!$B$17*'Salary Calculations'!H10)","v":5697.4809115404287},{"$f":"'Salary Worksheet'!$B$19*'Salary Calculations'!H10+IF('Salary Worksheet'!$B$21=\"Single\",('Salary Calculations'!H10-200000)*'Salary Worksheet'!$B$20,IF('Salary Worksheet'!$B$21=\"Married-Joint\",('Salary Calculations'!H10-250000)*'Salary Worksheet'!$B$20,IF('Salary Worksheet'!$B$21=\"Married-Separate\",('Salary Calculations'!H10-125000)*'Salary Worksheet'!$B$20)))","v":1190.1807425439131},{"$f":"IF('Salary Worksheet'!$B$29=\"Yes\",'Salary Worksheet'!$B$13*SUM(H10:I10),'Salary Worksheet'!$B$13*'Salary Calculations'!H10)","v":5513.6912047165442},{"$f":"IF('Salary Worksheet'!$B$29=\"Yes\",'Salary Worksheet'!$B$14*SUM('Salary Calculations'!H10:I10),'Salary Worksheet'!$B$13*'Salary Calculations'!H10)","v":1837.8970682388481},25266.632336472823,{"$f":"IF(ISERROR(A10),NA(),Q9*(1+'Salary Worksheet'!$B$31))","v":61493.693271243501},5134.5278042260688]
[{"$f":"IF(A10<'Salary Worksheet'!$B$9,A10+1,NA())","v":38},{"$f":"IF('Salary Worksheet'!$B$33=\"Yes\",IF(ISERROR(A11),NA(),F10+R10),IF(ISERROR(A11),NA(),F10))","v":425456.69759513915},{"$f":"IF(ISERROR(A11),NA(),'Salary Worksheet'!$B$22)","v":800000},{"$f":"'Salary Worksheet'!$B$15*'Salary Calculations'!B11","v":1063.6417439878478},{"$f":"'Salary Worksheet'!$B$16*'Salary Calculations'!B11","v":29781.968831659742},454175.02468281105,{"$f":"IF(ISERROR(A11),NA(),G10*(1+'Salary Worksheet'!$B$32))","v":14059.91257202719},{"$f":"IF(ISERROR(A11),NA(),H10*(1+'Salary Worksheet'!$B$32))","v":93732.750480181247},{"$f":"IF('Salary Calculations'!A11<'Salary Worksheet'!$B$10,0,('Salary Worksheet'!$B$27*(1+'Salary Worksheet'!$B$32)^('Salary Calculations'!A11-'Salary Worksheet'!$B$10)))","v":0},93732.750480181247,{"$f":"'Salary Worksheet'!$B$12*'Salary Calculations'!J11","v":11247.930057621748},{"$f":"IF(H11>'Salary Worksheet'!$B$18,'Salary Worksheet'!$B$18*'Salary Worksheet'!$B$17,'Salary Worksheet'!$B$17*'Salary Calculations'!H11)","v":5811.4305297712372},{"$f":"'Salary Worksheet'!$B$19*'Salary Calculations'!H11+IF('Salary Worksheet'!$B$21=\"Single\",('Salary Calculations'!H11-200000)*'Salary Worksheet'!$B$20,IF('Salary Worksheet'!$B$21=\"Married-Joint\",('Salary Calculations'!H11-250000)*'Salary Worksheet'!$B$20,IF('Salary Worksheet'!$B$21=\"Married-Separate\",('Salary Calculations'!H11-125000)*'Salary Worksheet'!$B$20)))","v":1218.4843573947915},{"$f":"IF('Salary Worksheet'!$B$29=\"Yes\",'Salary Worksheet'!$B$13*SUM(H11:I11),'Salary Worksheet'!$B$13*'Salary Calculations'!H11)","v":5623.9650288108742},{"$f":"IF('Salary Worksheet'!$B$29=\"Yes\",'Salary Worksheet'!$B$14*SUM('Salary Calculations'!H11:I11),'Salary Worksheet'!$B$13*'Salary Calculations'!H11)","v":1874.6550096036249},25776.464983202277,{"$f":"IF(ISERROR(A11),NA(),Q10*(1+'Salary Worksheet'!$B$31))","v":63338.504069380804},4617.7814275981582]
[{"$f":"IF(A11<'Salary Worksheet'!$B$9,A11+1,NA())","v":39},{"$f":"IF('Salary Worksheet'!$B$33=\"Yes\",IF(ISERROR(A12),NA(),F11+R11),IF(ISERROR(A12),NA(),F11))","v":458792.8061104092},{"$f":"IF(ISERROR(A12),NA(),'Salary Worksheet'!$B$22)","v":800000},{"$f":"'Salary Worksheet'!$B$15*'Salary Calculations'!B12","v":1146.982015276023},{"$f":"'Salary Worksheet'!$B$16*'Salary Calculations'!B12","v":32115.496427728649},489761.32052286179,{"$f":"IF(ISERROR(A12),NA(),G11*(1+'Salary Worksheet'!$B$32))","v":14341.110823467734},{"$f":"IF(ISERROR(A12),NA(),H11*(1+'Salary Worksheet'!$B$32))","v":95607.405489784869},{"$f":"IF('Salary Calculations'!A12<'Salary Worksheet'!$B$10,0,('Salary Worksheet'!$B$27*(1+'Salary Worksheet'!$B$32)^('Salary Calculations'!A12-'Salary Worksheet'!$B$10)))","v":0},95607.405489784869,{"$f":"'Salary Worksheet'!$B$12*'Salary Calculations'!J12","v":11472.888658774184},{"$f":"IF(H12>'Salary Worksheet'!$B$18,'Salary Worksheet'!$B$18*'Salary Worksheet'!$B$17,'Salary Worksheet'!$B$17*'Salary Calculations'!H12)","v":5927.6591403666616},{"$f":"'Salary Worksheet'!$B$19*'Salary Calculations'!H12+IF('Salary Worksheet'!$B$21=\"Single\",('Salary Calculations'!H12-200000)*'Salary Worksheet'!$B$20,IF('Salary Worksheet'!$B$21=\"Married-Joint\",('Salary Calculations'!H12-250000)*'Salary Worksheet'!$B$20,IF('Salary Worksheet'!$B$21=\"Married-Separate\",('Salary Calculations'!H12-125000)*'Salary Worksheet'!$B$20)))","v":1247.354044542687},{"$f":"IF('Salary Worksheet'!$B$29=\"Yes\",'Salary Worksheet'!$B$13*SUM(H12:I12),'Salary Worksheet'!$B$13*'Salary Calculations'!H12)","v":5736.4443293870918},{"$f":"IF('Salary Worksheet'!$B$29=\"Yes\",'Salary Worksheet'!$B$14*SUM('Salary Calculations'!H12:I12),'Salary Worksheet'!$B$13*'Salary Calculations'!H12)","v":1912.1481097956973},26296.494282866322,{"$f":"IF(ISERROR(A12),NA(),Q11*(1+'Salary Worksheet'!$B$31))","v":65238.659191462233},4072.2520154563172]
[{"$f":"IF(A12<'Salary Worksheet'!$B$9,A12+1,NA())","v":40},{"$f":"IF('Salary Worksheet'!$B$33=\"Yes\",IF(ISERROR(A13),NA(),F12+R12),IF(ISERROR(A13),NA(),F12))","v":493833.57253831811},{"$f":"IF(ISERROR(A13),NA(),'Salary Worksheet'!$B$22)","v":800000},{"$f":"'Salary Worksheet'!$B$15*'Salary Calculations'!B13","v":1234.5839313457952},{"$f":"'Salary Worksheet'!$B$16*'Salary Calculations'!B13","v":34568.350077682269},527167.33868465456,{"$f":"IF(ISERROR(A13),NA(),G12*(1+'Salary Worksheet'!$B$32))","v":14627.933039937088},{"$f":"IF(ISERROR(A13),NA(),H12*(1+'Salary Worksheet'!$B$32))","v":97519.553599580569},{"$f":"IF('Salary Calculations'!A13<'Salary Worksheet'!$B$10,0,('Salary Worksheet'!$B$27*(1+'Salary Worksheet'!$B$32)^('Salary Calculations'!A13-'Salary Worksheet'!$B$10)))","v":0},97519.553599580569,{"$f":"'Salary Worksheet'!$B$12*'Salary Calculations'!J13","v":11702.346431949667},{"$f":"IF(H13>'Salary Worksheet'!$B$18,'Salary Worksheet'!$B$18*'Salary Worksheet'!$B$17,'Salary Worksheet'!$B$17*'Salary Calculations'!H13)","v":6046.2123231739952},{"$f":"'Salary Worksheet'!$B$19*'Salary Calculations'!H13+IF('Salary Worksheet'!$B$21=\"Single\",('Salary Calculations'!H13-200000)*'Salary Worksheet'!$B$20,IF('Salary Worksheet'!$B$21=\"Married-Joint\",('Salary Calculations'!H13-250000)*'Salary Worksheet'!$B$20,IF('Salary Worksheet'!$B$21=\"Married-Separate\",('Salary Calculations'!H13-125000)*'Salary Worksheet'!$B$20)))","v":1276.8011254335408},{"$f":"IF('Salary Worksheet'!$B$29=\"Yes\",'Salary Worksheet'!$B$13*SUM(H13:I13),'Salary Worksheet'!$B$13*'Salary Calculations'!H13)","v":5851.1732159748335},{"$f":"IF('Salary Worksheet'!$B$29=\"Yes\",'Salary Worksheet'!$B$14*SUM('Salary Calculations'!H13:I13),'Salary Worksheet'!$B$13*'Salary Calculations'!H13)","v":1950.3910719916114},26826.924168523645,{"$f":"IF(ISERROR(A13),NA(),Q12*(1+'Salary Worksheet'!$B$31))","v":67195.818967206098},3496.810463850823]
[{"$f":"IF(A13<'Salary Worksheet'!$B$9,A13+1,NA())","v":41},{"$f":"IF('Salary Worksheet'!$B$33=\"Yes\",IF(ISERROR(A14),NA(),F13+R13),IF(ISERROR(A14),NA(),F13))","v":530664.14914850541},{"$f":"IF(ISERROR(A14),NA(),'Salary Worksheet'!$B$22)","v":800000},{"$f":"'Salary Worksheet'!$B$15*'Salary Calculations'!B14","v":1326.6603728712635},{"$f":"'Salary Worksheet'!$B$16*'Salary Calculations'!B14","v":37146.490440395384},566483.97921602963,{"$f":"IF(ISERROR(A14),NA(),G13*(1+'Salary Worksheet'!$B$32))","v":14920.491700735831},{"$f":"IF(ISERROR(A14),NA(),H13*(1+'Salary Worksheet'!$B$32))","v":99469.944671572186},{"$f":"IF('Salary Calculations'!A14<'Salary Worksheet'!$B$10,0,('Salary Worksheet'!$B$27*(1+'Salary Worksheet'!$B$32)^('Salary Calculations'!A14-'Salary Worksheet'!$B$10)))","v":0},99469.944671572186,{"$f":"'Salary Worksheet'!$B$12*'Salary Calculations'!J14","v":11936.393360588661},{"$f":"IF(H14>'Salary Worksheet'!$B$18,'Salary Worksheet'!$B$18*'Salary Worksheet'!$B$17,'Salary Worksheet'!$B$17*'Salary Calculations'!H14)","v":6167.1365696374751},{"$f":"'Salary Worksheet'!$B$19*'Salary Calculations'!H14+IF('Salary Worksheet'!$B$21=\"Single\",('Salary Calculations'!H14-200000)*'Salary Worksheet'!$B$20,IF('Salary Worksheet'!$B$21=\"Married-Joint\",('Salary Calculations'!H14-250000)*'Salary Worksheet'!$B$20,IF('Salary Worksheet'!$B$21=\"Married-Separate\",('Salary Calculations'!H14-125000)*'Salary Worksheet'!$B$20)))","v":1306.8371479422117},{"$f":"IF('Salary Worksheet'!$B$29=\"Yes\",'Salary Worksheet'!$B$13*SUM(H14:I14),'Salary Worksheet'!$B$13*'Salary Calculations'!H14)","v":5968.1966802943307},{"$f":"IF('Salary Worksheet'!$B$29=\"Yes\",'Salary Worksheet'!$B$14*SUM('Salary Calculations'!H14:I14),'Salary Worksheet'!$B$13*'Salary Calculations'!H14)","v":1989.3988934314439},27367.962651894126,{"$f":"IF(ISERROR(A14),NA(),Q13*(1+'Salary Worksheet'!$B$31))","v":69211.693536222287},2890.2884834557772]
[{"$f":"IF(A14<'Salary Worksheet'!$B$9,A14+1,NA())","v":42},{"$f":"IF('Salary Worksheet'!$B$33=\"Yes\",IF(ISERROR(A15),NA(),F14+R14),IF(ISERROR(A15),NA(),F14))","v":569374.26769948541},{"$f":"IF(ISERROR(A15),NA(),'Salary Worksheet'!$B$22)","v":800000},{"$f":"'Salary Worksheet'!$B$15*'Salary Calculations'!B15","v":1423.4356692487136},{"$f":"'Salary Worksheet'!$B$16*'Salary Calculations'!B15","v":39856.198738963983},607807.03076920076,{"$f":"IF(ISERROR(A15),NA(),G14*(1+'Salary Worksheet'!$B$32))","v":15218.901534750548},{"$f":"IF(ISERROR(A15),NA(),H14*(1+'Salary Worksheet'!$B$32))","v":101459.34356500363},{"$f":"IF('Salary Calculations'!A15<'Salary Worksheet'!$B$10,0,('Salary Worksheet'!$B$27*(1+'Salary Worksheet'!$B$32)^('Salary Calculations'!A15-'Salary Worksheet'!$B$10)))","v":0},101459.34356500363,{"$f":"'Salary Worksheet'!$B$12*'Salary Calculations'!J15","v":12175.121227800435},{"$f":"IF(H15>'Salary Worksheet'!$B$18,'Salary Worksheet'!$B$18*'Salary Worksheet'!$B$17,'Salary Worksheet'!$B$17*'Salary Calculations'!H15)","v":6290.4793010302246},{"$f":"'Salary Worksheet'!$B$19*'Salary Calculations'!H15+IF('Salary Worksheet'!$B$21=\"Single\",('Salary Calculations'!H15-200000)*'Salary Worksheet'!$B$20,IF('Salary Worksheet'!$B$21=\"Married-Joint\",('Salary Calculations'!H15-250000)*'Salary Worksheet'!$B$20,IF('Salary Worksheet'!$B$21=\"Married-Separate\",('Salary Calculations'!H15-125000)*'Salary Worksheet'!$B$20)))","v":1337.4738909010559},{"$f":"IF('Salary Worksheet'!$B$29=\"Yes\",'Salary Worksheet'!$B$13*SUM(H15:I15),'Salary Worksheet'!$B$13*'Salary Calculations'!H15)","v":6087.5606139002175},{"$f":"IF('Salary Worksheet'!$B$29=\"Yes\",'Salary Worksheet'!$B$14*SUM('Salary Calculations'!H15:I15),'Salary Worksheet'!$B$13*'Salary Calculations'!H15)","v":2029.1868713000727},27919.821904932003,{"$f":"IF(ISERROR(A15),NA(),Q14*(1+'Salary Worksheet'!$B$31))","v":71288.04434230896},2251.477317762663]
[{"$f":"IF(A15<'Salary Worksheet'!$B$9,A15+1,NA())","v":43},{"$f":"IF('Salary Worksheet'!$B$33=\"Yes\",IF(ISERROR(A16),NA(),F15+R15),IF(ISERROR(A16),NA(),F15))","v":610058.50808696344},{"$f":"IF(ISERROR(A16),NA(),'Salary Worksheet'!$B$22)","v":800000},{"$f":"'Salary Worksheet'!$B$15*'Salary Calculations'!B16","v":1525.1462702174085},{"$f":"'Salary Worksheet'!$B$16*'Salary Calculations'!B16","v":42704.095566087446},651237.45738283347,{"$f":"IF(ISERROR(A16),NA(),G15*(1+'Salary Worksheet'!$B$32))","v":15523.27956544556},{"$f":"IF(ISERROR(A16),NA(),H15*(1+'Salary Worksheet'!$B$32))","v":103488.5304363037},{"$f":"IF('Salary Calculations'!A16<'Salary Worksheet'!$B$10,0,('Salary Worksheet'!$B$27*(1+'Salary Worksheet'!$B$32)^('Salary Calculations'!A16-'Salary Worksheet'!$B$10)))","v":0},103488.5304363037,{"$f":"'Salary Worksheet'!$B$12*'Salary Calculations'!J16","v":12418.623652356444},{"$f":"IF(H16>'Salary Worksheet'!$B$18,'Salary Worksheet'!$B$18*'Salary Worksheet'!$B$17,'Salary Worksheet'!$B$17*'Salary Calculations'!H16)","v":6416.2888870508295},{"$f":"'Salary Worksheet'!$B$19*'Salary Calculations'!H16+IF('Salary Worksheet'!$B$21=\"Single\",('Salary Calculations'!H16-200000)*'Salary Worksheet'!$B$20,IF('Salary Worksheet'!$B$21=\"Married-Joint\",('Salary Calculations'!H16-250000)*'Salary Worksheet'!$B$20,IF('Salary Worksheet'!$B$21=\"Married-Separate\",('Salary Calculations'!H16-125000)*'Salary Worksheet'!$B$20)))","v":1368.7233687190771},{"$f":"IF('Salary Worksheet'!$B$29=\"Yes\",'Salary Worksheet'!$B$13*SUM(H16:I16),'Salary Worksheet'!$B$13*'Salary Calculations'!H16)","v":6209.311826178222},{"$f":"IF('Salary Worksheet'!$B$29=\"Yes\",'Salary Worksheet'!$B$14*SUM('Salary Calculations'!H16:I16),'Salary Worksheet'!$B$13*'Salary Calculations'!H16)","v":2069.770608726074},28482.718343030647,{"$f":"IF(ISERROR(A16),NA(),Q15*(1+'Salary Worksheet'!$B$31))","v":73426.685672578227},1579.1264206948254]
[{"$f":"IF(A16<'Salary Worksheet'!$B$9,A16+1,NA())","v":44},{"$f":"IF('Salary Worksheet'!$B$33=\"Yes\",IF(ISERROR(A17),NA(),F16+R16),IF(ISERROR(A17),NA(),F16))","v":652816.58380352834},{"$f":"IF(ISERROR(A17),NA(),'Salary Worksheet'!$B$22)","v":800000},{"$f":"'Salary Worksheet'!$B$15*'Salary Calculations'!B17","v":1632.0414595088209},{"$f":"'Salary Worksheet'!$B$16*'Salary Calculations'!B17","v":45697.160866246988},696881.70321026654,{"$f":"IF(ISERROR(A17),NA(),G16*(1+'Salary Worksheet'!$B$32))","v":15833.745156754472},{"$f":"IF(ISERROR(A17),NA(),H16*(1+'Salary Worksheet'!$B$32))","v":105558.30104502977},{"$f":"IF('Salary Calculations'!A17<'Salary Worksheet'!$B$10,0,('Salary Worksheet'!$B$27*(1+'Salary Worksheet'!$B$32)^('Salary Calculations'!A17-'Salary Worksheet'!$B$10)))","v":0},105558.30104502977,{"$f":"'Salary Worksheet'!$B$12*'Salary Calculations'!J17","v":12666.996125403572},{"$f":"IF(H17>'Salary Worksheet'!$B$18,'Salary Worksheet'!$B$18*'Salary Worksheet'!$B$17,'Salary Worksheet'!$B$17*'Salary Calculations'!H17)","v":6544.6146647918458},{"$f":"'Salary Worksheet'!$B$19*'Salary Calculations'!H17+IF('Salary Worksheet'!$B$21=\"Single\",('Salary Calculations'!H17-200000)*'Salary Worksheet'!$B$20,IF('Salary Worksheet'!$B$21=\"Married-Joint\",('Salary Calculations'!H17-250000)*'Salary Worksheet'!$B$20,IF('Salary Worksheet'!$B$21=\"Married-Separate\",('Salary Calculations'!H17-125000)*'Salary Worksheet'!$B$20)))","v":1400.5978360934587},{"$f":"IF('Salary Worksheet'!$B$29=\"Yes\",'Salary Worksheet'!$B$13*SUM(H17:I17),'Salary Worksheet'!$B$13*'Salary Calculations'!H17)","v":6333.4980627017858},{"$f":"IF('Salary Worksheet'!$B$29=\"Yes\",'Salary Worksheet'!$B$14*SUM('Salary Calculations'!H17:I17),'Salary Worksheet'!$B$13*'Salary Calculations'!H17)","v":2111.1660209005954},29056.87270989126,{"$f":"IF(ISERROR(A17),NA(),Q16*(1+'Salary Worksheet'!$B$31))","v":75629.486242755578},871.94209238293115]
[{"$f":"IF(A17<'Salary Worksheet'!$B$9,A17+1,NA())","v":45},{"$f":"IF('Salary Worksheet'!$B$33=\"Yes\",IF(ISERROR(A18),NA(),F17+R17),IF(ISERROR(A18),NA(),F17))","v":697753.64530264947},{"$f":"IF(ISERROR(A18),NA(),'Salary Worksheet'!$B$22)","v":800000},{"$f":"'Salary Worksheet'!$B$15*'Salary Calculations'!B18","v":1744.3841132566238},{"$f":"'Salary Worksheet'!$B$16*'Salary Calculations'!B18","v":48842.755171185468},744852.01636057836,{"$f":"IF(ISERROR(A18),NA(),G17*(1+'Salary Worksheet'!$B$32))","v":16150.420059889562},{"$f":"IF(ISERROR(A18),NA(),H17*(1+'Salary Worksheet'!$B$32))","v":107669.46706593037},{"$f":"IF('Salary Calculations'!A18<'Salary Worksheet'!$B$10,0,('Salary Worksheet'!$B$27*(1+'Salary Worksheet'!$B$32)^('Salary Calculations'!A18-'Salary Worksheet'!$B$10)))","v":0},107669.46706593037,{"$f":"'Salary Worksheet'!$B$12*'Salary Calculations'!J18","v":12920.336047911644},{"$f":"IF(H18>'Salary Worksheet'!$B$18,'Salary Worksheet'!$B$18*'Salary Worksheet'!$B$17,'Salary Worksheet'!$B$17*'Salary Calculations'!H18)","v":6675.5069580876825},{"$f":"'Salary Worksheet'!$B$19*'Salary Calculations'!H18+IF('Salary Worksheet'!$B$21=\"Single\",('Salary Calculations'!H18-200000)*'Salary Worksheet'!$B$20,IF('Salary Worksheet'!$B$21=\"Married-Joint\",('Salary Calculations'!H18-250000)*'Salary Worksheet'!$B$20,IF('Salary Worksheet'!$B$21=\"Married-Separate\",('Salary Calculations'!H18-125000)*'Salary Worksheet'!$B$20)))","v":1433.1097928153279},{"$f":"IF('Salary Worksheet'!$B$29=\"Yes\",'Salary Worksheet'!$B$13*SUM(H18:I18),'Salary Worksheet'!$B$13*'Salary Calculations'!H18)","v":6460.1680239558218},{"$f":"IF('Salary Worksheet'!$B$29=\"Yes\",'Salary Worksheet'!$B$14*SUM('Salary Calculations'!H18:I18),'Salary Worksheet'!$B$13*'Salary Calculations'!H18)","v":2153.3893413186074},29642.510164089086,{"$f":"IF(ISERROR(A18),NA(),Q17*(1+'Salary Worksheet'!$B$31))","v":77898.370830038242},128.58607180303079]
[{"$f":"IF(A18<'Salary Worksheet'!$B$9,A18+1,NA())","v":46},{"$f":"IF('Salary Worksheet'!$B$33=\"Yes\",IF(ISERROR(A19),NA(),F18+R18),IF(ISERROR(A19),NA(),F18))","v":744980.60243238136},{"$f":"IF(ISERROR(A19),NA(),'Salary Worksheet'!$B$22)","v":800000},{"$f":"'Salary Worksheet'!$B$15*'Salary Calculations'!B19","v":1862.4515060809535},{"$f":"'Salary Worksheet'!$B$16*'Salary Calculations'!B19","v":52148.642170266699},795266.79309656715,{"$f":"IF(ISERROR(A19),NA(),G18*(1+'Salary Worksheet'!$B$32))","v":16473.428461087355},{"$f":"IF(ISERROR(A19),NA(),H18*(1+'Salary Worksheet'!$B$32))","v":109822.85640724898},{"$f":"IF('Salary Calculations'!A19<'Salary Worksheet'!$B$10,0,('Salary Worksheet'!$B$27*(1+'Salary Worksheet'!$B$32)^('Salary Calculations'!A19-'Salary Worksheet'!$B$10)))","v":0},109822.85640724898,{"$f":"'Salary Worksheet'!$B$12*'Salary Calculations'!J19","v":13178.742768869877},{"$f":"IF(H19>'Salary Worksheet'!$B$18,'Salary Worksheet'!$B$18*'Salary Worksheet'!$B$17,'Salary Worksheet'!$B$17*'Salary Calculations'!H19)","v":6809.017097249437},{"$f":"'Salary Worksheet'!$B$19*'Salary Calculations'!H19+IF('Salary Worksheet'!$B$21=\"Single\",('Salary Calculations'!H19-200000)*'Salary Worksheet'!$B$20,IF('Salary Worksheet'!$B$21=\"Married-Joint\",('Salary Calculations'!H19-250000)*'Salary Worksheet'!$B$20,IF('Salary Worksheet'!$B$21=\"Married-Separate\",('Salary Calculations'!H19-125000)*'Salary Worksheet'!$B$20)))","v":1466.2719886716343},{"$f":"IF('Salary Worksheet'!$B$29=\"Yes\",'Salary Worksheet'!$B$13*SUM(H19:I19),'Salary Worksheet'!$B$13*'Salary Calculations'!H19)","v":6589.3713844349386},{"$f":"IF('Salary Worksheet'!$B$29=\"Yes\",'Salary Worksheet'!$B$14*SUM('Salary Calculations'!H19:I19),'Salary Worksheet'!$B$13*'Salary Calculations'!H19)","v":2196.4571281449798},30239.860367370868,{"$f":"IF(ISERROR(A19),NA(),Q18*(1+'Salary Worksheet'!$B$31))","v":80235.321954939398},-652.32591506128665]
[{"$f":"IF(A19<'Salary Worksheet'!$B$9,A19+1,NA())","v":47},{"$f":"IF('Salary Worksheet'!$B$33=\"Yes\",IF(ISERROR(A20),NA(),F19+R19),IF(ISERROR(A20),NA(),F19))","v":794614.46718150587},{"$f":"IF(ISERROR(A20),NA(),'Salary Worksheet'!$B$22)","v":800000},{"$f":"'Salary Worksheet'!$B$15*'Salary Calculations'!B20","v":1986.5361679537648},{"$f":"'Salary Worksheet'!$B$16*'Salary Calculations'!B20","v":55623.012702705419},848250.94371625758,{"$f":"IF(ISERROR(A20),NA(),G19*(1+'Salary Worksheet'!$B$32))","v":16802.897030309101},{"$f":"IF(ISERROR(A20),NA(),H19*(1+'Salary Worksheet'!$B$32))","v":112019.31353539396},{"$f":"IF('Salary Calculations'!A20<'Salary Worksheet'!$B$10,0,('Salary Worksheet'!$B$27*(1+'Salary Worksheet'!$B$32)^('Salary Calculations'!A20-'Salary Worksheet'!$B$10)))","v":0},112019.31353539396,{"$f":"'Salary Worksheet'!$B$12*'Salary Calculations'!J20","v":13442.317624247275},{"$f":"IF(H20>'Salary Worksheet'!$B$18,'Salary Worksheet'!$B$18*'Salary Worksheet'!$B$17,'Salary Worksheet'!$B$17*'Salary Calculations'!H20)","v":6945.197439194425},{"$f":"'Salary Worksheet'!$B$19*'Salary Calculations'!H20+IF('Salary Worksheet'!$B$21=\"Single\",('Salary Calculations'!H20-200000)*'Salary Worksheet'!$B$20,IF('Salary Worksheet'!$B$21=\"Married-Joint\",('Salary Calculations'!H20-250000)*'Salary Worksheet'!$B$20,IF('Salary Worksheet'!$B$21=\"Married-Separate\",('Salary Calculations'!H20-125000)*'Salary Worksheet'!$B$20)))","v":1500.097428445067},{"$f":"IF('Salary Worksheet'!$B$29=\"Yes\",'Salary Worksheet'!$B$13*SUM(H20:I20),'Salary Worksheet'!$B$13*'Salary Calculations'!H20)","v":6721.1588121236373},{"$f":"IF('Salary Worksheet'!$B$29=\"Yes\",'Salary Worksheet'!$B$14*SUM('Salary Calculations'!H20:I20),'Salary Worksheet'!$B$13*'Salary Calculations'!H20)","v":2240.3862707078792},30849.157574718287,{"$f":"IF(ISERROR(A20),NA(),Q19*(1+'Salary Worksheet'!$B$31))","v":82642.381613587582},-1472.225652911904]
[{"$f":"IF(A20<'Salary Worksheet'!$B$9,A20+1,NA())","v":48},{"$f":"IF('Salary Worksheet'!$B$33=\"Yes\",IF(ISERROR(A21),NA(),F20+R20),IF(ISERROR(A21),NA(),F20))","v":846778.71806334564},{"$f":"IF(ISERROR(A21),NA(),'Salary Worksheet'!$B$22)","v":800000},{"$f":"'Salary Worksheet'!$B$15*'Salary Calculations'!B21","v":2116.9467951583642},{"$f":"'Salary Worksheet'!$B$16*'Salary Calculations'!B21","v":59274.510264434204},903936.28153262148,{"$f":"IF(ISERROR(A21),NA(),G20*(1+'Salary Worksheet'!$B$32))","v":17138.954970915282},{"$f":"IF(ISERROR(A21),NA(),H20*(1+'Salary Worksheet'!$B$32))","v":114259.69980610184},{"$f":"IF('Salary Calculations'!A21<'Salary Worksheet'!$B$10,0,('Salary Worksheet'!$B$27*(1+'Salary Worksheet'!$B$32)^('Salary Calculations'!A21-'Salary Worksheet'!$B$10)))","v":0},114259.69980610184,{"$f":"'Salary Worksheet'!$B$12*'Salary Calculations'!J21","v":13711.163976732219},{"$f":"IF(H21>'Salary Worksheet'!$B$18,'Salary Worksheet'!$B$18*'Salary Worksheet'!$B$17,'Salary Worksheet'!$B$17*'Salary Calculations'!H21)","v":7084.1013879783141},{"$f":"'Salary Worksheet'!$B$19*'Salary Calculations'!H21+IF('Salary Worksheet'!$B$21=\"Single\",('Salary Calculations'!H21-200000)*'Salary Worksheet'!$B$20,IF('Salary Worksheet'!$B$21=\"Married-Joint\",('Salary Calculations'!H21-250000)*'Salary Worksheet'!$B$20,IF('Salary Worksheet'!$B$21=\"Married-Separate\",('Salary Calculations'!H21-125000)*'Salary Worksheet'!$B$20)))","v":1534.5993770139685},{"$f":"IF('Salary Worksheet'!$B$29=\"Yes\",'Salary Worksheet'!$B$13*SUM(H21:I21),'Salary Worksheet'!$B$13*'Salary Calculations'!H21)","v":6855.5819883661097},{"$f":"IF('Salary Worksheet'!$B$29=\"Yes\",'Salary Worksheet'!$B$14*SUM('Salary Calculations'!H21:I21),'Salary Worksheet'!$B$13*'Salary Calculations'!H21)","v":2285.1939961220369},31470.640726212649,{"$f":"IF(ISERROR(A21),NA(),Q20*(1+'Salary Worksheet'!$B$31))","v":85121.65306199521},-2332.5939821060165]
[{"$f":"IF(A21<'Salary Worksheet'!$B$9,A21+1,NA())","v":49},{"$f":"IF('Salary Worksheet'!$B$33=\"Yes\",IF(ISERROR(A22),NA(),F21+R21),IF(ISERROR(A22),NA(),F21))","v":901603.6875505154},{"$f":"IF(ISERROR(A22),NA(),'Salary Worksheet'!$B$22)","v":800000},{"$f":"'Salary Worksheet'!$B$15*'Salary Calculations'!B22","v":2254.0092188762887},{"$f":"'Salary Worksheet'!$B$16*'Salary Calculations'!B22","v":63112.258128536087},962461.9364601752,{"$f":"IF(ISERROR(A22),NA(),G21*(1+'Salary Worksheet'!$B$32))","v":17481.734070333587},{"$f":"IF(ISERROR(A22),NA(),H21*(1+'Salary Worksheet'!$B$32))","v":116544.89380222387},{"$f":"IF('Salary Calculations'!A22<'Salary Worksheet'!$B$10,0,('Salary Worksheet'!$B$27*(1+'Salary Worksheet'!$B$32)^('Salary Calculations'!A22-'Salary Worksheet'!$B$10)))","v":0},116544.89380222387,{"$f":"'Salary Worksheet'!$B$12*'Salary Calculations'!J22","v":13985.387256266864},{"$f":"IF(H22>'Salary Worksheet'!$B$18,'Salary Worksheet'!$B$18*'Salary Worksheet'!$B$17,'Salary Worksheet'!$B$17*'Salary Calculations'!H22)","v":7225.7834157378802},{"$f":"'Salary Worksheet'!$B$19*'Salary Calculations'!H22+IF('Salary Worksheet'!$B$21=\"Single\",('Salary Calculations'!H22-200000)*'Salary Worksheet'!$B$20,IF('Salary Worksheet'!$B$21=\"Married-Joint\",('Salary Calculations'!H22-250000)*'Salary Worksheet'!$B$20,IF('Salary Worksheet'!$B$21=\"Married-Separate\",('Salary Calculations'!H22-125000)*'Salary Worksheet'!$B$20)))","v":1569.7913645542476},{"$f":"IF('Salary Worksheet'!$B$29=\"Yes\",'Salary Worksheet'!$B$13*SUM(H22:I22),'Salary Worksheet'!$B$13*'Salary Calculations'!H22)","v":6992.693628133432},{"$f":"IF('Salary Worksheet'!$B$29=\"Yes\",'Salary Worksheet'!$B$14*SUM('Salary Calculations'!H22:I22),'Salary Worksheet'!$B$13*'Salary Calculations'!H22)","v":2330.8978760444775},32104.553540736899,{"$f":"IF(ISERROR(A22),NA(),Q21*(1+'Salary Worksheet'!$B$31))","v":87675.302653855062},-3234.962392368092]
[{"$f":"IF(A22<'Salary Worksheet'!$B$9,A22+1,NA())","v":50},{"$f":"IF('Salary Worksheet'!$B$33=\"Yes\",IF(ISERROR(A23),NA(),F22+R22),IF(ISERROR(A23),NA(),F22))","v":959226.97406780708},{"$f":"IF(ISERROR(A23),NA(),'Salary Worksheet'!$B$22)","v":800000},{"$f":"'Salary Worksheet'!$B$15*'Salary Calculations'!B23","v":2398.0674351695179},{"$f":"'Salary Worksheet'!$B$16*'Salary Calculations'!B23","v":67145.888184746509},1023974.7948173841,{"$f":"IF(ISERROR(A23),NA(),G22*(1+'Salary Worksheet'!$B$32))","v":17831.368751740258},{"$f":"IF(ISERROR(A23),NA(),H22*(1+'Salary Worksheet'!$B$32))","v":118875.79167826835},{"$f":"IF('Salary Calculations'!A23<'Salary Worksheet'!$B$10,0,('Salary Worksheet'!$B$27*(1+'Salary Worksheet'!$B$32)^('Salary Calculations'!A23-'Salary Worksheet'!$B$10)))","v":0},118875.79167826835,{"$f":"'Salary Worksheet'!$B$12*'Salary Calculations'!J23","v":14265.095001392201},{"$f":"IF(H23>'Salary Worksheet'!$B$18,'Salary Worksheet'!$B$18*'Salary Worksheet'!$B$17,'Salary Worksheet'!$B$17*'Salary Calculations'!H23)","v":7370.2990840526372},{"$f":"'Salary Worksheet'!$B$19*'Salary Calculations'!H23+IF('Salary Worksheet'!$B$21=\"Single\",('Salary Calculations'!H23-200000)*'Salary Worksheet'!$B$20,IF('Salary Worksheet'!$B$21=\"Married-Joint\",('Salary Calculations'!H23-250000)*'Salary Worksheet'!$B$20,IF('Salary Worksheet'!$B$21=\"Married-Separate\",('Salary Calculations'!H23-125000)*'Salary Worksheet'!$B$20)))","v":1605.6871918453328},{"$f":"IF('Salary Worksheet'!$B$29=\"Yes\",'Salary Worksheet'!$B$13*SUM(H23:I23),'Salary Worksheet'!$B$13*'Salary Calculations'!H23)","v":7132.5475006961005},{"$f":"IF('Salary Worksheet'!$B$29=\"Yes\",'Salary Worksheet'!$B$14*SUM('Salary Calculations'!H23:I23),'Salary Worksheet'!$B$13*'Salary Calculations'!H23)","v":2377.5158335653668},32751.144611551637,{"$f":"IF(ISERROR(A23),NA(),Q22*(1+'Salary Worksheet'!$B$31))","v":90305.56173347072},-4180.9146667540044]
[{"$f":"IF(A23<'Salary Worksheet'!$B$9,A23+1,NA())","v":51},{"$f":"IF('Salary Worksheet'!$B$33=\"Yes\",IF(ISERROR(A24),NA(),F23+R23),IF(ISERROR(A24),NA(),F23))","v":1019793.8801506301},{"$f":"IF(ISERROR(A24),NA(),'Salary Worksheet'!$B$22)","v":800000},{"$f":"'Salary Worksheet'!$B$15*'Salary Calculations'!B24","v":2549.4847003765753},{"$f":"'Salary Worksheet'!$B$16*'Salary Calculations'!B24","v":71385.57161054411},1088629.9670607976,{"$f":"IF(ISERROR(A24),NA(),G23*(1+'Salary Worksheet'!$B$32))","v":18187.996126775062},{"$f":"IF(ISERROR(A24),NA(),H23*(1+'Salary Worksheet'!$B$32))","v":121253.30751183371},{"$f":"IF('Salary Calculations'!A24<'Salary Worksheet'!$B$10,0,('Salary Worksheet'!$B$27*(1+'Salary Worksheet'!$B$32)^('Salary Calculations'!A24-'Salary Worksheet'!$B$10)))","v":0},121253.30751183371,{"$f":"'Salary Worksheet'!$B$12*'Salary Calculations'!J24","v":14550.396901420045},{"$f":"IF(H24>'Salary Worksheet'!$B$18,'Salary Worksheet'!$B$18*'Salary Worksheet'!$B$17,'Salary Worksheet'!$B$17*'Salary Calculations'!H24)","v":7517.7050657336904},{"$f":"'Salary Worksheet'!$B$19*'Salary Calculations'!H24+IF('Salary Worksheet'!$B$21=\"Single\",('Salary Calculations'!H24-200000)*'Salary Worksheet'!$B$20,IF('Salary Worksheet'!$B$21=\"Married-Joint\",('Salary Calculations'!H24-250000)*'Salary Worksheet'!$B$20,IF('Salary Worksheet'!$B$21=\"Married-Separate\",('Salary Calculations'!H24-125000)*'Salary Worksheet'!$B$20)))","v":1642.3009356822395},{"$f":"IF('Salary Worksheet'!$B$29=\"Yes\",'Salary Worksheet'!$B$13*SUM(H24:I24),'Salary Worksheet'!$B$13*'Salary Calculations'!H24)","v":7275.1984507100224},{"$f":"IF('Salary Worksheet'!$B$29=\"Yes\",'Salary Worksheet'!$B$14*SUM('Salary Calculations'!H24:I24),'Salary Worksheet'!$B$13*'Salary Calculations'!H24)","v":2425.0661502366743},33410.667503782672,{"$f":"IF(ISERROR(A24),NA(),Q23*(1+'Salary Worksheet'!$B$31))","v":93014.728585474848},-5172.0885774238122]
[{"$f":"IF(A24<'Salary Worksheet'!$B$9,A24+1,NA())","v":52},{"$f":"IF('Salary Worksheet'!$B$33=\"Yes\",IF(ISERROR(A25),NA(),F24+R24),IF(ISERROR(A25),NA(),F24))","v":1083457.8784833739},{"$f":"IF(ISERROR(A25),NA(),'Salary Worksheet'!$B$22)","v":800000},{"$f":"'Salary Worksheet'!$B$15*'Salary Calculations'!B25","v":2708.6446962084347},{"$f":"'Salary Worksheet'!$B$16*'Salary Calculations'!B25","v":75842.051493836174},1156591.2852810016,{"$f":"IF(ISERROR(A25),NA(),G24*(1+'Salary Worksheet'!$B$32))","v":18551.756049310563},{"$f":"IF(ISERROR(A25),NA(),H24*(1+'Salary Worksheet'!$B$32))","v":123678.37366207039},{"$f":"IF('Salary Calculations'!A25<'Salary Worksheet'!$B$10,0,('Salary Worksheet'!$B$27*(1+'Salary Worksheet'!$B$32)^('Salary Calculations'!A25-'Salary Worksheet'!$B$10)))","v":0},123678.37366207039,{"$f":"'Salary Worksheet'!$B$12*'Salary Calculations'!J25","v":14841.404839448445},{"$f":"IF(H25>'Salary Worksheet'!$B$18,'Salary Worksheet'!$B$18*'Salary Worksheet'!$B$17,'Salary Worksheet'!$B$17*'Salary Calculations'!H25)","v":7668.0591670483636},{"$f":"'Salary Worksheet'!$B$19*'Salary Calculations'!H25+IF('Salary Worksheet'!$B$21=\"Single\",('Salary Calculations'!H25-200000)*'Salary Worksheet'!$B$20,IF('Salary Worksheet'!$B$21=\"Married-Joint\",('Salary Calculations'!H25-250000)*'Salary Worksheet'!$B$20,IF('Salary Worksheet'!$B$21=\"Married-Separate\",('Salary Calculations'!H25-125000)*'Salary Worksheet'!$B$20)))","v":1679.646954395884},{"$f":"IF('Salary Worksheet'!$B$29=\"Yes\",'Salary Worksheet'!$B$13*SUM(H25:I25),'Salary Worksheet'!$B$13*'Salary Calculations'!H25)","v":7420.7024197242226},{"$f":"IF('Salary Worksheet'!$B$29=\"Yes\",'Salary Worksheet'!$B$14*SUM('Salary Calculations'!H25:I25),'Salary Worksheet'!$B$13*'Salary Calculations'!H25)","v":2473.5674732414077},34083.380853858318,{"$f":"IF(ISERROR(A25),NA(),Q24*(1+'Salary Worksheet'!$B$31))","v":95805.170443039096},-6210.1776348270359]
[{"$f":"IF(A25<'Salary Worksheet'!$B$9,A25+1,NA())","v":53},{"$f":"IF('Salary Worksheet'!$B$33=\"Yes\",IF(ISERROR(A26),NA(),F25+R25),IF(ISERROR(A26),NA(),F25))","v":1150381.1076461745},{"$f":"IF(ISERROR(A26),NA(),'Salary Worksheet'!$B$22)","v":800000},{"$f":"'Salary Worksheet'!$B$15*'Salary Calculations'!B26","v":2875.9527691154362},{"$f":"'Salary Worksheet'!$B$16*'Salary Calculations'!B26","v":80526.677535232229},1228031.8324122913,{"$f":"IF(ISERROR(A26),NA(),G25*(1+'Salary Worksheet'!$B$32))","v":18922.791170296776},{"$f":"IF(ISERROR(A26),NA(),H25*(1+'Salary Worksheet'!$B$32))","v":126151.94113531179},{"$f":"IF('Salary Calculations'!A26<'Salary Worksheet'!$B$10,0,('Salary Worksheet'!$B$27*(1+'Salary Worksheet'!$B$32)^('Salary Calculations'!A26-'Salary Worksheet'!$B$10)))","v":0},126151.94113531179,{"$f":"'Salary Worksheet'!$B$12*'Salary Calculations'!J26","v":15138.232936237415},{"$f":"IF(H26>'Salary Worksheet'!$B$18,'Salary Worksheet'!$B$18*'Salary Worksheet'!$B$17,'Salary Worksheet'!$B$17*'Salary Calculations'!H26)","v":7821.4203503893314},{"$f":"'Salary Worksheet'!$B$19*'Salary Calculations'!H26+IF('Salary Worksheet'!$B$21=\"Single\",('Salary Calculations'!H26-200000)*'Salary Worksheet'!$B$20,IF('Salary Worksheet'!$B$21=\"Married-Joint\",('Salary Calculations'!H26-250000)*'Salary Worksheet'!$B$20,IF('Salary Worksheet'!$B$21=\"Married-Separate\",('Salary Calculations'!H26-125000)*'Salary Worksheet'!$B$20)))","v":1717.7398934838018},{"$f":"IF('Salary Worksheet'!$B$29=\"Yes\",'Salary Worksheet'!$B$13*SUM(H26:I26),'Salary Worksheet'!$B$13*'Salary Calculations'!H26)","v":7569.1164681187074},{"$f":"IF('Salary Worksheet'!$B$29=\"Yes\",'Salary Worksheet'!$B$14*SUM('Salary Calculations'!H26:I26),'Salary Worksheet'!$B$13*'Salary Calculations'!H26)","v":2523.0388227062358},34769.548470935493,{"$f":"IF(ISERROR(A26),NA(),Q25*(1+'Salary Worksheet'!$B$31))","v":98679.325556330266},-7296.9328919539694]
[{"$f":"IF(A26<'Salary Worksheet'!$B$9,A26+1,NA())","v":54},{"$f":"IF('Salary Worksheet'!$B$33=\"Yes\",IF(ISERROR(A27),NA(),F26+R26),IF(ISERROR(A27),NA(),F26))","v":1220734.8995203373},{"$f":"IF(ISERROR(A27),NA(),'Salary Worksheet'!$B$22)","v":800000},{"$f":"'Salary Worksheet'!$B$15*'Salary Calculations'!B27","v":3051.8372488008436},{"$f":"'Salary Worksheet'!$B$16*'Salary Calculations'!B27","v":85451.442966423623},1303134.5052379603,{"$f":"IF(ISERROR(A27),NA(),G26*(1+'Salary Worksheet'!$B$32))","v":19301.246993702713},{"$f":"IF(ISERROR(A27),NA(),H26*(1+'Salary Worksheet'!$B$32))","v":128674.97995801803},{"$f":"IF('Salary Calculations'!A27<'Salary Worksheet'!$B$10,0,('Salary Worksheet'!$B$27*(1+'Salary Worksheet'!$B$32)^('Salary Calculations'!A27-'Salary Worksheet'!$B$10)))","v":0},128674.97995801803,{"$f":"'Salary Worksheet'!$B$12*'Salary Calculations'!J27","v":15440.997594962162},{"$f":"IF(H27>'Salary Worksheet'!$B$18,'Salary Worksheet'!$B$18*'Salary Worksheet'!$B$17,'Salary Worksheet'!$B$17*'Salary Calculations'!H27)","v":7977.8487573971179},{"$f":"'Salary Worksheet'!$B$19*'Salary Calculations'!H27+IF('Salary Worksheet'!$B$21=\"Single\",('Salary Calculations'!H27-200000)*'Salary Worksheet'!$B$20,IF('Salary Worksheet'!$B$21=\"Married-Joint\",('Salary Calculations'!H27-250000)*'Salary Worksheet'!$B$20,IF('Salary Worksheet'!$B$21=\"Married-Separate\",('Salary Calculations'!H27-125000)*'Salary Worksheet'!$B$20)))","v":1756.5946913534776},{"$f":"IF('Salary Worksheet'!$B$29=\"Yes\",'Salary Worksheet'!$B$13*SUM(H27:I27),'Salary Worksheet'!$B$13*'Salary Calculations'!H27)","v":7720.4987974810811},{"$f":"IF('Salary Worksheet'!$B$29=\"Yes\",'Salary Worksheet'!$B$14*SUM('Salary Calculations'!H27:I27),'Salary Worksheet'!$B$13*'Salary Calculations'!H27)","v":2573.4995991603605},35469.439440354196,{"$f":"IF(ISERROR(A27),NA(),Q26*(1+'Salary Worksheet'!$B$31))","v":101639.70532302017},-8434.1648053563404]
[{"$f":"IF(A27<'Salary Worksheet'!$B$9,A27+1,NA())","v":55},{"$f":"IF('Salary Worksheet'!$B$33=\"Yes\",IF(ISERROR(A28),NA(),F27+R27),IF(ISERROR(A28),NA(),F27))","v":1294700.3404326038},{"$f":"IF(ISERROR(A28),NA(),'Salary Worksheet'!$B$22)","v":800000},{"$f":"'Salary Worksheet'!$B$15*'Salary Calculations'!B28","v":3236.7508510815096},{"$f":"'Salary Worksheet'!$B$16*'Salary Calculations'!B28","v":90629.023830282284},1382092.6134118047,{"$f":"IF(ISERROR(A28),NA(),G27*(1+'Salary Worksheet'!$B$32))","v":19687.271933576769},{"$f":"IF(ISERROR(A28),NA(),H27*(1+'Salary Worksheet'!$B$32))","v":131248.47955717839},{"$f":"IF('Salary Calculations'!A28<'Salary Worksheet'!$B$10,0,('Salary Worksheet'!$B$27*(1+'Salary Worksheet'!$B$32)^('Salary Calculations'!A28-'Salary Worksheet'!$B$10)))","v":0},131248.47955717839,{"$f":"'Salary Worksheet'!$B$12*'Salary Calculations'!J28","v":15749.817546861406},{"$f":"IF(H28>'Salary Worksheet'!$B$18,'Salary Worksheet'!$B$18*'Salary Worksheet'!$B$17,'Salary Worksheet'!$B$17*'Salary Calculations'!H28)","v":8137.4057325450603},{"$f":"'Salary Worksheet'!$B$19*'Salary Calculations'!H28+IF('Salary Worksheet'!$B$21=\"Single\",('Salary Calculations'!H28-200000)*'Salary Worksheet'!$B$20,IF('Salary Worksheet'!$B$21=\"Married-Joint\",('Salary Calculations'!H28-250000)*'Salary Worksheet'!$B$20,IF('Salary Worksheet'!$B$21=\"Married-Separate\",('Salary Calculations'!H28-125000)*'Salary Worksheet'!$B$20)))","v":1796.2265851805473},{"$f":"IF('Salary Worksheet'!$B$29=\"Yes\",'Salary Worksheet'!$B$13*SUM(H28:I28),'Salary Worksheet'!$B$13*'Salary Calculations'!H28)","v":7874.9087734307031},{"$f":"IF('Salary Worksheet'!$B$29=\"Yes\",'Salary Worksheet'!$B$14*SUM('Salary Calculations'!H28:I28),'Salary Worksheet'!$B$13*'Salary Calculations'!H28)","v":2624.9695911435679},36183.328229161285,{"$f":"IF(ISERROR(A28),NA(),Q27*(1+'Salary Worksheet'!$B$31))","v":104688.89648271078},-9623.7451546936791]
[{"$f":"IF(A28<'Salary Worksheet'!$B$9,A28+1,NA())","v":56},{"$f":"IF('Salary Worksheet'!$B$33=\"Yes\",IF(ISERROR(A29),NA(),F28+R28),IF(ISERROR(A29),NA(),F28))","v":1372468.8682571109},{"$f":"IF(ISERROR(A29),NA(),'Salary Worksheet'!$B$22)","v":800000},{"$f":"'Salary Worksheet'!$B$15*'Salary Calculations'!B29","v":3431.1721706427775},{"$f":"'Salary Worksheet'!$B$16*'Salary Calculations'!B29","v":96072.820777997782},1465110.516864466,{"$f":"IF(ISERROR(A29),NA(),G28*(1+'Salary Worksheet'!$B$32))","v":20081.017372248305},{"$f":"IF(ISERROR(A29),NA(),H28*(1+'Salary Worksheet'!$B$32))","v":133873.44914832196},{"$f":"IF('Salary Calculations'!A29<'Salary Worksheet'!$B$10,0,('Salary Worksheet'!$B$27*(1+'Salary Worksheet'!$B$32)^('Salary Calculations'!A29-'Salary Worksheet'!$B$10)))","v":0},133873.44914832196,{"$f":"'Salary Worksheet'!$B$12*'Salary Calculations'!J29","v":16064.813897798635},{"$f":"IF(H29>'Salary Worksheet'!$B$18,'Salary Worksheet'!$B$18*'Salary Worksheet'!$B$17,'Salary Worksheet'!$B$17*'Salary Calculations'!H29)","v":8300.1538471959611},{"$f":"'Salary Worksheet'!$B$19*'Salary Calculations'!H29+IF('Salary Worksheet'!$B$21=\"Single\",('Salary Calculations'!H29-200000)*'Salary Worksheet'!$B$20,IF('Salary Worksheet'!$B$21=\"Married-Joint\",('Salary Calculations'!H29-250000)*'Salary Worksheet'!$B$20,IF('Salary Worksheet'!$B$21=\"Married-Separate\",('Salary Calculations'!H29-125000)*'Salary Worksheet'!$B$20)))","v":1836.6511168841585},{"$f":"IF('Salary Worksheet'!$B$29=\"Yes\",'Salary Worksheet'!$B$13*SUM(H29:I29),'Salary Worksheet'!$B$13*'Salary Calculations'!H29)","v":8032.4069488993173},{"$f":"IF('Salary Worksheet'!$B$29=\"Yes\",'Salary Worksheet'!$B$14*SUM('Salary Calculations'!H29:I29),'Salary Worksheet'!$B$13*'Salary Calculations'!H29)","v":2677.4689829664394},36911.49479374451,{"$f":"IF(ISERROR(A29),NA(),Q28*(1+'Salary Worksheet'!$B$31))","v":107829.56337719211},-10867.609022614663]
[{"$f":"IF(A29<'Salary Worksheet'!$B$9,A29+1,NA())","v":57},{"$f":"IF('Salary Worksheet'!$B$33=\"Yes\",IF(ISERROR(A30),NA(),F29+R29),IF(ISERROR(A30),NA(),F29))","v":1454242.9078418515},{"$f":"IF(ISERROR(A30),NA(),'Salary Worksheet'!$B$22)","v":800000},{"$f":"'Salary Worksheet'!$B$15*'Salary Calculations'!B30","v":3635.6072696046285},{"$f":"'Salary Worksheet'!$B$16*'Salary Calculations'!B30","v":101797.00354892961},1552404.3041211765,{"$f":"IF(ISERROR(A30),NA(),G29*(1+'Salary Worksheet'!$B$32))","v":20482.63771969327},{"$f":"IF(ISERROR(A30),NA(),H29*(1+'Salary Worksheet'!$B$32))","v":136550.9181312884},{"$f":"IF('Salary Calculations'!A30<'Salary Worksheet'!$B$10,0,('Salary Worksheet'!$B$27*(1+'Salary Worksheet'!$B$32)^('Salary Calculations'!A30-'Salary Worksheet'!$B$10)))","v":0},136550.9181312884,{"$f":"'Salary Worksheet'!$B$12*'Salary Calculations'!J30","v":16386.110175754609},{"$f":"IF(H30>'Salary Worksheet'!$B$18,'Salary Worksheet'!$B$18*'Salary Worksheet'!$B$17,'Salary Worksheet'!$B$17*'Salary Calculations'!H30)","v":8466.1569241398811},{"$f":"'Salary Worksheet'!$B$19*'Salary Calculations'!H30+IF('Salary Worksheet'!$B$21=\"Single\",('Salary Calculations'!H30-200000)*'Salary Worksheet'!$B$20,IF('Salary Worksheet'!$B$21=\"Married-Joint\",('Salary Calculations'!H30-250000)*'Salary Worksheet'!$B$20,IF('Salary Worksheet'!$B$21=\"Married-Separate\",('Salary Calculations'!H30-125000)*'Salary Worksheet'!$B$20)))","v":1877.8841392218415},{"$f":"IF('Salary Worksheet'!$B$29=\"Yes\",'Salary Worksheet'!$B$13*SUM(H30:I30),'Salary Worksheet'!$B$13*'Salary Calculations'!H30)","v":8193.0550878773047},{"$f":"IF('Salary Worksheet'!$B$29=\"Yes\",'Salary Worksheet'!$B$14*SUM('Salary Calculations'!H30:I30),'Salary Worksheet'!$B$13*'Salary Calculations'!H30)","v":2731.0183626257681},37654.224689619405,{"$f":"IF(ISERROR(A30),NA(),Q29*(1+'Salary Worksheet'!$B$31))","v":111064.45027850788},-12167.756836838889]
[{"$f":"IF(A30<'Salary Worksheet'!$B$9,A30+1,NA())","v":58},{"$f":"IF('Salary Worksheet'!$B$33=\"Yes\",IF(ISERROR(A31),NA(),F30+R30),IF(ISERROR(A31),NA(),F30))","v":1540236.5472843377},{"$f":"IF(ISERROR(A31),NA(),'Salary Worksheet'!$B$22)","v":800000},{"$f":"'Salary Worksheet'!$B$15*'Salary Calculations'!B31","v":3850.5913682108444},{"$f":"'Salary Worksheet'!$B$16*'Salary Calculations'!B31","v":107816.55830990364},1644202.5142260306,{"$f":"IF(ISERROR(A31),NA(),G30*(1+'Salary Worksheet'!$B$32))","v":20892.290474087134},{"$f":"IF(ISERROR(A31),NA(),H30*(1+'Salary Worksheet'!$B$32))","v":139281.93649391417},{"$f":"IF('Salary Calculations'!A31<'Salary Worksheet'!$B$10,0,('Salary Worksheet'!$B$27*(1+'Salary Worksheet'!$B$32)^('Salary Calculations'!A31-'Salary Worksheet'!$B$10)))","v":0},139281.93649391417,{"$f":"'Salary Worksheet'!$B$12*'Salary Calculations'!J31","v":16713.832379269701},{"$f":"IF(H31>'Salary Worksheet'!$B$18,'Salary Worksheet'!$B$18*'Salary Worksheet'!$B$17,'Salary Worksheet'!$B$17*'Salary Calculations'!H31)","v":8635.4800626226788},{"$f":"'Salary Worksheet'!$B$19*'Salary Calculations'!H31+IF('Salary Worksheet'!$B$21=\"Single\",('Salary Calculations'!H31-200000)*'Salary Worksheet'!$B$20,IF('Salary Worksheet'!$B$21=\"Married-Joint\",('Salary Calculations'!H31-250000)*'Salary Worksheet'!$B$20,IF('Salary Worksheet'!$B$21=\"Married-Separate\",('Salary Calculations'!H31-125000)*'Salary Worksheet'!$B$20)))","v":1919.9418220062782},{"$f":"IF('Salary Worksheet'!$B$29=\"Yes\",'Salary Worksheet'!$B$13*SUM(H31:I31),'Salary Worksheet'!$B$13*'Salary Calculations'!H31)","v":8356.9161896348505},{"$f":"IF('Salary Worksheet'!$B$29=\"Yes\",'Salary Worksheet'!$B$14*SUM('Salary Calculations'!H31:I31),'Salary Worksheet'!$B$13*'Salary Calculations'!H31)","v":2785.6387298782834},38411.809183411795,{"$f":"IF(ISERROR(A31),NA(),Q30*(1+'Salary Worksheet'!$B$31))","v":114396.38378686312},-13526.256476360752]
[{"$f":"IF(A31<'Salary Worksheet'!$B$9,A31+1,NA())","v":59},{"$f":"IF('Salary Worksheet'!$B$33=\"Yes\",IF(ISERROR(A32),NA(),F31+R31),IF(ISERROR(A32),NA(),F31))","v":1630676.2577496697},{"$f":"IF(ISERROR(A32),NA(),'Salary Worksheet'!$B$22)","v":800000},{"$f":"'Salary Worksheet'!$B$15*'Salary Calculations'!B32","v":4076.6906443741746},{"$f":"'Salary Worksheet'!$B$16*'Salary Calculations'!B32","v":114147.3380424769},1740746.9051477725,{"$f":"IF(ISERROR(A32),NA(),G31*(1+'Salary Worksheet'!$B$32))","v":21310.136283568878},{"$f":"IF(ISERROR(A32),NA(),H31*(1+'Salary Worksheet'!$B$32))","v":142067.57522379246},{"$f":"IF('Salary Calculations'!A32<'Salary Worksheet'!$B$10,0,('Salary Worksheet'!$B$27*(1+'Salary Worksheet'!$B$32)^('Salary Calculations'!A32-'Salary Worksheet'!$B$10)))","v":0},142067.57522379246,{"$f":"'Salary Worksheet'!$B$12*'Salary Calculations'!J32","v":17048.109026855094},{"$f":"IF(H32>'Salary Worksheet'!$B$18,'Salary Worksheet'!$B$18*'Salary Worksheet'!$B$17,'Salary Worksheet'!$B$17*'Salary Calculations'!H32)","v":8808.1896638751332},{"$f":"'Salary Worksheet'!$B$19*'Salary Calculations'!H32+IF('Salary Worksheet'!$B$21=\"Single\",('Salary Calculations'!H32-200000)*'Salary Worksheet'!$B$20,IF('Salary Worksheet'!$B$21=\"Married-Joint\",('Salary Calculations'!H32-250000)*'Salary Worksheet'!$B$20,IF('Salary Worksheet'!$B$21=\"Married-Separate\",('Salary Calculations'!H32-125000)*'Salary Worksheet'!$B$20)))","v":1962.8406584464039},{"$f":"IF('Salary Worksheet'!$B$29=\"Yes\",'Salary Worksheet'!$B$13*SUM(H32:I32),'Salary Worksheet'!$B$13*'Salary Calculations'!H32)","v":8524.0545134275471},{"$f":"IF('Salary Worksheet'!$B$29=\"Yes\",'Salary Worksheet'!$B$14*SUM('Salary Calculations'!H32:I32),'Salary Worksheet'!$B$13*'Salary Calculations'!H32)","v":2841.3515044758492},39184.54536708002,{"$f":"IF(ISERROR(A32),NA(),Q31*(1+'Salary Worksheet'!$B$31))","v":117828.27530046902},-14945.245443756576]
[{"$f":"IF(A32<'Salary Worksheet'!$B$9,A32+1,NA())","v":60},{"$f":"IF('Salary Worksheet'!$B$33=\"Yes\",IF(ISERROR(A33),NA(),F32+R32),IF(ISERROR(A33),NA(),F32))","v":1725801.6597040161},{"$f":"IF(ISERROR(A33),NA(),'Salary Worksheet'!$B$22)","v":800000},{"$f":"'Salary Worksheet'!$B$15*'Salary Calculations'!B33","v":4314.5041492600403},{"$f":"'Salary Worksheet'!$B$16*'Salary Calculations'!B33","v":120806.11617928113},1842293.2717340372,{"$f":"IF(ISERROR(A33),NA(),G32*(1+'Salary Worksheet'!$B$32))","v":21736.339009240255},{"$f":"IF(ISERROR(A33),NA(),H32*(1+'Salary Worksheet'!$B$32))","v":144908.9267282683},{"$f":"IF('Salary Calculations'!A33<'Salary Worksheet'!$B$10,0,('Salary Worksheet'!$B$27*(1+'Salary Worksheet'!$B$32)^('Salary Calculations'!A33-'Salary Worksheet'!$B$10)))","v":0},144908.9267282683,{"$f":"'Salary Worksheet'!$B$12*'Salary Calculations'!J33","v":17389.071207392197},{"$f":"IF(H33>'Salary Worksheet'!$B$18,'Salary Worksheet'!$B$18*'Salary Worksheet'!$B$17,'Salary Worksheet'!$B$17*'Salary Calculations'!H33)","v":8984.3534571526343},{"$f":"'Salary Worksheet'!$B$19*'Salary Calculations'!H33+IF('Salary Worksheet'!$B$21=\"Single\",('Salary Calculations'!H33-200000)*'Salary Worksheet'!$B$20,IF('Salary Worksheet'!$B$21=\"Married-Joint\",('Salary Calculations'!H33-250000)*'Salary Worksheet'!$B$20,IF('Salary Worksheet'!$B$21=\"Married-Separate\",('Salary Calculations'!H33-125000)*'Salary Worksheet'!$B$20)))","v":2006.5974716153321},{"$f":"IF('Salary Worksheet'!$B$29=\"Yes\",'Salary Worksheet'!$B$13*SUM(H33:I33),'Salary Worksheet'!$B$13*'Salary Calculations'!H33)","v":8694.5356036960984},{"$f":"IF('Salary Worksheet'!$B$29=\"Yes\",'Salary Worksheet'!$B$14*SUM('Salary Calculations'!H33:I33),'Salary Worksheet'!$B$13*'Salary Calculations'!H33)","v":2898.1785345653661},39972.736274421623,{"$f":"IF(ISERROR(A33),NA(),Q32*(1+'Salary Worksheet'!$B$31))","v":121363.12355948309},-16426.933105636417]
[{"$f":"IF(A33<'Salary Worksheet'!$B$9,A33+1,NA())","v":61},{"$f":"IF('Salary Worksheet'!$B$33=\"Yes\",IF(ISERROR(A34),NA(),F33+R33),IF(ISERROR(A34),NA(),F33))","v":1825866.3386284008},{"$f":"IF(ISERROR(A34),NA(),'Salary Worksheet'!$B$22)","v":800000},{"$f":"'Salary Worksheet'!$B$15*'Salary Calculations'!B34","v":4564.6658465710025},{"$f":"'Salary Worksheet'!$B$16*'Salary Calculations'!B34","v":127810.64370398807},1949112.3164858178,{"$f":"IF(ISERROR(A34),NA(),G33*(1+'Salary Worksheet'!$B$32))","v":22171.065789425062},{"$f":"IF(ISERROR(A34),NA(),H33*(1+'Salary Worksheet'!$B$32))","v":147807.10526283368},{"$f":"IF('Salary Calculations'!A34<'Salary Worksheet'!$B$10,0,('Salary Worksheet'!$B$27*(1+'Salary Worksheet'!$B$32)^('Salary Calculations'!A34-'Salary Worksheet'!$B$10)))","v":0},147807.10526283368,{"$f":"'Salary Worksheet'!$B$12*'Salary Calculations'!J34","v":17736.852631540041},{"$f":"IF(H34>'Salary Worksheet'!$B$18,'Salary Worksheet'!$B$18*'Salary Worksheet'!$B$17,'Salary Worksheet'!$B$17*'Salary Calculations'!H34)","v":9164.0405262956883},{"$f":"'Salary Worksheet'!$B$19*'Salary Calculations'!H34+IF('Salary Worksheet'!$B$21=\"Single\",('Salary Calculations'!H34-200000)*'Salary Worksheet'!$B$20,IF('Salary Worksheet'!$B$21=\"Married-Joint\",('Salary Calculations'!H34-250000)*'Salary Worksheet'!$B$20,IF('Salary Worksheet'!$B$21=\"Married-Separate\",('Salary Calculations'!H34-125000)*'Salary Worksheet'!$B$20)))","v":2051.2294210476384},{"$f":"IF('Salary Worksheet'!$B$29=\"Yes\",'Salary Worksheet'!$B$13*SUM(H34:I34),'Salary Worksheet'!$B$13*'Salary Calculations'!H34)","v":8868.4263157700207},{"$f":"IF('Salary Worksheet'!$B$29=\"Yes\",'Salary Worksheet'!$B$14*SUM('Salary Calculations'!H34:I34),'Salary Worksheet'!$B$13*'Salary Calculations'!H34)","v":2956.1421052566734},40776.690999910061,{"$f":"IF(ISERROR(A34),NA(),Q33*(1+'Salary Worksheet'!$B$31))","v":125004.01726626759},-17973.603003343975]
[{"$f":"IF(A34<'Salary Worksheet'!$B$9,A34+1,NA())","v":62},{"$f":"IF('Salary Worksheet'!$B$33=\"Yes\",IF(ISERROR(A35),NA(),F34+R34),IF(ISERROR(A35),NA(),F34))","v":1931138.7134824737},{"$f":"IF(ISERROR(A35),NA(),'Salary Worksheet'!$B$22)","v":800000},{"$f":"'Salary Worksheet'!$B$15*'Salary Calculations'!B35","v":4827.8467837061844},{"$f":"'Salary Worksheet'!$B$16*'Salary Calculations'!B35","v":135179.70994377317},2061490.5766425407,{"$f":"IF(ISERROR(A35),NA(),G34*(1+'Salary Worksheet'!$B$32))","v":22614.487105213564},{"$f":"IF(ISERROR(A35),NA(),H34*(1+'Salary Worksheet'!$B$32))","v":150763.24736809035},{"$f":"IF('Salary Calculations'!A35<'Salary Worksheet'!$B$10,0,('Salary Worksheet'!$B$27*(1+'Salary Worksheet'!$B$32)^('Salary Calculations'!A35-'Salary Worksheet'!$B$10)))","v":0},150763.24736809035,{"$f":"'Salary Worksheet'!$B$12*'Salary Calculations'!J35","v":18091.589684170842},{"$f":"IF(H35>'Salary Worksheet'!$B$18,'Salary Worksheet'!$B$18*'Salary Worksheet'!$B$17,'Salary Worksheet'!$B$17*'Salary Calculations'!H35)","v":9347.321336821602},{"$f":"'Salary Worksheet'!$B$19*'Salary Calculations'!H35+IF('Salary Worksheet'!$B$21=\"Single\",('Salary Calculations'!H35-200000)*'Salary Worksheet'!$B$20,IF('Salary Worksheet'!$B$21=\"Married-Joint\",('Salary Calculations'!H35-250000)*'Salary Worksheet'!$B$20,IF('Salary Worksheet'!$B$21=\"Married-Separate\",('Salary Calculations'!H35-125000)*'Salary Worksheet'!$B$20)))","v":2096.7540094685919},{"$f":"IF('Salary Worksheet'!$B$29=\"Yes\",'Salary Worksheet'!$B$13*SUM(H35:I35),'Salary Worksheet'!$B$13*'Salary Calculations'!H35)","v":9045.7948420854209},{"$f":"IF('Salary Worksheet'!$B$29=\"Yes\",'Salary Worksheet'!$B$14*SUM('Salary Calculations'!H35:I35),'Salary Worksheet'!$B$13*'Salary Calculations'!H35)","v":3015.2649473618071},41596.724819908268,{"$f":"IF(ISERROR(A35),NA(),Q34*(1+'Salary Worksheet'!$B$31))","v":128754.13778425562},-19587.615236073543]
[{"$f":"IF(A35<'Salary Worksheet'!$B$9,A35+1,NA())","v":63},{"$f":"IF('Salary Worksheet'!$B$33=\"Yes\",IF(ISERROR(A36),NA(),F35+R35),IF(ISERROR(A36),NA(),F35))","v":2041902.9614064672},{"$f":"IF(ISERROR(A36),NA(),'Salary Worksheet'!$B$22)","v":800000},{"$f":"'Salary Worksheet'!$B$15*'Salary Calculations'!B36","v":5104.7574035161679},{"$f":"'Salary Worksheet'!$B$16*'Salary Calculations'!B36","v":142933.20729845273},2179731.4113014038,{"$f":"IF(ISERROR(A36),NA(),G35*(1+'Salary Worksheet'!$B$32))","v":23066.776847317837},{"$f":"IF(ISERROR(A36),NA(),H35*(1+'Salary Worksheet'!$B$32))","v":153778.51231545216},{"$f":"IF('Salary Calculations'!A36<'Salary Worksheet'!$B$10,0,('Salary Worksheet'!$B$27*(1+'Salary Worksheet'!$B$32)^('Salary Calculations'!A36-'Salary Worksheet'!$B$10)))","v":0},153778.51231545216,{"$f":"'Salary Worksheet'!$B$12*'Salary Calculations'!J36","v":18453.421477854259},{"$f":"IF(H36>'Salary Worksheet'!$B$18,'Salary Worksheet'!$B$18*'Salary Worksheet'!$B$17,'Salary Worksheet'!$B$17*'Salary Calculations'!H36)","v":9534.267763558033},{"$f":"'Salary Worksheet'!$B$19*'Salary Calculations'!H36+IF('Salary Worksheet'!$B$21=\"Single\",('Salary Calculations'!H36-200000)*'Salary Worksheet'!$B$20,IF('Salary Worksheet'!$B$21=\"Married-Joint\",('Salary Calculations'!H36-250000)*'Salary Worksheet'!$B$20,IF('Salary Worksheet'!$B$21=\"Married-Separate\",('Salary Calculations'!H36-125000)*'Salary Worksheet'!$B$20)))","v":2143.1890896579635},{"$f":"IF('Salary Worksheet'!$B$29=\"Yes\",'Salary Worksheet'!$B$13*SUM(H36:I36),'Salary Worksheet'!$B$13*'Salary Calculations'!H36)","v":9226.7107389271296},{"$f":"IF('Salary Worksheet'!$B$29=\"Yes\",'Salary Worksheet'!$B$14*SUM('Salary Calculations'!H36:I36),'Salary Worksheet'!$B$13*'Salary Calculations'!H36)","v":3075.5702463090433},42433.159316306424,{"$f":"IF(ISERROR(A36),NA(),Q35*(1+'Salary Worksheet'!$B$31))","v":132616.7619177833},-21271.408918637564]
[{"$f":"IF(A36<'Salary Worksheet'!$B$9,A36+1,NA())","v":64},{"$f":"IF('Salary Worksheet'!$B$33=\"Yes\",IF(ISERROR(A37),NA(),F36+R36),IF(ISERROR(A37),NA(),F36))","v":2158460.002382766},{"$f":"IF(ISERROR(A37),NA(),'Salary Worksheet'!$B$22)","v":800000},{"$f":"'Salary Worksheet'!$B$15*'Salary Calculations'!B37","v":5396.1500059569153},{"$f":"'Salary Worksheet'!$B$16*'Salary Calculations'!B37","v":151092.20016679363},2304156.0525436024,{"$f":"IF(ISERROR(A37),NA(),G36*(1+'Salary Worksheet'!$B$32))","v":23528.112384264194},{"$f":"IF(ISERROR(A37),NA(),H36*(1+'Salary Worksheet'!$B$32))","v":156854.0825617612},{"$f":"IF('Salary Calculations'!A37<'Salary Worksheet'!$B$10,0,('Salary Worksheet'!$B$27*(1+'Salary Worksheet'!$B$32)^('Salary Calculations'!A37-'Salary Worksheet'!$B$10)))","v":0},156854.0825617612,{"$f":"'Salary Worksheet'!$B$12*'Salary Calculations'!J37","v":18822.489907411342},{"$f":"IF(H37>'Salary Worksheet'!$B$18,'Salary Worksheet'!$B$18*'Salary Worksheet'!$B$17,'Salary Worksheet'!$B$17*'Salary Calculations'!H37)","v":9724.9531188291949},{"$f":"'Salary Worksheet'!$B$19*'Salary Calculations'!H37+IF('Salary Worksheet'!$B$21=\"Single\",('Salary Calculations'!H37-200000)*'Salary Worksheet'!$B$20,IF('Salary Worksheet'!$B$21=\"Married-Joint\",('Salary Calculations'!H37-250000)*'Salary Worksheet'!$B$20,IF('Salary Worksheet'!$B$21=\"Married-Separate\",('Salary Calculations'!H37-125000)*'Salary Worksheet'!$B$20)))","v":2190.5528714511229},{"$f":"IF('Salary Worksheet'!$B$29=\"Yes\",'Salary Worksheet'!$B$13*SUM(H37:I37),'Salary Worksheet'!$B$13*'Salary Calculations'!H37)","v":9411.2449537056709},{"$f":"IF('Salary Worksheet'!$B$29=\"Yes\",'Salary Worksheet'!$B$14*SUM('Salary Calculations'!H37:I37),'Salary Worksheet'!$B$13*'Salary Calculations'!H37)","v":3137.0816512352239},43286.32250263256,{"$f":"IF(ISERROR(A37),NA(),Q36*(1+'Salary Worksheet'!$B$31))","v":136595.26477531681},-23027.504716188181]
[{"$f":"IF(A37<'Salary Worksheet'!$B$9,A37+1,NA())","v":65},{"$f":"IF('Salary Worksheet'!$B$33=\"Yes\",IF(ISERROR(A38),NA(),F37+R37),IF(ISERROR(A38),NA(),F37))","v":2281128.5478274142},{"$f":"IF(ISERROR(A38),NA(),'Salary Worksheet'!$B$22)","v":800000},{"$f":"'Salary Worksheet'!$B$15*'Salary Calculations'!B38","v":5702.8213695685354},{"$f":"'Salary Worksheet'!$B$16*'Salary Calculations'!B38","v":159678.998347919},2435104.7248057649,{"$f":"IF(ISERROR(A38),NA(),G37*(1+'Salary Worksheet'!$B$32))","v":23998.674631949478},{"$f":"IF(ISERROR(A38),NA(),H37*(1+'Salary Worksheet'!$B$32))","v":159991.16421299643},{"$f":"IF('Salary Calculations'!A38<'Salary Worksheet'!$B$10,0,('Salary Worksheet'!$B$27*(1+'Salary Worksheet'!$B$32)^('Salary Calculations'!A38-'Salary Worksheet'!$B$10)))","v":0},159991.16421299643,{"$f":"'Salary Worksheet'!$B$12*'Salary Calculations'!J38","v":19198.939705559573},{"$f":"IF(H38>'Salary Worksheet'!$B$18,'Salary Worksheet'!$B$18*'Salary Worksheet'!$B$17,'Salary Worksheet'!$B$17*'Salary Calculations'!H38)","v":9919.4521812057792},{"$f":"'Salary Worksheet'!$B$19*'Salary Calculations'!H38+IF('Salary Worksheet'!$B$21=\"Single\",('Salary Calculations'!H38-200000)*'Salary Worksheet'!$B$20,IF('Salary Worksheet'!$B$21=\"Married-Joint\",('Salary Calculations'!H38-250000)*'Salary Worksheet'!$B$20,IF('Salary Worksheet'!$B$21=\"Married-Separate\",('Salary Calculations'!H38-125000)*'Salary Worksheet'!$B$20)))","v":2238.8639288801451},{"$f":"IF('Salary Worksheet'!$B$29=\"Yes\",'Salary Worksheet'!$B$13*SUM(H38:I38),'Salary Worksheet'!$B$13*'Salary Calculations'!H38)","v":9599.4698527797864},{"$f":"IF('Salary Worksheet'!$B$29=\"Yes\",'Salary Worksheet'!$B$14*SUM('Salary Calculations'!H38:I38),'Salary Worksheet'!$B$13*'Salary Calculations'!H38)","v":3199.8232842599286},44156.548952685218,{"$f":"IF(ISERROR(A38),NA(),Q37*(1+'Salary Worksheet'!$B$31))","v":140693.12271857631},-24858.5074582651]
[{"$f":"IF(A38<'Salary Worksheet'!$B$9,A38+1,NA())","v":{"$error":"#N/A"}},{"$f":"IF('Salary Worksheet'!$B$33=\"Yes\",IF(ISERROR(A39),NA(),F38+R38),IF(ISERROR(A39),NA(),F38))","v":{"$error":"#N/A"}},{"$f":"IF(ISERROR(A39),NA(),'Salary Worksheet'!$B$22)","v":{"$error":"#N/A"}},{"$f":"'Salary Worksheet'!$B$15*'Salary Calculations'!B39","v":{"$error":"#N/A"}},{"$f":"'Salary Worksheet'!$B$16*'Salary Calculations'!B39","v":{"$error":"#N/A"}},{"$error":"#N/A"},{"$f":"IF(ISERROR(A39),NA(),G38*(1+'Salary Worksheet'!$B$32))","v":{"$error":"#N/A"}},{"$f":"IF(ISERROR(A39),NA(),H38*(1+'Salary Worksheet'!$B$32))","v":{"$error":"#N/A"}},{"$f":"IF('Salary Calculations'!A39<'Salary Worksheet'!$B$10,0,('Salary Worksheet'!$B$27*(1+'Salary Worksheet'!$B$32)^('Salary Calculations'!A39-'Salary Worksheet'!$B$10)))","v":{"$error":"#N/A"}},{"$error":"#N/A"},{"$f":"'Salary Worksheet'!$B$12*'Salary Calculations'!J39","v":{"$error":"#N/A"}},{"$f":"IF(H39>'Salary Worksheet'!$B$18,'Salary Worksheet'!$B$18*'Salary Worksheet'!$B$17,'Salary Worksheet'!$B$17*'Salary Calculations'!H39)","v":{"$error":"#N/A"}},{"$f":"'Salary Worksheet'!$B$19*'Salary Calculations'!H39+IF('Salary Worksheet'!$B$21=\"Single\",('Salary Calculations'!H39-200000)*'Salary Worksheet'!$B$20,IF('Salary Worksheet'!$B$21=\"Married-Joint\",('Salary Calculations'!H39-250000)*'Salary Worksheet'!$B$20,IF('Salary Worksheet'!$B$21=\"Married-Separate\",('Salary Calculations'!H39-125000)*'Salary Worksheet'!$B$20)))","v":{"$error":"#N/A"}},{"$f":"IF('Salary Worksheet'!$B$29=\"Yes\",'Salary Worksheet'!$B$13*SUM(H39:I39),'Salary Worksheet'!$B$13*'Salary Calculations'!H39)","v":{"$error":"#N/A"}},{"$f":"IF('Salary Worksheet'!$B$29=\"Yes\",'Salary Worksheet'!$B$14*SUM('Salary Calculations'!H39:I39),'Salary Worksheet'!$B$13*'Salary Calculations'!H39)","v":{"$error":"#N/A"}},{"$error":"#N/A"},{"$f":"IF(ISERROR(A39),NA(),Q38*(1+'Salary Worksheet'!$B$31))","v":{"$error":"#N/A"}},{"$error":"#N/A"}]
[{"$f":"IF(A39<'Salary Worksheet'!$B$9,A39+1,NA())","v":{"$error":"#N/A"}},{"$f":"IF('Salary Worksheet'!$B$33=\"Yes\",IF(ISERROR(A40),NA(),F39+R39),IF(ISERROR(A40),NA(),F39))","v":{"$error":"#N/A"}},{"$f":"IF(ISERROR(A40),NA(),'Salary Worksheet'!$B$22)","v":{"$error":"#N/A"}},{"$f":"'Salary Worksheet'!$B$15*'Salary Calculations'!B40","v":{"$error":"#N/A"}},{"$f":"'Salary Worksheet'!$B$16*'Salary Calculations'!B40","v":{"$error":"#N/A"}},{"$error":"#N/A"},{"$f":"IF(ISERROR(A40),NA(),G39*(1+'Salary Worksheet'!$B$32))","v":{"$error":"#N/A"}},{"$f":"IF(ISERROR(A40),NA(),H39*(1+'Salary Worksheet'!$B$32))","v":{"$error":"#N/A"}},{"$f":"IF('Salary Calculations'!A40<'Salary Worksheet'!$B$10,0,('Salary Worksheet'!$B$27*(1+'Salary Worksheet'!$B$32)^('Salary Calculations'!A40-'Salary Worksheet'!$B$10)))","v":{"$error":"#N/A"}},{"$error":"#N/A"},{"$f":"'Salary Worksheet'!$B$12*'Salary Calculations'!J40","v":{"$error":"#N/A"}},{"$f":"IF(H40>'Salary Worksheet'!$B$18,'Salary Worksheet'!$B$18*'Salary Worksheet'!$B$17,'Salary Worksheet'!$B$17*'Salary Calculations'!H40)","v":{"$error":"#N/A"}},{"$f":"'Salary Worksheet'!$B$19*'Salary Calculations'!H40+IF('Salary Worksheet'!$B$21=\"Single\",('Salary Calculations'!H40-200000)*'Salary Worksheet'!$B$20,IF('Salary Worksheet'!$B$21=\"Married-Joint\",('Salary Calculations'!H40-250000)*'Salary Worksheet'!$B$20,IF('Salary Worksheet'!$B$21=\"Married-Separate\",('Salary Calculations'!H40-125000)*'Salary Worksheet'!$B$20)))","v":{"$error":"#N/A"}},{"$f":"IF('Salary Worksheet'!$B$29=\"Yes\",'Salary Worksheet'!$B$13*SUM(H40:I40),'Salary Worksheet'!$B$13*'Salary Calculations'!H40)","v":{"$error":"#N/A"}},{"$f":"IF('Salary Worksheet'!$B$29=\"Yes\",'Salary Worksheet'!$B$14*SUM('Salary Calculations'!H40:I40),'Salary Worksheet'!$B$13*'Salary Calculations'!H40)","v":{"$error":"#N/A"}},{"$error":"#N/A"},{"$f":"IF(ISERROR(A40),NA(),Q39*(1+'Salary Worksheet'!$B$31))","v":{"$error":"#N/A"}},{"$error":"#N/A"}]
[{"$f":"IF(A40<'Salary Worksheet'!$B$9,A40+1,NA())","v":{"$error":"#N/A"}},{"$f":"IF('Salary Worksheet'!$B$33=\"Yes\",IF(ISERROR(A41),NA(),F40+R40),IF(ISERROR(A41),NA(),F40))","v":{"$error":"#N/A"}},{"$f":"IF(ISERROR(A41),NA(),'Salary Worksheet'!$B$22)","v":{"$error":"#N/A"}},{"$f":"'Salary Worksheet'!$B$15*'Salary Calculations'!B41","v":{"$error":"#N/A"}},{"$f":"'Salary Worksheet'!$B$16*'Salary Calculations'!B41","v":{"$error":"#N/A"}},{"$error":"#N/A"},{"$f":"IF(ISERROR(A41),NA(),G40*(1+'Salary Worksheet'!$B$32))","v":{"$error":"#N/A"}},{"$f":"IF(ISERROR(A41),NA(),H40*(1+'Salary Worksheet'!$B$32))","v":{"$error":"#N/A"}},{"$f":"IF('Salary Calculations'!A41<'Salary Worksheet'!$B$10,0,('Salary Worksheet'!$B$27*(1+'Salary Worksheet'!$B$32)^('Salary Calculations'!A41-'Salary Worksheet'!$B$10)))","v":{"$error":"#N/A"}},{"$error":"#N/A"},{"$f":"'Salary Worksheet'!$B$12*'Salary Calculations'!J41","v":{"$error":"#N/A"}},{"$f":"IF(H41>'Salary Worksheet'!$B$18,'Salary Worksheet'!$B$18*'Salary Worksheet'!$B$17,'Salary Worksheet'!$B$17*'Salary Calculations'!H41)","v":{"$error":"#N/A"}},{"$f":"'Salary Worksheet'!$B$19*'Salary Calculations'!H41+IF('Salary Worksheet'!$B$21=\"Single\",('Salary Calculations'!H41-200000)*'Salary Worksheet'!$B$20,IF('Salary Worksheet'!$B$21=\"Married-Joint\",('Salary Calculations'!H41-250000)*'Salary Worksheet'!$B$20,IF('Salary Worksheet'!$B$21=\"Married-Separate\",('Salary Calculations'!H41-125000)*'Salary Worksheet'!$B$20)))","v":{"$error":"#N/A"}},{"$f":"IF('Salary Worksheet'!$B$29=\"Yes\",'Salary Worksheet'!$B$13*SUM(H41:I41),'Salary Worksheet'!$B$13*'Salary Calculations'!H41)","v":{"$error":"#N/A"}},{"$f":"IF('Salary Worksheet'!$B$29=\"Yes\",'Salary Worksheet'!$B$14*SUM('Salary Calculations'!H41:I41),'Salary Worksheet'!$B$13*'Salary Calculations'!H41)","v":{"$error":"#N/A"}},{"$error":"#N/A"},{"$f":"IF(ISERROR(A41),NA(),Q40*(1+'Salary Worksheet'!$B$31))","v":{"$error":"#N/A"}},{"$error":"#N/A"}]
[{"$f":"IF(A41<'Salary Worksheet'!$B$9,A41+1,NA())","v":{"$error":"#N/A"}},{"$f":"IF('Salary Worksheet'!$B$33=\"Yes\",IF(ISERROR(A42),NA(),F41+R41),IF(ISERROR(A42),NA(),F41))","v":{"$error":"#N/A"}},{"$f":"IF(ISERROR(A42),NA(),'Salary Worksheet'!$B$22)","v":{"$error":"#N/A"}},{"$f":"'Salary Worksheet'!$B$15*'Salary Calculations'!B42","v":{"$error":"#N/A"}},{"$f":"'Salary Worksheet'!$B$16*'Salary Calculations'!B42","v":{"$error":"#N/A"}},{"$error":"#N/A"},{"$f":"IF(ISERROR(A42),NA(),G41*(1+'Salary Worksheet'!$B$32))","v":{"$error":"#N/A"}},{"$f":"IF(ISERROR(A42),NA(),H41*(1+'Salary Worksheet'!$B$32))","v":{"$error":"#N/A"}},{"$f":"IF('Salary Calculations'!A42<'Salary Worksheet'!$B$10,0,('Salary Worksheet'!$B$27*(1+'Salary Worksheet'!$B$32)^('Salary Calculations'!A42-'Salary Worksheet'!$B$10)))","v":{"$error":"#N/A"}},{"$error":"#N/A"},{"$f":"'Salary Worksheet'!$B$12*'Salary Calculations'!J42","v":{"$error":"#N/A"}},{"$f":"IF(H42>'Salary Worksheet'!$B$18,'Salary Worksheet'!$B$18*'Salary Worksheet'!$B$17,'Salary Worksheet'!$B$17*'Salary Calculations'!H42)","v":{"$error":"#N/A"}},{"$f":"'Salary Worksheet'!$B$19*'Salary Calculations'!H42+IF('Salary Worksheet'!$B$21=\"Single\",('Salary Calculations'!H42-200000)*'Salary Worksheet'!$B$20,IF('Salary Worksheet'!$B$21=\"Married-Joint\",('Salary Calculations'!H42-250000)*'Salary Worksheet'!$B$20,IF('Salary Worksheet'!$B$21=\"Married-Separate\",('Salary Calculations'!H42-125000)*'Salary Worksheet'!$B$20)))","v":{"$error":"#N/A"}},{"$f":"IF('Salary Worksheet'!$B$29=\"Yes\",'Salary Worksheet'!$B$13*SUM(H42:I42),'Salary Worksheet'!$B$13*'Salary Calculations'!H42)","v":{"$error":"#N/A"}},{"$f":"IF('Salary Worksheet'!$B$29=\"Yes\",'Salary Worksheet'!$B$14*SUM('Salary Calculations'!H42:I42),'Salary Worksheet'!$B$13*'Salary Calculations'!H42)","v":{"$error":"#N/A"}},{"$error":"#N/A"},{"$f":"IF(ISERROR(A42),NA(),Q41*(1+'Salary Worksheet'!$B$31))","v":{"$error":"#N/A"}},{"$error":"#N/A"}]
[{"$f":"IF(A42<'Salary Worksheet'!$B$9,A42+1,NA())","v":{"$error":"#N/A"}},{"$f":"IF('Salary Worksheet'!$B$33=\"Yes\",IF(ISERROR(A43),NA(),F42+R42),IF(ISERROR(A43),NA(),F42))","v":{"$error":"#N/A"}},{"$f":"IF(ISERROR(A43),NA(),'Salary Worksheet'!$B$22)","v":{"$error":"#N/A"}},{"$f":"'Salary Worksheet'!$B$15*'Salary Calculations'!B43","v":{"$error":"#N/A"}},{"$f":"'Salary Worksheet'!$B$16*'Salary Calculations'!B43","v":{"$error":"#N/A"}},{"$error":"#N/A"},{"$f":"IF(ISERROR(A43),NA(),G42*(1+'Salary Worksheet'!$B$32))","v":{"$error":"#N/A"}},{"$f":"IF(ISERROR(A43),NA(),H42*(1+'Salary Worksheet'!$B$32))","v":{"$error":"#N/A"}},{"$f":"IF('Salary Calculations'!A43<'Salary Worksheet'!$B$10,0,('Salary Worksheet'!$B$27*(1+'Salary Worksheet'!$B$32)^('Salary Calculations'!A43-'Salary Worksheet'!$B$10)))","v":{"$error":"#N/A"}},{"$error":"#N/A"},{"$f":"'Salary Worksheet'!$B$12*'Salary Calculations'!J43","v":{"$error":"#N/A"}},{"$f":"IF(H43>'Salary Worksheet'!$B$18,'Salary Worksheet'!$B$18*'Salary Worksheet'!$B$17,'Salary Worksheet'!$B$17*'Salary Calculations'!H43)","v":{"$error":"#N/A"}},{"$f":"'Salary Worksheet'!$B$19*'Salary Calculations'!H43+IF('Salary Worksheet'!$B$21=\"Single\",('Salary Calculations'!H43-200000)*'Salary Worksheet'!$B$20,IF('Salary Worksheet'!$B$21=\"Married-Joint\",('Salary Calculations'!H43-250000)*'Salary Worksheet'!$B$20,IF('Salary Worksheet'!$B$21=\"Married-Separate\",('Salary Calculations'!H43-125000)*'Salary Worksheet'!$B$20)))","v":{"$error":"#N/A"}},{"$f":"IF('Salary Worksheet'!$B$29=\"Yes\",'Salary Worksheet'!$B$13*SUM(H43:I43),'Salary Worksheet'!$B$13*'Salary Calculations'!H43)","v":{"$error":"#N/A"}},{"$f":"IF('Salary Worksheet'!$B$29=\"Yes\",'Salary Worksheet'!$B$14*SUM('Salary Calculations'!H43:I43),'Salary Worksheet'!$B$13*'Salary Calculations'!H43)","v":{"$error":"#N/A"}},{"$error":"#N/A"},{"$f":"IF(ISERROR(A43),NA(),Q42*(1+'Salary Worksheet'!$B$31))","v":{"$error":"#N/A"}},{"$error":"#N/A"}]
[{"$f":"IF(A43<'Salary Worksheet'!$B$9,A43+1,NA())","v":{"$error":"#N/A"}},{"$f":"IF('Salary Worksheet'!$B$33=\"Yes\",IF(ISERROR(A44),NA(),F43+R43),IF(ISERROR(A44),NA(),F43))","v":{"$error":"#N/A"}},{"$f":"IF(ISERROR(A44),NA(),'Salary Worksheet'!$B$22)","v":{"$error":"#N/A"}},{"$f":"'Salary Worksheet'!$B$15*'Salary Calculations'!B44","v":{"$error":"#N/A"}},{"$f":"'Salary Worksheet'!$B$16*'Salary Calculations'!B44","v":{"$error":"#N/A"}},{"$error":"#N/A"},{"$f":"IF(ISERROR(A44),NA(),G43*(1+'Salary Worksheet'!$B$32))","v":{"$error":"#N/A"}},{"$f":"IF(ISERROR(A44),NA(),H43*(1+'Salary Worksheet'!$B$32))","v":{"$error":"#N/A"}},{"$f":"IF('Salary Calculations'!A44<'Salary Worksheet'!$B$10,0,('Salary Worksheet'!$B$27*(1+'Salary Worksheet'!$B$32)^('Salary Calculations'!A44-'Salary Worksheet'!$B$10)))","v":{"$error":"#N/A"}},{"$error":"#N/A"},{"$f":"'Salary Worksheet'!$B$12*'Salary Calculations'!J44","v":{"$error":"#N/A"}},{"$f":"IF(H44>'Salary Worksheet'!$B$18,'Salary Worksheet'!$B$18*'Salary Worksheet'!$B$17,'Salary Worksheet'!$B$17*'Salary Calculations'!H44)","v":{"$error":"#N/A"}},{"$f":"'Salary Worksheet'!$B$19*'Salary Calculations'!H44+IF('Salary Worksheet'!$B$21=\"Single\",('Salary Calculations'!H44-200000)*'Salary Worksheet'!$B$20,IF('Salary Worksheet'!$B$21=\"Married-Joint\",('Salary Calculations'!H44-250000)*'Salary Worksheet'!$B$20,IF('Salary Worksheet'!$B$21=\"Married-Separate\",('Salary Calculations'!H44-125000)*'Salary Worksheet'!$B$20)))","v":{"$error":"#N/A"}},{"$f":"IF('Salary Worksheet'!$B$29=\"Yes\",'Salary Worksheet'!$B$13*SUM(H44:I44),'Salary Worksheet'!$B$13*'Salary Calculations'!H44)","v":{"$error":"#N/A"}},{"$f":"IF('Salary Worksheet'!$B$29=\"Yes\",'Salary Worksheet'!$B$14*SUM('Salary Calculations'!H44:I44),'Salary Worksheet'!$B$13*'Salary Calculations'!H44)","v":{"$error":"#N/A"}},{"$error":"#N/A"},{"$f":"IF(ISERROR(A44),NA(),Q43*(1+'Salary Worksheet'!$B$31))","v":{"$error":"#N/A"}},{"$error":"#N/A"}]
[{"$f":"IF(A44<'Salary Worksheet'!$B$9,A44+1,NA())","v":{"$error":"#N/A"}},{"$f":"IF('Salary Worksheet'!$B$33=\"Yes\",IF(ISERROR(A45),NA(),F44+R44),IF(ISERROR(A45),NA(),F44))","v":{"$error":"#N/A"}},{"$f":"IF(ISERROR(A45),NA(),'Salary Worksheet'!$B$22)","v":{"$error":"#N/A"}},{"$f":"'Salary Worksheet'!$B$15*'Salary Calculations'!B45","v":{"$error":"#N/A"}},{"$f":"'Salary Worksheet'!$B$16*'Salary Calculations'!B45","v":{"$error":"#N/A"}},{"$error":"#N/A"},{"$f":"IF(ISERROR(A45),NA(),G44*(1+'Salary Worksheet'!$B$32))","v":{"$error":"#N/A"}},{"$f":"IF(ISERROR(A45),NA(),H44*(1+'Salary Worksheet'!$B$32))","v":{"$error":"#N/A"}},{"$f":"IF('Salary Calculations'!A45<'Salary Worksheet'!$B$10,0,('Salary Worksheet'!$B$27*(1+'Salary Worksheet'!$B$32)^('Salary Calculations'!A45-'Salary Worksheet'!$B$10)))","v":{"$error":"#N/A"}},{"$error":"#N/A"},{"$f":"'Salary Worksheet'!$B$12*'Salary Calculations'!J45","v":{"$error":"#N/A"}},{"$f":"IF(H45>'Salary Worksheet'!$B$18,'Salary Worksheet'!$B$18*'Salary Worksheet'!$B$17,'Salary Worksheet'!$B$17*'Salary Calculations'!H45)","v":{"$error":"#N/A"}},{"$f":"'Salary Worksheet'!$B$19*'Salary Calculations'!H45+IF('Salary Worksheet'!$B$21=\"Single\",('Salary Calculations'!H45-200000)*'Salary Worksheet'!$B$20,IF('Salary Worksheet'!$B$21=\"Married-Joint\",('Salary Calculations'!H45-250000)*'Salary Worksheet'!$B$20,IF('Salary Worksheet'!$B$21=\"Married-Separate\",('Salary Calculations'!H45-125000)*'Salary Worksheet'!$B$20)))","v":{"$error":"#N/A"}},{"$f":"IF('Salary Worksheet'!$B$29=\"Yes\",'Salary Worksheet'!$B$13*SUM(H45:I45),'Salary Worksheet'!$B$13*'Salary Calculations'!H45)","v":{"$error":"#N/A"}},{"$f":"IF('Salary Worksheet'!$B$29=\"Yes\",'Salary Worksheet'!$B$14*SUM('Salary Calculations'!H45:I45),'Salary Worksheet'!$B$13*'Salary Calculations'!H45)","v":{"$error":"#N/A"}},{"$error":"#N/A"},{"$f":"IF(ISERROR(A45),NA(),Q44*(1+'Salary Worksheet'!$B$31))","v":{"$error":"#N/A"}},{"$error":"#N/A"}]
[{"$f":"IF(A45<'Salary Worksheet'!$B$9,A45+1,NA())","v":{"$error":"#N/A"}},{"$f":"IF('Salary Worksheet'!$B$33=\"Yes\",IF(ISERROR(A46),NA(),F45+R45),IF(ISERROR(A46),NA(),F45))","v":{"$error":"#N/A"}},{"$f":"IF(ISERROR(A46),NA(),'Salary Worksheet'!$B$22)","v":{"$error":"#N/A"}},{"$f":"'Salary Worksheet'!$B$15*'Salary Calculations'!B46","v":{"$error":"#N/A"}},{"$f":"'Salary Worksheet'!$B$16*'Salary Calculations'!B46","v":{"$error":"#N/A"}},{"$error":"#N/A"},{"$f":"IF(ISERROR(A46),NA(),G45*(1+'Salary Worksheet'!$B$32))","v":{"$error":"#N/A"}},{"$f":"IF(ISERROR(A46),NA(),H45*(1+'Salary Worksheet'!$B$32))","v":{"$error":"#N/A"}},{"$f":"IF('Salary Calculations'!A46<'Salary Worksheet'!$B$10,0,('Salary Worksheet'!$B$27*(1+'Salary Worksheet'!$B$32)^('Salary Calculations'!A46-'Salary Worksheet'!$B$10)))","v":{"$error":"#N/A"}},{"$error":"#N/A"},{"$f":"'Salary Worksheet'!$B$12*'Salary Calculations'!J46","v":{"$error":"#N/A"}},{"$f":"IF(H46>'Salary Worksheet'!$B$18,'Salary Worksheet'!$B$18*'Salary Worksheet'!$B$17,'Salary Worksheet'!$B$17*'Salary Calculations'!H46)","v":{"$error":"#N/A"}},{"$f":"'Salary Worksheet'!$B$19*'Salary Calculations'!H46+IF('Salary Worksheet'!$B$21=\"Single\",('Salary Calculations'!H46-200000)*'Salary Worksheet'!$B$20,IF('Salary Worksheet'!$B$21=\"Married-Joint\",('Salary Calculations'!H46-250000)*'Salary Worksheet'!$B$20,IF('Salary Worksheet'!$B$21=\"Married-Separate\",('Salary Calculations'!H46-125000)*'Salary Worksheet'!$B$20)))","v":{"$error":"#N/A"}},{"$f":"IF('Salary Worksheet'!$B$29=\"Yes\",'Salary Worksheet'!$B$13*SUM(H46:I46),'Salary Worksheet'!$B$13*'Salary Calculations'!H46)","v":{"$error":"#N/A"}},{"$f":"IF('Salary Worksheet'!$B$29=\"Yes\",'Salary Worksheet'!$B$14*SUM('Salary Calculations'!H46:I46),'Salary Worksheet'!$B$13*'Salary Calculations'!H46)","v":{"$error":"#N/A"}},{"$error":"#N/A"},{"$f":"IF(ISERROR(A46),NA(),Q45*(1+'Salary Worksheet'!$B$31))","v":{"$error":"#N/A"}},{"$error":"#N/A"}]
[{"$f":"IF(A46<'Salary Worksheet'!$B$9,A46+1,NA())","v":{"$error":"#N/A"}},{"$f":"IF('Salary Worksheet'!$B$33=\"Yes\",IF(ISERROR(A47),NA(),F46+R46),IF(ISERROR(A47),NA(),F46))","v":{"$error":"#N/A"}},{"$f":"IF(ISERROR(A47),NA(),'Salary Worksheet'!$B$22)","v":{"$error":"#N/A"}},{"$f":"'Salary Worksheet'!$B$15*'Salary Calculations'!B47","v":{"$error":"#N/A"}},{"$f":"'Salary Worksheet'!$B$16*'Salary Calculations'!B47","v":{"$error":"#N/A"}},{"$error":"#N/A"},{"$f":"IF(ISERROR(A47),NA(),G46*(1+'Salary Worksheet'!$B$32))","v":{"$error":"#N/A"}},{"$f":"IF(ISERROR(A47),NA(),H46*(1+'Salary Worksheet'!$B$32))","v":{"$error":"#N/A"}},{"$f":"IF('Salary Calculations'!A47<'Salary Worksheet'!$B$10,0,('Salary Worksheet'!$B$27*(1+'Salary Worksheet'!$B$32)^('Salary Calculations'!A47-'Salary Worksheet'!$B$10)))","v":{"$error":"#N/A"}},{"$error":"#N/A"},{"$f":"'Salary Worksheet'!$B$12*'Salary Calculations'!J47","v":{"$error":"#N/A"}},{"$f":"IF(H47>'Salary Worksheet'!$B$18,'Salary Worksheet'!$B$18*'Salary Worksheet'!$B$17,'Salary Worksheet'!$B$17*'Salary Calculations'!H47)","v":{"$error":"#N/A"}},{"$f":"'Salary Worksheet'!$B$19*'Salary Calculations'!H47+IF('Salary Worksheet'!$B$21=\"Single\",('Salary Calculations'!H47-200000)*'Salary Worksheet'!$B$20,IF('Salary Worksheet'!$B$21=\"Married-Joint\",('Salary Calculations'!H47-250000)*'Salary Worksheet'!$B$20,IF('Salary Worksheet'!$B$21=\"Married-Separate\",('Salary Calculations'!H47-125000)*'Salary Worksheet'!$B$20)))","v":{"$error":"#N/A"}},{"$f":"IF('Salary Worksheet'!$B$29=\"Yes\",'Salary Worksheet'!$B$13*SUM(H47:I47),'Salary Worksheet'!$B$13*'Salary Calculations'!H47)","v":{"$error":"#N/A"}},{"$f":"IF('Salary Worksheet'!$B$29=\"Yes\",'Salary Worksheet'!$B$14*SUM('Salary Calculations'!H47:I47),'Salary Worksheet'!$B$13*'Salary Calculations'!H47)","v":{"$error":"#N/A"}},{"$error":"#N/A"},{"$f":"IF(ISERROR(A47),NA(),Q46*(1+'Salary Worksheet'!$B$31))","v":{"$error":"#N/A"}},{"$error":"#N/A"}]
[{"$f":"IF(A47<'Salary Worksheet'!$B$9,A47+1,NA())","v":{"$error":"#N/A"}},{"$f":"IF('Salary Worksheet'!$B$33=\"Yes\",IF(ISERROR(A48),NA(),F47+R47),IF(ISERROR(A48),NA(),F47))","v":{"$error":"#N/A"}},{"$f":"IF(ISERROR(A48),NA(),'Salary Worksheet'!$B$22)","v":{"$error":"#N/A"}},{"$f":"'Salary Worksheet'!$B$15*'Salary Calculations'!B48","v":{"$error":"#N/A"}},{"$f":"'Salary Worksheet'!$B$16*'Salary Calculations'!B48","v":{"$error":"#N/A"}},{"$error":"#N/A"},{"$f":"IF(ISERROR(A48),NA(),G47*(1+'Salary Worksheet'!$B$32))","v":{"$error":"#N/A"}},{"$f":"IF(ISERROR(A48),NA(),H47*(1+'Salary Worksheet'!$B$32))","v":{"$error":"#N/A"}},{"$f":"IF('Salary Calculations'!A48<'Salary Worksheet'!$B$10,0,('Salary Worksheet'!$B$27*(1+'Salary Worksheet'!$B$32)^('Salary Calculations'!A48-'Salary Worksheet'!$B$10)))","v":{"$error":"#N/A"}},{"$error":"#N/A"},{"$f":"'Salary Worksheet'!$B$12*'Salary Calculations'!J48","v":{"$error":"#N/A"}},{"$f":"IF(H48>'Salary Worksheet'!$B$18,'Salary Worksheet'!$B$18*'Salary Worksheet'!$B$17,'Salary Worksheet'!$B$17*'Salary Calculations'!H48)","v":{"$error":"#N/A"}},{"$f":"'Salary Worksheet'!$B$19*'Salary Calculations'!H48+IF('Salary Worksheet'!$B$21=\"Single\",('Salary Calculations'!H48-200000)*'Salary Worksheet'!$B$20,IF('Salary Worksheet'!$B$21=\"Married-Joint\",('Salary Calculations'!H48-250000)*'Salary Worksheet'!$B$20,IF('Salary Worksheet'!$B$21=\"Married-Separate\",('Salary Calculations'!H48-125000)*'Salary Worksheet'!$B$20)))","v":{"$error":"#N/A"}},{"$f":"IF('Salary Worksheet'!$B$29=\"Yes\",'Salary Worksheet'!$B$13*SUM(H48:I48),'Salary Worksheet'!$B$13*'Salary Calculations'!H48)","v":{"$error":"#N/A"}},{"$f":"IF('Salary Worksheet'!$B$29=\"Yes\",'Salary Worksheet'!$B$14*SUM('Salary Calculations'!H48:I48),'Salary Worksheet'!$B$13*'Salary Calculations'!H48)","v":{"$error":"#N/A"}},{"$error":"#N/A"},{"$f":"IF(ISERROR(A48),NA(),Q47*(1+'Salary Worksheet'!$B$31))","v":{"$error":"#N/A"}},{"$error":"#N/A"}]
[{"$f":"IF(A48<'Salary Worksheet'!$B$9,A48+1,NA())","v":{"$error":"#N/A"}},{"$f":"IF('Salary Worksheet'!$B$33=\"Yes\",IF(ISERROR(A49),NA(),F48+R48),IF(ISERROR(A49),NA(),F48))","v":{"$error":"#N/A"}},{"$f":"IF(ISERROR(A49),NA(),'Salary Worksheet'!$B$22)","v":{"$error":"#N/A"}},{"$f":"'Salary Worksheet'!$B$15*'Salary Calculations'!B49","v":{"$error":"#N/A"}},{"$f":"'Salary Worksheet'!$B$16*'Salary Calculations'!B49","v":{"$error":"#N/A"}},{"$error":"#N/A"},{"$f":"IF(ISERROR(A49),NA(),G48*(1+'Salary Worksheet'!$B$32))","v":{"$error":"#N/A"}},{"$f":"IF(ISERROR(A49),NA(),H48*(1+'Salary Worksheet'!$B$32))","v":{"$error":"#N/A"}},{"$f":"IF('Salary Calculations'!A49<'Salary Worksheet'!$B$10,0,('Salary Worksheet'!$B$27*(1+'Salary Worksheet'!$B$32)^('Salary Calculations'!A49-'Salary Worksheet'!$B$10)))","v":{"$error":"#N/A"}},{"$error":"#N/A"},{"$f":"'Salary Worksheet'!$B$12*'Salary Calculations'!J49","v":{"$error":"#N/A"}},{"$f":"IF(H49>'Salary Worksheet'!$B$18,'Salary Worksheet'!$B$18*'Salary Worksheet'!$B$17,'Salary Worksheet'!$B$17*'Salary Calculations'!H49)","v":{"$error":"#N/A"}},{"$f":"'Salary Worksheet'!$B$19*'Salary Calculations'!H49+IF('Salary Worksheet'!$B$21=\"Single\",('Salary Calculations'!H49-200000)*'Salary Worksheet'!$B$20,IF('Salary Worksheet'!$B$21=\"Married-Joint\",('Salary Calculations'!H49-250000)*'Salary Worksheet'!$B$20,IF('Salary Worksheet'!$B$21=\"Married-Separate\",('Salary Calculations'!H49-125000)*'Salary Worksheet'!$B$20)))","v":{"$error":"#N/A"}},{"$f":"IF('Salary Worksheet'!$B$29=\"Yes\",'Salary Worksheet'!$B$13*SUM(H49:I49),'Salary Worksheet'!$B$13*'Salary Calculations'!H49)","v":{"$error":"#N/A"}},{"$f":"IF('Salary Worksheet'!$B$29=\"Yes\",'Salary Worksheet'!$B$14*SUM('Salary Calculations'!H49:I49),'Salary Worksheet'!$B$13*'Salary Calculations'!H49)","v":{"$error":"#N/A"}},{"$error":"#N/A"},{"$f":"IF(ISERROR(A49),NA(),Q48*(1+'Salary Worksheet'!$B$31))","v":{"$error":"#N/A"}},{"$error":"#N/A"}]
[{"$f":"IF(A49<'Salary Worksheet'!$B$9,A49+1,NA())","v":{"$error":"#N/A"}},{"$f":"IF('Salary Worksheet'!$B$33=\"Yes\",IF(ISERROR(A50),NA(),F49+R49),IF(ISERROR(A50),NA(),F49))","v":{"$error":"#N/A"}},{"$f":"IF(ISERROR(A50),NA(),'Salary Worksheet'!$B$22)","v":{"$error":"#N/A"}},{"$f":"'Salary Worksheet'!$B$15*'Salary Calculations'!B50","v":{"$error":"#N/A"}},{"$f":"'Salary Worksheet'!$B$16*'Salary Calculations'!B50","v":{"$error":"#N/A"}},{"$error":"#N/A"},{"$f":"IF(ISERROR(A50),NA(),G49*(1+'Salary Worksheet'!$B$32))","v":{"$error":"#N/A"}},{"$f":"IF(ISERROR(A50),NA(),H49*(1+'Salary Worksheet'!$B$32))","v":{"$error":"#N/A"}},{"$f":"IF('Salary Calculations'!A50<'Salary Worksheet'!$B$10,0,('Salary Worksheet'!$B$27*(1+'Salary Worksheet'!$B$32)^('Salary Calculations'!A50-'Salary Worksheet'!$B$10)))","v":{"$error":"#N/A"}},{"$error":"#N/A"},{"$f":"'Salary Worksheet'!$B$12*'Salary Calculations'!J50","v":{"$error":"#N/A"}},{"$f":"IF(H50>'Salary Worksheet'!$B$18,'Salary Worksheet'!$B$18*'Salary Worksheet'!$B$17,'Salary Worksheet'!$B$17*'Salary Calculations'!H50)","v":{"$error":"#N/A"}},{"$f":"'Salary Worksheet'!$B$19*'Salary Calculations'!H50+IF('Salary Worksheet'!$B$21=\"Single\",('Salary Calculations'!H50-200000)*'Salary Worksheet'!$B$20,IF('Salary Worksheet'!$B$21=\"Married-Joint\",('Salary Calculations'!H50-250000)*'Salary Worksheet'!$B$20,IF('Salary Worksheet'!$B$21=\"Married-Separate\",('Salary Calculations'!H50-125000)*'Salary Worksheet'!$B$20)))","v":{"$error":"#N/A"}},{"$f":"IF('Salary Worksheet'!$B$29=\"Yes\",'Salary Worksheet'!$B$13*SUM(H50:I50),'Salary Worksheet'!$B$13*'Salary Calculations'!H50)","v":{"$error":"#N/A"}},{"$f":"IF('Salary Worksheet'!$B$29=\"Yes\",'Salary Worksheet'!$B$14*SUM('Salary Calculations'!H50:I50),'Salary Worksheet'!$B$13*'Salary Calculations'!H50)","v":{"$error":"#N/A"}},{"$error":"#N/A"},{"$f":"IF(ISERROR(A50),NA(),Q49*(1+'Salary Worksheet'!$B$31))","v":{"$error":"#N/A"}},{"$error":"#N/A"}]
[{"$f":"IF(A50<'Salary Worksheet'!$B$9,A50+1,NA())","v":{"$error":"#N/A"}},{"$f":"IF('Salary Worksheet'!$B$33=\"Yes\",IF(ISERROR(A51),NA(),F50+R50),IF(ISERROR(A51),NA(),F50))","v":{"$error":"#N/A"}},{"$f":"IF(ISERROR(A51),NA(),'Salary Worksheet'!$B$22)","v":{"$error":"#N/A"}},{"$f":"'Salary Worksheet'!$B$15*'Salary Calculations'!B51","v":{"$error":"#N/A"}},{"$f":"'Salary Worksheet'!$B$16*'Salary Calculations'!B51","v":{"$error":"#N/A"}},{"$error":"#N/A"},{"$f":"IF(ISERROR(A51),NA(),G50*(1+'Salary Worksheet'!$B$32))","v":{"$error":"#N/A"}},{"$f":"IF(ISERROR(A51),NA(),H50*(1+'Salary Worksheet'!$B$32))","v":{"$error":"#N/A"}},{"$f":"IF('Salary Calculations'!A51<'Salary Worksheet'!$B$10,0,('Salary Worksheet'!$B$27*(1+'Salary Worksheet'!$B$32)^('Salary Calculations'!A51-'Salary Worksheet'!$B$10)))","v":{"$error":"#N/A"}},{"$error":"#N/A"},{"$f":"'Salary Worksheet'!$B$12*'Salary Calculations'!J51","v":{"$error":"#N/A"}},{"$f":"IF(H51>'Salary Worksheet'!$B$18,'Salary Worksheet'!$B$18*'Salary Worksheet'!$B$17,'Salary Worksheet'!$B$17*'Salary Calculations'!H51)","v":{"$error":"#N/A"}},{"$f":"'Salary Worksheet'!$B$19*'Salary Calculations'!H51+IF('Salary Worksheet'!$B$21=\"Single\",('Salary Calculations'!H51-200000)*'Salary Worksheet'!$B$20,IF('Salary Worksheet'!$B$21=\"Married-Joint\",('Salary Calculations'!H51-250000)*'Salary Worksheet'!$B$20,IF('Salary Worksheet'!$B$21=\"Married-Separate\",('Salary Calculations'!H51-125000)*'Salary Worksheet'!$B$20)))","v":{"$error":"#N/A"}},{"$f":"IF('Salary Worksheet'!$B$29=\"Yes\",'Salary Worksheet'!$B$13*SUM(H51:I51),'Salary Worksheet'!$B$13*'Salary Calculations'!H51)","v":{"$error":"#N/A"}},{"$f":"IF('Salary Worksheet'!$B$29=\"Yes\",'Salary Worksheet'!$B$14*SUM('Salary Calculations'!H51:I51),'Salary Worksheet'!$B$13*'Salary Calculations'!H51)","v":{"$error":"#N/A"}},{"$error":"#N/A"},{"$f":"IF(ISERROR(A51),NA(),Q50*(1+'Salary Worksheet'!$B$31))","v":{"$error":"#N/A"}},{"$error":"#N/A"}]
[{"$f":"IF(A51<'Salary Worksheet'!$B$9,A51+1,NA())","v":{"$error":"#N/A"}},{"$f":"IF('Salary Worksheet'!$B$33=\"Yes\",IF(ISERROR(A52),NA(),F51+R51),IF(ISERROR(A52),NA(),F51))","v":{"$error":"#N/A"}},{"$f":"IF(ISERROR(A52),NA(),'Salary Worksheet'!$B$22)","v":{"$error":"#N/A"}},{"$f":"'Salary Worksheet'!$B$15*'Salary Calculations'!B52","v":{"$error":"#N/A"}},{"$f":"'Salary Worksheet'!$B$16*'Salary Calculations'!B52","v":{"$error":"#N/A"}},{"$error":"#N/A"},{"$f":"IF(ISERROR(A52),NA(),G51*(1+'Salary Worksheet'!$B$32))","v":{"$error":"#N/A"}},{"$f":"IF(ISERROR(A52),NA(),H51*(1+'Salary Worksheet'!$B$32))","v":{"$error":"#N/A"}},{"$f":"IF('Salary Calculations'!A52<'Salary Worksheet'!$B$10,0,('Salary Worksheet'!$B$27*(1+'Salary Worksheet'!$B$32)^('Salary Calculations'!A52-'Salary Worksheet'!$B$10)))","v":{"$error":"#N/A"}},{"$error":"#N/A"},{"$f":"'Salary Worksheet'!$B$12*'Salary Calculations'!J52","v":{"$error":"#N/A"}},{"$f":"IF(H52>'Salary Worksheet'!$B$18,'Salary Worksheet'!$B$18*'Salary Worksheet'!$B$17,'Salary Worksheet'!$B$17*'Salary Calculations'!H52)","v":{"$error":"#N/A"}},{"$f":"'Salary Worksheet'!$B$19*'Salary Calculations'!H52+IF('Salary Worksheet'!$B$21=\"Single\",('Salary Calculations'!H52-200000)*'Salary Worksheet'!$B$20,IF('Salary Worksheet'!$B$21=\"Married-Joint\",('Salary Calculations'!H52-250000)*'Salary Worksheet'!$B$20,IF('Salary Worksheet'!$B$21=\"Married-Separate\",('Salary Calculations'!H52-125000)*'Salary Worksheet'!$B$20)))","v":{"$error":"#N/A"}},{"$f":"IF('Salary Worksheet'!$B$29=\"Yes\",'Salary Worksheet'!$B$13*SUM(H52:I52),'Salary Worksheet'!$B$13*'Salary Calculations'!H52)","v":{"$error":"#N/A"}},{"$f":"IF('Salary Worksheet'!$B$29=\"Yes\",'Salary Worksheet'!$B$14*SUM('Salary Calculations'!H52:I52),'Salary Worksheet'!$B$13*'Salary Calculations'!H52)","v":{"$error":"#N/A"}},{"$error":"#N/A"},{"$f":"IF(ISERROR(A52),NA(),Q51*(1+'Salary Worksheet'!$B$31))","v":{"$error":"#N/A"}},{"$error":"#N/A"}]
[{"$f":"IF(A52<'Salary Worksheet'!$B$9,A52+1,NA())","v":{"$error":"#N/A"}},{"$f":"IF('Salary Worksheet'!$B$33=\"Yes\",IF(ISERROR(A53),NA(),F52+R52),IF(ISERROR(A53),NA(),F52))","v":{"$error":"#N/A"}},{"$f":"IF(ISERROR(A53),NA(),'Salary Worksheet'!$B$22)","v":{"$error":"#N/A"}},{"$f":"'Salary Worksheet'!$B$15*'Salary Calculations'!B53","v":{"$error":"#N/A"}},{"$f":"'Salary Worksheet'!$B$16*'Salary Calculations'!B53","v":{"$error":"#N/A"}},{"$error":"#N/A"},{"$f":"IF(ISERROR(A53),NA(),G52*(1+'Salary Worksheet'!$B$32))","v":{"$error":"#N/A"}},{"$f":"IF(ISERROR(A53),NA(),H52*(1+'Salary Worksheet'!$B$32))","v":{"$error":"#N/A"}},{"$f":"IF('Salary Calculations'!A53<'Salary Worksheet'!$B$10,0,('Salary Worksheet'!$B$27*(1+'Salary Worksheet'!$B$32)^('Salary Calculations'!A53-'Salary Worksheet'!$B$10)))","v":{"$error":"#N/A"}},{"$error":"#N/A"},{"$f":"'Salary Worksheet'!$B$12*'Salary Calculations'!J53","v":{"$error":"#N/A"}},{"$f":"IF(H53>'Salary Worksheet'!$B$18,'Salary Worksheet'!$B$18*'Salary Worksheet'!$B$17,'Salary Worksheet'!$B$17*'Salary Calculations'!H53)","v":{"$error":"#N/A"}},{"$f":"'Salary Worksheet'!$B$19*'Salary Calculations'!H53+IF('Salary Worksheet'!$B$21=\"Single\",('Salary Calculations'!H53-200000)*'Salary Worksheet'!$B$20,IF('Salary Worksheet'!$B$21=\"Married-Joint\",('Salary Calculations'!H53-250000)*'Salary Worksheet'!$B$20,IF('Salary Worksheet'!$B$21=\"Married-Separate\",('Salary Calculations'!H53-125000)*'Salary Worksheet'!$B$20)))","v":{"$error":"#N/A"}},{"$f":"IF('Salary Worksheet'!$B$29=\"Yes\",'Salary Worksheet'!$B$13*SUM(H53:I53),'Salary Worksheet'!$B$13*'Salary Calculations'!H53)","v":{"$error":"#N/A"}},{"$f":"IF('Salary Worksheet'!$B$29=\"Yes\",'Salary Worksheet'!$B$14*SUM('Salary Calculations'!H53:I53),'Salary Worksheet'!$B$13*'Salary Calculations'!H53)","v":{"$error":"#N/A"}},{"$error":"#N/A"},{"$f":"IF(ISERROR(A53),NA(),Q52*(1+'Salary Worksheet'!$B$31))","v":{"$error":"#N/A"}},{"$error":"#N/A"}]
[{"$f":"IF(A53<'Salary Worksheet'!$B$9,A53+1,NA())","v":{"$error":"#N/A"}},{"$f":"IF('Salary Worksheet'!$B$33=\"Yes\",IF(ISERROR(A54),NA(),F53+R53),IF(ISERROR(A54),NA(),F53))","v":{"$error":"#N/A"}},{"$f":"IF(ISERROR(A54),NA(),'Salary Worksheet'!$B$22)","v":{"$error":"#N/A"}},{"$f":"'Salary Worksheet'!$B$15*'Salary Calculations'!B54","v":{"$error":"#N/A"}},{"$f":"'Salary Worksheet'!$B$16*'Salary Calculations'!B54","v":{"$error":"#N/A"}},{"$error":"#N/A"},{"$f":"IF(ISERROR(A54),NA(),G53*(1+'Salary Worksheet'!$B$32))","v":{"$error":"#N/A"}},{"$f":"IF(ISERROR(A54),NA(),H53*(1+'Salary Worksheet'!$B$32))","v":{"$error":"#N/A"}},{"$f":"IF('Salary Calculations'!A54<'Salary Worksheet'!$B$10,0,('Salary Worksheet'!$B$27*(1+'Salary Worksheet'!$B$32)^('Salary Calculations'!A54-'Salary Worksheet'!$B$10)))","v":{"$error":"#N/A"}},{"$error":"#N/A"},{"$f":"'Salary Worksheet'!$B$12*'Salary Calculations'!J54","v":{"$error":"#N/A"}},{"$f":"IF(H54>'Salary Worksheet'!$B$18,'Salary Worksheet'!$B$18*'Salary Worksheet'!$B$17,'Salary Worksheet'!$B$17*'Salary Calculations'!H54)","v":{"$error":"#N/A"}},{"$f":"'Salary Worksheet'!$B$19*'Salary Calculations'!H54+IF('Salary Worksheet'!$B$21=\"Single\",('Salary Calculations'!H54-200000)*'Salary Worksheet'!$B$20,IF('Salary Worksheet'!$B$21=\"Married-Joint\",('Salary Calculations'!H54-250000)*'Salary Worksheet'!$B$20,IF('Salary Worksheet'!$B$21=\"Married-Separate\",('Salary Calculations'!H54-125000)*'Salary Worksheet'!$B$20)))","v":{"$error":"#N/A"}},{"$f":"IF('Salary Worksheet'!$B$29=\"Yes\",'Salary Worksheet'!$B$13*SUM(H54:I54),'Salary Worksheet'!$B$13*'Salary Calculations'!H54)","v":{"$error":"#N/A"}},{"$f":"IF('Salary Worksheet'!$B$29=\"Yes\",'Salary Worksheet'!$B$14*SUM('Salary Calculations'!H54:I54),'Salary Worksheet'!$B$13*'Salary Calculations'!H54)","v":{"$error":"#N/A"}},{"$error":"#N/A"},{"$f":"IF(ISERROR(A54),NA(),Q53*(1+'Salary Worksheet'!$B$31))","v":{"$error":"#N/A"}},{"$error":"#N/A"}]
[{"$f":"IF(A54<'Salary Worksheet'!$B$9,A54+1,NA())","v":{"$error":"#N/A"}},{"$f":"IF('Salary Worksheet'!$B$33=\"Yes\",IF(ISERROR(A55),NA(),F54+R54),IF(ISERROR(A55),NA(),F54))","v":{"$error":"#N/A"}},{"$f":"IF(ISERROR(A55),NA(),'Salary Worksheet'!$B$22)","v":{"$error":"#N/A"}},{"$f":"'Salary Worksheet'!$B$15*'Salary Calculations'!B55","v":{"$error":"#N/A"}},{"$f":"'Salary Worksheet'!$B$16*'Salary Calculations'!B55","v":{"$error":"#N/A"}},{"$error":"#N/A"},{"$f":"IF(ISERROR(A55),NA(),G54*(1+'Salary Worksheet'!$B$32))","v":{"$error":"#N/A"}},{"$f":"IF(ISERROR(A55),NA(),H54*(1+'Salary Worksheet'!$B$32))","v":{"$error":"#N/A"}},{"$f":"IF('Salary Calculations'!A55<'Salary Worksheet'!$B$10,0,('Salary Worksheet'!$B$27*(1+'Salary Worksheet'!$B$32)^('Salary Calculations'!A55-'Salary Worksheet'!$B$10)))","v":{"$error":"#N/A"}},{"$error":"#N/A"},{"$f":"'Salary Worksheet'!$B$12*'Salary Calculations'!J55","v":{"$error":"#N/A"}},{"$f":"IF(H55>'Salary Worksheet'!$B$18,'Salary Worksheet'!$B$18*'Salary Worksheet'!$B$17,'Salary Worksheet'!$B$17*'Salary Calculations'!H55)","v":{"$error":"#N/A"}},{"$f":"'Salary Worksheet'!$B$19*'Salary Calculations'!H55+IF('Salary Worksheet'!$B$21=\"Single\",('Salary Calculations'!H55-200000)*'Salary Worksheet'!$B$20,IF('Salary Worksheet'!$B$21=\"Married-Joint\",('Salary Calculations'!H55-250000)*'Salary Worksheet'!$B$20,IF('Salary Worksheet'!$B$21=\"Married-Separate\",('Salary Calculations'!H55-125000)*'Salary Worksheet'!$B$20)))","v":{"$error":"#N/A"}},{"$f":"IF('Salary Worksheet'!$B$29=\"Yes\",'Salary Worksheet'!$B$13*SUM(H55:I55),'Salary Worksheet'!$B$13*'Salary Calculations'!H55)","v":{"$error":"#N/A"}},{"$f":"IF('Salary Worksheet'!$B$29=\"Yes\",'Salary Worksheet'!$B$14*SUM('Salary Calculations'!H55:I55),'Salary Worksheet'!$B$13*'Salary Calculations'!H55)","v":{"$error":"#N/A"}},{"$error":"#N/A"},{"$f":"IF(ISERROR(A55),NA(),Q54*(1+'Salary Worksheet'!$B$31))","v":{"$error":"#N/A"}},{"$error":"#N/A"}]
[{"$f":"IF(A55<'Salary Worksheet'!$B$9,A55+1,NA())","v":{"$error":"#N/A"}},{"$f":"IF('Salary Worksheet'!$B$33=\"Yes\",IF(ISERROR(A56),NA(),F55+R55),IF(ISERROR(A56),NA(),F55))","v":{"$error":"#N/A"}},{"$f":"IF(ISERROR(A56),NA(),'Salary Worksheet'!$B$22)","v":{"$error":"#N/A"}},{"$f":"'Salary Worksheet'!$B$15*'Salary Calculations'!B56","v":{"$error":"#N/A"}},{"$f":"'Salary Worksheet'!$B$16*'Salary Calculations'!B56","v":{"$error":"#N/A"}},{"$error":"#N/A"},{"$f":"IF(ISERROR(A56),NA(),G55*(1+'Salary Worksheet'!$B$32))","v":{"$error":"#N/A"}},{"$f":"IF(ISERROR(A56),NA(),H55*(1+'Salary Worksheet'!$B$32))","v":{"$error":"#N/A"}},{"$f":"IF('Salary Calculations'!A56<'Salary Worksheet'!$B$10,0,('Salary Worksheet'!$B$27*(1+'Salary Worksheet'!$B$32)^('Salary Calculations'!A56-'Salary Worksheet'!$B$10)))","v":{"$error":"#N/A"}},{"$error":"#N/A"},{"$f":"'Salary Worksheet'!$B$12*'Salary Calculations'!J56","v":{"$error":"#N/A"}},{"$f":"IF(H56>'Salary Worksheet'!$B$18,'Salary Worksheet'!$B$18*'Salary Worksheet'!$B$17,'Salary Worksheet'!$B$17*'Salary Calculations'!H56)","v":{"$error":"#N/A"}},{"$f":"'Salary Worksheet'!$B$19*'Salary Calculations'!H56+IF('Salary Worksheet'!$B$21=\"Single\",('Salary Calculations'!H56-200000)*'Salary Worksheet'!$B$20,IF('Salary Worksheet'!$B$21=\"Married-Joint\",('Salary Calculations'!H56-250000)*'Salary Worksheet'!$B$20,IF('Salary Worksheet'!$B$21=\"Married-Separate\",('Salary Calculations'!H56-125000)*'Salary Worksheet'!$B$20)))","v":{"$error":"#N/A"}},{"$f":"IF('Salary Worksheet'!$B$29=\"Yes\",'Salary Worksheet'!$B$13*SUM(H56:I56),'Salary Worksheet'!$B$13*'Salary Calculations'!H56)","v":{"$error":"#N/A"}},{"$f":"IF('Salary Worksheet'!$B$29=\"Yes\",'Salary Worksheet'!$B$14*SUM('Salary Calculations'!H56:I56),'Salary Worksheet'!$B$13*'Salary Calculations'!H56)","v":{"$error":"#N/A"}},{"$error":"#N/A"},{"$f":"IF(ISERROR(A56),NA(),Q55*(1+'Salary Worksheet'!$B$31))","v":{"$error":"#N/A"}},{"$error":"#N/A"}]
[{"$f":"IF(A56<'Salary Worksheet'!$B$9,A56+1,NA())","v":{"$error":"#N/A"}},{"$f":"IF('Salary Worksheet'!$B$33=\"Yes\",IF(ISERROR(A57),NA(),F56+R56),IF(ISERROR(A57),NA(),F56))","v":{"$error":"#N/A"}},{"$f":"IF(ISERROR(A57),NA(),'Salary Worksheet'!$B$22)","v":{"$error":"#N/A"}},{"$f":"'Salary Worksheet'!$B$15*'Salary Calculations'!B57","v":{"$error":"#N/A"}},{"$f":"'Salary Worksheet'!$B$16*'Salary Calculations'!B57","v":{"$error":"#N/A"}},{"$error":"#N/A"},{"$f":"IF(ISERROR(A57),NA(),G56*(1+'Salary Worksheet'!$B$32))","v":{"$error":"#N/A"}},{"$f":"IF(ISERROR(A57),NA(),H56*(1+'Salary Worksheet'!$B$32))","v":{"$error":"#N/A"}},{"$f":"IF('Salary Calculations'!A57<'Salary Worksheet'!$B$10,0,('Salary Worksheet'!$B$27*(1+'Salary Worksheet'!$B$32)^('Salary Calculations'!A57-'Salary Worksheet'!$B$10)))","v":{"$error":"#N/A"}},{"$error":"#N/A"},{"$f":"'Salary Worksheet'!$B$12*'Salary Calculations'!J57","v":{"$error":"#N/A"}},{"$f":"IF(H57>'Salary Worksheet'!$B$18,'Salary Worksheet'!$B$18*'Salary Worksheet'!$B$17,'Salary Worksheet'!$B$17*'Salary Calculations'!H57)","v":{"$error":"#N/A"}},{"$f":"'Salary Worksheet'!$B$19*'Salary Calculations'!H57+IF('Salary Worksheet'!$B$21=\"Single\",('Salary Calculations'!H57-200000)*'Salary Worksheet'!$B$20,IF('Salary Worksheet'!$B$21=\"Married-Joint\",('Salary Calculations'!H57-250000)*'Salary Worksheet'!$B$20,IF('Salary Worksheet'!$B$21=\"Married-Separate\",('Salary Calculations'!H57-125000)*'Salary Worksheet'!$B$20)))","v":{"$error":"#N/A"}},{"$f":"IF('Salary Worksheet'!$B$29=\"Yes\",'Salary Worksheet'!$B$13*SUM(H57:I57),'Salary Worksheet'!$B$13*'Salary Calculations'!H57)","v":{"$error":"#N/A"}},{"$f":"IF('Salary Worksheet'!$B$29=\"Yes\",'Salary Worksheet'!$B$14*SUM('Salary Calculations'!H57:I57),'Salary Worksheet'!$B$13*'Salary Calculations'!H57)","v":{"$error":"#N/A"}},{"$error":"#N/A"},{"$f":"IF(ISERROR(A57),NA(),Q56*(1+'Salary Worksheet'!$B$31))","v":{"$error":"#N/A"}},{"$error":"#N/A"}]
[{"$f":"IF(A57<'Salary Worksheet'!$B$9,A57+1,NA())","v":{"$error":"#N/A"}},{"$f":"IF('Salary Worksheet'!$B$33=\"Yes\",IF(ISERROR(A58),NA(),F57+R57),IF(ISERROR(A58),NA(),F57))","v":{"$error":"#N/A"}},{"$f":"IF(ISERROR(A58),NA(),'Salary Worksheet'!$B$22)","v":{"$error":"#N/A"}},{"$f":"'Salary Worksheet'!$B$15*'Salary Calculations'!B58","v":{"$error":"#N/A"}},{"$f":"'Salary Worksheet'!$B$16*'Salary Calculations'!B58","v":{"$error":"#N/A"}},{"$error":"#N/A"},{"$f":"IF(ISERROR(A58),NA(),G57*(1+'Salary Worksheet'!$B$32))","v":{"$error":"#N/A"}},{"$f":"IF(ISERROR(A58),NA(),H57*(1+'Salary Worksheet'!$B$32))","v":{"$error":"#N/A"}},{"$f":"IF('Salary Calculations'!A58<'Salary Worksheet'!$B$10,0,('Salary Worksheet'!$B$27*(1+'Salary Worksheet'!$B$32)^('Salary Calculations'!A58-'Salary Worksheet'!$B$10)))","v":{"$error":"#N/A"}},{"$error":"#N/A"},{"$f":"'Salary Worksheet'!$B$12*'Salary Calculations'!J58","v":{"$error":"#N/A"}},{"$f":"IF(H58>'Salary Worksheet'!$B$18,'Salary Worksheet'!$B$18*'Salary Worksheet'!$B$17,'Salary Worksheet'!$B$17*'Salary Calculations'!H58)","v":{"$error":"#N/A"}},{"$f":"'Salary Worksheet'!$B$19*'Salary Calculations'!H58+IF('Salary Worksheet'!$B$21=\"Single\",('Salary Calculations'!H58-200000)*'Salary Worksheet'!$B$20,IF('Salary Worksheet'!$B$21=\"Married-Joint\",('Salary Calculations'!H58-250000)*'Salary Worksheet'!$B$20,IF('Salary Worksheet'!$B$21=\"Married-Separate\",('Salary Calculations'!H58-125000)*'Salary Worksheet'!$B$20)))","v":{"$error":"#N/A"}},{"$f":"IF('Salary Worksheet'!$B$29=\"Yes\",'Salary Worksheet'!$B$13*SUM(H58:I58),'Salary Worksheet'!$B$13*'Salary Calculations'!H58)","v":{"$error":"#N/A"}},{"$f":"IF('Salary Worksheet'!$B$29=\"Yes\",'Salary Worksheet'!$B$14*SUM('Salary Calculations'!H58:I58),'Salary Worksheet'!$B$13*'Salary Calculations'!H58)","v":{"$error":"#N/A"}},{"$error":"#N/A"},{"$f":"IF(ISERROR(A58),NA(),Q57*(1+'Salary Worksheet'!$B$31))","v":{"$error":"#N/A"}},{"$error":"#N/A"}]
[{"$f":"IF(A58<'Salary Worksheet'!$B$9,A58+1,NA())","v":{"$error":"#N/A"}},{"$f":"IF('Salary Worksheet'!$B$33=\"Yes\",IF(ISERROR(A59),NA(),F58+R58),IF(ISERROR(A59),NA(),F58))","v":{"$error":"#N/A"}},{"$f":"IF(ISERROR(A59),NA(),'Salary Worksheet'!$B$22)","v":{"$error":"#N/A"}},{"$f":"'Salary Worksheet'!$B$15*'Salary Calculations'!B59","v":{"$error":"#N/A"}},{"$f":"'Salary Worksheet'!$B$16*'Salary Calculations'!B59","v":{"$error":"#N/A"}},{"$error":"#N/A"},{"$f":"IF(ISERROR(A59),NA(),G58*(1+'Salary Worksheet'!$B$32))","v":{"$error":"#N/A"}},{"$f":"IF(ISERROR(A59),NA(),H58*(1+'Salary Worksheet'!$B$32))","v":{"$error":"#N/A"}},{"$f":"IF('Salary Calculations'!A59<'Salary Worksheet'!$B$10,0,('Salary Worksheet'!$B$27*(1+'Salary Worksheet'!$B$32)^('Salary Calculations'!A59-'Salary Worksheet'!$B$10)))","v":{"$error":"#N/A"}},{"$error":"#N/A"},{"$f":"'Salary Worksheet'!$B$12*'Salary Calculations'!J59","v":{"$error":"#N/A"}},{"$f":"IF(H59>'Salary Worksheet'!$B$18,'Salary Worksheet'!$B$18*'Salary Worksheet'!$B$17,'Salary Worksheet'!$B$17*'Salary Calculations'!H59)","v":{"$error":"#N/A"}},{"$f":"'Salary Worksheet'!$B$19*'Salary Calculations'!H59+IF('Salary Worksheet'!$B$21=\"Single\",('Salary Calculations'!H59-200000)*'Salary Worksheet'!$B$20,IF('Salary Worksheet'!$B$21=\"Married-Joint\",('Salary Calculations'!H59-250000)*'Salary Worksheet'!$B$20,IF('Salary Worksheet'!$B$21=\"Married-Separate\",('Salary Calculations'!H59-125000)*'Salary Worksheet'!$B$20)))","v":{"$error":"#N/A"}},{"$f":"IF('Salary Worksheet'!$B$29=\"Yes\",'Salary Worksheet'!$B$13*SUM(H59:I59),'Salary Worksheet'!$B$13*'Salary Calculations'!H59)","v":{"$error":"#N/A"}},{"$f":"IF('Salary Worksheet'!$B$29=\"Yes\",'Salary Worksheet'!$B$14*SUM('Salary Calculations'!H59:I59),'Salary Worksheet'!$B$13*'Salary Calculations'!H59)","v":{"$error":"#N/A"}},{"$error":"#N/A"},{"$f":"IF(ISERROR(A59),NA(),Q58*(1+'Salary Worksheet'!$B$31))","v":{"$error":"#N/A"}},{"$error":"#N/A"}]
[{"$f":"IF(A59<'Salary Worksheet'!$B$9,A59+1,NA())","v":{"$error":"#N/A"}},{"$f":"IF('Salary Worksheet'!$B$33=\"Yes\",IF(ISERROR(A60),NA(),F59+R59),IF(ISERROR(A60),NA(),F59))","v":{"$error":"#N/A"}},{"$f":"IF(ISERROR(A60),NA(),'Salary Worksheet'!$B$22)","v":{"$error":"#N/A"}},{"$f":"'Salary Worksheet'!$B$15*'Salary Calculations'!B60","v":{"$error":"#N/A"}},{"$f":"'Salary Worksheet'!$B$16*'Salary Calculations'!B60","v":{"$error":"#N/A"}},{"$error":"#N/A"},{"$f":"IF(ISERROR(A60),NA(),G59*(1+'Salary Worksheet'!$B$32))","v":{"$error":"#N/A"}},{"$f":"IF(ISERROR(A60),NA(),H59*(1+'Salary Worksheet'!$B$32))","v":{"$error":"#N/A"}},{"$f":"IF('Salary Calculations'!A60<'Salary Worksheet'!$B$10,0,('Salary Worksheet'!$B$27*(1+'Salary Worksheet'!$B$32)^('Salary Calculations'!A60-'Salary Worksheet'!$B$10)))","v":{"$error":"#N/A"}},{"$error":"#N/A"},{"$f":"'Salary Worksheet'!$B$12*'Salary Calculations'!J60","v":{"$error":"#N/A"}},{"$f":"IF(H60>'Salary Worksheet'!$B$18,'Salary Worksheet'!$B$18*'Salary Worksheet'!$B$17,'Salary Worksheet'!$B$17*'Salary Calculations'!H60)","v":{"$error":"#N/A"}},{"$f":"'Salary Worksheet'!$B$19*'Salary Calculations'!H60+IF('Salary Worksheet'!$B$21=\"Single\",('Salary Calculations'!H60-200000)*'Salary Worksheet'!$B$20,IF('Salary Worksheet'!$B$21=\"Married-Joint\",('Salary Calculations'!H60-250000)*'Salary Worksheet'!$B$20,IF('Salary Worksheet'!$B$21=\"Married-Separate\",('Salary Calculations'!H60-125000)*'Salary Worksheet'!$B$20)))","v":{"$error":"#N/A"}},{"$f":"IF('Salary Worksheet'!$B$29=\"Yes\",'Salary Worksheet'!$B$13*SUM(H60:I60),'Salary Worksheet'!$B$13*'Salary Calculations'!H60)","v":{"$error":"#N/A"}},{"$f":"IF('Salary Worksheet'!$B$29=\"Yes\",'Salary Worksheet'!$B$14*SUM('Salary Calculations'!H60:I60),'Salary Worksheet'!$B$13*'Salary Calculations'!H60)","v":{"$error":"#N/A"}},{"$error":"#N/A"},{"$f":"IF(ISERROR(A60),NA(),Q59*(1+'Salary Worksheet'!$B$31))","v":{"$error":"#N/A"}},{"$error":"#N/A"}]
[{"$f":"IF(A60<'Salary Worksheet'!$B$9,A60+1,NA())","v":{"$error":"#N/A"}},{"$f":"IF('Salary Worksheet'!$B$33=\"Yes\",IF(ISERROR(A61),NA(),F60+R60),IF(ISERROR(A61),NA(),F60))","v":{"$error":"#N/A"}},{"$f":"IF(ISERROR(A61),NA(),'Salary Worksheet'!$B$22)","v":{"$error":"#N/A"}},{"$f":"'Salary Worksheet'!$B$15*'Salary Calculations'!B61","v":{"$error":"#N/A"}},{"$f":"'Salary Worksheet'!$B$16*'Salary Calculations'!B61","v":{"$error":"#N/A"}},{"$error":"#N/A"},{"$f":"IF(ISERROR(A61),NA(),G60*(1+'Salary Worksheet'!$B$32))","v":{"$error":"#N/A"}},{"$f":"IF(ISERROR(A61),NA(),H60*(1+'Salary Worksheet'!$B$32))","v":{"$error":"#N/A"}},{"$f":"IF('Salary Calculations'!A61<'Salary Worksheet'!$B$10,0,('Salary Worksheet'!$B$27*(1+'Salary Worksheet'!$B$32)^('Salary Calculations'!A61-'Salary Worksheet'!$B$10)))","v":{"$error":"#N/A"}},{"$error":"#N/A"},{"$f":"'Salary Worksheet'!$B$12*'Salary Calculations'!J61","v":{"$error":"#N/A"}},{"$f":"IF(H61>'Salary Worksheet'!$B$18,'Salary Worksheet'!$B$18*'Salary Worksheet'!$B$17,'Salary Worksheet'!$B$17*'Salary Calculations'!H61)","v":{"$error":"#N/A"}},{"$f":"'Salary Worksheet'!$B$19*'Salary Calculations'!H61+IF('Salary Worksheet'!$B$21=\"Single\",('Salary Calculations'!H61-200000)*'Salary Worksheet'!$B$20,IF('Salary Worksheet'!$B$21=\"Married-Joint\",('Salary Calculations'!H61-250000)*'Salary Worksheet'!$B$20,IF('Salary Worksheet'!$B$21=\"Married-Separate\",('Salary Calculations'!H61-125000)*'Salary Worksheet'!$B$20)))","v":{"$error":"#N/A"}},{"$f":"IF('Salary Worksheet'!$B$29=\"Yes\",'Salary Worksheet'!$B$13*SUM(H61:I61),'Salary Worksheet'!$B$13*'Salary Calculations'!H61)","v":{"$error":"#N/A"}},{"$f":"IF('Salary Worksheet'!$B$29=\"Yes\",'Salary Worksheet'!$B$14*SUM('Salary Calculations'!H61:I61),'Salary Worksheet'!$B$13*'Salary Calculations'!H61)","v":{"$error":"#N/A"}},{"$error":"#N/A"},{"$f":"IF(ISERROR(A61),NA(),Q60*(1+'Salary Worksheet'!$B$31))","v":{"$error":"#N/A"}},{"$error":"#N/A"}]
[{"$f":"IF(A61<'Salary Worksheet'!$B$9,A61+1,NA())","v":{"$error":"#N/A"}},{"$f":"IF('Salary Worksheet'!$B$33=\"Yes\",IF(ISERROR(A62),NA(),F61+R61),IF(ISERROR(A62),NA(),F61))","v":{"$error":"#N/A"}},{"$f":"IF(ISERROR(A62),NA(),'Salary Worksheet'!$B$22)","v":{"$error":"#N/A"}},{"$f":"'Salary Worksheet'!$B$15*'Salary Calculations'!B62","v":{"$error":"#N/A"}},{"$f":"'Salary Worksheet'!$B$16*'Salary Calculations'!B62","v":{"$error":"#N/A"}},{"$error":"#N/A"},{"$f":"IF(ISERROR(A62),NA(),G61*(1+'Salary Worksheet'!$B$32))","v":{"$error":"#N/A"}},{"$f":"IF(ISERROR(A62),NA(),H61*(1+'Salary Worksheet'!$B$32))","v":{"$error":"#N/A"}},{"$f":"IF('Salary Calculations'!A62<'Salary Worksheet'!$B$10,0,('Salary Worksheet'!$B$27*(1+'Salary Worksheet'!$B$32)^('Salary Calculations'!A62-'Salary Worksheet'!$B$10)))","v":{"$error":"#N/A"}},{"$error":"#N/A"},{"$f":"'Salary Worksheet'!$B$12*'Salary Calculations'!J62","v":{"$error":"#N/A"}},{"$f":"IF(H62>'Salary Worksheet'!$B$18,'Salary Worksheet'!$B$18*'Salary Worksheet'!$B$17,'Salary Worksheet'!$B$17*'Salary Calculations'!H62)","v":{"$error":"#N/A"}},{"$f":"'Salary Worksheet'!$B$19*'Salary Calculations'!H62+IF('Salary Worksheet'!$B$21=\"Single\",('Salary Calculations'!H62-200000)*'Salary Worksheet'!$B$20,IF('Salary Worksheet'!$B$21=\"Married-Joint\",('Salary Calculations'!H62-250000)*'Salary Worksheet'!$B$20,IF('Salary Worksheet'!$B$21=\"Married-Separate\",('Salary Calculations'!H62-125000)*'Salary Worksheet'!$B$20)))","v":{"$error":"#N/A"}},{"$f":"IF('Salary Worksheet'!$B$29=\"Yes\",'Salary Worksheet'!$B$13*SUM(H62:I62),'Salary Worksheet'!$B$13*'Salary Calculations'!H62)","v":{"$error":"#N/A"}},{"$f":"IF('Salary Worksheet'!$B$29=\"Yes\",'Salary Worksheet'!$B$14*SUM('Salary Calculations'!H62:I62),'Salary Worksheet'!$B$13*'Salary Calculations'!H62)","v":{"$error":"#N/A"}},{"$error":"#N/A"},{"$f":"IF(ISERROR(A62),NA(),Q61*(1+'Salary Worksheet'!$B$31))","v":{"$error":"#N/A"}},{"$error":"#N/A"}]
[{"$f":"IF(A62<'Salary Worksheet'!$B$9,A62+1,NA())","v":{"$error":"#N/A"}},{"$f":"IF('Salary Worksheet'!$B$33=\"Yes\",IF(ISERROR(A63),NA(),F62+R62),IF(ISERROR(A63),NA(),F62))","v":{"$error":"#N/A"}},{"$f":"IF(ISERROR(A63),NA(),'Salary Worksheet'!$B$22)","v":{"$error":"#N/A"}},{"$f":"'Salary Worksheet'!$B$15*'Salary Calculations'!B63","v":{"$error":"#N/A"}},{"$f":"'Salary Worksheet'!$B$16*'Salary Calculations'!B63","v":{"$error":"#N/A"}},{"$error":"#N/A"},{"$f":"IF(ISERROR(A63),NA(),G62*(1+'Salary Worksheet'!$B$32))","v":{"$error":"#N/A"}},{"$f":"IF(ISERROR(A63),NA(),H62*(1+'Salary Worksheet'!$B$32))","v":{"$error":"#N/A"}},{"$f":"IF('Salary Calculations'!A63<'Salary Worksheet'!$B$10,0,('Salary Worksheet'!$B$27*(1+'Salary Worksheet'!$B$32)^('Salary Calculations'!A63-'Salary Worksheet'!$B$10)))","v":{"$error":"#N/A"}},{"$error":"#N/A"},{"$f":"'Salary Worksheet'!$B$12*'Salary Calculations'!J63","v":{"$error":"#N/A"}},{"$f":"IF(H63>'Salary Worksheet'!$B$18,'Salary Worksheet'!$B$18*'Salary Worksheet'!$B$17,'Salary Worksheet'!$B$17*'Salary Calculations'!H63)","v":{"$error":"#N/A"}},{"$f":"'Salary Worksheet'!$B$19*'Salary Calculations'!H63+IF('Salary Worksheet'!$B$21=\"Single\",('Salary Calculations'!H63-200000)*'Salary Worksheet'!$B$20,IF('Salary Worksheet'!$B$21=\"Married-Joint\",('Salary Calculations'!H63-250000)*'Salary Worksheet'!$B$20,IF('Salary Worksheet'!$B$21=\"Married-Separate\",('Salary Calculations'!H63-125000)*'Salary Worksheet'!$B$20)))","v":{"$error":"#N/A"}},{"$f":"IF('Salary Worksheet'!$B$29=\"Yes\",'Salary Worksheet'!$B$13*SUM(H63:I63),'Salary Worksheet'!$B$13*'Salary Calculations'!H63)","v":{"$error":"#N/A"}},{"$f":"IF('Salary Worksheet'!$B$29=\"Yes\",'Salary Worksheet'!$B$14*SUM('Salary Calculations'!H63:I63),'Salary Worksheet'!$B$13*'Salary Calculations'!H63)","v":{"$error":"#N/A"}},{"$error":"#N/A"},{"$f":"IF(ISERROR(A63),NA(),Q62*(1+'Salary Worksheet'!$B$31))","v":{"$error":"#N/A"}},{"$error":"#N/A"}]
[{"$f":"IF(A63<'Salary Worksheet'!$B$9,A63+1,NA())","v":{"$error":"#N/A"}},{"$f":"IF('Salary Worksheet'!$B$33=\"Yes\",IF(ISERROR(A64),NA(),F63+R63),IF(ISERROR(A64),NA(),F63))","v":{"$error":"#N/A"}},{"$f":"IF(ISERROR(A64),NA(),'Salary Worksheet'!$B$22)","v":{"$error":"#N/A"}},{"$f":"'Salary Worksheet'!$B$15*'Salary Calculations'!B64","v":{"$error":"#N/A"}},{"$f":"'Salary Worksheet'!$B$16*'Salary Calculations'!B64","v":{"$error":"#N/A"}},{"$error":"#N/A"},{"$f":"IF(ISERROR(A64),NA(),G63*(1+'Salary Worksheet'!$B$32))","v":{"$error":"#N/A"}},{"$f":"IF(ISERROR(A64),NA(),H63*(1+'Salary Worksheet'!$B$32))","v":{"$error":"#N/A"}},{"$f":"IF('Salary Calculations'!A64<'Salary Worksheet'!$B$10,0,('Salary Worksheet'!$B$27*(1+'Salary Worksheet'!$B$32)^('Salary Calculations'!A64-'Salary Worksheet'!$B$10)))","v":{"$error":"#N/A"}},{"$error":"#N/A"},{"$f":"'Salary Worksheet'!$B$12*'Salary Calculations'!J64","v":{"$error":"#N/A"}},{"$f":"IF(H64>'Salary Worksheet'!$B$18,'Salary Worksheet'!$B$18*'Salary Worksheet'!$B$17,'Salary Worksheet'!$B$17*'Salary Calculations'!H64)","v":{"$error":"#N/A"}},{"$f":"'Salary Worksheet'!$B$19*'Salary Calculations'!H64+IF('Salary Worksheet'!$B$21=\"Single\",('Salary Calculations'!H64-200000)*'Salary Worksheet'!$B$20,IF('Salary Worksheet'!$B$21=\"Married-Joint\",('Salary Calculations'!H64-250000)*'Salary Worksheet'!$B$20,IF('Salary Worksheet'!$B$21=\"Married-Separate\",('Salary Calculations'!H64-125000)*'Salary Worksheet'!$B$20)))","v":{"$error":"#N/A"}},{"$f":"IF('Salary Worksheet'!$B$29=\"Yes\",'Salary Worksheet'!$B$13*SUM(H64:I64),'Salary Worksheet'!$B$13*'Salary Calculations'!H64)","v":{"$error":"#N/A"}},{"$f":"IF('Salary Worksheet'!$B$29=\"Yes\",'Salary Worksheet'!$B$14*SUM('Salary Calculations'!H64:I64),'Salary Worksheet'!$B$13*'Salary Calculations'!H64)","v":{"$error":"#N/A"}},{"$error":"#N/A"},{"$f":"IF(ISERROR(A64),NA(),Q63*(1+'Salary Worksheet'!$B$31))","v":{"$error":"#N/A"}},{"$error":"#N/A"}]
[{"$f":"IF(A64<'Salary Worksheet'!$B$9,A64+1,NA())","v":{"$error":"#N/A"}},{"$f":"IF('Salary Worksheet'!$B$33=\"Yes\",IF(ISERROR(A65),NA(),F64+R64),IF(ISERROR(A65),NA(),F64))","v":{"$error":"#N/A"}},{"$f":"IF(ISERROR(A65),NA(),'Salary Worksheet'!$B$22)","v":{"$error":"#N/A"}},{"$f":"'Salary Worksheet'!$B$15*'Salary Calculations'!B65","v":{"$error":"#N/A"}},{"$f":"'Salary Worksheet'!$B$16*'Salary Calculations'!B65","v":{"$error":"#N/A"}},{"$error":"#N/A"},{"$f":"IF(ISERROR(A65),NA(),G64*(1+'Salary Worksheet'!$B$32))","v":{"$error":"#N/A"}},{"$f":"IF(ISERROR(A65),NA(),H64*(1+'Salary Worksheet'!$B$32))","v":{"$error":"#N/A"}},{"$f":"IF('Salary Calculations'!A65<'Salary Worksheet'!$B$10,0,('Salary Worksheet'!$B$27*(1+'Salary Worksheet'!$B$32)^('Salary Calculations'!A65-'Salary Worksheet'!$B$10)))","v":{"$error":"#N/A"}},{"$error":"#N/A"},{"$f":"'Salary Worksheet'!$B$12*'Salary Calculations'!J65","v":{"$error":"#N/A"}},{"$f":"IF(H65>'Salary Worksheet'!$B$18,'Salary Worksheet'!$B$18*'Salary Worksheet'!$B$17,'Salary Worksheet'!$B$17*'Salary Calculations'!H65)","v":{"$error":"#N/A"}},{"$f":"'Salary Worksheet'!$B$19*'Salary Calculations'!H65+IF('Salary Worksheet'!$B$21=\"Single\",('Salary Calculations'!H65-200000)*'Salary Worksheet'!$B$20,IF('Salary Worksheet'!$B$21=\"Married-Joint\",('Salary Calculations'!H65-250000)*'Salary Worksheet'!$B$20,IF('Salary Worksheet'!$B$21=\"Married-Separate\",('Salary Calculations'!H65-125000)*'Salary Worksheet'!$B$20)))","v":{"$error":"#N/A"}},{"$f":"IF('Salary Worksheet'!$B$29=\"Yes\",'Salary Worksheet'!$B$13*SUM(H65:I65),'Salary Worksheet'!$B$13*'Salary Calculations'!H65)","v":{"$error":"#N/A"}},{"$f":"IF('Salary Worksheet'!$B$29=\"Yes\",'Salary Worksheet'!$B$14*SUM('Salary Calculations'!H65:I65),'Salary Worksheet'!$B$13*'Salary Calculations'!H65)","v":{"$error":"#N/A"}},{"$error":"#N/A"},{"$f":"IF(ISERROR(A65),NA(),Q64*(1+'Salary Worksheet'!$B$31))","v":{"$error":"#N/A"}},{"$error":"#N/A"}]
[{"$f":"IF(A65<'Salary Worksheet'!$B$9,A65+1,NA())","v":{"$error":"#N/A"}},{"$f":"IF('Salary Worksheet'!$B$33=\"Yes\",IF(ISERROR(A66),NA(),F65+R65),IF(ISERROR(A66),NA(),F65))","v":{"$error":"#N/A"}},{"$f":"IF(ISERROR(A66),NA(),'Salary Worksheet'!$B$22)","v":{"$error":"#N/A"}},{"$f":"'Salary Worksheet'!$B$15*'Salary Calculations'!B66","v":{"$error":"#N/A"}},{"$f":"'Salary Worksheet'!$B$16*'Salary Calculations'!B66","v":{"$error":"#N/A"}},{"$error":"#N/A"},{"$f":"IF(ISERROR(A66),NA(),G65*(1+'Salary Worksheet'!$B$32))","v":{"$error":"#N/A"}},{"$f":"IF(ISERROR(A66),NA(),H65*(1+'Salary Worksheet'!$B$32))","v":{"$error":"#N/A"}},{"$f":"IF('Salary Calculations'!A66<'Salary Worksheet'!$B$10,0,('Salary Worksheet'!$B$27*(1+'Salary Worksheet'!$B$32)^('Salary Calculations'!A66-'Salary Worksheet'!$B$10)))","v":{"$error":"#N/A"}},{"$error":"#N/A"},{"$f":"'Salary Worksheet'!$B$12*'Salary Calculations'!J66","v":{"$error":"#N/A"}},{"$f":"IF(H66>'Salary Worksheet'!$B$18,'Salary Worksheet'!$B$18*'Salary Worksheet'!$B$17,'Salary Worksheet'!$B$17*'Salary Calculations'!H66)","v":{"$error":"#N/A"}},{"$f":"'Salary Worksheet'!$B$19*'Salary Calculations'!H66+IF('Salary Worksheet'!$B$21=\"Single\",('Salary Calculations'!H66-200000)*'Salary Worksheet'!$B$20,IF('Salary Worksheet'!$B$21=\"Married-Joint\",('Salary Calculations'!H66-250000)*'Salary Worksheet'!$B$20,IF('Salary Worksheet'!$B$21=\"Married-Separate\",('Salary Calculations'!H66-125000)*'Salary Worksheet'!$B$20)))","v":{"$error":"#N/A"}},{"$f":"IF('Salary Worksheet'!$B$29=\"Yes\",'Salary Worksheet'!$B$13*SUM(H66:I66),'Salary Worksheet'!$B$13*'Salary Calculations'!H66)","v":{"$error":"#N/A"}},{"$f":"IF('Salary Worksheet'!$B$29=\"Yes\",'Salary Worksheet'!$B$14*SUM('Salary Calculations'!H66:I66),'Salary Worksheet'!$B$13*'Salary Calculations'!H66)","v":{"$error":"#N/A"}},{"$error":"#N/A"},{"$f":"IF(ISERROR(A66),NA(),Q65*(1+'Salary Worksheet'!$B$31))","v":{"$error":"#N/A"}},{"$error":"#N/A"}]
[{"$f":"IF(A66<'Salary Worksheet'!$B$9,A66+1,NA())","v":{"$error":"#N/A"}},{"$f":"IF('Salary Worksheet'!$B$33=\"Yes\",IF(ISERROR(A67),NA(),F66+R66),IF(ISERROR(A67),NA(),F66))","v":{"$error":"#N/A"}},{"$f":"IF(ISERROR(A67),NA(),'Salary Worksheet'!$B$22)","v":{"$error":"#N/A"}},{"$f":"'Salary Worksheet'!$B$15*'Salary Calculations'!B67","v":{"$error":"#N/A"}},{"$f":"'Salary Worksheet'!$B$16*'Salary Calculations'!B67","v":{"$error":"#N/A"}},{"$error":"#N/A"},{"$f":"IF(ISERROR(A67),NA(),G66*(1+'Salary Worksheet'!$B$32))","v":{"$error":"#N/A"}},{"$f":"IF(ISERROR(A67),NA(),H66*(1+'Salary Worksheet'!$B$32))","v":{"$error":"#N/A"}},{"$f":"IF('Salary Calculations'!A67<'Salary Worksheet'!$B$10,0,('Salary Worksheet'!$B$27*(1+'Salary Worksheet'!$B$32)^('Salary Calculations'!A67-'Salary Worksheet'!$B$10)))","v":{"$error":"#N/A"}},{"$error":"#N/A"},{"$f":"'Salary Worksheet'!$B$12*'Salary Calculations'!J67","v":{"$error":"#N/A"}},{"$f":"IF(H67>'Salary Worksheet'!$B$18,'Salary Worksheet'!$B$18*'Salary Worksheet'!$B$17,'Salary Worksheet'!$B$17*'Salary Calculations'!H67)","v":{"$error":"#N/A"}},{"$f":"'Salary Worksheet'!$B$19*'Salary Calculations'!H67+IF('Salary Worksheet'!$B$21=\"Single\",('Salary Calculations'!H67-200000)*'Salary Worksheet'!$B$20,IF('Salary Worksheet'!$B$21=\"Married-Joint\",('Salary Calculations'!H67-250000)*'Salary Worksheet'!$B$20,IF('Salary Worksheet'!$B$21=\"Married-Separate\",('Salary Calculations'!H67-125000)*'Salary Worksheet'!$B$20)))","v":{"$error":"#N/A"}},{"$f":"IF('Salary Worksheet'!$B$29=\"Yes\",'Salary Worksheet'!$B$13*SUM(H67:I67),'Salary Worksheet'!$B$13*'Salary Calculations'!H67)","v":{"$error":"#N/A"}},{"$f":"IF('Salary Worksheet'!$B$29=\"Yes\",'Salary Worksheet'!$B$14*SUM('Salary Calculations'!H67:I67),'Salary Worksheet'!$B$13*'Salary Calculations'!H67)","v":{"$error":"#N/A"}},{"$error":"#N/A"},{"$f":"IF(ISERROR(A67),NA(),Q66*(1+'Salary Worksheet'!$B$31))","v":{"$error":"#N/A"}},{"$error":"#N/A"}]
[{"$f":"IF(A67<'Salary Worksheet'!$B$9,A67+1,NA())","v":{"$error":"#N/A"}},{"$f":"IF('Salary Worksheet'!$B$33=\"Yes\",IF(ISERROR(A68),NA(),F67+R67),IF(ISERROR(A68),NA(),F67))","v":{"$error":"#N/A"}},{"$f":"IF(ISERROR(A68),NA(),'Salary Worksheet'!$B$22)","v":{"$error":"#N/A"}},{"$f":"'Salary Worksheet'!$B$15*'Salary Calculations'!B68","v":{"$error":"#N/A"}},{"$f":"'Salary Worksheet'!$B$16*'Salary Calculations'!B68","v":{"$error":"#N/A"}},{"$error":"#N/A"},{"$f":"IF(ISERROR(A68),NA(),G67*(1+'Salary Worksheet'!$B$32))","v":{"$error":"#N/A"}},{"$f":"IF(ISERROR(A68),NA(),H67*(1+'Salary Worksheet'!$B$32))","v":{"$error":"#N/A"}},{"$f":"IF('Salary Calculations'!A68<'Salary Worksheet'!$B$10,0,('Salary Worksheet'!$B$27*(1+'Salary Worksheet'!$B$32)^('Salary Calculations'!A68-'Salary Worksheet'!$B$10)))","v":{"$error":"#N/A"}},{"$error":"#N/A"},{"$f":"'Salary Worksheet'!$B$12*'Salary Calculations'!J68","v":{"$error":"#N/A"}},{"$f":"IF(H68>'Salary Worksheet'!$B$18,'Salary Worksheet'!$B$18*'Salary Worksheet'!$B$17,'Salary Worksheet'!$B$17*'Salary Calculations'!H68)","v":{"$error":"#N/A"}},{"$f":"'Salary Worksheet'!$B$19*'Salary Calculations'!H68+IF('Salary Worksheet'!$B$21=\"Single\",('Salary Calculations'!H68-200000)*'Salary Worksheet'!$B$20,IF('Salary Worksheet'!$B$21=\"Married-Joint\",('Salary Calculations'!H68-250000)*'Salary Worksheet'!$B$20,IF('Salary Worksheet'!$B$21=\"Married-Separate\",('Salary Calculations'!H68-125000)*'Salary Worksheet'!$B$20)))","v":{"$error":"#N/A"}},{"$f":"IF('Salary Worksheet'!$B$29=\"Yes\",'Salary Worksheet'!$B$13*SUM(H68:I68),'Salary Worksheet'!$B$13*'Salary Calculations'!H68)","v":{"$error":"#N/A"}},{"$f":"IF('Salary Worksheet'!$B$29=\"Yes\",'Salary Worksheet'!$B$14*SUM('Salary Calculations'!H68:I68),'Salary Worksheet'!$B$13*'Salary Calculations'!H68)","v":{"$error":"#N/A"}},{"$f":"SUM(K68:O68)","v":{"$error":"#N/A"}},{"$f":"IF(ISERROR(A68),NA(),Q67*(1+'Salary Worksheet'!$B$31))","v":{"$error":"#N/A"}},{"$error":"#N/A"}]
[{"$f":"IF(A68<'Salary Worksheet'!$B$9,A68+1,NA())","v":{"$error":"#N/A"}},{"$f":"IF('Salary Worksheet'!$B$33=\"Yes\",IF(ISERROR(A69),NA(),F68+R68),IF(ISERROR(A69),NA(),F68))","v":{"$error":"#N/A"}},{"$f":"IF(ISERROR(A69),NA(),'Salary Worksheet'!$B$22)","v":{"$error":"#N/A"}},{"$f":"'Salary Worksheet'!$B$15*'Salary Calculations'!B69","v":{"$error":"#N/A"}},{"$f":"'Salary Worksheet'!$B$16*'Salary Calculations'!B69","v":{"$error":"#N/A"}},{"$error":"#N/A"},{"$f":"IF(ISERROR(A69),NA(),G68*(1+'Salary Worksheet'!$B$32))","v":{"$error":"#N/A"}},{"$f":"IF(ISERROR(A69),NA(),H68*(1+'Salary Worksheet'!$B$32))","v":{"$error":"#N/A"}},{"$f":"IF('Salary Calculations'!A69<'Salary Worksheet'!$B$10,0,('Salary Worksheet'!$B$27*(1+'Salary Worksheet'!$B$32)^('Salary Calculations'!A69-'Salary Worksheet'!$B$10)))","v":{"$error":"#N/A"}},{"$error":"#N/A"},{"$f":"'Salary Worksheet'!$B$12*'Salary Calculations'!J69","v":{"$error":"#N/A"}},{"$f":"IF(H69>'Salary Worksheet'!$B$18,'Salary Worksheet'!$B$18*'Salary Worksheet'!$B$17,'Salary Worksheet'!$B$17*'Salary Calculations'!H69)","v":{"$error":"#N/A"}},{"$f":"'Salary Worksheet'!$B$19*'Salary Calculations'!H69+IF('Salary Worksheet'!$B$21=\"Single\",('Salary Calculations'!H69-200000)*'Salary Worksheet'!$B$20,IF('Salary Worksheet'!$B$21=\"Married-Joint\",('Salary Calculations'!H69-250000)*'Salary Worksheet'!$B$20,IF('Salary Worksheet'!$B$21=\"Married-Separate\",('Salary Calculations'!H69-125000)*'Salary Worksheet'!$B$20)))","v":{"$error":"#N/A"}},{"$f":"IF('Salary Worksheet'!$B$29=\"Yes\",'Salary Worksheet'!$B$13*SUM(H69:I69),'Salary Worksheet'!$B$13*'Salary Calculations'!H69)","v":{"$error":"#N/A"}},{"$f":"IF('Salary Worksheet'!$B$29=\"Yes\",'Salary Worksheet'!$B$14*SUM('Salary Calculations'!H69:I69),'Salary Worksheet'!$B$13*'Salary Calculations'!H69)","v":{"$error":"#N/A"}},{"$f":"SUM(K69:O69)","v":{"$error":"#N/A"}},{"$f":"IF(ISERROR(A69),NA(),Q68*(1+'Salary Worksheet'!$B$31))","v":{"$error":"#N/A"}},{"$error":"#N/A"}]
[{"$f":"IF(A69<'Salary Worksheet'!$B$9,A69+1,NA())","v":{"$error":"#N/A"}},{"$f":"IF('Salary Worksheet'!$B$33=\"Yes\",IF(ISERROR(A70),NA(),F69+R69),IF(ISERROR(A70),NA(),F69))","v":{"$error":"#N/A"}},{"$f":"IF(ISERROR(A70),NA(),'Salary Worksheet'!$B$22)","v":{"$error":"#N/A"}},{"$f":"'Salary Worksheet'!$B$15*'Salary Calculations'!B70","v":{"$error":"#N/A"}},{"$f":"'Salary Worksheet'!$B$16*'Salary Calculations'!B70","v":{"$error":"#N/A"}},{"$error":"#N/A"},{"$f":"IF(ISERROR(A70),NA(),G69*(1+'Salary Worksheet'!$B$32))","v":{"$error":"#N/A"}},{"$f":"IF(ISERROR(A70),NA(),H69*(1+'Salary Worksheet'!$B$32))","v":{"$error":"#N/A"}},{"$f":"IF('Salary Calculations'!A70<'Salary Worksheet'!$B$10,0,('Salary Worksheet'!$B$27*(1+'Salary Worksheet'!$B$32)^('Salary Calculations'!A70-'Salary Worksheet'!$B$10)))","v":{"$error":"#N/A"}},{"$error":"#N/A"},{"$f":"'Salary Worksheet'!$B$12*'Salary Calculations'!J70","v":{"$error":"#N/A"}},{"$f":"IF(H70>'Salary Worksheet'!$B$18,'Salary Worksheet'!$B$18*'Salary Worksheet'!$B$17,'Salary Worksheet'!$B$17*'Salary Calculations'!H70)","v":{"$error":"#N/A"}},{"$f":"'Salary Worksheet'!$B$19*'Salary Calculations'!H70+IF('Salary Worksheet'!$B$21=\"Single\",('Salary Calculations'!H70-200000)*'Salary Worksheet'!$B$20,IF('Salary Worksheet'!$B$21=\"Married-Joint\",('Salary Calculations'!H70-250000)*'Salary Worksheet'!$B$20,IF('Salary Worksheet'!$B$21=\"Married-Separate\",('Salary Calculations'!H70-125000)*'Salary Worksheet'!$B$20)))","v":{"$error":"#N/A"}},{"$f":"IF('Salary Worksheet'!$B$29=\"Yes\",'Salary Worksheet'!$B$13*SUM(H70:I70),'Salary Worksheet'!$B$13*'Salary Calculations'!H70)","v":{"$error":"#N/A"}},{"$f":"IF('Salary Worksheet'!$B$29=\"Yes\",'Salary Worksheet'!$B$14*SUM('Salary Calculations'!H70:I70),'Salary Worksheet'!$B$13*'Salary Calculations'!H70)","v":{"$error":"#N/A"}},{"$f":"SUM(K70:O70)","v":{"$error":"#N/A"}},{"$f":"IF(ISERROR(A70),NA(),Q69*(1+'Salary Worksheet'!$B$31))","v":{"$error":"#N/A"}},{"$error":"#N/A"}]

{"sheet":"Paystub Worksheet","index":4,"n_rows":27,"n_cols":12,"rows_kept":27,"cut":false,"hidden":false,"merged":[[3,0,3,1],[0,7,0,8],[0,4,0,5],[0,10,0,11]]}
["PAYSTUB COMPARISON",null,null,"Scenarios ->","In the Military",null,null,"Outside the Military, \nWith Pension",null,null,"Outside the Military, \nWithout Pension"]
["DIRECTIONS: 1) Enter assumptions, 2) Assess % income differences - see text box",null,null,null,"Monthly","Yearly",null,"Monthly","Yearly",null,"Monthly","Yearly"]
[null,null,null,"Income"]
["Assumptions",null,null,"Salary",{"$f":"F4/12","v":6666.666666666667},{"$f":"B5","v":80000},null,{"$f":"I4/12","v":6666.666666666667},{"$f":"B6","v":80000},null,{"$f":"L4/12","v":6666.666666666667},{"$f":"B6","v":80000}]
["Annual Salary in the Military",80000,null,"BAS",{"$f":"B8","v":250},{"$f":"E5*12","v":3000}]
["Annual Salary Outside the Military",80000,null,"BAH",{"$f":"B9","v":1400},{"$f":"E6*12","v":16800}]
["Monthly Disability Payments",1000,null,"Pension",null,null,null,{"$f":"I7/12","v":5000},{"$f":"B12","v":60000}]
["Monthly BAS rate",250,null,"Disability",null,null,null,{"$f":"B7","v":1000},{"$f":"H8*12","v":12000},null,{"$f":"B7","v":1000},{"$f":"K8*12","v":12000}]
["Monthly BAH rate",1400,null,"Total Income",{"$f":"SUM(E4:E8)","v":8316.6666666666679},{"$f":"SUM(F4:F8)","v":99800},null,12666.666666666668,152000,null,{"$f":"SUM(K4:K8)","v":7666.666666666667},{"$f":"SUM(L4:L8)","v":92000}]
["Military Retirement Multiplier (%)",2.5000000000000001E-2]
["Years of Military Service (#)",30,null,"Deductions"]
["Annual Military Pension",{"$f":"B5*(B10*B11)","v":60000},null,"Federal Taxes",{"$f":"B13*E4","v":1600},{"$f":"E12*12","v":19200},null,{"$f":"SUM(H4:H7)*B14","v":2800},{"$f":"H12*12","v":33600},null,{"$f":"L12/12","v":1600},{"$f":"L4*B14","v":19200}]
["Federal Tax rate in the Military (%)",0.24,null,"Social Security",{"$f":"F13/12","v":413.33333333333331},{"$f":"IF(B5>B16,B16*B15,B5*B15)","v":4960},null,{"$f":"I13/12","v":413.33333333333331},{"$f":"IF(I4>B16,B16*B15,I4*B15)","v":4960},null,{"$f":"L13/12","v":413.33333333333331},{"$f":"IF(L4>B16,B16*B15,L4*B15)","v":4960}]
["Federal Tax rate Outside the Military (%)",0.24,null,"Medicare",{"$f":"F14/12","v":83.916666666666671},{"$f":"B17*B6+(IF(B19=\"Single\",(B5-200000)*B18,IF(B19=\"Married-Joint\",(B5-250000)*B18,IF(B19=\"Married-Separate\",(B5-125000)*B18))))","v":1007},null,{"$f":"I14/12","v":83.916666666666671},{"$f":"$B$17*$B$6+(IF($B$19=\"Single\",($B$6-200000)*$B$18,IF($B$19=\"Married-Joint\",($B$6-250000)*$B$18,IF($B$19=\"Married-Separate\",($B$6-125000)*$B$18))))","v":1007},null,{"$f":"L14/12","v":83.916666666666671},{"$f":"$B$17*$B$6+(IF($B$19=\"Single\",($B$6-200000)*$B$18,IF($B$19=\"Married-Joint\",($B$6-250000)*$B$18,IF($B$19=\"Married-Separate\",($B$6-125000)*$B$18))))","v":1007}]
["Social Security tax rate (%)",6.2E-2,null,"State Taxes",{"$f":"F15/12","v":400},{"$f":"IF(B24=\"Yes\",F4*B20,0)","v":4800},null,{"$f":"I15/12","v":700},{"$f":"IF(B26=\"Yes\",B21*SUM(I4:I7),I4*B21)","v":8400},null,{"$f":"L15/12","v":400},{"$f":"L4*B21","v":4800}]
["Social Security tax wage base limit ($)",176100,null,"Local Taxes",{"$f":"F16/12","v":133.33333333333334},{"$f":"IF(B25=\"Yes\",F4*B22,0)","v":1600},null,{"$f":"I16/12","v":233.33333333333334},{"$f":"IF(B27=\"Yes\",B23*SUM(I4:I7),I4*B23)","v":2800},null,{"$f":"L16/12","v":133.33333333333334},{"$f":"L4*B23","v":1600}]
["Medicare Tax rate (%)",1.4500000000000001E-2,null,"Total Deductions",{"$f":"SUM(E12:E16)","v":2630.5833333333335},{"$f":"SUM(F12:F16)","v":31567},null,{"$f":"SUM(H12:H16)","v":4230.583333333333},{"$f":"SUM(I12:I16)","v":50767},null,{"$f":"SUM(K12:K16)","v":2630.5833333333335},{"$f":"SUM(L12:L16)","v":31567}]
["Additional Medicare tax rate (%)",8.9999999999999998E-4]
["Tax Filing Status","Married-Joint",null,"After-Tax Income",{"$f":"E9-E17","v":5686.0833333333339},{"$f":"F9-F17","v":68233},null,{"$f":"H9-H17","v":8436.0833333333358},{"$f":"I9-I17","v":101233},null,{"$f":"K9-K17","v":5036.0833333333339},{"$f":"L9-L17","v":60433}]
["State Tax rate in the Military (%)",0.06]
["State Tax rate Outside the Military (%)",0.06,null,null,null,null,null,"% decrease in after-tax income from being 'In the Military'",{"$f":"(F19-I19)/F19","v":-0.48363694986296951},null,null,{"$f":"(F19-L19)/F19","v":0.11431418814942916}]
["Local Tax rate in the Military (%)",0.02,null,null,null,null,null,"Increase required to sustain 'In the Military' after-tax income",{"$f":"(F19-I19)/I19","v":-0.32598065848093011},null,null,{"$f":"(F19-L19)/L19","v":0.12906855525954364}]
["Local Tax rate Outside the Military (%)",0.02]
["Military Salary Taxed by State?","Yes"]
["Military Salary Taxed by Local?","Yes"]
["Military Pension Taxed by State?","Yes"]
["Military Pension Taxed by Local?","Yes"]

{"sheet":"Budget pro forma","index":5,"n_rows":34,"n_cols":14,"rows_kept":34,"cut":false,"hidden":false,"merged":[]}
["Category","Jan","Feb","Mar","Apr","May","Jun","Jul","Aug","Sep","Oct","Nov","Dec","TOTAL"]
["Income"]
["Salary",null,null,null,null,null,null,null,null,null,null,null,null,{"$f":"SUM(B3:M3)","v":0}]
["Gifts",null,null,null,null,null,null,null,null,null,null,null,null,{"$f":"SUM(B4:M4)","v":0}]
["Pension",null,null,null,null,null,null,null,null,null,null,null,null,0]
["Disability Payments"]
["Social Security",null,null,null,null,null,null,null,null,null,null,null,null,0]
["Interest, Dividends, etc.",null,null,null,null,null,null,null,null,null,null,null,null,0]
["Retirement Savings Withdrawals",null,null,null,null,null,null,null,null,null,null,null,null,0]
["Income Sub-total",{"$f":"SUM(B3:B9)","v":0},{"$f":"SUM(C3:C9)","v":0},0,0,0,0,0,0,0,0,0,0,0]
[]
["Expenses",null,null,null,null,null,null,null,null,null,null,null,null,0]
["Savings (529 plan, IRAs, etc.)",null,null,null,null,null,null,null,null,null,null,null,null,0]
["Automotive",null,null,null,null,null,null,null,null,null,null,null,null,0]
["Charity",null,null,null,null,null,null,null,null,null,null,null,null,0]
["Childcare/Daycare",null,null,null,null,null,null,null,null,null,null,null,null,0]
["Clothing",null,null,null,null,null,null,null,null,null,null,null,null,0]
["Dining",null,null,null,null,null,null,null,null,null,null,null,null,0]
["Education",null,null,null,null,null,null,null,null,null,null,null,null,0]
["Entertainment",null,null,null,null,null,null,null,null,null,null,null,null,0]
["Groceries",null,null,null,null,null,null,null,null,null,null,null,null,0]
["Grooming",null,null,null,null,null,null,null,null,null,null,null,null,0]
["Home Mortgage / Rent",null,null,null,null,null,null,null,null,null,null,null,null,0]
["Home Repair / Improvement",null,null,null,null,null,null,null,null,null,null,null,null,0]
["Insurance",null,null,null,null,null,null,null,null,null,null,null,null,0]
["Medical / Healthcare Expenses",null,null,null,null,null,null,null,null,null,null,null,null,0]
["Recreation",null,null,null,null,null,null,null,null,null,null,null,null,0]
["Subscriptions",null,null,null,null,null,null,null,null,null,null,null,null,0]
["Taxes",null,null,null,null,null,null,null,null,null,null,null,null,0]
["Utilities",null,null,null,null,null,null,null,null,null,null,null,null,0]
["Vacation",null,null,null,null,null,null,null,null,null,null,null,null,0]
["Expenses Sub-total",{"$f":"SUM(B13:B31)","v":0},0,0,0,0,0,0,0,0,0,0,0,0]
[]
["Balance",{"$f":"B10-B32","v":0},0,0,0,0,0,0,0,0,0,0,0,0]